{"text_format":"1","workbook":"xlsx","n_sheets":11,"sheets":["注文書","注文書_システム読み込み用","配送情報書","お急ぎ検体回収集荷情報書","使用可能SKUコード",">変換FMT>","注文マスタ貼り付け用","出荷連携用","RFBアカウント申請用",">マスタ>","医療機関マスタ"],"not_rendered":{"charts":0,"images":2,"macros":1,"external_links":0,"defined_names":3,"comments":1,"pivot_tables":0},"unopened":[],"bounds":{"document_bytes":16777216,"sheet_cells":100000,"rows_first":2000,"rows_last":500,"rows_between":2000,"halvings":0,"cell_chars":16384,"cell_head_chars":4096},"cells_cut":0,"cells_raw":0,"read":"whole","date_system":"1900"}

{"sheet":"注文書","index":0,"n_rows":33,"n_cols":13,"rows_kept":33,"cut":false,"hidden":false,"merged":[[32,1,45,10],[47,1,52,10],[22,12,27,16],[17,3,17,10],[17,1,17,2],[17,12,21,16],[27,3,27,7],[27,1,27,2],[27,8,27,10],[28,1,28,2],[28,8,28,10],[28,3,28,7],[26,8,26,10],[26,3,26,7],[26,1,26,2],[24,1,24,2],[1,9,1,10],[2,1,2,10],[3,1,3,10],[11,1,11,2],[11,3,11,8],[11,9,11,10],[5,1,5,2],[5,3,5,10],[8,1,8,2],[9,1,9,2],[8,3,8,10],[9,3,9,10],[10,1,10,2],[10,3,10,10],[14,9,14,10],[13,1,13,2],[13,3,13,6],[22,3,22,4],[15,1,15,2],[15,3,15,10],[16,1,16,2],[16,3,16,10],[24,3,24,7],[24,8,24,10],[25,1,25,2],[25,8,25,10],[25,3,25,7],[1,12,14,16],[23,1,23,2],[23,3,23,4],[23,6,23,7],[23,8,23,10],[20,6,20,7],[21,6,21,7],[22,6,22,7],[20,8,20,10],[21,8,21,10],[22,8,22,10],[21,1,21,2],[22,1,22,2],[20,1,20,2],[20,3,20,4],[21,3,21,4]]}
[null,"注文書",null,null,null,null,null,null,null,null,null,null,"【コンテンツの有効化】が表示されている場合、有効にしてからファイルの入力をお願いします"]
[]
[null,"楽天グループ株式会社　　　行"]
[null,"当社（以下「買主」といいます。）は、楽天グループ株式会社（以下「売主」といいます。）に対し、販売規約(唾液PCR検査キット販売規約)および、以下の条件に基づき、新型コロナウイルス唾液PCR検査キット及び、その他これに関連する商品を発注します。"]
[]
[null,"注文日",null,"yyyy/mm/dd"]
[]
[null,"■団体情報"]
[null,"住所",null,"●●"]
[null,"名称",null,"●●"]
[null,"代表者",null,"●●"]
[null,"申込担当者",null,"●●",null,null,null,null,null,"印"]
[]
[null,"　　　 お急ぎ配送",null,"お急ぎ検体回収",null,null,null,"お急ぎサービスをご利用の場合はチェックください"]
[null,"■ご注文内容（※1「配送情報書」シートに入力いただいた情報が自動反映されます）"]
[null,"希望納期※1",null,{"$f":"IF(配送情報書!$X$5=\"\",\"\",MIN(配送情報書!$X$5:$X$1000))","v":""}]
[null,"指定提携医療機関（プルダウンより選択）",null,"医療法人社団斗南堂 八王子クリニック",null,null,null,null,null,null,null,null,"※お急ぎ検体回収の場合は八王子クリニックとなります。"]
[null,"事前結果通知希望（プルダウンより選択）",null,null,null,null,null,null,null,null,null,null,"【事前結果通知「希望あり」を選択した場合】\n楽天が検査を委託する衛生検査所が検査を実施し、医療機関や医師の判定前に結果を通知いたします。なお、陰性証明書の発行や陽性/陽性疑いの場合のサポートは選択いただいた提携医療機関が行います。\n"]
[]
[null,"■商品代金（※2「配送情報書」シートに入力いただいた情報をもとに自動反映、自動計算されます）"]
[null,"検査方式",null,"数量※2",null,"（単位）","単価（円）",null,"金額（円）※2"]
[null,"通常方式",null,{"$f":"SUMIFS(配送情報書!$T$5:$T$1000,配送情報書!$V$5:$V$1000,\"通常方式\")","v":0},null,"キット",7980,null,{"$f":"D22*G22","v":0}]
[null,"プーリング方式（4検体）",null,{"$f":"SUMIFS(配送情報書!$T$5:$T$1000,配送情報書!$V$5:$V$1000,\"プーリング方式（4検体）\")","v":0},null,"キット",4980,null,{"$f":"D23*G23","v":0}]
[null,"個別資材",null,{"$f":"SUMIFS(配送情報書!$T$5:$T$1000,配送情報書!$W$5:$W$1000,\"個別返送\")","v":0},null,"個",500,null,{"$f":"D24*G24","v":0}]
[null,"配送費（税別）",null,null,null,null,null,null,0]
[null,"お急ぎ検体回収返送費（税別）",null,null,null,null,null,null,0]
[null,"小計",null,null,null,null,null,null,{"$f":"SUM(I22:K24)","v":0}]
[null,"消費税（10％）",null,null,null,null,null,null,{"$f":"I29-I27","v":0}]
[null,"合計",null,null,null,null,null,null,{"$f":"ROUNDDOWN(I27*1.1,0)","v":0}]
[]
[null,"お急ぎサービスをご利用の方は下記「キャンセルポリシー」をご確認の上、□にチェックください。"]
[]
[null,"【お急ぎ配送キャンセルポリシー】\n・注文受領メール受信後のお客様都合によるキャンセルはお受けできません。\n・ご不在やお客様都合による受け取り拒否や、配達指定場所が異なった場合の商品の受け渡しができない場合も全額ご請求いたします。その場合の再配達をご希望の場合は別途配達料金を頂戴いたします。\n・ご希望の配達時間にお届けできなかった場合は、キャンセルをお受けします。\n\n【お急ぎ検体回収キャンセルポリシー】\n・注文受領メール受信後のお客様都合によるキャンセルはお受けできません。\n・集荷時のご不在やお客様都合による集荷が出来なかった場合も全額ご請求いたします。\nその場合の再集荷をご希望の場合は別途配送料金を頂きます。\n\n　　キャンセルポリシーを確認の上注文します。"]

{"sheet":"注文書_システム読み込み用","index":1,"n_rows":2,"n_cols":27,"rows_kept":2,"cut":false,"hidden":true,"merged":[]}
["注文日","住所","名称","代表者","申込担当者","お急ぎ配送","お急ぎ検体回収","希望納期","指定提携医療機関","事前結果通知希望","数量_通常方式","金額_通常方式","数量_プーリング方式（4検体）","金額_プーリング方式（4検体）","数量_プーリング方式（10検体）慶應方式","金額_プーリング方式（10検体）慶應方式","数量_個別資材","金額_個別資材","金額_配送費","金額_お急ぎ検体回収返送費","金額_小計","金額_消費税","金額_合計","申込種別","団体への通知","商品名","SKUコード"]
[{"$f":"注文書!D6","v":"yyyy/mm/dd"},{"$f":"注文書!D9","v":"●●"},{"$f":"注文書!D10","v":"●●"},{"$f":"注文書!D11","v":"●●"},{"$f":"注文書!D12","v":"●●"},"無","無",{"$f":"注文書!D16","v":""},{"$f":"注文書!D17","v":"医療法人社団斗南堂 八王子クリニック"},{"$f":"注文書!D18","v":0},{"$f":"注文書!D22","v":0},{"$f":"注文書!I22","v":0},{"$f":"注文書!D23","v":0},{"$f":"注文書!I23","v":0},null,null,{"$f":"注文書!D24","v":0},{"$f":"注文書!I24","v":0},{"$f":"注文書!I25","v":0},{"$f":"注文書!I26","v":0},{"$f":"注文書!I27","v":0},{"$f":"注文書!I28","v":0},{"$f":"注文書!I29","v":0},"団体キット","団体_受検者Sys：利用する",{"$f":"IFERROR(VLOOKUP(配送情報書!V5,使用可能SKUコード!$A$2:$C$4,2,FALSE),\"\")","v":""},{"$f":"IFERROR(VLOOKUP(配送情報書!V5,使用可能SKUコード!$A$2:$C$4,3,FALSE),\"\")","v":""}]

{"sheet":"配送情報書","index":2,"n_rows":1001,"n_cols":39,"rows_kept":1001,"cut":false,"hidden":false,"merged":[]}
["入力不要セル","入力不要セル","入力不要セル","入力不要セル","入力不要セル","入力不要セル","入力不要セル","入力不要セル","入力不要セル","入力不要セル",null,null,null,null,null,null,null,null,null,null,null,null,null,null,null,null,null,null,null,null,null,null,null,null,null,null,null,null,"*"]
[null,null,null,null,null,null,null,null,null,null,null,"例","楽天グループ株式会社","PCR課課長　楽天太郎","158-0094","東京都","世田谷区","玉川1-14-1 楽天クリムゾンハウス（本社）","050-5581-6910",110,null,"プーリング方式（4検体）","団体返送","2021-07-01",null,"2021-07-02","090-1234-5678","楽天 太郎","taro.rakuten@rakuten.com","楽天 二郎","jiro.rakuten@rakuten.com","楽天 三郎","saburo.rakuten@rakuten.com","楽天 四郎","shiro.rakuten@rakuten.com","楽天 五郎","goro.rakuten@rakuten.com",null,"*"]
["楽天使用列","楽天使用列","楽天使用列","楽天使用列","楽天使用列","楽天使用列","楽天使用列","楽天使用列","楽天使用列","楽天使用列",null,"No","配送先情報",null,null,null,null,null,null,"キット情報",null,null,null,"希望納期","お急ぎお届け便時間指定","検査実施予定日","結果通知担当者",null,null,null,null,null,null,null,null,null,null,null,"*"]
["案件ID","医療機関ID","法人属性","プーリング転換先キット","出荷連携要否","現状未使用","現状未使用","現状未使用","現状未使用","現状未使用",null,null,"受取者の企業名","受取者の部署と氏名","郵便番号(半角ハイフンあり)","都道府県","市区町村","町名・番地以降","電話番号\n(半角ハイフンあり)","数量","事前結果通知希望","方式","返送方法",null,null,null,"電話番号（陽性者発生時の連絡用）\n(半角ハイフンあり)","名前①","メール①","名前②","メール②","名前③","メール③","名前④","メール④","名前⑤","メール⑤",null,"*"]
[null,null,null,null,null,null,null,null,null,null,null,{"$f":"ROW()-4","v":1},null,null,null,null,null,null,null,null,{"$f":"IF($P5=\"\",\"\",注文書!D$18)","v":""},null,null,null,null,null,null,null,null,null,null,null,null,null,null,null,null,null,"*"]
[null,null,null,null,null,null,null,null,null,null,null,{"$f":"ROW()-4","v":2},null,null,null,null,null,null,null,null,{"$f":"IF($P6=\"\",\"\",注文書!D$18)","v":""},{"$f":"IF($P6=\"\",\"\",V$5)","v":""},{"$f":"IF($P6=\"\",\"\",W$5)","v":""},null,null,null,null,null,null,null,null,null,null,null,null,null,null,null,"*"]
[null,null,null,null,null,null,null,null,null,null,null,3,null,null,null,null,null,null,null,null,{"$f":"IF($P7=\"\",\"\",注文書!D$18)","v":""},{"$f":"IF($P7=\"\",\"\",V$5)","v":""},"",null,null,null,null,null,null,null,null,null,null,null,null,null,null,null,"*"]
[null,null,null,null,null,null,null,null,null,null,null,4,null,null,null,null,null,null,null,null,{"$f":"IF($P8=\"\",\"\",注文書!D$18)","v":""},"","",null,null,null,null,null,null,null,null,null,null,null,null,null,null,null,"*"]
[null,null,null,null,null,null,null,null,null,null,null,5,null,null,null,null,null,null,null,null,{"$f":"IF($P9=\"\",\"\",注文書!D$18)","v":""},"","",null,null,null,null,null,null,null,null,null,null,null,null,null,null,null,"*"]
[null,null,null,null,null,null,null,null,null,null,null,6,null,null,null,null,null,null,null,null,{"$f":"IF($P10=\"\",\"\",注文書!D$18)","v":""},"","",null,null,null,null,null,null,null,null,null,null,null,null,null,null,null,"*"]
[null,null,null,null,null,null,null,null,null,null,null,7,null,null,null,null,null,null,null,null,{"$f":"IF($P11=\"\",\"\",注文書!D$18)","v":""},"","",null,null,null,null,null,null,null,null,null,null,null,null,null,null,null,"*"]
[null,null,null,null,null,null,null,null,null,null,null,8,null,null,null,null,null,null,null,null,{"$f":"IF($P12=\"\",\"\",注文書!D$18)","v":""},"","",{"$f":"IF($P12=\"\",\"\",X$5)","v":""},"",null,null,null,null,null,null,null,null,null,null,null,null,null,"*"]
[null,null,null,null,null,null,null,null,null,null,null,9,null,null,null,null,null,null,null,null,{"$f":"IF($P13=\"\",\"\",注文書!D$18)","v":""},"","","","",null,null,null,null,null,null,null,null,null,null,null,null,null,"*"]
[null,null,null,null,null,null,null,null,null,null,null,10,null,null,null,null,null,null,null,null,{"$f":"IF($P14=\"\",\"\",注文書!D$18)","v":""},"","","","",null,null,null,null,null,null,null,null,null,null,null,null,null,"*"]
[null,null,null,null,null,null,null,null,null,null,null,11,null,null,null,null,null,null,null,null,{"$f":"IF($P15=\"\",\"\",注文書!D$18)","v":""},"","","","",null,null,null,null,null,null,null,null,null,null,null,null,null,"*"]
[null,null,null,null,null,null,null,null,null,null,null,12,null,null,null,null,null,null,null,null,{"$f":"IF($P16=\"\",\"\",注文書!D$18)","v":""},"","","","",null,null,null,null,null,null,null,null,null,null,null,null,null,"*"]
[null,null,null,null,null,null,null,null,null,null,null,13,null,null,null,null,null,null,null,null,{"$f":"IF($P17=\"\",\"\",注文書!D$18)","v":""},"","","","",null,null,null,null,null,null,null,null,null,null,null,null,null,"*"]
[null,null,null,null,null,null,null,null,null,null,null,14,null,null,null,null,null,null,null,null,{"$f":"IF($P18=\"\",\"\",注文書!D$18)","v":""},"","","","",null,null,null,null,null,null,null,null,null,null,null,null,null,"*"]
[null,null,null,null,null,null,null,null,null,null,null,15,null,null,null,null,null,null,null,null,{"$f":"IF($P19=\"\",\"\",注文書!D$18)","v":""},"","","","",null,null,null,null,null,null,null,null,null,null,null,null,null,"*"]
[null,null,null,null,null,null,null,null,null,null,null,16,null,null,null,null,null,null,null,null,{"$f":"IF($P20=\"\",\"\",注文書!D$18)","v":""},"","","","",null,null,null,null,null,null,null,null,null,null,null,null,null,"*"]
[null,null,null,null,null,null,null,null,null,null,null,17,null,null,null,null,null,null,null,null,{"$f":"IF($P21=\"\",\"\",注文書!D$18)","v":""},"","","","",null,null,null,null,null,null,null,null,null,null,null,null,null,"*"]
[null,null,null,null,null,null,null,null,null,null,null,18,null,null,null,null,null,null,null,null,{"$f":"IF($P22=\"\",\"\",注文書!D$18)","v":""},"","","","",null,null,null,null,null,null,null,null,null,null,null,null,null,"*"]
[null,null,null,null,null,null,null,null,null,null,null,19,null,null,null,null,null,null,null,null,{"$f":"IF($P23=\"\",\"\",注文書!D$18)","v":""},"","","","",null,null,null,null,null,null,null,null,null,null,null,null,null,"*"]
[null,null,null,null,null,null,null,null,null,null,null,20,null,null,null,null,null,null,null,null,{"$f":"IF($P24=\"\",\"\",注文書!D$18)","v":""},"","","","",null,null,null,null,null,null,null,null,null,null,null,null,null,"*"]
[null,null,null,null,null,null,null,null,null,null,null,21,null,null,null,null,null,null,null,null,{"$f":"IF($P25=\"\",\"\",注文書!D$18)","v":""},"","","","",null,null,null,null,null,null,null,null,null,null,null,null,null,"*"]
[null,null,null,null,null,null,null,null,null,null,null,22,null,null,null,null,null,null,null,null,{"$f":"IF($P26=\"\",\"\",注文書!D$18)","v":""},{"$f":"IF($P26=\"\",\"\",V$5)","v":""},"","","",null,null,null,null,null,null,null,null,null,null,null,null,null,"*"]
[null,null,null,null,null,null,null,null,null,null,null,23,null,null,null,null,null,null,null,null,{"$f":"IF($P27=\"\",\"\",注文書!D$18)","v":""},"","","","",null,null,null,null,null,null,null,null,null,null,null,null,null,"*"]
[null,null,null,null,null,null,null,null,null,null,null,24,null,null,null,null,null,null,null,null,{"$f":"IF($P28=\"\",\"\",注文書!D$18)","v":""},"","","","",null,null,null,null,null,null,null,null,null,null,null,null,null,"*"]
[null,null,null,null,null,null,null,null,null,null,null,25,null,null,null,null,null,null,null,null,{"$f":"IF($P29=\"\",\"\",注文書!D$18)","v":""},"","","","",null,null,null,null,null,null,null,null,null,null,null,null,null,"*"]
[null,null,null,null,null,null,null,null,null,null,null,26,null,null,null,null,null,null,null,null,{"$f":"IF($P30=\"\",\"\",注文書!D$18)","v":""},"","","","",null,null,null,null,null,null,null,null,null,null,null,null,null,"*"]
[null,null,null,null,null,null,null,null,null,null,null,27,null,null,null,null,null,null,null,null,{"$f":"IF($P31=\"\",\"\",注文書!D$18)","v":""},"","","","",null,null,null,null,null,null,null,null,null,null,null,null,null,"*"]
[null,null,null,null,null,null,null,null,null,null,null,28,null,null,null,null,null,null,null,null,{"$f":"IF($P32=\"\",\"\",注文書!D$18)","v":""},"","","","",null,null,null,null,null,null,null,null,null,null,null,null,null,"*"]
[null,null,null,null,null,null,null,null,null,null,null,29,null,null,null,null,null,null,null,null,{"$f":"IF($P33=\"\",\"\",注文書!D$18)","v":""},"","","","",null,null,null,null,null,null,null,null,null,null,null,null,null,"*"]
[null,null,null,null,null,null,null,null,null,null,null,30,null,null,null,null,null,null,null,null,{"$f":"IF($P34=\"\",\"\",注文書!D$18)","v":""},"","","","",null,null,null,null,null,null,null,null,null,null,null,null,null,"*"]
[null,null,null,null,null,null,null,null,null,null,null,31,null,null,null,null,null,null,null,null,{"$f":"IF($P35=\"\",\"\",注文書!D$18)","v":""},"","","","",null,null,null,null,null,null,null,null,null,null,null,null,null,"*"]
[null,null,null,null,null,null,null,null,null,null,null,32,null,null,null,null,null,null,null,null,{"$f":"IF($P36=\"\",\"\",注文書!D$18)","v":""},"","","","",null,null,null,null,null,null,null,null,null,null,null,null,null,"*"]
[null,null,null,null,null,null,null,null,null,null,null,33,null,null,null,null,null,null,null,null,{"$f":"IF($P37=\"\",\"\",注文書!D$18)","v":""},"","","","",null,null,null,null,null,null,null,null,null,null,null,null,null,"*"]
[null,null,null,null,null,null,null,null,null,null,null,34,null,null,null,null,null,null,null,null,{"$f":"IF($P38=\"\",\"\",注文書!D$18)","v":""},"","","","",null,null,null,null,null,null,null,null,null,null,null,null,null,"*"]
[null,null,null,null,null,null,null,null,null,null,null,35,null,null,null,null,null,null,null,null,{"$f":"IF($P39=\"\",\"\",注文書!D$18)","v":""},"","","","",null,null,null,null,null,null,null,null,null,null,null,null,null,"*"]
[null,null,null,null,null,null,null,null,null,null,null,36,null,null,null,null,null,null,null,null,{"$f":"IF($P40=\"\",\"\",注文書!D$18)","v":""},"","","","",null,null,null,null,null,null,null,null,null,null,null,null,null,"*"]
[null,null,null,null,null,null,null,null,null,null,null,37,null,null,null,null,null,null,null,null,{"$f":"IF($P41=\"\",\"\",注文書!D$18)","v":""},"","","","",null,null,null,null,null,null,null,null,null,null,null,null,null,"*"]
[null,null,null,null,null,null,null,null,null,null,null,38,null,null,null,null,null,null,null,null,{"$f":"IF($P42=\"\",\"\",注文書!D$18)","v":""},"","","","",null,null,null,null,null,null,null,null,null,null,null,null,null,"*"]
[null,null,null,null,null,null,null,null,null,null,null,39,null,null,null,null,null,null,null,null,{"$f":"IF($P43=\"\",\"\",注文書!D$18)","v":""},"","","","",null,null,null,null,null,null,null,null,null,null,null,null,null,"*"]
[null,null,null,null,null,null,null,null,null,null,null,40,null,null,null,null,null,null,null,null,{"$f":"IF($P44=\"\",\"\",注文書!D$18)","v":""},"","","","",null,null,null,null,null,null,null,null,null,null,null,null,null,"*"]
[null,null,null,null,null,null,null,null,null,null,null,41,null,null,null,null,null,null,null,null,{"$f":"IF($P45=\"\",\"\",注文書!D$18)","v":""},"","","","",null,null,null,null,null,null,null,null,null,null,null,null,null,"*"]
[null,null,null,null,null,null,null,null,null,null,null,42,null,null,null,null,null,null,null,null,{"$f":"IF($P46=\"\",\"\",注文書!D$18)","v":""},{"$f":"IF($P46=\"\",\"\",V$5)","v":""},"","","",null,null,null,null,null,null,null,null,null,null,null,null,null,"*"]
[null,null,null,null,null,null,null,null,null,null,null,43,null,null,null,null,null,null,null,null,{"$f":"IF($P47=\"\",\"\",注文書!D$18)","v":""},"","","","",null,null,null,null,null,null,null,null,null,null,null,null,null,"*"]
[null,null,null,null,null,null,null,null,null,null,null,44,null,null,null,null,null,null,null,null,{"$f":"IF($P48=\"\",\"\",注文書!D$18)","v":""},"","","","",null,null,null,null,null,null,null,null,null,null,null,null,null,"*"]
[null,null,null,null,null,null,null,null,null,null,null,45,null,null,null,null,null,null,null,null,{"$f":"IF($P49=\"\",\"\",注文書!D$18)","v":""},"","","","",null,null,null,null,null,null,null,null,null,null,null,null,null,"*"]
[null,null,null,null,null,null,null,null,null,null,null,46,null,null,null,null,null,null,null,null,{"$f":"IF($P50=\"\",\"\",注文書!D$18)","v":""},"","","","",null,null,null,null,null,null,null,null,null,null,null,null,null,"*"]
[null,null,null,null,null,null,null,null,null,null,null,47,null,null,null,null,null,null,null,null,{"$f":"IF($P51=\"\",\"\",注文書!D$18)","v":""},"","","","",null,null,null,null,null,null,null,null,null,null,null,null,null,"*"]
[null,null,null,null,null,null,null,null,null,null,null,48,null,null,null,null,null,null,null,null,{"$f":"IF($P52=\"\",\"\",注文書!D$18)","v":""},"","","","",null,null,null,null,null,null,null,null,null,null,null,null,null,"*"]
[null,null,null,null,null,null,null,null,null,null,null,49,null,null,null,null,null,null,null,null,{"$f":"IF($P53=\"\",\"\",注文書!D$18)","v":""},"","","","",null,null,null,null,null,null,null,null,null,null,null,null,null,"*"]
[null,null,null,null,null,null,null,null,null,null,null,50,null,null,null,null,null,null,null,null,{"$f":"IF($P54=\"\",\"\",注文書!D$18)","v":""},"","","","",null,null,null,null,null,null,null,null,null,null,null,null,null,"*"]
[null,null,null,null,null,null,null,null,null,null,null,51,null,null,null,null,null,null,null,null,{"$f":"IF($P55=\"\",\"\",注文書!D$18)","v":""},"","","","",null,null,null,null,null,null,null,null,null,null,null,null,null,"*"]
[null,null,null,null,null,null,null,null,null,null,null,52,null,null,null,null,null,null,null,null,{"$f":"IF($P56=\"\",\"\",注文書!D$18)","v":""},"","","","",null,null,null,null,null,null,null,null,null,null,null,null,null,"*"]
[null,null,null,null,null,null,null,null,null,null,null,53,null,null,null,null,null,null,null,null,{"$f":"IF($P57=\"\",\"\",注文書!D$18)","v":""},"","","","",null,null,null,null,null,null,null,null,null,null,null,null,null,"*"]
[null,null,null,null,null,null,null,null,null,null,null,54,null,null,null,null,null,null,null,null,{"$f":"IF($P58=\"\",\"\",注文書!D$18)","v":""},"","","","",null,null,null,null,null,null,null,null,null,null,null,null,null,"*"]
[null,null,null,null,null,null,null,null,null,null,null,55,null,null,null,null,null,null,null,null,{"$f":"IF($P59=\"\",\"\",注文書!D$18)","v":""},"","","","",null,null,null,null,null,null,null,null,null,null,null,null,null,"*"]
[null,null,null,null,null,null,null,null,null,null,null,56,null,null,null,null,null,null,null,null,{"$f":"IF($P60=\"\",\"\",注文書!D$18)","v":""},"","","","",null,null,null,null,null,null,null,null,null,null,null,null,null,"*"]
[null,null,null,null,null,null,null,null,null,null,null,57,null,null,null,null,null,null,null,null,{"$f":"IF($P61=\"\",\"\",注文書!D$18)","v":""},"","","","",null,null,null,null,null,null,null,null,null,null,null,null,null,"*"]
[null,null,null,null,null,null,null,null,null,null,null,58,null,null,null,null,null,null,null,null,{"$f":"IF($P62=\"\",\"\",注文書!D$18)","v":""},"","","","",null,null,null,null,null,null,null,null,null,null,null,null,null,"*"]
[null,null,null,null,null,null,null,null,null,null,null,59,null,null,null,null,null,null,null,null,{"$f":"IF($P63=\"\",\"\",注文書!D$18)","v":""},"","","","",null,null,null,null,null,null,null,null,null,null,null,null,null,"*"]
[null,null,null,null,null,null,null,null,null,null,null,60,null,null,null,null,null,null,null,null,{"$f":"IF($P64=\"\",\"\",注文書!D$18)","v":""},"","","","",null,null,null,null,null,null,null,null,null,null,null,null,null,"*"]
[null,null,null,null,null,null,null,null,null,null,null,61,null,null,null,null,null,null,null,null,{"$f":"IF($P65=\"\",\"\",注文書!D$18)","v":""},"","","","",null,null,null,null,null,null,null,null,null,null,null,null,null,"*"]
[null,null,null,null,null,null,null,null,null,null,null,62,null,null,null,null,null,null,null,null,{"$f":"IF($P66=\"\",\"\",注文書!D$18)","v":""},{"$f":"IF($P66=\"\",\"\",V$5)","v":""},"","","",null,null,null,null,null,null,null,null,null,null,null,null,null,"*"]
[null,null,null,null,null,null,null,null,null,null,null,63,null,null,null,null,null,null,null,null,{"$f":"IF($P67=\"\",\"\",注文書!D$18)","v":""},"","","","",null,null,null,null,null,null,null,null,null,null,null,null,null,"*"]
[null,null,null,null,null,null,null,null,null,null,null,64,null,null,null,null,null,null,null,null,{"$f":"IF($P68=\"\",\"\",注文書!D$18)","v":""},"","","","",null,null,null,null,null,null,null,null,null,null,null,null,null,"*"]
[null,null,null,null,null,null,null,null,null,null,null,{"$f":"ROW()-4","v":65},null,null,null,null,null,null,null,null,{"$f":"IF($P69=\"\",\"\",注文書!D$18)","v":""},"","","","",null,null,null,null,null,null,null,null,null,null,null,null,null,"*"]
[null,null,null,null,null,null,null,null,null,null,null,66,null,null,null,null,null,null,null,null,{"$f":"IF($P70=\"\",\"\",注文書!D$18)","v":""},"","","","",null,null,null,null,null,null,null,null,null,null,null,null,null,"*"]
[null,null,null,null,null,null,null,null,null,null,null,67,null,null,null,null,null,null,null,null,{"$f":"IF($P71=\"\",\"\",注文書!D$18)","v":""},"","","","",null,null,null,null,null,null,null,null,null,null,null,null,null,"*"]
[null,null,null,null,null,null,null,null,null,null,null,68,null,null,null,null,null,null,null,null,{"$f":"IF($P72=\"\",\"\",注文書!D$18)","v":""},"","","","",null,null,null,null,null,null,null,null,null,null,null,null,null,"*"]
[null,null,null,null,null,null,null,null,null,null,null,69,null,null,null,null,null,null,null,null,{"$f":"IF($P73=\"\",\"\",注文書!D$18)","v":""},"","","","",null,null,null,null,null,null,null,null,null,null,null,null,null,"*"]
[null,null,null,null,null,null,null,null,null,null,null,70,null,null,null,null,null,null,null,null,{"$f":"IF($P74=\"\",\"\",注文書!D$18)","v":""},"","","","",null,null,null,null,null,null,null,null,null,null,null,null,null,"*"]
[null,null,null,null,null,null,null,null,null,null,null,71,null,null,null,null,null,null,null,null,{"$f":"IF($P75=\"\",\"\",注文書!D$18)","v":""},"","","","",null,null,null,null,null,null,null,null,null,null,null,null,null,"*"]
[null,null,null,null,null,null,null,null,null,null,null,72,null,null,null,null,null,null,null,null,{"$f":"IF($P76=\"\",\"\",注文書!D$18)","v":""},"","","","",null,null,null,null,null,null,null,null,null,null,null,null,null,"*"]
[null,null,null,null,null,null,null,null,null,null,null,73,null,null,null,null,null,null,null,null,{"$f":"IF($P77=\"\",\"\",注文書!D$18)","v":""},"","","","",null,null,null,null,null,null,null,null,null,null,null,null,null,"*"]
[null,null,null,null,null,null,null,null,null,null,null,74,null,null,null,null,null,null,null,null,{"$f":"IF($P78=\"\",\"\",注文書!D$18)","v":""},"","","","",null,null,null,null,null,null,null,null,null,null,null,null,null,"*"]
[null,null,null,null,null,null,null,null,null,null,null,75,null,null,null,null,null,null,null,null,{"$f":"IF($P79=\"\",\"\",注文書!D$18)","v":""},"","","","",null,null,null,null,null,null,null,null,null,null,null,null,null,"*"]
[null,null,null,null,null,null,null,null,null,null,null,76,null,null,null,null,null,null,null,null,{"$f":"IF($P80=\"\",\"\",注文書!D$18)","v":""},"","","","",null,null,null,null,null,null,null,null,null,null,null,null,null,"*"]
[null,null,null,null,null,null,null,null,null,null,null,77,null,null,null,null,null,null,null,null,{"$f":"IF($P81=\"\",\"\",注文書!D$18)","v":""},"","","","",null,null,null,null,null,null,null,null,null,null,null,null,null,"*"]
[null,null,null,null,null,null,null,null,null,null,null,78,null,null,null,null,null,null,null,null,{"$f":"IF($P82=\"\",\"\",注文書!D$18)","v":""},"","","","",null,null,null,null,null,null,null,null,null,null,null,null,null,"*"]
[null,null,null,null,null,null,null,null,null,null,null,79,null,null,null,null,null,null,null,null,{"$f":"IF($P83=\"\",\"\",注文書!D$18)","v":""},"","","","",null,null,null,null,null,null,null,null,null,null,null,null,null,"*"]
[null,null,null,null,null,null,null,null,null,null,null,80,null,null,null,null,null,null,null,null,{"$f":"IF($P84=\"\",\"\",注文書!D$18)","v":""},"","","","",null,null,null,null,null,null,null,null,null,null,null,null,null,"*"]
[null,null,null,null,null,null,null,null,null,null,null,81,null,null,null,null,null,null,null,null,{"$f":"IF($P85=\"\",\"\",注文書!D$18)","v":""},"","","","",null,null,null,null,null,null,null,null,null,null,null,null,null,"*"]
[null,null,null,null,null,null,null,null,null,null,null,82,null,null,null,null,null,null,null,null,{"$f":"IF($P86=\"\",\"\",注文書!D$18)","v":""},{"$f":"IF($P86=\"\",\"\",V$5)","v":""},"","","",null,null,null,null,null,null,null,null,null,null,null,null,null,"*"]
[null,null,null,null,null,null,null,null,null,null,null,83,null,null,null,null,null,null,null,null,{"$f":"IF($P87=\"\",\"\",注文書!D$18)","v":""},"","","","",null,null,null,null,null,null,null,null,null,null,null,null,null,"*"]
[null,null,null,null,null,null,null,null,null,null,null,84,null,null,null,null,null,null,null,null,{"$f":"IF($P88=\"\",\"\",注文書!D$18)","v":""},"","","","",null,null,null,null,null,null,null,null,null,null,null,null,null,"*"]
[null,null,null,null,null,null,null,null,null,null,null,85,null,null,null,null,null,null,null,null,{"$f":"IF($P89=\"\",\"\",注文書!D$18)","v":""},"","","","",null,null,null,null,null,null,null,null,null,null,null,null,null,"*"]
[null,null,null,null,null,null,null,null,null,null,null,86,null,null,null,null,null,null,null,null,{"$f":"IF($P90=\"\",\"\",注文書!D$18)","v":""},"","","","",null,null,null,null,null,null,null,null,null,null,null,null,null,"*"]
[null,null,null,null,null,null,null,null,null,null,null,87,null,null,null,null,null,null,null,null,{"$f":"IF($P91=\"\",\"\",注文書!D$18)","v":""},"","","","",null,null,null,null,null,null,null,null,null,null,null,null,null,"*"]
[null,null,null,null,null,null,null,null,null,null,null,88,null,null,null,null,null,null,null,null,{"$f":"IF($P92=\"\",\"\",注文書!D$18)","v":""},"","","","",null,null,null,null,null,null,null,null,null,null,null,null,null,"*"]
[null,null,null,null,null,null,null,null,null,null,null,89,null,null,null,null,null,null,null,null,{"$f":"IF($P93=\"\",\"\",注文書!D$18)","v":""},"","","","",null,null,null,null,null,null,null,null,null,null,null,null,null,"*"]
[null,null,null,null,null,null,null,null,null,null,null,90,null,null,null,null,null,null,null,null,{"$f":"IF($P94=\"\",\"\",注文書!D$18)","v":""},"","","","",null,null,null,null,null,null,null,null,null,null,null,null,null,"*"]
[null,null,null,null,null,null,null,null,null,null,null,91,null,null,null,null,null,null,null,null,{"$f":"IF($P95=\"\",\"\",注文書!D$18)","v":""},"","","","",null,null,null,null,null,null,null,null,null,null,null,null,null,"*"]
[null,null,null,null,null,null,null,null,null,null,null,92,null,null,null,null,null,null,null,null,{"$f":"IF($P96=\"\",\"\",注文書!D$18)","v":""},"","","","",null,null,null,null,null,null,null,null,null,null,null,null,null,"*"]
[null,null,null,null,null,null,null,null,null,null,null,93,null,null,null,null,null,null,null,null,{"$f":"IF($P97=\"\",\"\",注文書!D$18)","v":""},"","","","",null,null,null,null,null,null,null,null,null,null,null,null,null,"*"]
[null,null,null,null,null,null,null,null,null,null,null,94,null,null,null,null,null,null,null,null,{"$f":"IF($P98=\"\",\"\",注文書!D$18)","v":""},"","","","",null,null,null,null,null,null,null,null,null,null,null,null,null,"*"]
[null,null,null,null,null,null,null,null,null,null,null,95,null,null,null,null,null,null,null,null,{"$f":"IF($P99=\"\",\"\",注文書!D$18)","v":""},"","","","",null,null,null,null,null,null,null,null,null,null,null,null,null,"*"]
[null,null,null,null,null,null,null,null,null,null,null,96,null,null,null,null,null,null,null,null,{"$f":"IF($P100=\"\",\"\",注文書!D$18)","v":""},"","","","",null,null,null,null,null,null,null,null,null,null,null,null,null,"*"]
[null,null,null,null,null,null,null,null,null,null,null,97,null,null,null,null,null,null,null,null,{"$f":"IF($P101=\"\",\"\",注文書!D$18)","v":""},"","","","",null,null,null,null,null,null,null,null,null,null,null,null,null,"*"]
[null,null,null,null,null,null,null,null,null,null,null,98,null,null,null,null,null,null,null,null,{"$f":"IF($P102=\"\",\"\",注文書!D$18)","v":""},"","","","",null,null,null,null,null,null,null,null,null,null,null,null,null,"*"]
[null,null,null,null,null,null,null,null,null,null,null,99,null,null,null,null,null,null,null,null,{"$f":"IF($P103=\"\",\"\",注文書!D$18)","v":""},"","","","",null,null,null,null,null,null,null,null,null,null,null,null,null,"*"]
[null,null,null,null,null,null,null,null,null,null,null,100,null,null,null,null,null,null,null,null,{"$f":"IF($P104=\"\",\"\",注文書!D$18)","v":""},"","","","",null,null,null,null,null,null,null,null,null,null,null,null,null,"*"]
[null,null,null,null,null,null,null,null,null,null,null,101,null,null,null,null,null,null,null,null,{"$f":"IF($P105=\"\",\"\",注文書!D$18)","v":""},"","","","",null,null,null,null,null,null,null,null,null,null,null,null,null,"*"]
[null,null,null,null,null,null,null,null,null,null,null,102,null,null,null,null,null,null,null,null,{"$f":"IF($P106=\"\",\"\",注文書!D$18)","v":""},{"$f":"IF($P106=\"\",\"\",V$5)","v":""},"","","",null,null,null,null,null,null,null,null,null,null,null,null,null,"*"]
[null,null,null,null,null,null,null,null,null,null,null,103,null,null,null,null,null,null,null,null,{"$f":"IF($P107=\"\",\"\",注文書!D$18)","v":""},"","","","",null,null,null,null,null,null,null,null,null,null,null,null,null,"*"]
[null,null,null,null,null,null,null,null,null,null,null,104,null,null,null,null,null,null,null,null,{"$f":"IF($P108=\"\",\"\",注文書!D$18)","v":""},"","","","",null,null,null,null,null,null,null,null,null,null,null,null,null,"*"]
[null,null,null,null,null,null,null,null,null,null,null,105,null,null,null,null,null,null,null,null,{"$f":"IF($P109=\"\",\"\",注文書!D$18)","v":""},"","","","",null,null,null,null,null,null,null,null,null,null,null,null,null,"*"]
[null,null,null,null,null,null,null,null,null,null,null,106,null,null,null,null,null,null,null,null,{"$f":"IF($P110=\"\",\"\",注文書!D$18)","v":""},"","","","",null,null,null,null,null,null,null,null,null,null,null,null,null,"*"]
[null,null,null,null,null,null,null,null,null,null,null,107,null,null,null,null,null,null,null,null,{"$f":"IF($P111=\"\",\"\",注文書!D$18)","v":""},"","","","",null,null,null,null,null,null,null,null,null,null,null,null,null,"*"]
[null,null,null,null,null,null,null,null,null,null,null,108,null,null,null,null,null,null,null,null,{"$f":"IF($P112=\"\",\"\",注文書!D$18)","v":""},"","","","",null,null,null,null,null,null,null,null,null,null,null,null,null,"*"]
[null,null,null,null,null,null,null,null,null,null,null,109,null,null,null,null,null,null,null,null,{"$f":"IF($P113=\"\",\"\",注文書!D$18)","v":""},"","","","",null,null,null,null,null,null,null,null,null,null,null,null,null,"*"]
[null,null,null,null,null,null,null,null,null,null,null,110,null,null,null,null,null,null,null,null,{"$f":"IF($P114=\"\",\"\",注文書!D$18)","v":""},"","","","",null,null,null,null,null,null,null,null,null,null,null,null,null,"*"]
[null,null,null,null,null,null,null,null,null,null,null,111,null,null,null,null,null,null,null,null,{"$f":"IF($P115=\"\",\"\",注文書!D$18)","v":""},"","","","",null,null,null,null,null,null,null,null,null,null,null,null,null,"*"]
[null,null,null,null,null,null,null,null,null,null,null,112,null,null,null,null,null,null,null,null,{"$f":"IF($P116=\"\",\"\",注文書!D$18)","v":""},"","","","",null,null,null,null,null,null,null,null,null,null,null,null,null,"*"]
[null,null,null,null,null,null,null,null,null,null,null,113,null,null,null,null,null,null,null,null,{"$f":"IF($P117=\"\",\"\",注文書!D$18)","v":""},"","","","",null,null,null,null,null,null,null,null,null,null,null,null,null,"*"]
[null,null,null,null,null,null,null,null,null,null,null,114,null,null,null,null,null,null,null,null,{"$f":"IF($P118=\"\",\"\",注文書!D$18)","v":""},"","","","",null,null,null,null,null,null,null,null,null,null,null,null,null,"*"]
[null,null,null,null,null,null,null,null,null,null,null,115,null,null,null,null,null,null,null,null,{"$f":"IF($P119=\"\",\"\",注文書!D$18)","v":""},"","","","",null,null,null,null,null,null,null,null,null,null,null,null,null,"*"]
[null,null,null,null,null,null,null,null,null,null,null,116,null,null,null,null,null,null,null,null,{"$f":"IF($P120=\"\",\"\",注文書!D$18)","v":""},"","","","",null,null,null,null,null,null,null,null,null,null,null,null,null,"*"]
[null,null,null,null,null,null,null,null,null,null,null,117,null,null,null,null,null,null,null,null,{"$f":"IF($P121=\"\",\"\",注文書!D$18)","v":""},"","","","",null,null,null,null,null,null,null,null,null,null,null,null,null,"*"]
[null,null,null,null,null,null,null,null,null,null,null,118,null,null,null,null,null,null,null,null,{"$f":"IF($P122=\"\",\"\",注文書!D$18)","v":""},"","","","",null,null,null,null,null,null,null,null,null,null,null,null,null,"*"]
[null,null,null,null,null,null,null,null,null,null,null,119,null,null,null,null,null,null,null,null,{"$f":"IF($P123=\"\",\"\",注文書!D$18)","v":""},"","","","",null,null,null,null,null,null,null,null,null,null,null,null,null,"*"]
[null,null,null,null,null,null,null,null,null,null,null,120,null,null,null,null,null,null,null,null,{"$f":"IF($P124=\"\",\"\",注文書!D$18)","v":""},"","","","",null,null,null,null,null,null,null,null,null,null,null,null,null,"*"]
[null,null,null,null,null,null,null,null,null,null,null,121,null,null,null,null,null,null,null,null,{"$f":"IF($P125=\"\",\"\",注文書!D$18)","v":""},"","","","",null,null,null,null,null,null,null,null,null,null,null,null,null,"*"]
[null,null,null,null,null,null,null,null,null,null,null,122,null,null,null,null,null,null,null,null,{"$f":"IF($P126=\"\",\"\",注文書!D$18)","v":""},{"$f":"IF($P126=\"\",\"\",V$5)","v":""},"","","",null,null,null,null,null,null,null,null,null,null,null,null,null,"*"]
[null,null,null,null,null,null,null,null,null,null,null,123,null,null,null,null,null,null,null,null,{"$f":"IF($P127=\"\",\"\",注文書!D$18)","v":""},"","","","",null,null,null,null,null,null,null,null,null,null,null,null,null,"*"]
[null,null,null,null,null,null,null,null,null,null,null,124,null,null,null,null,null,null,null,null,{"$f":"IF($P128=\"\",\"\",注文書!D$18)","v":""},"","","","",null,null,null,null,null,null,null,null,null,null,null,null,null,"*"]
[null,null,null,null,null,null,null,null,null,null,null,125,null,null,null,null,null,null,null,null,{"$f":"IF($P129=\"\",\"\",注文書!D$18)","v":""},"","","","",null,null,null,null,null,null,null,null,null,null,null,null,null,"*"]
[null,null,null,null,null,null,null,null,null,null,null,126,null,null,null,null,null,null,null,null,{"$f":"IF($P130=\"\",\"\",注文書!D$18)","v":""},"","","","",null,null,null,null,null,null,null,null,null,null,null,null,null,"*"]
[null,null,null,null,null,null,null,null,null,null,null,127,null,null,null,null,null,null,null,null,{"$f":"IF($P131=\"\",\"\",注文書!D$18)","v":""},"","","","",null,null,null,null,null,null,null,null,null,null,null,null,null,"*"]
[null,null,null,null,null,null,null,null,null,null,null,128,null,null,null,null,null,null,null,null,{"$f":"IF($P132=\"\",\"\",注文書!D$18)","v":""},"","","","",null,null,null,null,null,null,null,null,null,null,null,null,null,"*"]
[null,null,null,null,null,null,null,null,null,null,null,{"$f":"ROW()-4","v":129},null,null,null,null,null,null,null,null,{"$f":"IF($P133=\"\",\"\",注文書!D$18)","v":""},"","","","",null,null,null,null,null,null,null,null,null,null,null,null,null,"*"]
[null,null,null,null,null,null,null,null,null,null,null,130,null,null,null,null,null,null,null,null,{"$f":"IF($P134=\"\",\"\",注文書!D$18)","v":""},"","","","",null,null,null,null,null,null,null,null,null,null,null,null,null,"*"]
[null,null,null,null,null,null,null,null,null,null,null,131,null,null,null,null,null,null,null,null,{"$f":"IF($P135=\"\",\"\",注文書!D$18)","v":""},"","","","",null,null,null,null,null,null,null,null,null,null,null,null,null,"*"]
[null,null,null,null,null,null,null,null,null,null,null,132,null,null,null,null,null,null,null,null,{"$f":"IF($P136=\"\",\"\",注文書!D$18)","v":""},"","","","",null,null,null,null,null,null,null,null,null,null,null,null,null,"*"]
[null,null,null,null,null,null,null,null,null,null,null,133,null,null,null,null,null,null,null,null,{"$f":"IF($P137=\"\",\"\",注文書!D$18)","v":""},"","","","",null,null,null,null,null,null,null,null,null,null,null,null,null,"*"]
[null,null,null,null,null,null,null,null,null,null,null,134,null,null,null,null,null,null,null,null,{"$f":"IF($P138=\"\",\"\",注文書!D$18)","v":""},"","","","",null,null,null,null,null,null,null,null,null,null,null,null,null,"*"]
[null,null,null,null,null,null,null,null,null,null,null,135,null,null,null,null,null,null,null,null,{"$f":"IF($P139=\"\",\"\",注文書!D$18)","v":""},"","","","",null,null,null,null,null,null,null,null,null,null,null,null,null,"*"]
[null,null,null,null,null,null,null,null,null,null,null,136,null,null,null,null,null,null,null,null,{"$f":"IF($P140=\"\",\"\",注文書!D$18)","v":""},"","","","",null,null,null,null,null,null,null,null,null,null,null,null,null,"*"]
[null,null,null,null,null,null,null,null,null,null,null,137,null,null,null,null,null,null,null,null,{"$f":"IF($P141=\"\",\"\",注文書!D$18)","v":""},"","","","",null,null,null,null,null,null,null,null,null,null,null,null,null,"*"]
[null,null,null,null,null,null,null,null,null,null,null,138,null,null,null,null,null,null,null,null,{"$f":"IF($P142=\"\",\"\",注文書!D$18)","v":""},"","","","",null,null,null,null,null,null,null,null,null,null,null,null,null,"*"]
[null,null,null,null,null,null,null,null,null,null,null,139,null,null,null,null,null,null,null,null,{"$f":"IF($P143=\"\",\"\",注文書!D$18)","v":""},"","","","",null,null,null,null,null,null,null,null,null,null,null,null,null,"*"]
[null,null,null,null,null,null,null,null,null,null,null,140,null,null,null,null,null,null,null,null,{"$f":"IF($P144=\"\",\"\",注文書!D$18)","v":""},"","","","",null,null,null,null,null,null,null,null,null,null,null,null,null,"*"]
[null,null,null,null,null,null,null,null,null,null,null,141,null,null,null,null,null,null,null,null,{"$f":"IF($P145=\"\",\"\",注文書!D$18)","v":""},"","","","",null,null,null,null,null,null,null,null,null,null,null,null,null,"*"]
[null,null,null,null,null,null,null,null,null,null,null,142,null,null,null,null,null,null,null,null,{"$f":"IF($P146=\"\",\"\",注文書!D$18)","v":""},{"$f":"IF($P146=\"\",\"\",V$5)","v":""},"","","",null,null,null,null,null,null,null,null,null,null,null,null,null,"*"]
[null,null,null,null,null,null,null,null,null,null,null,143,null,null,null,null,null,null,null,null,{"$f":"IF($P147=\"\",\"\",注文書!D$18)","v":""},"","","","",null,null,null,null,null,null,null,null,null,null,null,null,null,"*"]
[null,null,null,null,null,null,null,null,null,null,null,144,null,null,null,null,null,null,null,null,{"$f":"IF($P148=\"\",\"\",注文書!D$18)","v":""},"","","","",null,null,null,null,null,null,null,null,null,null,null,null,null,"*"]
[null,null,null,null,null,null,null,null,null,null,null,145,null,null,null,null,null,null,null,null,{"$f":"IF($P149=\"\",\"\",注文書!D$18)","v":""},"","","","",null,null,null,null,null,null,null,null,null,null,null,null,null,"*"]
[null,null,null,null,null,null,null,null,null,null,null,146,null,null,null,null,null,null,null,null,{"$f":"IF($P150=\"\",\"\",注文書!D$18)","v":""},"","","","",null,null,null,null,null,null,null,null,null,null,null,null,null,"*"]
[null,null,null,null,null,null,null,null,null,null,null,147,null,null,null,null,null,null,null,null,{"$f":"IF($P151=\"\",\"\",注文書!D$18)","v":""},"","","","",null,null,null,null,null,null,null,null,null,null,null,null,null,"*"]
[null,null,null,null,null,null,null,null,null,null,null,148,null,null,null,null,null,null,null,null,{"$f":"IF($P152=\"\",\"\",注文書!D$18)","v":""},"","","","",null,null,null,null,null,null,null,null,null,null,null,null,null,"*"]
[null,null,null,null,null,null,null,null,null,null,null,149,null,null,null,null,null,null,null,null,{"$f":"IF($P153=\"\",\"\",注文書!D$18)","v":""},"","","","",null,null,null,null,null,null,null,null,null,null,null,null,null,"*"]
[null,null,null,null,null,null,null,null,null,null,null,150,null,null,null,null,null,null,null,null,{"$f":"IF($P154=\"\",\"\",注文書!D$18)","v":""},"","","","",null,null,null,null,null,null,null,null,null,null,null,null,null,"*"]
[null,null,null,null,null,null,null,null,null,null,null,151,null,null,null,null,null,null,null,null,{"$f":"IF($P155=\"\",\"\",注文書!D$18)","v":""},"","","","",null,null,null,null,null,null,null,null,null,null,null,null,null,"*"]
[null,null,null,null,null,null,null,null,null,null,null,152,null,null,null,null,null,null,null,null,{"$f":"IF($P156=\"\",\"\",注文書!D$18)","v":""},"","","","",null,null,null,null,null,null,null,null,null,null,null,null,null,"*"]
[null,null,null,null,null,null,null,null,null,null,null,153,null,null,null,null,null,null,null,null,{"$f":"IF($P157=\"\",\"\",注文書!D$18)","v":""},"","","","",null,null,null,null,null,null,null,null,null,null,null,null,null,"*"]
[null,null,null,null,null,null,null,null,null,null,null,154,null,null,null,null,null,null,null,null,{"$f":"IF($P158=\"\",\"\",注文書!D$18)","v":""},"","","","",null,null,null,null,null,null,null,null,null,null,null,null,null,"*"]
[null,null,null,null,null,null,null,null,null,null,null,155,null,null,null,null,null,null,null,null,{"$f":"IF($P159=\"\",\"\",注文書!D$18)","v":""},"","","","",null,null,null,null,null,null,null,null,null,null,null,null,null,"*"]
[null,null,null,null,null,null,null,null,null,null,null,156,null,null,null,null,null,null,null,null,{"$f":"IF($P160=\"\",\"\",注文書!D$18)","v":""},"","","","",null,null,null,null,null,null,null,null,null,null,null,null,null,"*"]
[null,null,null,null,null,null,null,null,null,null,null,157,null,null,null,null,null,null,null,null,{"$f":"IF($P161=\"\",\"\",注文書!D$18)","v":""},"","","","",null,null,null,null,null,null,null,null,null,null,null,null,null,"*"]
[null,null,null,null,null,null,null,null,null,null,null,158,null,null,null,null,null,null,null,null,{"$f":"IF($P162=\"\",\"\",注文書!D$18)","v":""},"","","","",null,null,null,null,null,null,null,null,null,null,null,null,null,"*"]
[null,null,null,null,null,null,null,null,null,null,null,159,null,null,null,null,null,null,null,null,{"$f":"IF($P163=\"\",\"\",注文書!D$18)","v":""},"","","","",null,null,null,null,null,null,null,null,null,null,null,null,null,"*"]
[null,null,null,null,null,null,null,null,null,null,null,160,null,null,null,null,null,null,null,null,{"$f":"IF($P164=\"\",\"\",注文書!D$18)","v":""},"","","","",null,null,null,null,null,null,null,null,null,null,null,null,null,"*"]
[null,null,null,null,null,null,null,null,null,null,null,161,null,null,null,null,null,null,null,null,{"$f":"IF($P165=\"\",\"\",注文書!D$18)","v":""},"","","","",null,null,null,null,null,null,null,null,null,null,null,null,null,"*"]
[null,null,null,null,null,null,null,null,null,null,null,162,null,null,null,null,null,null,null,null,{"$f":"IF($P166=\"\",\"\",注文書!D$18)","v":""},{"$f":"IF($P166=\"\",\"\",V$5)","v":""},"","","",null,null,null,null,null,null,null,null,null,null,null,null,null,"*"]
[null,null,null,null,null,null,null,null,null,null,null,163,null,null,null,null,null,null,null,null,{"$f":"IF($P167=\"\",\"\",注文書!D$18)","v":""},"","","","",null,null,null,null,null,null,null,null,null,null,null,null,null,"*"]
[null,null,null,null,null,null,null,null,null,null,null,164,null,null,null,null,null,null,null,null,{"$f":"IF($P168=\"\",\"\",注文書!D$18)","v":""},"","","","",null,null,null,null,null,null,null,null,null,null,null,null,null,"*"]
[null,null,null,null,null,null,null,null,null,null,null,165,null,null,null,null,null,null,null,null,{"$f":"IF($P169=\"\",\"\",注文書!D$18)","v":""},"","","","",null,null,null,null,null,null,null,null,null,null,null,null,null,"*"]
[null,null,null,null,null,null,null,null,null,null,null,166,null,null,null,null,null,null,null,null,{"$f":"IF($P170=\"\",\"\",注文書!D$18)","v":""},"","","","",null,null,null,null,null,null,null,null,null,null,null,null,null,"*"]
[null,null,null,null,null,null,null,null,null,null,null,167,null,null,null,null,null,null,null,null,{"$f":"IF($P171=\"\",\"\",注文書!D$18)","v":""},"","","","",null,null,null,null,null,null,null,null,null,null,null,null,null,"*"]
[null,null,null,null,null,null,null,null,null,null,null,168,null,null,null,null,null,null,null,null,{"$f":"IF($P172=\"\",\"\",注文書!D$18)","v":""},"","","","",null,null,null,null,null,null,null,null,null,null,null,null,null,"*"]
[null,null,null,null,null,null,null,null,null,null,null,169,null,null,null,null,null,null,null,null,{"$f":"IF($P173=\"\",\"\",注文書!D$18)","v":""},"","","","",null,null,null,null,null,null,null,null,null,null,null,null,null,"*"]
[null,null,null,null,null,null,null,null,null,null,null,170,null,null,null,null,null,null,null,null,{"$f":"IF($P174=\"\",\"\",注文書!D$18)","v":""},"","","","",null,null,null,null,null,null,null,null,null,null,null,null,null,"*"]
[null,null,null,null,null,null,null,null,null,null,null,171,null,null,null,null,null,null,null,null,{"$f":"IF($P175=\"\",\"\",注文書!D$18)","v":""},"","","","",null,null,null,null,null,null,null,null,null,null,null,null,null,"*"]
[null,null,null,null,null,null,null,null,null,null,null,172,null,null,null,null,null,null,null,null,{"$f":"IF($P176=\"\",\"\",注文書!D$18)","v":""},"","","","",null,null,null,null,null,null,null,null,null,null,null,null,null,"*"]
[null,null,null,null,null,null,null,null,null,null,null,173,null,null,null,null,null,null,null,null,{"$f":"IF($P177=\"\",\"\",注文書!D$18)","v":""},"","","","",null,null,null,null,null,null,null,null,null,null,null,null,null,"*"]
[null,null,null,null,null,null,null,null,null,null,null,174,null,null,null,null,null,null,null,null,{"$f":"IF($P178=\"\",\"\",注文書!D$18)","v":""},"","","","",null,null,null,null,null,null,null,null,null,null,null,null,null,"*"]
[null,null,null,null,null,null,null,null,null,null,null,175,null,null,null,null,null,null,null,null,{"$f":"IF($P179=\"\",\"\",注文書!D$18)","v":""},"","","","",null,null,null,null,null,null,null,null,null,null,null,null,null,"*"]
[null,null,null,null,null,null,null,null,null,null,null,176,null,null,null,null,null,null,null,null,{"$f":"IF($P180=\"\",\"\",注文書!D$18)","v":""},"","","","",null,null,null,null,null,null,null,null,null,null,null,null,null,"*"]
[null,null,null,null,null,null,null,null,null,null,null,177,null,null,null,null,null,null,null,null,{"$f":"IF($P181=\"\",\"\",注文書!D$18)","v":""},"","","","",null,null,null,null,null,null,null,null,null,null,null,null,null,"*"]
[null,null,null,null,null,null,null,null,null,null,null,178,null,null,null,null,null,null,null,null,{"$f":"IF($P182=\"\",\"\",注文書!D$18)","v":""},"","","","",null,null,null,null,null,null,null,null,null,null,null,null,null,"*"]
[null,null,null,null,null,null,null,null,null,null,null,179,null,null,null,null,null,null,null,null,{"$f":"IF($P183=\"\",\"\",注文書!D$18)","v":""},"","","","",null,null,null,null,null,null,null,null,null,null,null,null,null,"*"]
[null,null,null,null,null,null,null,null,null,null,null,180,null,null,null,null,null,null,null,null,{"$f":"IF($P184=\"\",\"\",注文書!D$18)","v":""},"","","","",null,null,null,null,null,null,null,null,null,null,null,null,null,"*"]
[null,null,null,null,null,null,null,null,null,null,null,181,null,null,null,null,null,null,null,null,{"$f":"IF($P185=\"\",\"\",注文書!D$18)","v":""},"","","","",null,null,null,null,null,null,null,null,null,null,null,null,null,"*"]
[null,null,null,null,null,null,null,null,null,null,null,182,null,null,null,null,null,null,null,null,{"$f":"IF($P186=\"\",\"\",注文書!D$18)","v":""},{"$f":"IF($P186=\"\",\"\",V$5)","v":""},"","","",null,null,null,null,null,null,null,null,null,null,null,null,null,"*"]
[null,null,null,null,null,null,null,null,null,null,null,183,null,null,null,null,null,null,null,null,{"$f":"IF($P187=\"\",\"\",注文書!D$18)","v":""},"","","","",null,null,null,null,null,null,null,null,null,null,null,null,null,"*"]
[null,null,null,null,null,null,null,null,null,null,null,184,null,null,null,null,null,null,null,null,{"$f":"IF($P188=\"\",\"\",注文書!D$18)","v":""},"","","","",null,null,null,null,null,null,null,null,null,null,null,null,null,"*"]
[null,null,null,null,null,null,null,null,null,null,null,185,null,null,null,null,null,null,null,null,{"$f":"IF($P189=\"\",\"\",注文書!D$18)","v":""},"","","","",null,null,null,null,null,null,null,null,null,null,null,null,null,"*"]
[null,null,null,null,null,null,null,null,null,null,null,186,null,null,null,null,null,null,null,null,{"$f":"IF($P190=\"\",\"\",注文書!D$18)","v":""},"","","","",null,null,null,null,null,null,null,null,null,null,null,null,null,"*"]
[null,null,null,null,null,null,null,null,null,null,null,187,null,null,null,null,null,null,null,null,{"$f":"IF($P191=\"\",\"\",注文書!D$18)","v":""},"","","","",null,null,null,null,null,null,null,null,null,null,null,null,null,"*"]
[null,null,null,null,null,null,null,null,null,null,null,188,null,null,null,null,null,null,null,null,{"$f":"IF($P192=\"\",\"\",注文書!D$18)","v":""},"","","","",null,null,null,null,null,null,null,null,null,null,null,null,null,"*"]
[null,null,null,null,null,null,null,null,null,null,null,189,null,null,null,null,null,null,null,null,{"$f":"IF($P193=\"\",\"\",注文書!D$18)","v":""},"","","","",null,null,null,null,null,null,null,null,null,null,null,null,null,"*"]
[null,null,null,null,null,null,null,null,null,null,null,190,null,null,null,null,null,null,null,null,{"$f":"IF($P194=\"\",\"\",注文書!D$18)","v":""},"","","","",null,null,null,null,null,null,null,null,null,null,null,null,null,"*"]
[null,null,null,null,null,null,null,null,null,null,null,191,null,null,null,null,null,null,null,null,{"$f":"IF($P195=\"\",\"\",注文書!D$18)","v":""},"","","","",null,null,null,null,null,null,null,null,null,null,null,null,null,"*"]
[null,null,null,null,null,null,null,null,null,null,null,192,null,null,null,null,null,null,null,null,{"$f":"IF($P196=\"\",\"\",注文書!D$18)","v":""},"","","","",null,null,null,null,null,null,null,null,null,null,null,null,null,"*"]
[null,null,null,null,null,null,null,null,null,null,null,{"$f":"ROW()-4","v":193},null,null,null,null,null,null,null,null,{"$f":"IF($P197=\"\",\"\",注文書!D$18)","v":""},"","","","",null,null,null,null,null,null,null,null,null,null,null,null,null,"*"]
[null,null,null,null,null,null,null,null,null,null,null,194,null,null,null,null,null,null,null,null,{"$f":"IF($P198=\"\",\"\",注文書!D$18)","v":""},"","","","",null,null,null,null,null,null,null,null,null,null,null,null,null,"*"]
[null,null,null,null,null,null,null,null,null,null,null,195,null,null,null,null,null,null,null,null,{"$f":"IF($P199=\"\",\"\",注文書!D$18)","v":""},"","","","",null,null,null,null,null,null,null,null,null,null,null,null,null,"*"]
[null,null,null,null,null,null,null,null,null,null,null,196,null,null,null,null,null,null,null,null,{"$f":"IF($P200=\"\",\"\",注文書!D$18)","v":""},"","","","",null,null,null,null,null,null,null,null,null,null,null,null,null,"*"]
[null,null,null,null,null,null,null,null,null,null,null,197,null,null,null,null,null,null,null,null,{"$f":"IF($P201=\"\",\"\",注文書!D$18)","v":""},"","","","",null,null,null,null,null,null,null,null,null,null,null,null,null,"*"]
[null,null,null,null,null,null,null,null,null,null,null,198,null,null,null,null,null,null,null,null,{"$f":"IF($P202=\"\",\"\",注文書!D$18)","v":""},"","","","",null,null,null,null,null,null,null,null,null,null,null,null,null,"*"]
[null,null,null,null,null,null,null,null,null,null,null,199,null,null,null,null,null,null,null,null,{"$f":"IF($P203=\"\",\"\",注文書!D$18)","v":""},"","","","",null,null,null,null,null,null,null,null,null,null,null,null,null,"*"]
[null,null,null,null,null,null,null,null,null,null,null,200,null,null,null,null,null,null,null,null,{"$f":"IF($P204=\"\",\"\",注文書!D$18)","v":""},"","","","",null,null,null,null,null,null,null,null,null,null,null,null,null,"*"]
[null,null,null,null,null,null,null,null,null,null,null,201,null,null,null,null,null,null,null,null,{"$f":"IF($P205=\"\",\"\",注文書!D$18)","v":""},"","","","",null,null,null,null,null,null,null,null,null,null,null,null,null,"*"]
[null,null,null,null,null,null,null,null,null,null,null,202,null,null,null,null,null,null,null,null,{"$f":"IF($P206=\"\",\"\",注文書!D$18)","v":""},{"$f":"IF($P206=\"\",\"\",V$5)","v":""},"","","",null,null,null,null,null,null,null,null,null,null,null,null,null,"*"]
[null,null,null,null,null,null,null,null,null,null,null,203,null,null,null,null,null,null,null,null,{"$f":"IF($P207=\"\",\"\",注文書!D$18)","v":""},"","","","",null,null,null,null,null,null,null,null,null,null,null,null,null,"*"]
[null,null,null,null,null,null,null,null,null,null,null,204,null,null,null,null,null,null,null,null,{"$f":"IF($P208=\"\",\"\",注文書!D$18)","v":""},"","","","",null,null,null,null,null,null,null,null,null,null,null,null,null,"*"]
[null,null,null,null,null,null,null,null,null,null,null,205,null,null,null,null,null,null,null,null,{"$f":"IF($P209=\"\",\"\",注文書!D$18)","v":""},"","","","",null,null,null,null,null,null,null,null,null,null,null,null,null,"*"]
[null,null,null,null,null,null,null,null,null,null,null,206,null,null,null,null,null,null,null,null,{"$f":"IF($P210=\"\",\"\",注文書!D$18)","v":""},"","","","",null,null,null,null,null,null,null,null,null,null,null,null,null,"*"]
[null,null,null,null,null,null,null,null,null,null,null,207,null,null,null,null,null,null,null,null,{"$f":"IF($P211=\"\",\"\",注文書!D$18)","v":""},"","","","",null,null,null,null,null,null,null,null,null,null,null,null,null,"*"]
[null,null,null,null,null,null,null,null,null,null,null,208,null,null,null,null,null,null,null,null,{"$f":"IF($P212=\"\",\"\",注文書!D$18)","v":""},"","","","",null,null,null,null,null,null,null,null,null,null,null,null,null,"*"]
[null,null,null,null,null,null,null,null,null,null,null,209,null,null,null,null,null,null,null,null,{"$f":"IF($P213=\"\",\"\",注文書!D$18)","v":""},"","","","",null,null,null,null,null,null,null,null,null,null,null,null,null,"*"]
[null,null,null,null,null,null,null,null,null,null,null,210,null,null,null,null,null,null,null,null,{"$f":"IF($P214=\"\",\"\",注文書!D$18)","v":""},"","","","",null,null,null,null,null,null,null,null,null,null,null,null,null,"*"]
[null,null,null,null,null,null,null,null,null,null,null,211,null,null,null,null,null,null,null,null,{"$f":"IF($P215=\"\",\"\",注文書!D$18)","v":""},"","","","",null,null,null,null,null,null,null,null,null,null,null,null,null,"*"]
[null,null,null,null,null,null,null,null,null,null,null,212,null,null,null,null,null,null,null,null,{"$f":"IF($P216=\"\",\"\",注文書!D$18)","v":""},"","","","",null,null,null,null,null,null,null,null,null,null,null,null,null,"*"]
[null,null,null,null,null,null,null,null,null,null,null,213,null,null,null,null,null,null,null,null,{"$f":"IF($P217=\"\",\"\",注文書!D$18)","v":""},"","","","",null,null,null,null,null,null,null,null,null,null,null,null,null,"*"]
[null,null,null,null,null,null,null,null,null,null,null,214,null,null,null,null,null,null,null,null,{"$f":"IF($P218=\"\",\"\",注文書!D$18)","v":""},"","","","",null,null,null,null,null,null,null,null,null,null,null,null,null,"*"]
[null,null,null,null,null,null,null,null,null,null,null,215,null,null,null,null,null,null,null,null,{"$f":"IF($P219=\"\",\"\",注文書!D$18)","v":""},"","","","",null,null,null,null,null,null,null,null,null,null,null,null,null,"*"]
[null,null,null,null,null,null,null,null,null,null,null,216,null,null,null,null,null,null,null,null,{"$f":"IF($P220=\"\",\"\",注文書!D$18)","v":""},"","","","",null,null,null,null,null,null,null,null,null,null,null,null,null,"*"]
[null,null,null,null,null,null,null,null,null,null,null,217,null,null,null,null,null,null,null,null,{"$f":"IF($P221=\"\",\"\",注文書!D$18)","v":""},"","","","",null,null,null,null,null,null,null,null,null,null,null,null,null,"*"]
[null,null,null,null,null,null,null,null,null,null,null,218,null,null,null,null,null,null,null,null,{"$f":"IF($P222=\"\",\"\",注文書!D$18)","v":""},"","","","",null,null,null,null,null,null,null,null,null,null,null,null,null,"*"]
[null,null,null,null,null,null,null,null,null,null,null,219,null,null,null,null,null,null,null,null,{"$f":"IF($P223=\"\",\"\",注文書!D$18)","v":""},"","","","",null,null,null,null,null,null,null,null,null,null,null,null,null,"*"]
[null,null,null,null,null,null,null,null,null,null,null,220,null,null,null,null,null,null,null,null,{"$f":"IF($P224=\"\",\"\",注文書!D$18)","v":""},"","","","",null,null,null,null,null,null,null,null,null,null,null,null,null,"*"]
[null,null,null,null,null,null,null,null,null,null,null,221,null,null,null,null,null,null,null,null,{"$f":"IF($P225=\"\",\"\",注文書!D$18)","v":""},"","","","",null,null,null,null,null,null,null,null,null,null,null,null,null,"*"]
[null,null,null,null,null,null,null,null,null,null,null,222,null,null,null,null,null,null,null,null,{"$f":"IF($P226=\"\",\"\",注文書!D$18)","v":""},{"$f":"IF($P226=\"\",\"\",V$5)","v":""},"","","",null,null,null,null,null,null,null,null,null,null,null,null,null,"*"]
[null,null,null,null,null,null,null,null,null,null,null,223,null,null,null,null,null,null,null,null,{"$f":"IF($P227=\"\",\"\",注文書!D$18)","v":""},"","","","",null,null,null,null,null,null,null,null,null,null,null,null,null,"*"]
[null,null,null,null,null,null,null,null,null,null,null,224,null,null,null,null,null,null,null,null,{"$f":"IF($P228=\"\",\"\",注文書!D$18)","v":""},"","","","",null,null,null,null,null,null,null,null,null,null,null,null,null,"*"]
[null,null,null,null,null,null,null,null,null,null,null,225,null,null,null,null,null,null,null,null,{"$f":"IF($P229=\"\",\"\",注文書!D$18)","v":""},"","","","",null,null,null,null,null,null,null,null,null,null,null,null,null,"*"]
[null,null,null,null,null,null,null,null,null,null,null,226,null,null,null,null,null,null,null,null,{"$f":"IF($P230=\"\",\"\",注文書!D$18)","v":""},"","","","",null,null,null,null,null,null,null,null,null,null,null,null,null,"*"]
[null,null,null,null,null,null,null,null,null,null,null,227,null,null,null,null,null,null,null,null,{"$f":"IF($P231=\"\",\"\",注文書!D$18)","v":""},"","","","",null,null,null,null,null,null,null,null,null,null,null,null,null,"*"]
[null,null,null,null,null,null,null,null,null,null,null,228,null,null,null,null,null,null,null,null,{"$f":"IF($P232=\"\",\"\",注文書!D$18)","v":""},"","","","",null,null,null,null,null,null,null,null,null,null,null,null,null,"*"]
[null,null,null,null,null,null,null,null,null,null,null,229,null,null,null,null,null,null,null,null,{"$f":"IF($P233=\"\",\"\",注文書!D$18)","v":""},"","","","",null,null,null,null,null,null,null,null,null,null,null,null,null,"*"]
[null,null,null,null,null,null,null,null,null,null,null,230,null,null,null,null,null,null,null,null,{"$f":"IF($P234=\"\",\"\",注文書!D$18)","v":""},"","","","",null,null,null,null,null,null,null,null,null,null,null,null,null,"*"]
[null,null,null,null,null,null,null,null,null,null,null,231,null,null,null,null,null,null,null,null,{"$f":"IF($P235=\"\",\"\",注文書!D$18)","v":""},"","","","",null,null,null,null,null,null,null,null,null,null,null,null,null,"*"]
[null,null,null,null,null,null,null,null,null,null,null,232,null,null,null,null,null,null,null,null,{"$f":"IF($P236=\"\",\"\",注文書!D$18)","v":""},"","","","",null,null,null,null,null,null,null,null,null,null,null,null,null,"*"]
[null,null,null,null,null,null,null,null,null,null,null,233,null,null,null,null,null,null,null,null,{"$f":"IF($P237=\"\",\"\",注文書!D$18)","v":""},"","","","",null,null,null,null,null,null,null,null,null,null,null,null,null,"*"]
[null,null,null,null,null,null,null,null,null,null,null,234,null,null,null,null,null,null,null,null,{"$f":"IF($P238=\"\",\"\",注文書!D$18)","v":""},"","","","",null,null,null,null,null,null,null,null,null,null,null,null,null,"*"]
[null,null,null,null,null,null,null,null,null,null,null,235,null,null,null,null,null,null,null,null,{"$f":"IF($P239=\"\",\"\",注文書!D$18)","v":""},"","","","",null,null,null,null,null,null,null,null,null,null,null,null,null,"*"]
[null,null,null,null,null,null,null,null,null,null,null,236,null,null,null,null,null,null,null,null,{"$f":"IF($P240=\"\",\"\",注文書!D$18)","v":""},"","","","",null,null,null,null,null,null,null,null,null,null,null,null,null,"*"]
[null,null,null,null,null,null,null,null,null,null,null,237,null,null,null,null,null,null,null,null,{"$f":"IF($P241=\"\",\"\",注文書!D$18)","v":""},"","","","",null,null,null,null,null,null,null,null,null,null,null,null,null,"*"]
[null,null,null,null,null,null,null,null,null,null,null,238,null,null,null,null,null,null,null,null,{"$f":"IF($P242=\"\",\"\",注文書!D$18)","v":""},"","","","",null,null,null,null,null,null,null,null,null,null,null,null,null,"*"]
[null,null,null,null,null,null,null,null,null,null,null,239,null,null,null,null,null,null,null,null,{"$f":"IF($P243=\"\",\"\",注文書!D$18)","v":""},"","","","",null,null,null,null,null,null,null,null,null,null,null,null,null,"*"]
[null,null,null,null,null,null,null,null,null,null,null,240,null,null,null,null,null,null,null,null,{"$f":"IF($P244=\"\",\"\",注文書!D$18)","v":""},"","","","",null,null,null,null,null,null,null,null,null,null,null,null,null,"*"]
[null,null,null,null,null,null,null,null,null,null,null,241,null,null,null,null,null,null,null,null,{"$f":"IF($P245=\"\",\"\",注文書!D$18)","v":""},"","","","",null,null,null,null,null,null,null,null,null,null,null,null,null,"*"]
[null,null,null,null,null,null,null,null,null,null,null,242,null,null,null,null,null,null,null,null,{"$f":"IF($P246=\"\",\"\",注文書!D$18)","v":""},{"$f":"IF($P246=\"\",\"\",V$5)","v":""},"","","",null,null,null,null,null,null,null,null,null,null,null,null,null,"*"]
[null,null,null,null,null,null,null,null,null,null,null,243,null,null,null,null,null,null,null,null,{"$f":"IF($P247=\"\",\"\",注文書!D$18)","v":""},"","","","",null,null,null,null,null,null,null,null,null,null,null,null,null,"*"]
[null,null,null,null,null,null,null,null,null,null,null,244,null,null,null,null,null,null,null,null,{"$f":"IF($P248=\"\",\"\",注文書!D$18)","v":""},"","","","",null,null,null,null,null,null,null,null,null,null,null,null,null,"*"]
[null,null,null,null,null,null,null,null,null,null,null,245,null,null,null,null,null,null,null,null,{"$f":"IF($P249=\"\",\"\",注文書!D$18)","v":""},"","","","",null,null,null,null,null,null,null,null,null,null,null,null,null,"*"]
[null,null,null,null,null,null,null,null,null,null,null,246,null,null,null,null,null,null,null,null,{"$f":"IF($P250=\"\",\"\",注文書!D$18)","v":""},"","","","",null,null,null,null,null,null,null,null,null,null,null,null,null,"*"]
[null,null,null,null,null,null,null,null,null,null,null,247,null,null,null,null,null,null,null,null,{"$f":"IF($P251=\"\",\"\",注文書!D$18)","v":""},"","","","",null,null,null,null,null,null,null,null,null,null,null,null,null,"*"]
[null,null,null,null,null,null,null,null,null,null,null,248,null,null,null,null,null,null,null,null,{"$f":"IF($P252=\"\",\"\",注文書!D$18)","v":""},"","","","",null,null,null,null,null,null,null,null,null,null,null,null,null,"*"]
[null,null,null,null,null,null,null,null,null,null,null,249,null,null,null,null,null,null,null,null,{"$f":"IF($P253=\"\",\"\",注文書!D$18)","v":""},"","","","",null,null,null,null,null,null,null,null,null,null,null,null,null,"*"]
[null,null,null,null,null,null,null,null,null,null,null,250,null,null,null,null,null,null,null,null,{"$f":"IF($P254=\"\",\"\",注文書!D$18)","v":""},"","","","",null,null,null,null,null,null,null,null,null,null,null,null,null,"*"]
[null,null,null,null,null,null,null,null,null,null,null,251,null,null,null,null,null,null,null,null,{"$f":"IF($P255=\"\",\"\",注文書!D$18)","v":""},"","","","",null,null,null,null,null,null,null,null,null,null,null,null,null,"*"]
[null,null,null,null,null,null,null,null,null,null,null,252,null,null,null,null,null,null,null,null,{"$f":"IF($P256=\"\",\"\",注文書!D$18)","v":""},"","","","",null,null,null,null,null,null,null,null,null,null,null,null,null,"*"]
[null,null,null,null,null,null,null,null,null,null,null,253,null,null,null,null,null,null,null,null,{"$f":"IF($P257=\"\",\"\",注文書!D$18)","v":""},"","","","",null,null,null,null,null,null,null,null,null,null,null,null,null,"*"]
[null,null,null,null,null,null,null,null,null,null,null,254,null,null,null,null,null,null,null,null,{"$f":"IF($P258=\"\",\"\",注文書!D$18)","v":""},"","","","",null,null,null,null,null,null,null,null,null,null,null,null,null,"*"]
[null,null,null,null,null,null,null,null,null,null,null,255,null,null,null,null,null,null,null,null,{"$f":"IF($P259=\"\",\"\",注文書!D$18)","v":""},"","","","",null,null,null,null,null,null,null,null,null,null,null,null,null,"*"]
[null,null,null,null,null,null,null,null,null,null,null,256,null,null,null,null,null,null,null,null,{"$f":"IF($P260=\"\",\"\",注文書!D$18)","v":""},"","","","",null,null,null,null,null,null,null,null,null,null,null,null,null,"*"]
[null,null,null,null,null,null,null,null,null,null,null,{"$f":"ROW()-4","v":257},null,null,null,null,null,null,null,null,{"$f":"IF($P261=\"\",\"\",注文書!D$18)","v":""},"","","","",null,null,null,null,null,null,null,null,null,null,null,null,null,"*"]
[null,null,null,null,null,null,null,null,null,null,null,258,null,null,null,null,null,null,null,null,{"$f":"IF($P262=\"\",\"\",注文書!D$18)","v":""},"","","","",null,null,null,null,null,null,null,null,null,null,null,null,null,"*"]
[null,null,null,null,null,null,null,null,null,null,null,259,null,null,null,null,null,null,null,null,{"$f":"IF($P263=\"\",\"\",注文書!D$18)","v":""},"","","","",null,null,null,null,null,null,null,null,null,null,null,null,null,"*"]
[null,null,null,null,null,null,null,null,null,null,null,260,null,null,null,null,null,null,null,null,{"$f":"IF($P264=\"\",\"\",注文書!D$18)","v":""},"","","","",null,null,null,null,null,null,null,null,null,null,null,null,null,"*"]
[null,null,null,null,null,null,null,null,null,null,null,261,null,null,null,null,null,null,null,null,{"$f":"IF($P265=\"\",\"\",注文書!D$18)","v":""},"","","","",null,null,null,null,null,null,null,null,null,null,null,null,null,"*"]
[null,null,null,null,null,null,null,null,null,null,null,262,null,null,null,null,null,null,null,null,{"$f":"IF($P266=\"\",\"\",注文書!D$18)","v":""},{"$f":"IF($P266=\"\",\"\",V$5)","v":""},"","","",null,null,null,null,null,null,null,null,null,null,null,null,null,"*"]
[null,null,null,null,null,null,null,null,null,null,null,263,null,null,null,null,null,null,null,null,{"$f":"IF($P267=\"\",\"\",注文書!D$18)","v":""},"","","","",null,null,null,null,null,null,null,null,null,null,null,null,null,"*"]
[null,null,null,null,null,null,null,null,null,null,null,264,null,null,null,null,null,null,null,null,{"$f":"IF($P268=\"\",\"\",注文書!D$18)","v":""},"","","","",null,null,null,null,null,null,null,null,null,null,null,null,null,"*"]
[null,null,null,null,null,null,null,null,null,null,null,265,null,null,null,null,null,null,null,null,{"$f":"IF($P269=\"\",\"\",注文書!D$18)","v":""},"","","","",null,null,null,null,null,null,null,null,null,null,null,null,null,"*"]
[null,null,null,null,null,null,null,null,null,null,null,266,null,null,null,null,null,null,null,null,{"$f":"IF($P270=\"\",\"\",注文書!D$18)","v":""},"","","","",null,null,null,null,null,null,null,null,null,null,null,null,null,"*"]
[null,null,null,null,null,null,null,null,null,null,null,267,null,null,null,null,null,null,null,null,{"$f":"IF($P271=\"\",\"\",注文書!D$18)","v":""},"","","","",null,null,null,null,null,null,null,null,null,null,null,null,null,"*"]
[null,null,null,null,null,null,null,null,null,null,null,268,null,null,null,null,null,null,null,null,{"$f":"IF($P272=\"\",\"\",注文書!D$18)","v":""},"","","","",null,null,null,null,null,null,null,null,null,null,null,null,null,"*"]
[null,null,null,null,null,null,null,null,null,null,null,269,null,null,null,null,null,null,null,null,{"$f":"IF($P273=\"\",\"\",注文書!D$18)","v":""},"","","","",null,null,null,null,null,null,null,null,null,null,null,null,null,"*"]
[null,null,null,null,null,null,null,null,null,null,null,270,null,null,null,null,null,null,null,null,{"$f":"IF($P274=\"\",\"\",注文書!D$18)","v":""},"","","","",null,null,null,null,null,null,null,null,null,null,null,null,null,"*"]
[null,null,null,null,null,null,null,null,null,null,null,271,null,null,null,null,null,null,null,null,{"$f":"IF($P275=\"\",\"\",注文書!D$18)","v":""},"","","","",null,null,null,null,null,null,null,null,null,null,null,null,null,"*"]
[null,null,null,null,null,null,null,null,null,null,null,272,null,null,null,null,null,null,null,null,{"$f":"IF($P276=\"\",\"\",注文書!D$18)","v":""},"","","","",null,null,null,null,null,null,null,null,null,null,null,null,null,"*"]
[null,null,null,null,null,null,null,null,null,null,null,273,null,null,null,null,null,null,null,null,{"$f":"IF($P277=\"\",\"\",注文書!D$18)","v":""},"","","","",null,null,null,null,null,null,null,null,null,null,null,null,null,"*"]
[null,null,null,null,null,null,null,null,null,null,null,274,null,null,null,null,null,null,null,null,{"$f":"IF($P278=\"\",\"\",注文書!D$18)","v":""},"","","","",null,null,null,null,null,null,null,null,null,null,null,null,null,"*"]
[null,null,null,null,null,null,null,null,null,null,null,275,null,null,null,null,null,null,null,null,{"$f":"IF($P279=\"\",\"\",注文書!D$18)","v":""},"","","","",null,null,null,null,null,null,null,null,null,null,null,null,null,"*"]
[null,null,null,null,null,null,null,null,null,null,null,276,null,null,null,null,null,null,null,null,{"$f":"IF($P280=\"\",\"\",注文書!D$18)","v":""},"","","","",null,null,null,null,null,null,null,null,null,null,null,null,null,"*"]
[null,null,null,null,null,null,null,null,null,null,null,277,null,null,null,null,null,null,null,null,{"$f":"IF($P281=\"\",\"\",注文書!D$18)","v":""},"","","","",null,null,null,null,null,null,null,null,null,null,null,null,null,"*"]
[null,null,null,null,null,null,null,null,null,null,null,278,null,null,null,null,null,null,null,null,{"$f":"IF($P282=\"\",\"\",注文書!D$18)","v":""},"","","","",null,null,null,null,null,null,null,null,null,null,null,null,null,"*"]
[null,null,null,null,null,null,null,null,null,null,null,279,null,null,null,null,null,null,null,null,{"$f":"IF($P283=\"\",\"\",注文書!D$18)","v":""},"","","","",null,null,null,null,null,null,null,null,null,null,null,null,null,"*"]
[null,null,null,null,null,null,null,null,null,null,null,280,null,null,null,null,null,null,null,null,{"$f":"IF($P284=\"\",\"\",注文書!D$18)","v":""},"","","","",null,null,null,null,null,null,null,null,null,null,null,null,null,"*"]
[null,null,null,null,null,null,null,null,null,null,null,281,null,null,null,null,null,null,null,null,{"$f":"IF($P285=\"\",\"\",注文書!D$18)","v":""},"","","","",null,null,null,null,null,null,null,null,null,null,null,null,null,"*"]
[null,null,null,null,null,null,null,null,null,null,null,282,null,null,null,null,null,null,null,null,{"$f":"IF($P286=\"\",\"\",注文書!D$18)","v":""},{"$f":"IF($P286=\"\",\"\",V$5)","v":""},"","","",null,null,null,null,null,null,null,null,null,null,null,null,null,"*"]
[null,null,null,null,null,null,null,null,null,null,null,283,null,null,null,null,null,null,null,null,{"$f":"IF($P287=\"\",\"\",注文書!D$18)","v":""},"","","","",null,null,null,null,null,null,null,null,null,null,null,null,null,"*"]
[null,null,null,null,null,null,null,null,null,null,null,284,null,null,null,null,null,null,null,null,{"$f":"IF($P288=\"\",\"\",注文書!D$18)","v":""},"","","","",null,null,null,null,null,null,null,null,null,null,null,null,null,"*"]
[null,null,null,null,null,null,null,null,null,null,null,285,null,null,null,null,null,null,null,null,{"$f":"IF($P289=\"\",\"\",注文書!D$18)","v":""},"","","","",null,null,null,null,null,null,null,null,null,null,null,null,null,"*"]
[null,null,null,null,null,null,null,null,null,null,null,286,null,null,null,null,null,null,null,null,{"$f":"IF($P290=\"\",\"\",注文書!D$18)","v":""},"","","","",null,null,null,null,null,null,null,null,null,null,null,null,null,"*"]
[null,null,null,null,null,null,null,null,null,null,null,287,null,null,null,null,null,null,null,null,{"$f":"IF($P291=\"\",\"\",注文書!D$18)","v":""},"","","","",null,null,null,null,null,null,null,null,null,null,null,null,null,"*"]
[null,null,null,null,null,null,null,null,null,null,null,288,null,null,null,null,null,null,null,null,{"$f":"IF($P292=\"\",\"\",注文書!D$18)","v":""},"","","","",null,null,null,null,null,null,null,null,null,null,null,null,null,"*"]
[null,null,null,null,null,null,null,null,null,null,null,289,null,null,null,null,null,null,null,null,{"$f":"IF($P293=\"\",\"\",注文書!D$18)","v":""},"","","","",null,null,null,null,null,null,null,null,null,null,null,null,null,"*"]
[null,null,null,null,null,null,null,null,null,null,null,290,null,null,null,null,null,null,null,null,{"$f":"IF($P294=\"\",\"\",注文書!D$18)","v":""},"","","","",null,null,null,null,null,null,null,null,null,null,null,null,null,"*"]
[null,null,null,null,null,null,null,null,null,null,null,291,null,null,null,null,null,null,null,null,{"$f":"IF($P295=\"\",\"\",注文書!D$18)","v":""},"","","","",null,null,null,null,null,null,null,null,null,null,null,null,null,"*"]
[null,null,null,null,null,null,null,null,null,null,null,292,null,null,null,null,null,null,null,null,{"$f":"IF($P296=\"\",\"\",注文書!D$18)","v":""},"","","","",null,null,null,null,null,null,null,null,null,null,null,null,null,"*"]
[null,null,null,null,null,null,null,null,null,null,null,293,null,null,null,null,null,null,null,null,{"$f":"IF($P297=\"\",\"\",注文書!D$18)","v":""},"","","","",null,null,null,null,null,null,null,null,null,null,null,null,null,"*"]
[null,null,null,null,null,null,null,null,null,null,null,294,null,null,null,null,null,null,null,null,{"$f":"IF($P298=\"\",\"\",注文書!D$18)","v":""},"","","","",null,null,null,null,null,null,null,null,null,null,null,null,null,"*"]
[null,null,null,null,null,null,null,null,null,null,null,295,null,null,null,null,null,null,null,null,{"$f":"IF($P299=\"\",\"\",注文書!D$18)","v":""},"","","","",null,null,null,null,null,null,null,null,null,null,null,null,null,"*"]
[null,null,null,null,null,null,null,null,null,null,null,296,null,null,null,null,null,null,null,null,{"$f":"IF($P300=\"\",\"\",注文書!D$18)","v":""},"","","","",null,null,null,null,null,null,null,null,null,null,null,null,null,"*"]
[null,null,null,null,null,null,null,null,null,null,null,297,null,null,null,null,null,null,null,null,{"$f":"IF($P301=\"\",\"\",注文書!D$18)","v":""},"","","","",null,null,null,null,null,null,null,null,null,null,null,null,null,"*"]
[null,null,null,null,null,null,null,null,null,null,null,298,null,null,null,null,null,null,null,null,{"$f":"IF($P302=\"\",\"\",注文書!D$18)","v":""},"","","","",null,null,null,null,null,null,null,null,null,null,null,null,null,"*"]
[null,null,null,null,null,null,null,null,null,null,null,299,null,null,null,null,null,null,null,null,{"$f":"IF($P303=\"\",\"\",注文書!D$18)","v":""},"","","","",null,null,null,null,null,null,null,null,null,null,null,null,null,"*"]
[null,null,null,null,null,null,null,null,null,null,null,300,null,null,null,null,null,null,null,null,{"$f":"IF($P304=\"\",\"\",注文書!D$18)","v":""},"","","","",null,null,null,null,null,null,null,null,null,null,null,null,null,"*"]
[null,null,null,null,null,null,null,null,null,null,null,301,null,null,null,null,null,null,null,null,{"$f":"IF($P305=\"\",\"\",注文書!D$18)","v":""},"","","","",null,null,null,null,null,null,null,null,null,null,null,null,null,"*"]
[null,null,null,null,null,null,null,null,null,null,null,302,null,null,null,null,null,null,null,null,{"$f":"IF($P306=\"\",\"\",注文書!D$18)","v":""},{"$f":"IF($P306=\"\",\"\",V$5)","v":""},"","","",null,null,null,null,null,null,null,null,null,null,null,null,null,"*"]
[null,null,null,null,null,null,null,null,null,null,null,303,null,null,null,null,null,null,null,null,{"$f":"IF($P307=\"\",\"\",注文書!D$18)","v":""},"","","","",null,null,null,null,null,null,null,null,null,null,null,null,null,"*"]
[null,null,null,null,null,null,null,null,null,null,null,304,null,null,null,null,null,null,null,null,{"$f":"IF($P308=\"\",\"\",注文書!D$18)","v":""},"","","","",null,null,null,null,null,null,null,null,null,null,null,null,null,"*"]
[null,null,null,null,null,null,null,null,null,null,null,305,null,null,null,null,null,null,null,null,{"$f":"IF($P309=\"\",\"\",注文書!D$18)","v":""},"","","","",null,null,null,null,null,null,null,null,null,null,null,null,null,"*"]
[null,null,null,null,null,null,null,null,null,null,null,306,null,null,null,null,null,null,null,null,{"$f":"IF($P310=\"\",\"\",注文書!D$18)","v":""},"","","","",null,null,null,null,null,null,null,null,null,null,null,null,null,"*"]
[null,null,null,null,null,null,null,null,null,null,null,307,null,null,null,null,null,null,null,null,{"$f":"IF($P311=\"\",\"\",注文書!D$18)","v":""},"","","","",null,null,null,null,null,null,null,null,null,null,null,null,null,"*"]
[null,null,null,null,null,null,null,null,null,null,null,308,null,null,null,null,null,null,null,null,{"$f":"IF($P312=\"\",\"\",注文書!D$18)","v":""},"","","","",null,null,null,null,null,null,null,null,null,null,null,null,null,"*"]
[null,null,null,null,null,null,null,null,null,null,null,309,null,null,null,null,null,null,null,null,{"$f":"IF($P313=\"\",\"\",注文書!D$18)","v":""},"","","","",null,null,null,null,null,null,null,null,null,null,null,null,null,"*"]
[null,null,null,null,null,null,null,null,null,null,null,310,null,null,null,null,null,null,null,null,{"$f":"IF($P314=\"\",\"\",注文書!D$18)","v":""},"","","","",null,null,null,null,null,null,null,null,null,null,null,null,null,"*"]
[null,null,null,null,null,null,null,null,null,null,null,311,null,null,null,null,null,null,null,null,{"$f":"IF($P315=\"\",\"\",注文書!D$18)","v":""},"","","","",null,null,null,null,null,null,null,null,null,null,null,null,null,"*"]
[null,null,null,null,null,null,null,null,null,null,null,312,null,null,null,null,null,null,null,null,{"$f":"IF($P316=\"\",\"\",注文書!D$18)","v":""},"","","","",null,null,null,null,null,null,null,null,null,null,null,null,null,"*"]
[null,null,null,null,null,null,null,null,null,null,null,313,null,null,null,null,null,null,null,null,{"$f":"IF($P317=\"\",\"\",注文書!D$18)","v":""},"","","","",null,null,null,null,null,null,null,null,null,null,null,null,null,"*"]
[null,null,null,null,null,null,null,null,null,null,null,314,null,null,null,null,null,null,null,null,{"$f":"IF($P318=\"\",\"\",注文書!D$18)","v":""},"","","","",null,null,null,null,null,null,null,null,null,null,null,null,null,"*"]
[null,null,null,null,null,null,null,null,null,null,null,315,null,null,null,null,null,null,null,null,{"$f":"IF($P319=\"\",\"\",注文書!D$18)","v":""},"","","","",null,null,null,null,null,null,null,null,null,null,null,null,null,"*"]
[null,null,null,null,null,null,null,null,null,null,null,316,null,null,null,null,null,null,null,null,{"$f":"IF($P320=\"\",\"\",注文書!D$18)","v":""},"","","","",null,null,null,null,null,null,null,null,null,null,null,null,null,"*"]
[null,null,null,null,null,null,null,null,null,null,null,317,null,null,null,null,null,null,null,null,{"$f":"IF($P321=\"\",\"\",注文書!D$18)","v":""},"","","","",null,null,null,null,null,null,null,null,null,null,null,null,null,"*"]
[null,null,null,null,null,null,null,null,null,null,null,318,null,null,null,null,null,null,null,null,{"$f":"IF($P322=\"\",\"\",注文書!D$18)","v":""},"","","","",null,null,null,null,null,null,null,null,null,null,null,null,null,"*"]
[null,null,null,null,null,null,null,null,null,null,null,319,null,null,null,null,null,null,null,null,{"$f":"IF($P323=\"\",\"\",注文書!D$18)","v":""},"","","","",null,null,null,null,null,null,null,null,null,null,null,null,null,"*"]
[null,null,null,null,null,null,null,null,null,null,null,320,null,null,null,null,null,null,null,null,{"$f":"IF($P324=\"\",\"\",注文書!D$18)","v":""},"","","","",null,null,null,null,null,null,null,null,null,null,null,null,null,"*"]
[null,null,null,null,null,null,null,null,null,null,null,{"$f":"ROW()-4","v":321},null,null,null,null,null,null,null,null,{"$f":"IF($P325=\"\",\"\",注文書!D$18)","v":""},"","","","",null,null,null,null,null,null,null,null,null,null,null,null,null,"*"]
[null,null,null,null,null,null,null,null,null,null,null,322,null,null,null,null,null,null,null,null,{"$f":"IF($P326=\"\",\"\",注文書!D$18)","v":""},{"$f":"IF($P326=\"\",\"\",V$5)","v":""},"","","",null,null,null,null,null,null,null,null,null,null,null,null,null,"*"]
[null,null,null,null,null,null,null,null,null,null,null,323,null,null,null,null,null,null,null,null,{"$f":"IF($P327=\"\",\"\",注文書!D$18)","v":""},"","","","",null,null,null,null,null,null,null,null,null,null,null,null,null,"*"]
[null,null,null,null,null,null,null,null,null,null,null,324,null,null,null,null,null,null,null,null,{"$f":"IF($P328=\"\",\"\",注文書!D$18)","v":""},"","","","",null,null,null,null,null,null,null,null,null,null,null,null,null,"*"]
[null,null,null,null,null,null,null,null,null,null,null,325,null,null,null,null,null,null,null,null,{"$f":"IF($P329=\"\",\"\",注文書!D$18)","v":""},"","","","",null,null,null,null,null,null,null,null,null,null,null,null,null,"*"]
[null,null,null,null,null,null,null,null,null,null,null,326,null,null,null,null,null,null,null,null,{"$f":"IF($P330=\"\",\"\",注文書!D$18)","v":""},"","","","",null,null,null,null,null,null,null,null,null,null,null,null,null,"*"]
[null,null,null,null,null,null,null,null,null,null,null,327,null,null,null,null,null,null,null,null,{"$f":"IF($P331=\"\",\"\",注文書!D$18)","v":""},"","","","",null,null,null,null,null,null,null,null,null,null,null,null,null,"*"]
[null,null,null,null,null,null,null,null,null,null,null,328,null,null,null,null,null,null,null,null,{"$f":"IF($P332=\"\",\"\",注文書!D$18)","v":""},"","","","",null,null,null,null,null,null,null,null,null,null,null,null,null,"*"]
[null,null,null,null,null,null,null,null,null,null,null,329,null,null,null,null,null,null,null,null,{"$f":"IF($P333=\"\",\"\",注文書!D$18)","v":""},"","","","",null,null,null,null,null,null,null,null,null,null,null,null,null,"*"]
[null,null,null,null,null,null,null,null,null,null,null,330,null,null,null,null,null,null,null,null,{"$f":"IF($P334=\"\",\"\",注文書!D$18)","v":""},"","","","",null,null,null,null,null,null,null,null,null,null,null,null,null,"*"]
[null,null,null,null,null,null,null,null,null,null,null,331,null,null,null,null,null,null,null,null,{"$f":"IF($P335=\"\",\"\",注文書!D$18)","v":""},"","","","",null,null,null,null,null,null,null,null,null,null,null,null,null,"*"]
[null,null,null,null,null,null,null,null,null,null,null,332,null,null,null,null,null,null,null,null,{"$f":"IF($P336=\"\",\"\",注文書!D$18)","v":""},"","","","",null,null,null,null,null,null,null,null,null,null,null,null,null,"*"]
[null,null,null,null,null,null,null,null,null,null,null,333,null,null,null,null,null,null,null,null,{"$f":"IF($P337=\"\",\"\",注文書!D$18)","v":""},"","","","",null,null,null,null,null,null,null,null,null,null,null,null,null,"*"]
[null,null,null,null,null,null,null,null,null,null,null,334,null,null,null,null,null,null,null,null,{"$f":"IF($P338=\"\",\"\",注文書!D$18)","v":""},"","","","",null,null,null,null,null,null,null,null,null,null,null,null,null,"*"]
[null,null,null,null,null,null,null,null,null,null,null,335,null,null,null,null,null,null,null,null,{"$f":"IF($P339=\"\",\"\",注文書!D$18)","v":""},"","","","",null,null,null,null,null,null,null,null,null,null,null,null,null,"*"]
[null,null,null,null,null,null,null,null,null,null,null,336,null,null,null,null,null,null,null,null,{"$f":"IF($P340=\"\",\"\",注文書!D$18)","v":""},"","","","",null,null,null,null,null,null,null,null,null,null,null,null,null,"*"]
[null,null,null,null,null,null,null,null,null,null,null,337,null,null,null,null,null,null,null,null,{"$f":"IF($P341=\"\",\"\",注文書!D$18)","v":""},"","","","",null,null,null,null,null,null,null,null,null,null,null,null,null,"*"]
[null,null,null,null,null,null,null,null,null,null,null,338,null,null,null,null,null,null,null,null,{"$f":"IF($P342=\"\",\"\",注文書!D$18)","v":""},"","","","",null,null,null,null,null,null,null,null,null,null,null,null,null,"*"]
[null,null,null,null,null,null,null,null,null,null,null,339,null,null,null,null,null,null,null,null,{"$f":"IF($P343=\"\",\"\",注文書!D$18)","v":""},"","","","",null,null,null,null,null,null,null,null,null,null,null,null,null,"*"]
[null,null,null,null,null,null,null,null,null,null,null,340,null,null,null,null,null,null,null,null,{"$f":"IF($P344=\"\",\"\",注文書!D$18)","v":""},"","","","",null,null,null,null,null,null,null,null,null,null,null,null,null,"*"]
[null,null,null,null,null,null,null,null,null,null,null,341,null,null,null,null,null,null,null,null,{"$f":"IF($P345=\"\",\"\",注文書!D$18)","v":""},"","","","",null,null,null,null,null,null,null,null,null,null,null,null,null,"*"]
[null,null,null,null,null,null,null,null,null,null,null,342,null,null,null,null,null,null,null,null,{"$f":"IF($P346=\"\",\"\",注文書!D$18)","v":""},{"$f":"IF($P346=\"\",\"\",V$5)","v":""},"","","",null,null,null,null,null,null,null,null,null,null,null,null,null,"*"]
[null,null,null,null,null,null,null,null,null,null,null,343,null,null,null,null,null,null,null,null,{"$f":"IF($P347=\"\",\"\",注文書!D$18)","v":""},"","","","",null,null,null,null,null,null,null,null,null,null,null,null,null,"*"]
[null,null,null,null,null,null,null,null,null,null,null,344,null,null,null,null,null,null,null,null,{"$f":"IF($P348=\"\",\"\",注文書!D$18)","v":""},"","","","",null,null,null,null,null,null,null,null,null,null,null,null,null,"*"]
[null,null,null,null,null,null,null,null,null,null,null,345,null,null,null,null,null,null,null,null,{"$f":"IF($P349=\"\",\"\",注文書!D$18)","v":""},"","","","",null,null,null,null,null,null,null,null,null,null,null,null,null,"*"]
[null,null,null,null,null,null,null,null,null,null,null,346,null,null,null,null,null,null,null,null,{"$f":"IF($P350=\"\",\"\",注文書!D$18)","v":""},"","","","",null,null,null,null,null,null,null,null,null,null,null,null,null,"*"]
[null,null,null,null,null,null,null,null,null,null,null,347,null,null,null,null,null,null,null,null,{"$f":"IF($P351=\"\",\"\",注文書!D$18)","v":""},"","","","",null,null,null,null,null,null,null,null,null,null,null,null,null,"*"]
[null,null,null,null,null,null,null,null,null,null,null,348,null,null,null,null,null,null,null,null,{"$f":"IF($P352=\"\",\"\",注文書!D$18)","v":""},"","","","",null,null,null,null,null,null,null,null,null,null,null,null,null,"*"]
[null,null,null,null,null,null,null,null,null,null,null,349,null,null,null,null,null,null,null,null,{"$f":"IF($P353=\"\",\"\",注文書!D$18)","v":""},"","","","",null,null,null,null,null,null,null,null,null,null,null,null,null,"*"]
[null,null,null,null,null,null,null,null,null,null,null,350,null,null,null,null,null,null,null,null,{"$f":"IF($P354=\"\",\"\",注文書!D$18)","v":""},"","","","",null,null,null,null,null,null,null,null,null,null,null,null,null,"*"]
[null,null,null,null,null,null,null,null,null,null,null,351,null,null,null,null,null,null,null,null,{"$f":"IF($P355=\"\",\"\",注文書!D$18)","v":""},"","","","",null,null,null,null,null,null,null,null,null,null,null,null,null,"*"]
[null,null,null,null,null,null,null,null,null,null,null,352,null,null,null,null,null,null,null,null,{"$f":"IF($P356=\"\",\"\",注文書!D$18)","v":""},"","","","",null,null,null,null,null,null,null,null,null,null,null,null,null,"*"]
[null,null,null,null,null,null,null,null,null,null,null,353,null,null,null,null,null,null,null,null,{"$f":"IF($P357=\"\",\"\",注文書!D$18)","v":""},"","","","",null,null,null,null,null,null,null,null,null,null,null,null,null,"*"]
[null,null,null,null,null,null,null,null,null,null,null,354,null,null,null,null,null,null,null,null,{"$f":"IF($P358=\"\",\"\",注文書!D$18)","v":""},"","","","",null,null,null,null,null,null,null,null,null,null,null,null,null,"*"]
[null,null,null,null,null,null,null,null,null,null,null,355,null,null,null,null,null,null,null,null,{"$f":"IF($P359=\"\",\"\",注文書!D$18)","v":""},"","","","",null,null,null,null,null,null,null,null,null,null,null,null,null,"*"]
[null,null,null,null,null,null,null,null,null,null,null,356,null,null,null,null,null,null,null,null,{"$f":"IF($P360=\"\",\"\",注文書!D$18)","v":""},"","","","",null,null,null,null,null,null,null,null,null,null,null,null,null,"*"]
[null,null,null,null,null,null,null,null,null,null,null,357,null,null,null,null,null,null,null,null,{"$f":"IF($P361=\"\",\"\",注文書!D$18)","v":""},"","","","",null,null,null,null,null,null,null,null,null,null,null,null,null,"*"]
[null,null,null,null,null,null,null,null,null,null,null,358,null,null,null,null,null,null,null,null,{"$f":"IF($P362=\"\",\"\",注文書!D$18)","v":""},"","","","",null,null,null,null,null,null,null,null,null,null,null,null,null,"*"]
[null,null,null,null,null,null,null,null,null,null,null,359,null,null,null,null,null,null,null,null,{"$f":"IF($P363=\"\",\"\",注文書!D$18)","v":""},"","","","",null,null,null,null,null,null,null,null,null,null,null,null,null,"*"]
[null,null,null,null,null,null,null,null,null,null,null,360,null,null,null,null,null,null,null,null,{"$f":"IF($P364=\"\",\"\",注文書!D$18)","v":""},"","","","",null,null,null,null,null,null,null,null,null,null,null,null,null,"*"]
[null,null,null,null,null,null,null,null,null,null,null,361,null,null,null,null,null,null,null,null,{"$f":"IF($P365=\"\",\"\",注文書!D$18)","v":""},"","","","",null,null,null,null,null,null,null,null,null,null,null,null,null,"*"]
[null,null,null,null,null,null,null,null,null,null,null,362,null,null,null,null,null,null,null,null,{"$f":"IF($P366=\"\",\"\",注文書!D$18)","v":""},{"$f":"IF($P366=\"\",\"\",V$5)","v":""},"","","",null,null,null,null,null,null,null,null,null,null,null,null,null,"*"]
[null,null,null,null,null,null,null,null,null,null,null,363,null,null,null,null,null,null,null,null,{"$f":"IF($P367=\"\",\"\",注文書!D$18)","v":""},"","","","",null,null,null,null,null,null,null,null,null,null,null,null,null,"*"]
[null,null,null,null,null,null,null,null,null,null,null,364,null,null,null,null,null,null,null,null,{"$f":"IF($P368=\"\",\"\",注文書!D$18)","v":""},"","","","",null,null,null,null,null,null,null,null,null,null,null,null,null,"*"]
[null,null,null,null,null,null,null,null,null,null,null,365,null,null,null,null,null,null,null,null,{"$f":"IF($P369=\"\",\"\",注文書!D$18)","v":""},"","","","",null,null,null,null,null,null,null,null,null,null,null,null,null,"*"]
[null,null,null,null,null,null,null,null,null,null,null,366,null,null,null,null,null,null,null,null,{"$f":"IF($P370=\"\",\"\",注文書!D$18)","v":""},"","","","",null,null,null,null,null,null,null,null,null,null,null,null,null,"*"]
[null,null,null,null,null,null,null,null,null,null,null,367,null,null,null,null,null,null,null,null,{"$f":"IF($P371=\"\",\"\",注文書!D$18)","v":""},"","","","",null,null,null,null,null,null,null,null,null,null,null,null,null,"*"]
[null,null,null,null,null,null,null,null,null,null,null,368,null,null,null,null,null,null,null,null,{"$f":"IF($P372=\"\",\"\",注文書!D$18)","v":""},"","","","",null,null,null,null,null,null,null,null,null,null,null,null,null,"*"]
[null,null,null,null,null,null,null,null,null,null,null,369,null,null,null,null,null,null,null,null,{"$f":"IF($P373=\"\",\"\",注文書!D$18)","v":""},"","","","",null,null,null,null,null,null,null,null,null,null,null,null,null,"*"]
[null,null,null,null,null,null,null,null,null,null,null,370,null,null,null,null,null,null,null,null,{"$f":"IF($P374=\"\",\"\",注文書!D$18)","v":""},"","","","",null,null,null,null,null,null,null,null,null,null,null,null,null,"*"]
[null,null,null,null,null,null,null,null,null,null,null,371,null,null,null,null,null,null,null,null,{"$f":"IF($P375=\"\",\"\",注文書!D$18)","v":""},"","","","",null,null,null,null,null,null,null,null,null,null,null,null,null,"*"]
[null,null,null,null,null,null,null,null,null,null,null,372,null,null,null,null,null,null,null,null,{"$f":"IF($P376=\"\",\"\",注文書!D$18)","v":""},"","","","",null,null,null,null,null,null,null,null,null,null,null,null,null,"*"]
[null,null,null,null,null,null,null,null,null,null,null,373,null,null,null,null,null,null,null,null,{"$f":"IF($P377=\"\",\"\",注文書!D$18)","v":""},"","","","",null,null,null,null,null,null,null,null,null,null,null,null,null,"*"]
[null,null,null,null,null,null,null,null,null,null,null,374,null,null,null,null,null,null,null,null,{"$f":"IF($P378=\"\",\"\",注文書!D$18)","v":""},"","","","",null,null,null,null,null,null,null,null,null,null,null,null,null,"*"]
[null,null,null,null,null,null,null,null,null,null,null,375,null,null,null,null,null,null,null,null,{"$f":"IF($P379=\"\",\"\",注文書!D$18)","v":""},"","","","",null,null,null,null,null,null,null,null,null,null,null,null,null,"*"]
[null,null,null,null,null,null,null,null,null,null,null,376,null,null,null,null,null,null,null,null,{"$f":"IF($P380=\"\",\"\",注文書!D$18)","v":""},"","","","",null,null,null,null,null,null,null,null,null,null,null,null,null,"*"]
[null,null,null,null,null,null,null,null,null,null,null,377,null,null,null,null,null,null,null,null,{"$f":"IF($P381=\"\",\"\",注文書!D$18)","v":""},"","","","",null,null,null,null,null,null,null,null,null,null,null,null,null,"*"]
[null,null,null,null,null,null,null,null,null,null,null,378,null,null,null,null,null,null,null,null,{"$f":"IF($P382=\"\",\"\",注文書!D$18)","v":""},"","","","",null,null,null,null,null,null,null,null,null,null,null,null,null,"*"]
[null,null,null,null,null,null,null,null,null,null,null,379,null,null,null,null,null,null,null,null,{"$f":"IF($P383=\"\",\"\",注文書!D$18)","v":""},"","","","",null,null,null,null,null,null,null,null,null,null,null,null,null,"*"]
[null,null,null,null,null,null,null,null,null,null,null,380,null,null,null,null,null,null,null,null,{"$f":"IF($P384=\"\",\"\",注文書!D$18)","v":""},"","","","",null,null,null,null,null,null,null,null,null,null,null,null,null,"*"]
[null,null,null,null,null,null,null,null,null,null,null,381,null,null,null,null,null,null,null,null,{"$f":"IF($P385=\"\",\"\",注文書!D$18)","v":""},"","","","",null,null,null,null,null,null,null,null,null,null,null,null,null,"*"]
[null,null,null,null,null,null,null,null,null,null,null,382,null,null,null,null,null,null,null,null,{"$f":"IF($P386=\"\",\"\",注文書!D$18)","v":""},{"$f":"IF($P386=\"\",\"\",V$5)","v":""},"","","",null,null,null,null,null,null,null,null,null,null,null,null,null,"*"]
[null,null,null,null,null,null,null,null,null,null,null,383,null,null,null,null,null,null,null,null,{"$f":"IF($P387=\"\",\"\",注文書!D$18)","v":""},"","","","",null,null,null,null,null,null,null,null,null,null,null,null,null,"*"]
[null,null,null,null,null,null,null,null,null,null,null,384,null,null,null,null,null,null,null,null,{"$f":"IF($P388=\"\",\"\",注文書!D$18)","v":""},"","","","",null,null,null,null,null,null,null,null,null,null,null,null,null,"*"]
[null,null,null,null,null,null,null,null,null,null,null,{"$f":"ROW()-4","v":385},null,null,null,null,null,null,null,null,{"$f":"IF($P389=\"\",\"\",注文書!D$18)","v":""},"","","","",null,null,null,null,null,null,null,null,null,null,null,null,null,"*"]
[null,null,null,null,null,null,null,null,null,null,null,386,null,null,null,null,null,null,null,null,{"$f":"IF($P390=\"\",\"\",注文書!D$18)","v":""},"","","","",null,null,null,null,null,null,null,null,null,null,null,null,null,"*"]
[null,null,null,null,null,null,null,null,null,null,null,387,null,null,null,null,null,null,null,null,{"$f":"IF($P391=\"\",\"\",注文書!D$18)","v":""},"","","","",null,null,null,null,null,null,null,null,null,null,null,null,null,"*"]
[null,null,null,null,null,null,null,null,null,null,null,388,null,null,null,null,null,null,null,null,{"$f":"IF($P392=\"\",\"\",注文書!D$18)","v":""},"","","","",null,null,null,null,null,null,null,null,null,null,null,null,null,"*"]
[null,null,null,null,null,null,null,null,null,null,null,389,null,null,null,null,null,null,null,null,{"$f":"IF($P393=\"\",\"\",注文書!D$18)","v":""},"","","","",null,null,null,null,null,null,null,null,null,null,null,null,null,"*"]
[null,null,null,null,null,null,null,null,null,null,null,390,null,null,null,null,null,null,null,null,{"$f":"IF($P394=\"\",\"\",注文書!D$18)","v":""},"","","","",null,null,null,null,null,null,null,null,null,null,null,null,null,"*"]
[null,null,null,null,null,null,null,null,null,null,null,391,null,null,null,null,null,null,null,null,{"$f":"IF($P395=\"\",\"\",注文書!D$18)","v":""},"","","","",null,null,null,null,null,null,null,null,null,null,null,null,null,"*"]
[null,null,null,null,null,null,null,null,null,null,null,392,null,null,null,null,null,null,null,null,{"$f":"IF($P396=\"\",\"\",注文書!D$18)","v":""},"","","","",null,null,null,null,null,null,null,null,null,null,null,null,null,"*"]
[null,null,null,null,null,null,null,null,null,null,null,393,null,null,null,null,null,null,null,null,{"$f":"IF($P397=\"\",\"\",注文書!D$18)","v":""},"","","","",null,null,null,null,null,null,null,null,null,null,null,null,null,"*"]
[null,null,null,null,null,null,null,null,null,null,null,394,null,null,null,null,null,null,null,null,{"$f":"IF($P398=\"\",\"\",注文書!D$18)","v":""},"","","","",null,null,null,null,null,null,null,null,null,null,null,null,null,"*"]
[null,null,null,null,null,null,null,null,null,null,null,395,null,null,null,null,null,null,null,null,{"$f":"IF($P399=\"\",\"\",注文書!D$18)","v":""},"","","","",null,null,null,null,null,null,null,null,null,null,null,null,null,"*"]
[null,null,null,null,null,null,null,null,null,null,null,396,null,null,null,null,null,null,null,null,{"$f":"IF($P400=\"\",\"\",注文書!D$18)","v":""},"","","","",null,null,null,null,null,null,null,null,null,null,null,null,null,"*"]
[null,null,null,null,null,null,null,null,null,null,null,397,null,null,null,null,null,null,null,null,{"$f":"IF($P401=\"\",\"\",注文書!D$18)","v":""},"","","","",null,null,null,null,null,null,null,null,null,null,null,null,null,"*"]
[null,null,null,null,null,null,null,null,null,null,null,398,null,null,null,null,null,null,null,null,{"$f":"IF($P402=\"\",\"\",注文書!D$18)","v":""},"","","","",null,null,null,null,null,null,null,null,null,null,null,null,null,"*"]
[null,null,null,null,null,null,null,null,null,null,null,399,null,null,null,null,null,null,null,null,{"$f":"IF($P403=\"\",\"\",注文書!D$18)","v":""},"","","","",null,null,null,null,null,null,null,null,null,null,null,null,null,"*"]
[null,null,null,null,null,null,null,null,null,null,null,400,null,null,null,null,null,null,null,null,{"$f":"IF($P404=\"\",\"\",注文書!D$18)","v":""},"","","","",null,null,null,null,null,null,null,null,null,null,null,null,null,"*"]
[null,null,null,null,null,null,null,null,null,null,null,401,null,null,null,null,null,null,null,null,{"$f":"IF($P405=\"\",\"\",注文書!D$18)","v":""},"","","","",null,null,null,null,null,null,null,null,null,null,null,null,null,"*"]
[null,null,null,null,null,null,null,null,null,null,null,402,null,null,null,null,null,null,null,null,{"$f":"IF($P406=\"\",\"\",注文書!D$18)","v":""},{"$f":"IF($P406=\"\",\"\",V$5)","v":""},"","","",null,null,null,null,null,null,null,null,null,null,null,null,null,"*"]
[null,null,null,null,null,null,null,null,null,null,null,403,null,null,null,null,null,null,null,null,{"$f":"IF($P407=\"\",\"\",注文書!D$18)","v":""},"","","","",null,null,null,null,null,null,null,null,null,null,null,null,null,"*"]
[null,null,null,null,null,null,null,null,null,null,null,404,null,null,null,null,null,null,null,null,{"$f":"IF($P408=\"\",\"\",注文書!D$18)","v":""},"","","","",null,null,null,null,null,null,null,null,null,null,null,null,null,"*"]
[null,null,null,null,null,null,null,null,null,null,null,405,null,null,null,null,null,null,null,null,{"$f":"IF($P409=\"\",\"\",注文書!D$18)","v":""},"","","","",null,null,null,null,null,null,null,null,null,null,null,null,null,"*"]
[null,null,null,null,null,null,null,null,null,null,null,406,null,null,null,null,null,null,null,null,{"$f":"IF($P410=\"\",\"\",注文書!D$18)","v":""},"","","","",null,null,null,null,null,null,null,null,null,null,null,null,null,"*"]
[null,null,null,null,null,null,null,null,null,null,null,407,null,null,null,null,null,null,null,null,{"$f":"IF($P411=\"\",\"\",注文書!D$18)","v":""},"","","","",null,null,null,null,null,null,null,null,null,null,null,null,null,"*"]
[null,null,null,null,null,null,null,null,null,null,null,408,null,null,null,null,null,null,null,null,{"$f":"IF($P412=\"\",\"\",注文書!D$18)","v":""},"","","","",null,null,null,null,null,null,null,null,null,null,null,null,null,"*"]
[null,null,null,null,null,null,null,null,null,null,null,409,null,null,null,null,null,null,null,null,{"$f":"IF($P413=\"\",\"\",注文書!D$18)","v":""},"","","","",null,null,null,null,null,null,null,null,null,null,null,null,null,"*"]
[null,null,null,null,null,null,null,null,null,null,null,410,null,null,null,null,null,null,null,null,{"$f":"IF($P414=\"\",\"\",注文書!D$18)","v":""},"","","","",null,null,null,null,null,null,null,null,null,null,null,null,null,"*"]
[null,null,null,null,null,null,null,null,null,null,null,411,null,null,null,null,null,null,null,null,{"$f":"IF($P415=\"\",\"\",注文書!D$18)","v":""},"","","","",null,null,null,null,null,null,null,null,null,null,null,null,null,"*"]
[null,null,null,null,null,null,null,null,null,null,null,412,null,null,null,null,null,null,null,null,{"$f":"IF($P416=\"\",\"\",注文書!D$18)","v":""},"","","","",null,null,null,null,null,null,null,null,null,null,null,null,null,"*"]
[null,null,null,null,null,null,null,null,null,null,null,413,null,null,null,null,null,null,null,null,{"$f":"IF($P417=\"\",\"\",注文書!D$18)","v":""},"","","","",null,null,null,null,null,null,null,null,null,null,null,null,null,"*"]
[null,null,null,null,null,null,null,null,null,null,null,414,null,null,null,null,null,null,null,null,{"$f":"IF($P418=\"\",\"\",注文書!D$18)","v":""},"","","","",null,null,null,null,null,null,null,null,null,null,null,null,null,"*"]
[null,null,null,null,null,null,null,null,null,null,null,415,null,null,null,null,null,null,null,null,{"$f":"IF($P419=\"\",\"\",注文書!D$18)","v":""},"","","","",null,null,null,null,null,null,null,null,null,null,null,null,null,"*"]
[null,null,null,null,null,null,null,null,null,null,null,416,null,null,null,null,null,null,null,null,{"$f":"IF($P420=\"\",\"\",注文書!D$18)","v":""},"","","","",null,null,null,null,null,null,null,null,null,null,null,null,null,"*"]
[null,null,null,null,null,null,null,null,null,null,null,417,null,null,null,null,null,null,null,null,{"$f":"IF($P421=\"\",\"\",注文書!D$18)","v":""},"","","","",null,null,null,null,null,null,null,null,null,null,null,null,null,"*"]
[null,null,null,null,null,null,null,null,null,null,null,418,null,null,null,null,null,null,null,null,{"$f":"IF($P422=\"\",\"\",注文書!D$18)","v":""},"","","","",null,null,null,null,null,null,null,null,null,null,null,null,null,"*"]
[null,null,null,null,null,null,null,null,null,null,null,419,null,null,null,null,null,null,null,null,{"$f":"IF($P423=\"\",\"\",注文書!D$18)","v":""},"","","","",null,null,null,null,null,null,null,null,null,null,null,null,null,"*"]
[null,null,null,null,null,null,null,null,null,null,null,420,null,null,null,null,null,null,null,null,{"$f":"IF($P424=\"\",\"\",注文書!D$18)","v":""},"","","","",null,null,null,null,null,null,null,null,null,null,null,null,null,"*"]
[null,null,null,null,null,null,null,null,null,null,null,421,null,null,null,null,null,null,null,null,{"$f":"IF($P425=\"\",\"\",注文書!D$18)","v":""},"","","","",null,null,null,null,null,null,null,null,null,null,null,null,null,"*"]
[null,null,null,null,null,null,null,null,null,null,null,422,null,null,null,null,null,null,null,null,{"$f":"IF($P426=\"\",\"\",注文書!D$18)","v":""},{"$f":"IF($P426=\"\",\"\",V$5)","v":""},"","","",null,null,null,null,null,null,null,null,null,null,null,null,null,"*"]
[null,null,null,null,null,null,null,null,null,null,null,423,null,null,null,null,null,null,null,null,{"$f":"IF($P427=\"\",\"\",注文書!D$18)","v":""},"","","","",null,null,null,null,null,null,null,null,null,null,null,null,null,"*"]
[null,null,null,null,null,null,null,null,null,null,null,424,null,null,null,null,null,null,null,null,{"$f":"IF($P428=\"\",\"\",注文書!D$18)","v":""},"","","","",null,null,null,null,null,null,null,null,null,null,null,null,null,"*"]
[null,null,null,null,null,null,null,null,null,null,null,425,null,null,null,null,null,null,null,null,{"$f":"IF($P429=\"\",\"\",注文書!D$18)","v":""},"","","","",null,null,null,null,null,null,null,null,null,null,null,null,null,"*"]
[null,null,null,null,null,null,null,null,null,null,null,426,null,null,null,null,null,null,null,null,{"$f":"IF($P430=\"\",\"\",注文書!D$18)","v":""},"","","","",null,null,null,null,null,null,null,null,null,null,null,null,null,"*"]
[null,null,null,null,null,null,null,null,null,null,null,427,null,null,null,null,null,null,null,null,{"$f":"IF($P431=\"\",\"\",注文書!D$18)","v":""},"","","","",null,null,null,null,null,null,null,null,null,null,null,null,null,"*"]
[null,null,null,null,null,null,null,null,null,null,null,428,null,null,null,null,null,null,null,null,{"$f":"IF($P432=\"\",\"\",注文書!D$18)","v":""},"","","","",null,null,null,null,null,null,null,null,null,null,null,null,null,"*"]
[null,null,null,null,null,null,null,null,null,null,null,429,null,null,null,null,null,null,null,null,{"$f":"IF($P433=\"\",\"\",注文書!D$18)","v":""},"","","","",null,null,null,null,null,null,null,null,null,null,null,null,null,"*"]
[null,null,null,null,null,null,null,null,null,null,null,430,null,null,null,null,null,null,null,null,{"$f":"IF($P434=\"\",\"\",注文書!D$18)","v":""},"","","","",null,null,null,null,null,null,null,null,null,null,null,null,null,"*"]
[null,null,null,null,null,null,null,null,null,null,null,431,null,null,null,null,null,null,null,null,{"$f":"IF($P435=\"\",\"\",注文書!D$18)","v":""},"","","","",null,null,null,null,null,null,null,null,null,null,null,null,null,"*"]
[null,null,null,null,null,null,null,null,null,null,null,432,null,null,null,null,null,null,null,null,{"$f":"IF($P436=\"\",\"\",注文書!D$18)","v":""},"","","","",null,null,null,null,null,null,null,null,null,null,null,null,null,"*"]
[null,null,null,null,null,null,null,null,null,null,null,433,null,null,null,null,null,null,null,null,{"$f":"IF($P437=\"\",\"\",注文書!D$18)","v":""},"","","","",null,null,null,null,null,null,null,null,null,null,null,null,null,"*"]
[null,null,null,null,null,null,null,null,null,null,null,434,null,null,null,null,null,null,null,null,{"$f":"IF($P438=\"\",\"\",注文書!D$18)","v":""},"","","","",null,null,null,null,null,null,null,null,null,null,null,null,null,"*"]
[null,null,null,null,null,null,null,null,null,null,null,435,null,null,null,null,null,null,null,null,{"$f":"IF($P439=\"\",\"\",注文書!D$18)","v":""},"","","","",null,null,null,null,null,null,null,null,null,null,null,null,null,"*"]
[null,null,null,null,null,null,null,null,null,null,null,436,null,null,null,null,null,null,null,null,{"$f":"IF($P440=\"\",\"\",注文書!D$18)","v":""},"","","","",null,null,null,null,null,null,null,null,null,null,null,null,null,"*"]
[null,null,null,null,null,null,null,null,null,null,null,437,null,null,null,null,null,null,null,null,{"$f":"IF($P441=\"\",\"\",注文書!D$18)","v":""},"","","","",null,null,null,null,null,null,null,null,null,null,null,null,null,"*"]
[null,null,null,null,null,null,null,null,null,null,null,438,null,null,null,null,null,null,null,null,{"$f":"IF($P442=\"\",\"\",注文書!D$18)","v":""},"","","","",null,null,null,null,null,null,null,null,null,null,null,null,null,"*"]
[null,null,null,null,null,null,null,null,null,null,null,439,null,null,null,null,null,null,null,null,{"$f":"IF($P443=\"\",\"\",注文書!D$18)","v":""},"","","","",null,null,null,null,null,null,null,null,null,null,null,null,null,"*"]
[null,null,null,null,null,null,null,null,null,null,null,440,null,null,null,null,null,null,null,null,{"$f":"IF($P444=\"\",\"\",注文書!D$18)","v":""},"","","","",null,null,null,null,null,null,null,null,null,null,null,null,null,"*"]
[null,null,null,null,null,null,null,null,null,null,null,441,null,null,null,null,null,null,null,null,{"$f":"IF($P445=\"\",\"\",注文書!D$18)","v":""},"","","","",null,null,null,null,null,null,null,null,null,null,null,null,null,"*"]
[null,null,null,null,null,null,null,null,null,null,null,442,null,null,null,null,null,null,null,null,{"$f":"IF($P446=\"\",\"\",注文書!D$18)","v":""},{"$f":"IF($P446=\"\",\"\",V$5)","v":""},"","","",null,null,null,null,null,null,null,null,null,null,null,null,null,"*"]
[null,null,null,null,null,null,null,null,null,null,null,443,null,null,null,null,null,null,null,null,{"$f":"IF($P447=\"\",\"\",注文書!D$18)","v":""},"","","","",null,null,null,null,null,null,null,null,null,null,null,null,null,"*"]
[null,null,null,null,null,null,null,null,null,null,null,444,null,null,null,null,null,null,null,null,{"$f":"IF($P448=\"\",\"\",注文書!D$18)","v":""},"","","","",null,null,null,null,null,null,null,null,null,null,null,null,null,"*"]
[null,null,null,null,null,null,null,null,null,null,null,445,null,null,null,null,null,null,null,null,{"$f":"IF($P449=\"\",\"\",注文書!D$18)","v":""},"","","","",null,null,null,null,null,null,null,null,null,null,null,null,null,"*"]
[null,null,null,null,null,null,null,null,null,null,null,446,null,null,null,null,null,null,null,null,{"$f":"IF($P450=\"\",\"\",注文書!D$18)","v":""},"","","","",null,null,null,null,null,null,null,null,null,null,null,null,null,"*"]
[null,null,null,null,null,null,null,null,null,null,null,447,null,null,null,null,null,null,null,null,{"$f":"IF($P451=\"\",\"\",注文書!D$18)","v":""},"","","","",null,null,null,null,null,null,null,null,null,null,null,null,null,"*"]
[null,null,null,null,null,null,null,null,null,null,null,448,null,null,null,null,null,null,null,null,{"$f":"IF($P452=\"\",\"\",注文書!D$18)","v":""},"","","","",null,null,null,null,null,null,null,null,null,null,null,null,null,"*"]
[null,null,null,null,null,null,null,null,null,null,null,{"$f":"ROW()-4","v":449},null,null,null,null,null,null,null,null,{"$f":"IF($P453=\"\",\"\",注文書!D$18)","v":""},"","","","",null,null,null,null,null,null,null,null,null,null,null,null,null,"*"]
[null,null,null,null,null,null,null,null,null,null,null,450,null,null,null,null,null,null,null,null,{"$f":"IF($P454=\"\",\"\",注文書!D$18)","v":""},"","","","",null,null,null,null,null,null,null,null,null,null,null,null,null,"*"]
[null,null,null,null,null,null,null,null,null,null,null,451,null,null,null,null,null,null,null,null,{"$f":"IF($P455=\"\",\"\",注文書!D$18)","v":""},"","","","",null,null,null,null,null,null,null,null,null,null,null,null,null,"*"]
[null,null,null,null,null,null,null,null,null,null,null,452,null,null,null,null,null,null,null,null,{"$f":"IF($P456=\"\",\"\",注文書!D$18)","v":""},"","","","",null,null,null,null,null,null,null,null,null,null,null,null,null,"*"]
[null,null,null,null,null,null,null,null,null,null,null,453,null,null,null,null,null,null,null,null,{"$f":"IF($P457=\"\",\"\",注文書!D$18)","v":""},"","","","",null,null,null,null,null,null,null,null,null,null,null,null,null,"*"]
[null,null,null,null,null,null,null,null,null,null,null,454,null,null,null,null,null,null,null,null,{"$f":"IF($P458=\"\",\"\",注文書!D$18)","v":""},"","","","",null,null,null,null,null,null,null,null,null,null,null,null,null,"*"]
[null,null,null,null,null,null,null,null,null,null,null,455,null,null,null,null,null,null,null,null,{"$f":"IF($P459=\"\",\"\",注文書!D$18)","v":""},"","","","",null,null,null,null,null,null,null,null,null,null,null,null,null,"*"]
[null,null,null,null,null,null,null,null,null,null,null,456,null,null,null,null,null,null,null,null,{"$f":"IF($P460=\"\",\"\",注文書!D$18)","v":""},"","","","",null,null,null,null,null,null,null,null,null,null,null,null,null,"*"]
[null,null,null,null,null,null,null,null,null,null,null,457,null,null,null,null,null,null,null,null,{"$f":"IF($P461=\"\",\"\",注文書!D$18)","v":""},"","","","",null,null,null,null,null,null,null,null,null,null,null,null,null,"*"]
[null,null,null,null,null,null,null,null,null,null,null,458,null,null,null,null,null,null,null,null,{"$f":"IF($P462=\"\",\"\",注文書!D$18)","v":""},"","","","",null,null,null,null,null,null,null,null,null,null,null,null,null,"*"]
[null,null,null,null,null,null,null,null,null,null,null,459,null,null,null,null,null,null,null,null,{"$f":"IF($P463=\"\",\"\",注文書!D$18)","v":""},"","","","",null,null,null,null,null,null,null,null,null,null,null,null,null,"*"]
[null,null,null,null,null,null,null,null,null,null,null,460,null,null,null,null,null,null,null,null,{"$f":"IF($P464=\"\",\"\",注文書!D$18)","v":""},"","","","",null,null,null,null,null,null,null,null,null,null,null,null,null,"*"]
[null,null,null,null,null,null,null,null,null,null,null,461,null,null,null,null,null,null,null,null,{"$f":"IF($P465=\"\",\"\",注文書!D$18)","v":""},"","","","",null,null,null,null,null,null,null,null,null,null,null,null,null,"*"]
[null,null,null,null,null,null,null,null,null,null,null,462,null,null,null,null,null,null,null,null,{"$f":"IF($P466=\"\",\"\",注文書!D$18)","v":""},{"$f":"IF($P466=\"\",\"\",V$5)","v":""},"","","",null,null,null,null,null,null,null,null,null,null,null,null,null,"*"]
[null,null,null,null,null,null,null,null,null,null,null,463,null,null,null,null,null,null,null,null,{"$f":"IF($P467=\"\",\"\",注文書!D$18)","v":""},"","","","",null,null,null,null,null,null,null,null,null,null,null,null,null,"*"]
[null,null,null,null,null,null,null,null,null,null,null,464,null,null,null,null,null,null,null,null,{"$f":"IF($P468=\"\",\"\",注文書!D$18)","v":""},"","","","",null,null,null,null,null,null,null,null,null,null,null,null,null,"*"]
[null,null,null,null,null,null,null,null,null,null,null,465,null,null,null,null,null,null,null,null,{"$f":"IF($P469=\"\",\"\",注文書!D$18)","v":""},"","","","",null,null,null,null,null,null,null,null,null,null,null,null,null,"*"]
[null,null,null,null,null,null,null,null,null,null,null,466,null,null,null,null,null,null,null,null,{"$f":"IF($P470=\"\",\"\",注文書!D$18)","v":""},"","","","",null,null,null,null,null,null,null,null,null,null,null,null,null,"*"]
[null,null,null,null,null,null,null,null,null,null,null,467,null,null,null,null,null,null,null,null,{"$f":"IF($P471=\"\",\"\",注文書!D$18)","v":""},"","","","",null,null,null,null,null,null,null,null,null,null,null,null,null,"*"]
[null,null,null,null,null,null,null,null,null,null,null,468,null,null,null,null,null,null,null,null,{"$f":"IF($P472=\"\",\"\",注文書!D$18)","v":""},"","","","",null,null,null,null,null,null,null,null,null,null,null,null,null,"*"]
[null,null,null,null,null,null,null,null,null,null,null,469,null,null,null,null,null,null,null,null,{"$f":"IF($P473=\"\",\"\",注文書!D$18)","v":""},"","","","",null,null,null,null,null,null,null,null,null,null,null,null,null,"*"]
[null,null,null,null,null,null,null,null,null,null,null,470,null,null,null,null,null,null,null,null,{"$f":"IF($P474=\"\",\"\",注文書!D$18)","v":""},"","","","",null,null,null,null,null,null,null,null,null,null,null,null,null,"*"]
[null,null,null,null,null,null,null,null,null,null,null,471,null,null,null,null,null,null,null,null,{"$f":"IF($P475=\"\",\"\",注文書!D$18)","v":""},"","","","",null,null,null,null,null,null,null,null,null,null,null,null,null,"*"]
[null,null,null,null,null,null,null,null,null,null,null,472,null,null,null,null,null,null,null,null,{"$f":"IF($P476=\"\",\"\",注文書!D$18)","v":""},"","","","",null,null,null,null,null,null,null,null,null,null,null,null,null,"*"]
[null,null,null,null,null,null,null,null,null,null,null,473,null,null,null,null,null,null,null,null,{"$f":"IF($P477=\"\",\"\",注文書!D$18)","v":""},"","","","",null,null,null,null,null,null,null,null,null,null,null,null,null,"*"]
[null,null,null,null,null,null,null,null,null,null,null,474,null,null,null,null,null,null,null,null,{"$f":"IF($P478=\"\",\"\",注文書!D$18)","v":""},"","","","",null,null,null,null,null,null,null,null,null,null,null,null,null,"*"]
[null,null,null,null,null,null,null,null,null,null,null,475,null,null,null,null,null,null,null,null,{"$f":"IF($P479=\"\",\"\",注文書!D$18)","v":""},"","","","",null,null,null,null,null,null,null,null,null,null,null,null,null,"*"]
[null,null,null,null,null,null,null,null,null,null,null,476,null,null,null,null,null,null,null,null,{"$f":"IF($P480=\"\",\"\",注文書!D$18)","v":""},"","","","",null,null,null,null,null,null,null,null,null,null,null,null,null,"*"]
[null,null,null,null,null,null,null,null,null,null,null,477,null,null,null,null,null,null,null,null,{"$f":"IF($P481=\"\",\"\",注文書!D$18)","v":""},"","","","",null,null,null,null,null,null,null,null,null,null,null,null,null,"*"]
[null,null,null,null,null,null,null,null,null,null,null,478,null,null,null,null,null,null,null,null,{"$f":"IF($P482=\"\",\"\",注文書!D$18)","v":""},"","","","",null,null,null,null,null,null,null,null,null,null,null,null,null,"*"]
[null,null,null,null,null,null,null,null,null,null,null,479,null,null,null,null,null,null,null,null,{"$f":"IF($P483=\"\",\"\",注文書!D$18)","v":""},"","","","",null,null,null,null,null,null,null,null,null,null,null,null,null,"*"]
[null,null,null,null,null,null,null,null,null,null,null,480,null,null,null,null,null,null,null,null,{"$f":"IF($P484=\"\",\"\",注文書!D$18)","v":""},"","","","",null,null,null,null,null,null,null,null,null,null,null,null,null,"*"]
[null,null,null,null,null,null,null,null,null,null,null,481,null,null,null,null,null,null,null,null,{"$f":"IF($P485=\"\",\"\",注文書!D$18)","v":""},"","","","",null,null,null,null,null,null,null,null,null,null,null,null,null,"*"]
[null,null,null,null,null,null,null,null,null,null,null,482,null,null,null,null,null,null,null,null,{"$f":"IF($P486=\"\",\"\",注文書!D$18)","v":""},{"$f":"IF($P486=\"\",\"\",V$5)","v":""},"","","",null,null,null,null,null,null,null,null,null,null,null,null,null,"*"]
[null,null,null,null,null,null,null,null,null,null,null,483,null,null,null,null,null,null,null,null,{"$f":"IF($P487=\"\",\"\",注文書!D$18)","v":""},"","","","",null,null,null,null,null,null,null,null,null,null,null,null,null,"*"]
[null,null,null,null,null,null,null,null,null,null,null,484,null,null,null,null,null,null,null,null,{"$f":"IF($P488=\"\",\"\",注文書!D$18)","v":""},"","","","",null,null,null,null,null,null,null,null,null,null,null,null,null,"*"]
[null,null,null,null,null,null,null,null,null,null,null,485,null,null,null,null,null,null,null,null,{"$f":"IF($P489=\"\",\"\",注文書!D$18)","v":""},"","","","",null,null,null,null,null,null,null,null,null,null,null,null,null,"*"]
[null,null,null,null,null,null,null,null,null,null,null,486,null,null,null,null,null,null,null,null,{"$f":"IF($P490=\"\",\"\",注文書!D$18)","v":""},"","","","",null,null,null,null,null,null,null,null,null,null,null,null,null,"*"]
[null,null,null,null,null,null,null,null,null,null,null,487,null,null,null,null,null,null,null,null,{"$f":"IF($P491=\"\",\"\",注文書!D$18)","v":""},"","","","",null,null,null,null,null,null,null,null,null,null,null,null,null,"*"]
[null,null,null,null,null,null,null,null,null,null,null,488,null,null,null,null,null,null,null,null,{"$f":"IF($P492=\"\",\"\",注文書!D$18)","v":""},"","","","",null,null,null,null,null,null,null,null,null,null,null,null,null,"*"]
[null,null,null,null,null,null,null,null,null,null,null,489,null,null,null,null,null,null,null,null,{"$f":"IF($P493=\"\",\"\",注文書!D$18)","v":""},"","","","",null,null,null,null,null,null,null,null,null,null,null,null,null,"*"]
[null,null,null,null,null,null,null,null,null,null,null,490,null,null,null,null,null,null,null,null,{"$f":"IF($P494=\"\",\"\",注文書!D$18)","v":""},"","","","",null,null,null,null,null,null,null,null,null,null,null,null,null,"*"]
[null,null,null,null,null,null,null,null,null,null,null,491,null,null,null,null,null,null,null,null,{"$f":"IF($P495=\"\",\"\",注文書!D$18)","v":""},"","","","",null,null,null,null,null,null,null,null,null,null,null,null,null,"*"]
[null,null,null,null,null,null,null,null,null,null,null,492,null,null,null,null,null,null,null,null,{"$f":"IF($P496=\"\",\"\",注文書!D$18)","v":""},"","","","",null,null,null,null,null,null,null,null,null,null,null,null,null,"*"]
[null,null,null,null,null,null,null,null,null,null,null,493,null,null,null,null,null,null,null,null,{"$f":"IF($P497=\"\",\"\",注文書!D$18)","v":""},"","","","",null,null,null,null,null,null,null,null,null,null,null,null,null,"*"]
[null,null,null,null,null,null,null,null,null,null,null,494,null,null,null,null,null,null,null,null,{"$f":"IF($P498=\"\",\"\",注文書!D$18)","v":""},"","","","",null,null,null,null,null,null,null,null,null,null,null,null,null,"*"]
[null,null,null,null,null,null,null,null,null,null,null,495,null,null,null,null,null,null,null,null,{"$f":"IF($P499=\"\",\"\",注文書!D$18)","v":""},"","","","",null,null,null,null,null,null,null,null,null,null,null,null,null,"*"]
[null,null,null,null,null,null,null,null,null,null,null,496,null,null,null,null,null,null,null,null,{"$f":"IF($P500=\"\",\"\",注文書!D$18)","v":""},"","","","",null,null,null,null,null,null,null,null,null,null,null,null,null,"*"]
[null,null,null,null,null,null,null,null,null,null,null,497,null,null,null,null,null,null,null,null,{"$f":"IF($P501=\"\",\"\",注文書!D$18)","v":""},"","","","",null,null,null,null,null,null,null,null,null,null,null,null,null,"*"]
[null,null,null,null,null,null,null,null,null,null,null,498,null,null,null,null,null,null,null,null,{"$f":"IF($P502=\"\",\"\",注文書!D$18)","v":""},"","","","",null,null,null,null,null,null,null,null,null,null,null,null,null,"*"]
[null,null,null,null,null,null,null,null,null,null,null,499,null,null,null,null,null,null,null,null,{"$f":"IF($P503=\"\",\"\",注文書!D$18)","v":""},"","","","",null,null,null,null,null,null,null,null,null,null,null,null,null,"*"]
[null,null,null,null,null,null,null,null,null,null,null,500,null,null,null,null,null,null,null,null,{"$f":"IF($P504=\"\",\"\",注文書!D$18)","v":""},"","","","",null,null,null,null,null,null,null,null,null,null,null,null,null,"*"]
[null,null,null,null,null,null,null,null,null,null,null,501,null,null,null,null,null,null,null,null,{"$f":"IF($P505=\"\",\"\",注文書!D$18)","v":""},"","","","",null,null,null,null,null,null,null,null,null,null,null,null,null,"*"]
[null,null,null,null,null,null,null,null,null,null,null,502,null,null,null,null,null,null,null,null,{"$f":"IF($P506=\"\",\"\",注文書!D$18)","v":""},{"$f":"IF($P506=\"\",\"\",V$5)","v":""},"","","",null,null,null,null,null,null,null,null,null,null,null,null,null,"*"]
[null,null,null,null,null,null,null,null,null,null,null,503,null,null,null,null,null,null,null,null,{"$f":"IF($P507=\"\",\"\",注文書!D$18)","v":""},"","","","",null,null,null,null,null,null,null,null,null,null,null,null,null,"*"]
[null,null,null,null,null,null,null,null,null,null,null,504,null,null,null,null,null,null,null,null,{"$f":"IF($P508=\"\",\"\",注文書!D$18)","v":""},"","","","",null,null,null,null,null,null,null,null,null,null,null,null,null,"*"]
[null,null,null,null,null,null,null,null,null,null,null,505,null,null,null,null,null,null,null,null,{"$f":"IF($P509=\"\",\"\",注文書!D$18)","v":""},"","","","",null,null,null,null,null,null,null,null,null,null,null,null,null,"*"]
[null,null,null,null,null,null,null,null,null,null,null,506,null,null,null,null,null,null,null,null,{"$f":"IF($P510=\"\",\"\",注文書!D$18)","v":""},"","","","",null,null,null,null,null,null,null,null,null,null,null,null,null,"*"]
[null,null,null,null,null,null,null,null,null,null,null,507,null,null,null,null,null,null,null,null,{"$f":"IF($P511=\"\",\"\",注文書!D$18)","v":""},"","","","",null,null,null,null,null,null,null,null,null,null,null,null,null,"*"]
[null,null,null,null,null,null,null,null,null,null,null,508,null,null,null,null,null,null,null,null,{"$f":"IF($P512=\"\",\"\",注文書!D$18)","v":""},"","","","",null,null,null,null,null,null,null,null,null,null,null,null,null,"*"]
[null,null,null,null,null,null,null,null,null,null,null,509,null,null,null,null,null,null,null,null,{"$f":"IF($P513=\"\",\"\",注文書!D$18)","v":""},"","","","",null,null,null,null,null,null,null,null,null,null,null,null,null,"*"]
[null,null,null,null,null,null,null,null,null,null,null,510,null,null,null,null,null,null,null,null,{"$f":"IF($P514=\"\",\"\",注文書!D$18)","v":""},"","","","",null,null,null,null,null,null,null,null,null,null,null,null,null,"*"]
[null,null,null,null,null,null,null,null,null,null,null,511,null,null,null,null,null,null,null,null,{"$f":"IF($P515=\"\",\"\",注文書!D$18)","v":""},"","","","",null,null,null,null,null,null,null,null,null,null,null,null,null,"*"]
[null,null,null,null,null,null,null,null,null,null,null,512,null,null,null,null,null,null,null,null,{"$f":"IF($P516=\"\",\"\",注文書!D$18)","v":""},"","","","",null,null,null,null,null,null,null,null,null,null,null,null,null,"*"]
[null,null,null,null,null,null,null,null,null,null,null,{"$f":"ROW()-4","v":513},null,null,null,null,null,null,null,null,{"$f":"IF($P517=\"\",\"\",注文書!D$18)","v":""},"","","","",null,null,null,null,null,null,null,null,null,null,null,null,null,"*"]
[null,null,null,null,null,null,null,null,null,null,null,514,null,null,null,null,null,null,null,null,{"$f":"IF($P518=\"\",\"\",注文書!D$18)","v":""},"","","","",null,null,null,null,null,null,null,null,null,null,null,null,null,"*"]
[null,null,null,null,null,null,null,null,null,null,null,515,null,null,null,null,null,null,null,null,{"$f":"IF($P519=\"\",\"\",注文書!D$18)","v":""},"","","","",null,null,null,null,null,null,null,null,null,null,null,null,null,"*"]
[null,null,null,null,null,null,null,null,null,null,null,516,null,null,null,null,null,null,null,null,{"$f":"IF($P520=\"\",\"\",注文書!D$18)","v":""},"","","","",null,null,null,null,null,null,null,null,null,null,null,null,null,"*"]
[null,null,null,null,null,null,null,null,null,null,null,517,null,null,null,null,null,null,null,null,{"$f":"IF($P521=\"\",\"\",注文書!D$18)","v":""},"","","","",null,null,null,null,null,null,null,null,null,null,null,null,null,"*"]
[null,null,null,null,null,null,null,null,null,null,null,518,null,null,null,null,null,null,null,null,{"$f":"IF($P522=\"\",\"\",注文書!D$18)","v":""},"","","","",null,null,null,null,null,null,null,null,null,null,null,null,null,"*"]
[null,null,null,null,null,null,null,null,null,null,null,519,null,null,null,null,null,null,null,null,{"$f":"IF($P523=\"\",\"\",注文書!D$18)","v":""},"","","","",null,null,null,null,null,null,null,null,null,null,null,null,null,"*"]
[null,null,null,null,null,null,null,null,null,null,null,520,null,null,null,null,null,null,null,null,{"$f":"IF($P524=\"\",\"\",注文書!D$18)","v":""},"","","","",null,null,null,null,null,null,null,null,null,null,null,null,null,"*"]
[null,null,null,null,null,null,null,null,null,null,null,521,null,null,null,null,null,null,null,null,{"$f":"IF($P525=\"\",\"\",注文書!D$18)","v":""},"","","","",null,null,null,null,null,null,null,null,null,null,null,null,null,"*"]
[null,null,null,null,null,null,null,null,null,null,null,522,null,null,null,null,null,null,null,null,{"$f":"IF($P526=\"\",\"\",注文書!D$18)","v":""},{"$f":"IF($P526=\"\",\"\",V$5)","v":""},"","","",null,null,null,null,null,null,null,null,null,null,null,null,null,"*"]
[null,null,null,null,null,null,null,null,null,null,null,523,null,null,null,null,null,null,null,null,{"$f":"IF($P527=\"\",\"\",注文書!D$18)","v":""},"","","","",null,null,null,null,null,null,null,null,null,null,null,null,null,"*"]
[null,null,null,null,null,null,null,null,null,null,null,524,null,null,null,null,null,null,null,null,{"$f":"IF($P528=\"\",\"\",注文書!D$18)","v":""},"","","","",null,null,null,null,null,null,null,null,null,null,null,null,null,"*"]
[null,null,null,null,null,null,null,null,null,null,null,525,null,null,null,null,null,null,null,null,{"$f":"IF($P529=\"\",\"\",注文書!D$18)","v":""},"","","","",null,null,null,null,null,null,null,null,null,null,null,null,null,"*"]
[null,null,null,null,null,null,null,null,null,null,null,526,null,null,null,null,null,null,null,null,{"$f":"IF($P530=\"\",\"\",注文書!D$18)","v":""},"","","","",null,null,null,null,null,null,null,null,null,null,null,null,null,"*"]
[null,null,null,null,null,null,null,null,null,null,null,527,null,null,null,null,null,null,null,null,{"$f":"IF($P531=\"\",\"\",注文書!D$18)","v":""},"","","","",null,null,null,null,null,null,null,null,null,null,null,null,null,"*"]
[null,null,null,null,null,null,null,null,null,null,null,528,null,null,null,null,null,null,null,null,{"$f":"IF($P532=\"\",\"\",注文書!D$18)","v":""},"","","","",null,null,null,null,null,null,null,null,null,null,null,null,null,"*"]
[null,null,null,null,null,null,null,null,null,null,null,529,null,null,null,null,null,null,null,null,{"$f":"IF($P533=\"\",\"\",注文書!D$18)","v":""},"","","","",null,null,null,null,null,null,null,null,null,null,null,null,null,"*"]
[null,null,null,null,null,null,null,null,null,null,null,530,null,null,null,null,null,null,null,null,{"$f":"IF($P534=\"\",\"\",注文書!D$18)","v":""},"","","","",null,null,null,null,null,null,null,null,null,null,null,null,null,"*"]
[null,null,null,null,null,null,null,null,null,null,null,531,null,null,null,null,null,null,null,null,{"$f":"IF($P535=\"\",\"\",注文書!D$18)","v":""},"","","","",null,null,null,null,null,null,null,null,null,null,null,null,null,"*"]
[null,null,null,null,null,null,null,null,null,null,null,532,null,null,null,null,null,null,null,null,{"$f":"IF($P536=\"\",\"\",注文書!D$18)","v":""},"","","","",null,null,null,null,null,null,null,null,null,null,null,null,null,"*"]
[null,null,null,null,null,null,null,null,null,null,null,533,null,null,null,null,null,null,null,null,{"$f":"IF($P537=\"\",\"\",注文書!D$18)","v":""},"","","","",null,null,null,null,null,null,null,null,null,null,null,null,null,"*"]
[null,null,null,null,null,null,null,null,null,null,null,534,null,null,null,null,null,null,null,null,{"$f":"IF($P538=\"\",\"\",注文書!D$18)","v":""},"","","","",null,null,null,null,null,null,null,null,null,null,null,null,null,"*"]
[null,null,null,null,null,null,null,null,null,null,null,535,null,null,null,null,null,null,null,null,{"$f":"IF($P539=\"\",\"\",注文書!D$18)","v":""},"","","","",null,null,null,null,null,null,null,null,null,null,null,null,null,"*"]
[null,null,null,null,null,null,null,null,null,null,null,536,null,null,null,null,null,null,null,null,{"$f":"IF($P540=\"\",\"\",注文書!D$18)","v":""},"","","","",null,null,null,null,null,null,null,null,null,null,null,null,null,"*"]
[null,null,null,null,null,null,null,null,null,null,null,537,null,null,null,null,null,null,null,null,{"$f":"IF($P541=\"\",\"\",注文書!D$18)","v":""},"","","","",null,null,null,null,null,null,null,null,null,null,null,null,null,"*"]
[null,null,null,null,null,null,null,null,null,null,null,538,null,null,null,null,null,null,null,null,{"$f":"IF($P542=\"\",\"\",注文書!D$18)","v":""},"","","","",null,null,null,null,null,null,null,null,null,null,null,null,null,"*"]
[null,null,null,null,null,null,null,null,null,null,null,539,null,null,null,null,null,null,null,null,{"$f":"IF($P543=\"\",\"\",注文書!D$18)","v":""},"","","","",null,null,null,null,null,null,null,null,null,null,null,null,null,"*"]
[null,null,null,null,null,null,null,null,null,null,null,540,null,null,null,null,null,null,null,null,{"$f":"IF($P544=\"\",\"\",注文書!D$18)","v":""},"","","","",null,null,null,null,null,null,null,null,null,null,null,null,null,"*"]
[null,null,null,null,null,null,null,null,null,null,null,541,null,null,null,null,null,null,null,null,{"$f":"IF($P545=\"\",\"\",注文書!D$18)","v":""},"","","","",null,null,null,null,null,null,null,null,null,null,null,null,null,"*"]
[null,null,null,null,null,null,null,null,null,null,null,542,null,null,null,null,null,null,null,null,{"$f":"IF($P546=\"\",\"\",注文書!D$18)","v":""},{"$f":"IF($P546=\"\",\"\",V$5)","v":""},"","","",null,null,null,null,null,null,null,null,null,null,null,null,null,"*"]
[null,null,null,null,null,null,null,null,null,null,null,543,null,null,null,null,null,null,null,null,{"$f":"IF($P547=\"\",\"\",注文書!D$18)","v":""},"","","","",null,null,null,null,null,null,null,null,null,null,null,null,null,"*"]
[null,null,null,null,null,null,null,null,null,null,null,544,null,null,null,null,null,null,null,null,{"$f":"IF($P548=\"\",\"\",注文書!D$18)","v":""},"","","","",null,null,null,null,null,null,null,null,null,null,null,null,null,"*"]
[null,null,null,null,null,null,null,null,null,null,null,545,null,null,null,null,null,null,null,null,{"$f":"IF($P549=\"\",\"\",注文書!D$18)","v":""},"","","","",null,null,null,null,null,null,null,null,null,null,null,null,null,"*"]
[null,null,null,null,null,null,null,null,null,null,null,546,null,null,null,null,null,null,null,null,{"$f":"IF($P550=\"\",\"\",注文書!D$18)","v":""},"","","","",null,null,null,null,null,null,null,null,null,null,null,null,null,"*"]
[null,null,null,null,null,null,null,null,null,null,null,547,null,null,null,null,null,null,null,null,{"$f":"IF($P551=\"\",\"\",注文書!D$18)","v":""},"","","","",null,null,null,null,null,null,null,null,null,null,null,null,null,"*"]
[null,null,null,null,null,null,null,null,null,null,null,548,null,null,null,null,null,null,null,null,{"$f":"IF($P552=\"\",\"\",注文書!D$18)","v":""},"","","","",null,null,null,null,null,null,null,null,null,null,null,null,null,"*"]
[null,null,null,null,null,null,null,null,null,null,null,549,null,null,null,null,null,null,null,null,{"$f":"IF($P553=\"\",\"\",注文書!D$18)","v":""},"","","","",null,null,null,null,null,null,null,null,null,null,null,null,null,"*"]
[null,null,null,null,null,null,null,null,null,null,null,550,null,null,null,null,null,null,null,null,{"$f":"IF($P554=\"\",\"\",注文書!D$18)","v":""},"","","","",null,null,null,null,null,null,null,null,null,null,null,null,null,"*"]
[null,null,null,null,null,null,null,null,null,null,null,551,null,null,null,null,null,null,null,null,{"$f":"IF($P555=\"\",\"\",注文書!D$18)","v":""},"","","","",null,null,null,null,null,null,null,null,null,null,null,null,null,"*"]
[null,null,null,null,null,null,null,null,null,null,null,552,null,null,null,null,null,null,null,null,{"$f":"IF($P556=\"\",\"\",注文書!D$18)","v":""},"","","","",null,null,null,null,null,null,null,null,null,null,null,null,null,"*"]
[null,null,null,null,null,null,null,null,null,null,null,553,null,null,null,null,null,null,null,null,{"$f":"IF($P557=\"\",\"\",注文書!D$18)","v":""},"","","","",null,null,null,null,null,null,null,null,null,null,null,null,null,"*"]
[null,null,null,null,null,null,null,null,null,null,null,554,null,null,null,null,null,null,null,null,{"$f":"IF($P558=\"\",\"\",注文書!D$18)","v":""},"","","","",null,null,null,null,null,null,null,null,null,null,null,null,null,"*"]
[null,null,null,null,null,null,null,null,null,null,null,555,null,null,null,null,null,null,null,null,{"$f":"IF($P559=\"\",\"\",注文書!D$18)","v":""},"","","","",null,null,null,null,null,null,null,null,null,null,null,null,null,"*"]
[null,null,null,null,null,null,null,null,null,null,null,556,null,null,null,null,null,null,null,null,{"$f":"IF($P560=\"\",\"\",注文書!D$18)","v":""},"","","","",null,null,null,null,null,null,null,null,null,null,null,null,null,"*"]
[null,null,null,null,null,null,null,null,null,null,null,557,null,null,null,null,null,null,null,null,{"$f":"IF($P561=\"\",\"\",注文書!D$18)","v":""},"","","","",null,null,null,null,null,null,null,null,null,null,null,null,null,"*"]
[null,null,null,null,null,null,null,null,null,null,null,558,null,null,null,null,null,null,null,null,{"$f":"IF($P562=\"\",\"\",注文書!D$18)","v":""},"","","","",null,null,null,null,null,null,null,null,null,null,null,null,null,"*"]
[null,null,null,null,null,null,null,null,null,null,null,559,null,null,null,null,null,null,null,null,{"$f":"IF($P563=\"\",\"\",注文書!D$18)","v":""},"","","","",null,null,null,null,null,null,null,null,null,null,null,null,null,"*"]
[null,null,null,null,null,null,null,null,null,null,null,560,null,null,null,null,null,null,null,null,{"$f":"IF($P564=\"\",\"\",注文書!D$18)","v":""},"","","","",null,null,null,null,null,null,null,null,null,null,null,null,null,"*"]
[null,null,null,null,null,null,null,null,null,null,null,561,null,null,null,null,null,null,null,null,{"$f":"IF($P565=\"\",\"\",注文書!D$18)","v":""},"","","","",null,null,null,null,null,null,null,null,null,null,null,null,null,"*"]
[null,null,null,null,null,null,null,null,null,null,null,562,null,null,null,null,null,null,null,null,{"$f":"IF($P566=\"\",\"\",注文書!D$18)","v":""},{"$f":"IF($P566=\"\",\"\",V$5)","v":""},"","","",null,null,null,null,null,null,null,null,null,null,null,null,null,"*"]
[null,null,null,null,null,null,null,null,null,null,null,563,null,null,null,null,null,null,null,null,{"$f":"IF($P567=\"\",\"\",注文書!D$18)","v":""},"","","","",null,null,null,null,null,null,null,null,null,null,null,null,null,"*"]
[null,null,null,null,null,null,null,null,null,null,null,564,null,null,null,null,null,null,null,null,{"$f":"IF($P568=\"\",\"\",注文書!D$18)","v":""},"","","","",null,null,null,null,null,null,null,null,null,null,null,null,null,"*"]
[null,null,null,null,null,null,null,null,null,null,null,565,null,null,null,null,null,null,null,null,{"$f":"IF($P569=\"\",\"\",注文書!D$18)","v":""},"","","","",null,null,null,null,null,null,null,null,null,null,null,null,null,"*"]
[null,null,null,null,null,null,null,null,null,null,null,566,null,null,null,null,null,null,null,null,{"$f":"IF($P570=\"\",\"\",注文書!D$18)","v":""},"","","","",null,null,null,null,null,null,null,null,null,null,null,null,null,"*"]
[null,null,null,null,null,null,null,null,null,null,null,567,null,null,null,null,null,null,null,null,{"$f":"IF($P571=\"\",\"\",注文書!D$18)","v":""},"","","","",null,null,null,null,null,null,null,null,null,null,null,null,null,"*"]
[null,null,null,null,null,null,null,null,null,null,null,568,null,null,null,null,null,null,null,null,{"$f":"IF($P572=\"\",\"\",注文書!D$18)","v":""},"","","","",null,null,null,null,null,null,null,null,null,null,null,null,null,"*"]
[null,null,null,null,null,null,null,null,null,null,null,569,null,null,null,null,null,null,null,null,{"$f":"IF($P573=\"\",\"\",注文書!D$18)","v":""},"","","","",null,null,null,null,null,null,null,null,null,null,null,null,null,"*"]
[null,null,null,null,null,null,null,null,null,null,null,570,null,null,null,null,null,null,null,null,{"$f":"IF($P574=\"\",\"\",注文書!D$18)","v":""},"","","","",null,null,null,null,null,null,null,null,null,null,null,null,null,"*"]
[null,null,null,null,null,null,null,null,null,null,null,571,null,null,null,null,null,null,null,null,{"$f":"IF($P575=\"\",\"\",注文書!D$18)","v":""},"","","","",null,null,null,null,null,null,null,null,null,null,null,null,null,"*"]
[null,null,null,null,null,null,null,null,null,null,null,572,null,null,null,null,null,null,null,null,{"$f":"IF($P576=\"\",\"\",注文書!D$18)","v":""},"","","","",null,null,null,null,null,null,null,null,null,null,null,null,null,"*"]
[null,null,null,null,null,null,null,null,null,null,null,573,null,null,null,null,null,null,null,null,{"$f":"IF($P577=\"\",\"\",注文書!D$18)","v":""},"","","","",null,null,null,null,null,null,null,null,null,null,null,null,null,"*"]
[null,null,null,null,null,null,null,null,null,null,null,574,null,null,null,null,null,null,null,null,{"$f":"IF($P578=\"\",\"\",注文書!D$18)","v":""},"","","","",null,null,null,null,null,null,null,null,null,null,null,null,null,"*"]
[null,null,null,null,null,null,null,null,null,null,null,575,null,null,null,null,null,null,null,null,{"$f":"IF($P579=\"\",\"\",注文書!D$18)","v":""},"","","","",null,null,null,null,null,null,null,null,null,null,null,null,null,"*"]
[null,null,null,null,null,null,null,null,null,null,null,576,null,null,null,null,null,null,null,null,{"$f":"IF($P580=\"\",\"\",注文書!D$18)","v":""},"","","","",null,null,null,null,null,null,null,null,null,null,null,null,null,"*"]
[null,null,null,null,null,null,null,null,null,null,null,{"$f":"ROW()-4","v":577},null,null,null,null,null,null,null,null,{"$f":"IF($P581=\"\",\"\",注文書!D$18)","v":""},"","","","",null,null,null,null,null,null,null,null,null,null,null,null,null,"*"]
[null,null,null,null,null,null,null,null,null,null,null,578,null,null,null,null,null,null,null,null,{"$f":"IF($P582=\"\",\"\",注文書!D$18)","v":""},"","","","",null,null,null,null,null,null,null,null,null,null,null,null,null,"*"]
[null,null,null,null,null,null,null,null,null,null,null,579,null,null,null,null,null,null,null,null,{"$f":"IF($P583=\"\",\"\",注文書!D$18)","v":""},"","","","",null,null,null,null,null,null,null,null,null,null,null,null,null,"*"]
[null,null,null,null,null,null,null,null,null,null,null,580,null,null,null,null,null,null,null,null,{"$f":"IF($P584=\"\",\"\",注文書!D$18)","v":""},"","","","",null,null,null,null,null,null,null,null,null,null,null,null,null,"*"]
[null,null,null,null,null,null,null,null,null,null,null,581,null,null,null,null,null,null,null,null,{"$f":"IF($P585=\"\",\"\",注文書!D$18)","v":""},"","","","",null,null,null,null,null,null,null,null,null,null,null,null,null,"*"]
[null,null,null,null,null,null,null,null,null,null,null,582,null,null,null,null,null,null,null,null,{"$f":"IF($P586=\"\",\"\",注文書!D$18)","v":""},{"$f":"IF($P586=\"\",\"\",V$5)","v":""},"","","",null,null,null,null,null,null,null,null,null,null,null,null,null,"*"]
[null,null,null,null,null,null,null,null,null,null,null,583,null,null,null,null,null,null,null,null,{"$f":"IF($P587=\"\",\"\",注文書!D$18)","v":""},"","","","",null,null,null,null,null,null,null,null,null,null,null,null,null,"*"]
[null,null,null,null,null,null,null,null,null,null,null,584,null,null,null,null,null,null,null,null,{"$f":"IF($P588=\"\",\"\",注文書!D$18)","v":""},"","","","",null,null,null,null,null,null,null,null,null,null,null,null,null,"*"]
[null,null,null,null,null,null,null,null,null,null,null,585,null,null,null,null,null,null,null,null,{"$f":"IF($P589=\"\",\"\",注文書!D$18)","v":""},"","","","",null,null,null,null,null,null,null,null,null,null,null,null,null,"*"]
[null,null,null,null,null,null,null,null,null,null,null,586,null,null,null,null,null,null,null,null,{"$f":"IF($P590=\"\",\"\",注文書!D$18)","v":""},"","","","",null,null,null,null,null,null,null,null,null,null,null,null,null,"*"]
[null,null,null,null,null,null,null,null,null,null,null,587,null,null,null,null,null,null,null,null,{"$f":"IF($P591=\"\",\"\",注文書!D$18)","v":""},"","","","",null,null,null,null,null,null,null,null,null,null,null,null,null,"*"]
[null,null,null,null,null,null,null,null,null,null,null,588,null,null,null,null,null,null,null,null,{"$f":"IF($P592=\"\",\"\",注文書!D$18)","v":""},"","","","",null,null,null,null,null,null,null,null,null,null,null,null,null,"*"]
[null,null,null,null,null,null,null,null,null,null,null,589,null,null,null,null,null,null,null,null,{"$f":"IF($P593=\"\",\"\",注文書!D$18)","v":""},"","","","",null,null,null,null,null,null,null,null,null,null,null,null,null,"*"]
[null,null,null,null,null,null,null,null,null,null,null,590,null,null,null,null,null,null,null,null,{"$f":"IF($P594=\"\",\"\",注文書!D$18)","v":""},"","","","",null,null,null,null,null,null,null,null,null,null,null,null,null,"*"]
[null,null,null,null,null,null,null,null,null,null,null,591,null,null,null,null,null,null,null,null,{"$f":"IF($P595=\"\",\"\",注文書!D$18)","v":""},"","","","",null,null,null,null,null,null,null,null,null,null,null,null,null,"*"]
[null,null,null,null,null,null,null,null,null,null,null,592,null,null,null,null,null,null,null,null,{"$f":"IF($P596=\"\",\"\",注文書!D$18)","v":""},"","","","",null,null,null,null,null,null,null,null,null,null,null,null,null,"*"]
[null,null,null,null,null,null,null,null,null,null,null,593,null,null,null,null,null,null,null,null,{"$f":"IF($P597=\"\",\"\",注文書!D$18)","v":""},"","","","",null,null,null,null,null,null,null,null,null,null,null,null,null,"*"]
[null,null,null,null,null,null,null,null,null,null,null,594,null,null,null,null,null,null,null,null,{"$f":"IF($P598=\"\",\"\",注文書!D$18)","v":""},"","","","",null,null,null,null,null,null,null,null,null,null,null,null,null,"*"]
[null,null,null,null,null,null,null,null,null,null,null,595,null,null,null,null,null,null,null,null,{"$f":"IF($P599=\"\",\"\",注文書!D$18)","v":""},"","","","",null,null,null,null,null,null,null,null,null,null,null,null,null,"*"]
[null,null,null,null,null,null,null,null,null,null,null,596,null,null,null,null,null,null,null,null,{"$f":"IF($P600=\"\",\"\",注文書!D$18)","v":""},"","","","",null,null,null,null,null,null,null,null,null,null,null,null,null,"*"]
[null,null,null,null,null,null,null,null,null,null,null,597,null,null,null,null,null,null,null,null,{"$f":"IF($P601=\"\",\"\",注文書!D$18)","v":""},"","","","",null,null,null,null,null,null,null,null,null,null,null,null,null,"*"]
[null,null,null,null,null,null,null,null,null,null,null,598,null,null,null,null,null,null,null,null,{"$f":"IF($P602=\"\",\"\",注文書!D$18)","v":""},"","","","",null,null,null,null,null,null,null,null,null,null,null,null,null,"*"]
[null,null,null,null,null,null,null,null,null,null,null,599,null,null,null,null,null,null,null,null,{"$f":"IF($P603=\"\",\"\",注文書!D$18)","v":""},"","","","",null,null,null,null,null,null,null,null,null,null,null,null,null,"*"]
[null,null,null,null,null,null,null,null,null,null,null,600,null,null,null,null,null,null,null,null,{"$f":"IF($P604=\"\",\"\",注文書!D$18)","v":""},"","","","",null,null,null,null,null,null,null,null,null,null,null,null,null,"*"]
[null,null,null,null,null,null,null,null,null,null,null,601,null,null,null,null,null,null,null,null,{"$f":"IF($P605=\"\",\"\",注文書!D$18)","v":""},"","","","",null,null,null,null,null,null,null,null,null,null,null,null,null,"*"]
[null,null,null,null,null,null,null,null,null,null,null,602,null,null,null,null,null,null,null,null,{"$f":"IF($P606=\"\",\"\",注文書!D$18)","v":""},{"$f":"IF($P606=\"\",\"\",V$5)","v":""},"","","",null,null,null,null,null,null,null,null,null,null,null,null,null,"*"]
[null,null,null,null,null,null,null,null,null,null,null,603,null,null,null,null,null,null,null,null,{"$f":"IF($P607=\"\",\"\",注文書!D$18)","v":""},"","","","",null,null,null,null,null,null,null,null,null,null,null,null,null,"*"]
[null,null,null,null,null,null,null,null,null,null,null,604,null,null,null,null,null,null,null,null,{"$f":"IF($P608=\"\",\"\",注文書!D$18)","v":""},"","","","",null,null,null,null,null,null,null,null,null,null,null,null,null,"*"]
[null,null,null,null,null,null,null,null,null,null,null,605,null,null,null,null,null,null,null,null,{"$f":"IF($P609=\"\",\"\",注文書!D$18)","v":""},"","","","",null,null,null,null,null,null,null,null,null,null,null,null,null,"*"]
[null,null,null,null,null,null,null,null,null,null,null,606,null,null,null,null,null,null,null,null,{"$f":"IF($P610=\"\",\"\",注文書!D$18)","v":""},"","","","",null,null,null,null,null,null,null,null,null,null,null,null,null,"*"]
[null,null,null,null,null,null,null,null,null,null,null,607,null,null,null,null,null,null,null,null,{"$f":"IF($P611=\"\",\"\",注文書!D$18)","v":""},"","","","",null,null,null,null,null,null,null,null,null,null,null,null,null,"*"]
[null,null,null,null,null,null,null,null,null,null,null,608,null,null,null,null,null,null,null,null,{"$f":"IF($P612=\"\",\"\",注文書!D$18)","v":""},"","","","",null,null,null,null,null,null,null,null,null,null,null,null,null,"*"]
[null,null,null,null,null,null,null,null,null,null,null,609,null,null,null,null,null,null,null,null,{"$f":"IF($P613=\"\",\"\",注文書!D$18)","v":""},"","","","",null,null,null,null,null,null,null,null,null,null,null,null,null,"*"]
[null,null,null,null,null,null,null,null,null,null,null,610,null,null,null,null,null,null,null,null,{"$f":"IF($P614=\"\",\"\",注文書!D$18)","v":""},"","","","",null,null,null,null,null,null,null,null,null,null,null,null,null,"*"]
[null,null,null,null,null,null,null,null,null,null,null,611,null,null,null,null,null,null,null,null,{"$f":"IF($P615=\"\",\"\",注文書!D$18)","v":""},"","","","",null,null,null,null,null,null,null,null,null,null,null,null,null,"*"]
[null,null,null,null,null,null,null,null,null,null,null,612,null,null,null,null,null,null,null,null,{"$f":"IF($P616=\"\",\"\",注文書!D$18)","v":""},"","","","",null,null,null,null,null,null,null,null,null,null,null,null,null,"*"]
[null,null,null,null,null,null,null,null,null,null,null,613,null,null,null,null,null,null,null,null,{"$f":"IF($P617=\"\",\"\",注文書!D$18)","v":""},"","","","",null,null,null,null,null,null,null,null,null,null,null,null,null,"*"]
[null,null,null,null,null,null,null,null,null,null,null,614,null,null,null,null,null,null,null,null,{"$f":"IF($P618=\"\",\"\",注文書!D$18)","v":""},"","","","",null,null,null,null,null,null,null,null,null,null,null,null,null,"*"]
[null,null,null,null,null,null,null,null,null,null,null,615,null,null,null,null,null,null,null,null,{"$f":"IF($P619=\"\",\"\",注文書!D$18)","v":""},"","","","",null,null,null,null,null,null,null,null,null,null,null,null,null,"*"]
[null,null,null,null,null,null,null,null,null,null,null,616,null,null,null,null,null,null,null,null,{"$f":"IF($P620=\"\",\"\",注文書!D$18)","v":""},"","","","",null,null,null,null,null,null,null,null,null,null,null,null,null,"*"]
[null,null,null,null,null,null,null,null,null,null,null,617,null,null,null,null,null,null,null,null,{"$f":"IF($P621=\"\",\"\",注文書!D$18)","v":""},"","","","",null,null,null,null,null,null,null,null,null,null,null,null,null,"*"]
[null,null,null,null,null,null,null,null,null,null,null,618,null,null,null,null,null,null,null,null,{"$f":"IF($P622=\"\",\"\",注文書!D$18)","v":""},"","","","",null,null,null,null,null,null,null,null,null,null,null,null,null,"*"]
[null,null,null,null,null,null,null,null,null,null,null,619,null,null,null,null,null,null,null,null,{"$f":"IF($P623=\"\",\"\",注文書!D$18)","v":""},"","","","",null,null,null,null,null,null,null,null,null,null,null,null,null,"*"]
[null,null,null,null,null,null,null,null,null,null,null,620,null,null,null,null,null,null,null,null,{"$f":"IF($P624=\"\",\"\",注文書!D$18)","v":""},"","","","",null,null,null,null,null,null,null,null,null,null,null,null,null,"*"]
[null,null,null,null,null,null,null,null,null,null,null,621,null,null,null,null,null,null,null,null,{"$f":"IF($P625=\"\",\"\",注文書!D$18)","v":""},"","","","",null,null,null,null,null,null,null,null,null,null,null,null,null,"*"]
[null,null,null,null,null,null,null,null,null,null,null,622,null,null,null,null,null,null,null,null,{"$f":"IF($P626=\"\",\"\",注文書!D$18)","v":""},{"$f":"IF($P626=\"\",\"\",V$5)","v":""},"","","",null,null,null,null,null,null,null,null,null,null,null,null,null,"*"]
[null,null,null,null,null,null,null,null,null,null,null,623,null,null,null,null,null,null,null,null,{"$f":"IF($P627=\"\",\"\",注文書!D$18)","v":""},"","","","",null,null,null,null,null,null,null,null,null,null,null,null,null,"*"]
[null,null,null,null,null,null,null,null,null,null,null,624,null,null,null,null,null,null,null,null,{"$f":"IF($P628=\"\",\"\",注文書!D$18)","v":""},"","","","",null,null,null,null,null,null,null,null,null,null,null,null,null,"*"]
[null,null,null,null,null,null,null,null,null,null,null,625,null,null,null,null,null,null,null,null,{"$f":"IF($P629=\"\",\"\",注文書!D$18)","v":""},"","","","",null,null,null,null,null,null,null,null,null,null,null,null,null,"*"]
[null,null,null,null,null,null,null,null,null,null,null,626,null,null,null,null,null,null,null,null,{"$f":"IF($P630=\"\",\"\",注文書!D$18)","v":""},"","","","",null,null,null,null,null,null,null,null,null,null,null,null,null,"*"]
[null,null,null,null,null,null,null,null,null,null,null,627,null,null,null,null,null,null,null,null,{"$f":"IF($P631=\"\",\"\",注文書!D$18)","v":""},"","","","",null,null,null,null,null,null,null,null,null,null,null,null,null,"*"]
[null,null,null,null,null,null,null,null,null,null,null,628,null,null,null,null,null,null,null,null,{"$f":"IF($P632=\"\",\"\",注文書!D$18)","v":""},"","","","",null,null,null,null,null,null,null,null,null,null,null,null,null,"*"]
[null,null,null,null,null,null,null,null,null,null,null,629,null,null,null,null,null,null,null,null,{"$f":"IF($P633=\"\",\"\",注文書!D$18)","v":""},"","","","",null,null,null,null,null,null,null,null,null,null,null,null,null,"*"]
[null,null,null,null,null,null,null,null,null,null,null,630,null,null,null,null,null,null,null,null,{"$f":"IF($P634=\"\",\"\",注文書!D$18)","v":""},"","","","",null,null,null,null,null,null,null,null,null,null,null,null,null,"*"]
[null,null,null,null,null,null,null,null,null,null,null,631,null,null,null,null,null,null,null,null,{"$f":"IF($P635=\"\",\"\",注文書!D$18)","v":""},"","","","",null,null,null,null,null,null,null,null,null,null,null,null,null,"*"]
[null,null,null,null,null,null,null,null,null,null,null,632,null,null,null,null,null,null,null,null,{"$f":"IF($P636=\"\",\"\",注文書!D$18)","v":""},"","","","",null,null,null,null,null,null,null,null,null,null,null,null,null,"*"]
[null,null,null,null,null,null,null,null,null,null,null,633,null,null,null,null,null,null,null,null,{"$f":"IF($P637=\"\",\"\",注文書!D$18)","v":""},"","","","",null,null,null,null,null,null,null,null,null,null,null,null,null,"*"]
[null,null,null,null,null,null,null,null,null,null,null,634,null,null,null,null,null,null,null,null,{"$f":"IF($P638=\"\",\"\",注文書!D$18)","v":""},"","","","",null,null,null,null,null,null,null,null,null,null,null,null,null,"*"]
[null,null,null,null,null,null,null,null,null,null,null,635,null,null,null,null,null,null,null,null,{"$f":"IF($P639=\"\",\"\",注文書!D$18)","v":""},"","","","",null,null,null,null,null,null,null,null,null,null,null,null,null,"*"]
[null,null,null,null,null,null,null,null,null,null,null,636,null,null,null,null,null,null,null,null,{"$f":"IF($P640=\"\",\"\",注文書!D$18)","v":""},"","","","",null,null,null,null,null,null,null,null,null,null,null,null,null,"*"]
[null,null,null,null,null,null,null,null,null,null,null,637,null,null,null,null,null,null,null,null,{"$f":"IF($P641=\"\",\"\",注文書!D$18)","v":""},"","","","",null,null,null,null,null,null,null,null,null,null,null,null,null,"*"]
[null,null,null,null,null,null,null,null,null,null,null,638,null,null,null,null,null,null,null,null,{"$f":"IF($P642=\"\",\"\",注文書!D$18)","v":""},"","","","",null,null,null,null,null,null,null,null,null,null,null,null,null,"*"]
[null,null,null,null,null,null,null,null,null,null,null,639,null,null,null,null,null,null,null,null,{"$f":"IF($P643=\"\",\"\",注文書!D$18)","v":""},"","","","",null,null,null,null,null,null,null,null,null,null,null,null,null,"*"]
[null,null,null,null,null,null,null,null,null,null,null,640,null,null,null,null,null,null,null,null,{"$f":"IF($P644=\"\",\"\",注文書!D$18)","v":""},"","","","",null,null,null,null,null,null,null,null,null,null,null,null,null,"*"]
[null,null,null,null,null,null,null,null,null,null,null,{"$f":"ROW()-4","v":641},null,null,null,null,null,null,null,null,{"$f":"IF($P645=\"\",\"\",注文書!D$18)","v":""},"","","","",null,null,null,null,null,null,null,null,null,null,null,null,null,"*"]
[null,null,null,null,null,null,null,null,null,null,null,642,null,null,null,null,null,null,null,null,{"$f":"IF($P646=\"\",\"\",注文書!D$18)","v":""},{"$f":"IF($P646=\"\",\"\",V$5)","v":""},"","","",null,null,null,null,null,null,null,null,null,null,null,null,null,"*"]
[null,null,null,null,null,null,null,null,null,null,null,643,null,null,null,null,null,null,null,null,{"$f":"IF($P647=\"\",\"\",注文書!D$18)","v":""},"","","","",null,null,null,null,null,null,null,null,null,null,null,null,null,"*"]
[null,null,null,null,null,null,null,null,null,null,null,644,null,null,null,null,null,null,null,null,{"$f":"IF($P648=\"\",\"\",注文書!D$18)","v":""},"","","","",null,null,null,null,null,null,null,null,null,null,null,null,null,"*"]
[null,null,null,null,null,null,null,null,null,null,null,645,null,null,null,null,null,null,null,null,{"$f":"IF($P649=\"\",\"\",注文書!D$18)","v":""},"","","","",null,null,null,null,null,null,null,null,null,null,null,null,null,"*"]
[null,null,null,null,null,null,null,null,null,null,null,646,null,null,null,null,null,null,null,null,{"$f":"IF($P650=\"\",\"\",注文書!D$18)","v":""},"","","","",null,null,null,null,null,null,null,null,null,null,null,null,null,"*"]
[null,null,null,null,null,null,null,null,null,null,null,647,null,null,null,null,null,null,null,null,{"$f":"IF($P651=\"\",\"\",注文書!D$18)","v":""},"","","","",null,null,null,null,null,null,null,null,null,null,null,null,null,"*"]
[null,null,null,null,null,null,null,null,null,null,null,648,null,null,null,null,null,null,null,null,{"$f":"IF($P652=\"\",\"\",注文書!D$18)","v":""},"","","","",null,null,null,null,null,null,null,null,null,null,null,null,null,"*"]
[null,null,null,null,null,null,null,null,null,null,null,649,null,null,null,null,null,null,null,null,{"$f":"IF($P653=\"\",\"\",注文書!D$18)","v":""},"","","","",null,null,null,null,null,null,null,null,null,null,null,null,null,"*"]
[null,null,null,null,null,null,null,null,null,null,null,650,null,null,null,null,null,null,null,null,{"$f":"IF($P654=\"\",\"\",注文書!D$18)","v":""},"","","","",null,null,null,null,null,null,null,null,null,null,null,null,null,"*"]
[null,null,null,null,null,null,null,null,null,null,null,651,null,null,null,null,null,null,null,null,{"$f":"IF($P655=\"\",\"\",注文書!D$18)","v":""},"","","","",null,null,null,null,null,null,null,null,null,null,null,null,null,"*"]
[null,null,null,null,null,null,null,null,null,null,null,652,null,null,null,null,null,null,null,null,{"$f":"IF($P656=\"\",\"\",注文書!D$18)","v":""},"","","","",null,null,null,null,null,null,null,null,null,null,null,null,null,"*"]
[null,null,null,null,null,null,null,null,null,null,null,653,null,null,null,null,null,null,null,null,{"$f":"IF($P657=\"\",\"\",注文書!D$18)","v":""},"","","","",null,null,null,null,null,null,null,null,null,null,null,null,null,"*"]
[null,null,null,null,null,null,null,null,null,null,null,654,null,null,null,null,null,null,null,null,{"$f":"IF($P658=\"\",\"\",注文書!D$18)","v":""},"","","","",null,null,null,null,null,null,null,null,null,null,null,null,null,"*"]
[null,null,null,null,null,null,null,null,null,null,null,655,null,null,null,null,null,null,null,null,{"$f":"IF($P659=\"\",\"\",注文書!D$18)","v":""},"","","","",null,null,null,null,null,null,null,null,null,null,null,null,null,"*"]
[null,null,null,null,null,null,null,null,null,null,null,656,null,null,null,null,null,null,null,null,{"$f":"IF($P660=\"\",\"\",注文書!D$18)","v":""},"","","","",null,null,null,null,null,null,null,null,null,null,null,null,null,"*"]
[null,null,null,null,null,null,null,null,null,null,null,657,null,null,null,null,null,null,null,null,{"$f":"IF($P661=\"\",\"\",注文書!D$18)","v":""},"","","","",null,null,null,null,null,null,null,null,null,null,null,null,null,"*"]
[null,null,null,null,null,null,null,null,null,null,null,658,null,null,null,null,null,null,null,null,{"$f":"IF($P662=\"\",\"\",注文書!D$18)","v":""},"","","","",null,null,null,null,null,null,null,null,null,null,null,null,null,"*"]
[null,null,null,null,null,null,null,null,null,null,null,659,null,null,null,null,null,null,null,null,{"$f":"IF($P663=\"\",\"\",注文書!D$18)","v":""},"","","","",null,null,null,null,null,null,null,null,null,null,null,null,null,"*"]
[null,null,null,null,null,null,null,null,null,null,null,660,null,null,null,null,null,null,null,null,{"$f":"IF($P664=\"\",\"\",注文書!D$18)","v":""},"","","","",null,null,null,null,null,null,null,null,null,null,null,null,null,"*"]
[null,null,null,null,null,null,null,null,null,null,null,661,null,null,null,null,null,null,null,null,{"$f":"IF($P665=\"\",\"\",注文書!D$18)","v":""},"","","","",null,null,null,null,null,null,null,null,null,null,null,null,null,"*"]
[null,null,null,null,null,null,null,null,null,null,null,662,null,null,null,null,null,null,null,null,{"$f":"IF($P666=\"\",\"\",注文書!D$18)","v":""},{"$f":"IF($P666=\"\",\"\",V$5)","v":""},"","","",null,null,null,null,null,null,null,null,null,null,null,null,null,"*"]
[null,null,null,null,null,null,null,null,null,null,null,663,null,null,null,null,null,null,null,null,{"$f":"IF($P667=\"\",\"\",注文書!D$18)","v":""},"","","","",null,null,null,null,null,null,null,null,null,null,null,null,null,"*"]
[null,null,null,null,null,null,null,null,null,null,null,664,null,null,null,null,null,null,null,null,{"$f":"IF($P668=\"\",\"\",注文書!D$18)","v":""},"","","","",null,null,null,null,null,null,null,null,null,null,null,null,null,"*"]
[null,null,null,null,null,null,null,null,null,null,null,665,null,null,null,null,null,null,null,null,{"$f":"IF($P669=\"\",\"\",注文書!D$18)","v":""},"","","","",null,null,null,null,null,null,null,null,null,null,null,null,null,"*"]
[null,null,null,null,null,null,null,null,null,null,null,666,null,null,null,null,null,null,null,null,{"$f":"IF($P670=\"\",\"\",注文書!D$18)","v":""},"","","","",null,null,null,null,null,null,null,null,null,null,null,null,null,"*"]
[null,null,null,null,null,null,null,null,null,null,null,667,null,null,null,null,null,null,null,null,{"$f":"IF($P671=\"\",\"\",注文書!D$18)","v":""},"","","","",null,null,null,null,null,null,null,null,null,null,null,null,null,"*"]
[null,null,null,null,null,null,null,null,null,null,null,668,null,null,null,null,null,null,null,null,{"$f":"IF($P672=\"\",\"\",注文書!D$18)","v":""},"","","","",null,null,null,null,null,null,null,null,null,null,null,null,null,"*"]
[null,null,null,null,null,null,null,null,null,null,null,669,null,null,null,null,null,null,null,null,{"$f":"IF($P673=\"\",\"\",注文書!D$18)","v":""},"","","","",null,null,null,null,null,null,null,null,null,null,null,null,null,"*"]
[null,null,null,null,null,null,null,null,null,null,null,670,null,null,null,null,null,null,null,null,{"$f":"IF($P674=\"\",\"\",注文書!D$18)","v":""},"","","","",null,null,null,null,null,null,null,null,null,null,null,null,null,"*"]
[null,null,null,null,null,null,null,null,null,null,null,671,null,null,null,null,null,null,null,null,{"$f":"IF($P675=\"\",\"\",注文書!D$18)","v":""},"","","","",null,null,null,null,null,null,null,null,null,null,null,null,null,"*"]
[null,null,null,null,null,null,null,null,null,null,null,672,null,null,null,null,null,null,null,null,{"$f":"IF($P676=\"\",\"\",注文書!D$18)","v":""},"","","","",null,null,null,null,null,null,null,null,null,null,null,null,null,"*"]
[null,null,null,null,null,null,null,null,null,null,null,673,null,null,null,null,null,null,null,null,{"$f":"IF($P677=\"\",\"\",注文書!D$18)","v":""},"","","","",null,null,null,null,null,null,null,null,null,null,null,null,null,"*"]
[null,null,null,null,null,null,null,null,null,null,null,674,null,null,null,null,null,null,null,null,{"$f":"IF($P678=\"\",\"\",注文書!D$18)","v":""},"","","","",null,null,null,null,null,null,null,null,null,null,null,null,null,"*"]
[null,null,null,null,null,null,null,null,null,null,null,675,null,null,null,null,null,null,null,null,{"$f":"IF($P679=\"\",\"\",注文書!D$18)","v":""},"","","","",null,null,null,null,null,null,null,null,null,null,null,null,null,"*"]
[null,null,null,null,null,null,null,null,null,null,null,676,null,null,null,null,null,null,null,null,{"$f":"IF($P680=\"\",\"\",注文書!D$18)","v":""},"","","","",null,null,null,null,null,null,null,null,null,null,null,null,null,"*"]
[null,null,null,null,null,null,null,null,null,null,null,677,null,null,null,null,null,null,null,null,{"$f":"IF($P681=\"\",\"\",注文書!D$18)","v":""},"","","","",null,null,null,null,null,null,null,null,null,null,null,null,null,"*"]
[null,null,null,null,null,null,null,null,null,null,null,678,null,null,null,null,null,null,null,null,{"$f":"IF($P682=\"\",\"\",注文書!D$18)","v":""},"","","","",null,null,null,null,null,null,null,null,null,null,null,null,null,"*"]
[null,null,null,null,null,null,null,null,null,null,null,679,null,null,null,null,null,null,null,null,{"$f":"IF($P683=\"\",\"\",注文書!D$18)","v":""},"","","","",null,null,null,null,null,null,null,null,null,null,null,null,null,"*"]
[null,null,null,null,null,null,null,null,null,null,null,680,null,null,null,null,null,null,null,null,{"$f":"IF($P684=\"\",\"\",注文書!D$18)","v":""},"","","","",null,null,null,null,null,null,null,null,null,null,null,null,null,"*"]
[null,null,null,null,null,null,null,null,null,null,null,681,null,null,null,null,null,null,null,null,{"$f":"IF($P685=\"\",\"\",注文書!D$18)","v":""},"","","","",null,null,null,null,null,null,null,null,null,null,null,null,null,"*"]
[null,null,null,null,null,null,null,null,null,null,null,682,null,null,null,null,null,null,null,null,{"$f":"IF($P686=\"\",\"\",注文書!D$18)","v":""},{"$f":"IF($P686=\"\",\"\",V$5)","v":""},"","","",null,null,null,null,null,null,null,null,null,null,null,null,null,"*"]
[null,null,null,null,null,null,null,null,null,null,null,683,null,null,null,null,null,null,null,null,{"$f":"IF($P687=\"\",\"\",注文書!D$18)","v":""},"","","","",null,null,null,null,null,null,null,null,null,null,null,null,null,"*"]
[null,null,null,null,null,null,null,null,null,null,null,684,null,null,null,null,null,null,null,null,{"$f":"IF($P688=\"\",\"\",注文書!D$18)","v":""},"","","","",null,null,null,null,null,null,null,null,null,null,null,null,null,"*"]
[null,null,null,null,null,null,null,null,null,null,null,685,null,null,null,null,null,null,null,null,{"$f":"IF($P689=\"\",\"\",注文書!D$18)","v":""},"","","","",null,null,null,null,null,null,null,null,null,null,null,null,null,"*"]
[null,null,null,null,null,null,null,null,null,null,null,686,null,null,null,null,null,null,null,null,{"$f":"IF($P690=\"\",\"\",注文書!D$18)","v":""},"","","","",null,null,null,null,null,null,null,null,null,null,null,null,null,"*"]
[null,null,null,null,null,null,null,null,null,null,null,687,null,null,null,null,null,null,null,null,{"$f":"IF($P691=\"\",\"\",注文書!D$18)","v":""},"","","","",null,null,null,null,null,null,null,null,null,null,null,null,null,"*"]
[null,null,null,null,null,null,null,null,null,null,null,688,null,null,null,null,null,null,null,null,{"$f":"IF($P692=\"\",\"\",注文書!D$18)","v":""},"","","","",null,null,null,null,null,null,null,null,null,null,null,null,null,"*"]
[null,null,null,null,null,null,null,null,null,null,null,689,null,null,null,null,null,null,null,null,{"$f":"IF($P693=\"\",\"\",注文書!D$18)","v":""},"","","","",null,null,null,null,null,null,null,null,null,null,null,null,null,"*"]
[null,null,null,null,null,null,null,null,null,null,null,690,null,null,null,null,null,null,null,null,{"$f":"IF($P694=\"\",\"\",注文書!D$18)","v":""},"","","","",null,null,null,null,null,null,null,null,null,null,null,null,null,"*"]
[null,null,null,null,null,null,null,null,null,null,null,691,null,null,null,null,null,null,null,null,{"$f":"IF($P695=\"\",\"\",注文書!D$18)","v":""},"","","","",null,null,null,null,null,null,null,null,null,null,null,null,null,"*"]
[null,null,null,null,null,null,null,null,null,null,null,692,null,null,null,null,null,null,null,null,{"$f":"IF($P696=\"\",\"\",注文書!D$18)","v":""},"","","","",null,null,null,null,null,null,null,null,null,null,null,null,null,"*"]
[null,null,null,null,null,null,null,null,null,null,null,693,null,null,null,null,null,null,null,null,{"$f":"IF($P697=\"\",\"\",注文書!D$18)","v":""},"","","","",null,null,null,null,null,null,null,null,null,null,null,null,null,"*"]
[null,null,null,null,null,null,null,null,null,null,null,694,null,null,null,null,null,null,null,null,{"$f":"IF($P698=\"\",\"\",注文書!D$18)","v":""},"","","","",null,null,null,null,null,null,null,null,null,null,null,null,null,"*"]
[null,null,null,null,null,null,null,null,null,null,null,695,null,null,null,null,null,null,null,null,{"$f":"IF($P699=\"\",\"\",注文書!D$18)","v":""},"","","","",null,null,null,null,null,null,null,null,null,null,null,null,null,"*"]
[null,null,null,null,null,null,null,null,null,null,null,696,null,null,null,null,null,null,null,null,{"$f":"IF($P700=\"\",\"\",注文書!D$18)","v":""},"","","","",null,null,null,null,null,null,null,null,null,null,null,null,null,"*"]
[null,null,null,null,null,null,null,null,null,null,null,697,null,null,null,null,null,null,null,null,{"$f":"IF($P701=\"\",\"\",注文書!D$18)","v":""},"","","","",null,null,null,null,null,null,null,null,null,null,null,null,null,"*"]
[null,null,null,null,null,null,null,null,null,null,null,698,null,null,null,null,null,null,null,null,{"$f":"IF($P702=\"\",\"\",注文書!D$18)","v":""},"","","","",null,null,null,null,null,null,null,null,null,null,null,null,null,"*"]
[null,null,null,null,null,null,null,null,null,null,null,699,null,null,null,null,null,null,null,null,{"$f":"IF($P703=\"\",\"\",注文書!D$18)","v":""},"","","","",null,null,null,null,null,null,null,null,null,null,null,null,null,"*"]
[null,null,null,null,null,null,null,null,null,null,null,700,null,null,null,null,null,null,null,null,{"$f":"IF($P704=\"\",\"\",注文書!D$18)","v":""},"","","","",null,null,null,null,null,null,null,null,null,null,null,null,null,"*"]
[null,null,null,null,null,null,null,null,null,null,null,701,null,null,null,null,null,null,null,null,{"$f":"IF($P705=\"\",\"\",注文書!D$18)","v":""},"","","","",null,null,null,null,null,null,null,null,null,null,null,null,null,"*"]
[null,null,null,null,null,null,null,null,null,null,null,702,null,null,null,null,null,null,null,null,{"$f":"IF($P706=\"\",\"\",注文書!D$18)","v":""},{"$f":"IF($P706=\"\",\"\",V$5)","v":""},"","","",null,null,null,null,null,null,null,null,null,null,null,null,null,"*"]
[null,null,null,null,null,null,null,null,null,null,null,703,null,null,null,null,null,null,null,null,{"$f":"IF($P707=\"\",\"\",注文書!D$18)","v":""},"","","","",null,null,null,null,null,null,null,null,null,null,null,null,null,"*"]
[null,null,null,null,null,null,null,null,null,null,null,704,null,null,null,null,null,null,null,null,{"$f":"IF($P708=\"\",\"\",注文書!D$18)","v":""},"","","","",null,null,null,null,null,null,null,null,null,null,null,null,null,"*"]
[null,null,null,null,null,null,null,null,null,null,null,{"$f":"ROW()-4","v":705},null,null,null,null,null,null,null,null,{"$f":"IF($P709=\"\",\"\",注文書!D$18)","v":""},"","","","",null,null,null,null,null,null,null,null,null,null,null,null,null,"*"]
[null,null,null,null,null,null,null,null,null,null,null,706,null,null,null,null,null,null,null,null,{"$f":"IF($P710=\"\",\"\",注文書!D$18)","v":""},"","","","",null,null,null,null,null,null,null,null,null,null,null,null,null,"*"]
[null,null,null,null,null,null,null,null,null,null,null,707,null,null,null,null,null,null,null,null,{"$f":"IF($P711=\"\",\"\",注文書!D$18)","v":""},"","","","",null,null,null,null,null,null,null,null,null,null,null,null,null,"*"]
[null,null,null,null,null,null,null,null,null,null,null,708,null,null,null,null,null,null,null,null,{"$f":"IF($P712=\"\",\"\",注文書!D$18)","v":""},"","","","",null,null,null,null,null,null,null,null,null,null,null,null,null,"*"]
[null,null,null,null,null,null,null,null,null,null,null,709,null,null,null,null,null,null,null,null,{"$f":"IF($P713=\"\",\"\",注文書!D$18)","v":""},"","","","",null,null,null,null,null,null,null,null,null,null,null,null,null,"*"]
[null,null,null,null,null,null,null,null,null,null,null,710,null,null,null,null,null,null,null,null,{"$f":"IF($P714=\"\",\"\",注文書!D$18)","v":""},"","","","",null,null,null,null,null,null,null,null,null,null,null,null,null,"*"]
[null,null,null,null,null,null,null,null,null,null,null,711,null,null,null,null,null,null,null,null,{"$f":"IF($P715=\"\",\"\",注文書!D$18)","v":""},"","","","",null,null,null,null,null,null,null,null,null,null,null,null,null,"*"]
[null,null,null,null,null,null,null,null,null,null,null,712,null,null,null,null,null,null,null,null,{"$f":"IF($P716=\"\",\"\",注文書!D$18)","v":""},"","","","",null,null,null,null,null,null,null,null,null,null,null,null,null,"*"]
[null,null,null,null,null,null,null,null,null,null,null,713,null,null,null,null,null,null,null,null,{"$f":"IF($P717=\"\",\"\",注文書!D$18)","v":""},"","","","",null,null,null,null,null,null,null,null,null,null,null,null,null,"*"]
[null,null,null,null,null,null,null,null,null,null,null,714,null,null,null,null,null,null,null,null,{"$f":"IF($P718=\"\",\"\",注文書!D$18)","v":""},"","","","",null,null,null,null,null,null,null,null,null,null,null,null,null,"*"]
[null,null,null,null,null,null,null,null,null,null,null,715,null,null,null,null,null,null,null,null,{"$f":"IF($P719=\"\",\"\",注文書!D$18)","v":""},"","","","",null,null,null,null,null,null,null,null,null,null,null,null,null,"*"]
[null,null,null,null,null,null,null,null,null,null,null,716,null,null,null,null,null,null,null,null,{"$f":"IF($P720=\"\",\"\",注文書!D$18)","v":""},"","","","",null,null,null,null,null,null,null,null,null,null,null,null,null,"*"]
[null,null,null,null,null,null,null,null,null,null,null,717,null,null,null,null,null,null,null,null,{"$f":"IF($P721=\"\",\"\",注文書!D$18)","v":""},"","","","",null,null,null,null,null,null,null,null,null,null,null,null,null,"*"]
[null,null,null,null,null,null,null,null,null,null,null,718,null,null,null,null,null,null,null,null,{"$f":"IF($P722=\"\",\"\",注文書!D$18)","v":""},"","","","",null,null,null,null,null,null,null,null,null,null,null,null,null,"*"]
[null,null,null,null,null,null,null,null,null,null,null,719,null,null,null,null,null,null,null,null,{"$f":"IF($P723=\"\",\"\",注文書!D$18)","v":""},"","","","",null,null,null,null,null,null,null,null,null,null,null,null,null,"*"]
[null,null,null,null,null,null,null,null,null,null,null,720,null,null,null,null,null,null,null,null,{"$f":"IF($P724=\"\",\"\",注文書!D$18)","v":""},"","","","",null,null,null,null,null,null,null,null,null,null,null,null,null,"*"]
[null,null,null,null,null,null,null,null,null,null,null,721,null,null,null,null,null,null,null,null,{"$f":"IF($P725=\"\",\"\",注文書!D$18)","v":""},"","","","",null,null,null,null,null,null,null,null,null,null,null,null,null,"*"]
[null,null,null,null,null,null,null,null,null,null,null,722,null,null,null,null,null,null,null,null,{"$f":"IF($P726=\"\",\"\",注文書!D$18)","v":""},{"$f":"IF($P726=\"\",\"\",V$5)","v":""},"","","",null,null,null,null,null,null,null,null,null,null,null,null,null,"*"]
[null,null,null,null,null,null,null,null,null,null,null,723,null,null,null,null,null,null,null,null,{"$f":"IF($P727=\"\",\"\",注文書!D$18)","v":""},"","","","",null,null,null,null,null,null,null,null,null,null,null,null,null,"*"]
[null,null,null,null,null,null,null,null,null,null,null,724,null,null,null,null,null,null,null,null,{"$f":"IF($P728=\"\",\"\",注文書!D$18)","v":""},"","","","",null,null,null,null,null,null,null,null,null,null,null,null,null,"*"]
[null,null,null,null,null,null,null,null,null,null,null,725,null,null,null,null,null,null,null,null,{"$f":"IF($P729=\"\",\"\",注文書!D$18)","v":""},"","","","",null,null,null,null,null,null,null,null,null,null,null,null,null,"*"]
[null,null,null,null,null,null,null,null,null,null,null,726,null,null,null,null,null,null,null,null,{"$f":"IF($P730=\"\",\"\",注文書!D$18)","v":""},"","","","",null,null,null,null,null,null,null,null,null,null,null,null,null,"*"]
[null,null,null,null,null,null,null,null,null,null,null,727,null,null,null,null,null,null,null,null,{"$f":"IF($P731=\"\",\"\",注文書!D$18)","v":""},"","","","",null,null,null,null,null,null,null,null,null,null,null,null,null,"*"]
[null,null,null,null,null,null,null,null,null,null,null,728,null,null,null,null,null,null,null,null,{"$f":"IF($P732=\"\",\"\",注文書!D$18)","v":""},"","","","",null,null,null,null,null,null,null,null,null,null,null,null,null,"*"]
[null,null,null,null,null,null,null,null,null,null,null,729,null,null,null,null,null,null,null,null,{"$f":"IF($P733=\"\",\"\",注文書!D$18)","v":""},"","","","",null,null,null,null,null,null,null,null,null,null,null,null,null,"*"]
[null,null,null,null,null,null,null,null,null,null,null,730,null,null,null,null,null,null,null,null,{"$f":"IF($P734=\"\",\"\",注文書!D$18)","v":""},"","","","",null,null,null,null,null,null,null,null,null,null,null,null,null,"*"]
[null,null,null,null,null,null,null,null,null,null,null,731,null,null,null,null,null,null,null,null,{"$f":"IF($P735=\"\",\"\",注文書!D$18)","v":""},"","","","",null,null,null,null,null,null,null,null,null,null,null,null,null,"*"]
[null,null,null,null,null,null,null,null,null,null,null,732,null,null,null,null,null,null,null,null,{"$f":"IF($P736=\"\",\"\",注文書!D$18)","v":""},"","","","",null,null,null,null,null,null,null,null,null,null,null,null,null,"*"]
[null,null,null,null,null,null,null,null,null,null,null,733,null,null,null,null,null,null,null,null,{"$f":"IF($P737=\"\",\"\",注文書!D$18)","v":""},"","","","",null,null,null,null,null,null,null,null,null,null,null,null,null,"*"]
[null,null,null,null,null,null,null,null,null,null,null,734,null,null,null,null,null,null,null,null,{"$f":"IF($P738=\"\",\"\",注文書!D$18)","v":""},"","","","",null,null,null,null,null,null,null,null,null,null,null,null,null,"*"]
[null,null,null,null,null,null,null,null,null,null,null,735,null,null,null,null,null,null,null,null,{"$f":"IF($P739=\"\",\"\",注文書!D$18)","v":""},"","","","",null,null,null,null,null,null,null,null,null,null,null,null,null,"*"]
[null,null,null,null,null,null,null,null,null,null,null,736,null,null,null,null,null,null,null,null,{"$f":"IF($P740=\"\",\"\",注文書!D$18)","v":""},"","","","",null,null,null,null,null,null,null,null,null,null,null,null,null,"*"]
[null,null,null,null,null,null,null,null,null,null,null,737,null,null,null,null,null,null,null,null,{"$f":"IF($P741=\"\",\"\",注文書!D$18)","v":""},"","","","",null,null,null,null,null,null,null,null,null,null,null,null,null,"*"]
[null,null,null,null,null,null,null,null,null,null,null,738,null,null,null,null,null,null,null,null,{"$f":"IF($P742=\"\",\"\",注文書!D$18)","v":""},"","","","",null,null,null,null,null,null,null,null,null,null,null,null,null,"*"]
[null,null,null,null,null,null,null,null,null,null,null,739,null,null,null,null,null,null,null,null,{"$f":"IF($P743=\"\",\"\",注文書!D$18)","v":""},"","","","",null,null,null,null,null,null,null,null,null,null,null,null,null,"*"]
[null,null,null,null,null,null,null,null,null,null,null,740,null,null,null,null,null,null,null,null,{"$f":"IF($P744=\"\",\"\",注文書!D$18)","v":""},"","","","",null,null,null,null,null,null,null,null,null,null,null,null,null,"*"]
[null,null,null,null,null,null,null,null,null,null,null,741,null,null,null,null,null,null,null,null,{"$f":"IF($P745=\"\",\"\",注文書!D$18)","v":""},"","","","",null,null,null,null,null,null,null,null,null,null,null,null,null,"*"]
[null,null,null,null,null,null,null,null,null,null,null,742,null,null,null,null,null,null,null,null,{"$f":"IF($P746=\"\",\"\",注文書!D$18)","v":""},{"$f":"IF($P746=\"\",\"\",V$5)","v":""},"","","",null,null,null,null,null,null,null,null,null,null,null,null,null,"*"]
[null,null,null,null,null,null,null,null,null,null,null,743,null,null,null,null,null,null,null,null,{"$f":"IF($P747=\"\",\"\",注文書!D$18)","v":""},"","","","",null,null,null,null,null,null,null,null,null,null,null,null,null,"*"]
[null,null,null,null,null,null,null,null,null,null,null,744,null,null,null,null,null,null,null,null,{"$f":"IF($P748=\"\",\"\",注文書!D$18)","v":""},"","","","",null,null,null,null,null,null,null,null,null,null,null,null,null,"*"]
[null,null,null,null,null,null,null,null,null,null,null,745,null,null,null,null,null,null,null,null,{"$f":"IF($P749=\"\",\"\",注文書!D$18)","v":""},"","","","",null,null,null,null,null,null,null,null,null,null,null,null,null,"*"]
[null,null,null,null,null,null,null,null,null,null,null,746,null,null,null,null,null,null,null,null,{"$f":"IF($P750=\"\",\"\",注文書!D$18)","v":""},"","","","",null,null,null,null,null,null,null,null,null,null,null,null,null,"*"]
[null,null,null,null,null,null,null,null,null,null,null,747,null,null,null,null,null,null,null,null,{"$f":"IF($P751=\"\",\"\",注文書!D$18)","v":""},"","","","",null,null,null,null,null,null,null,null,null,null,null,null,null,"*"]
[null,null,null,null,null,null,null,null,null,null,null,748,null,null,null,null,null,null,null,null,{"$f":"IF($P752=\"\",\"\",注文書!D$18)","v":""},"","","","",null,null,null,null,null,null,null,null,null,null,null,null,null,"*"]
[null,null,null,null,null,null,null,null,null,null,null,749,null,null,null,null,null,null,null,null,{"$f":"IF($P753=\"\",\"\",注文書!D$18)","v":""},"","","","",null,null,null,null,null,null,null,null,null,null,null,null,null,"*"]
[null,null,null,null,null,null,null,null,null,null,null,750,null,null,null,null,null,null,null,null,{"$f":"IF($P754=\"\",\"\",注文書!D$18)","v":""},"","","","",null,null,null,null,null,null,null,null,null,null,null,null,null,"*"]
[null,null,null,null,null,null,null,null,null,null,null,751,null,null,null,null,null,null,null,null,{"$f":"IF($P755=\"\",\"\",注文書!D$18)","v":""},"","","","",null,null,null,null,null,null,null,null,null,null,null,null,null,"*"]
[null,null,null,null,null,null,null,null,null,null,null,752,null,null,null,null,null,null,null,null,{"$f":"IF($P756=\"\",\"\",注文書!D$18)","v":""},"","","","",null,null,null,null,null,null,null,null,null,null,null,null,null,"*"]
[null,null,null,null,null,null,null,null,null,null,null,753,null,null,null,null,null,null,null,null,{"$f":"IF($P757=\"\",\"\",注文書!D$18)","v":""},"","","","",null,null,null,null,null,null,null,null,null,null,null,null,null,"*"]
[null,null,null,null,null,null,null,null,null,null,null,754,null,null,null,null,null,null,null,null,{"$f":"IF($P758=\"\",\"\",注文書!D$18)","v":""},"","","","",null,null,null,null,null,null,null,null,null,null,null,null,null,"*"]
[null,null,null,null,null,null,null,null,null,null,null,755,null,null,null,null,null,null,null,null,{"$f":"IF($P759=\"\",\"\",注文書!D$18)","v":""},"","","","",null,null,null,null,null,null,null,null,null,null,null,null,null,"*"]
[null,null,null,null,null,null,null,null,null,null,null,756,null,null,null,null,null,null,null,null,{"$f":"IF($P760=\"\",\"\",注文書!D$18)","v":""},"","","","",null,null,null,null,null,null,null,null,null,null,null,null,null,"*"]
[null,null,null,null,null,null,null,null,null,null,null,757,null,null,null,null,null,null,null,null,{"$f":"IF($P761=\"\",\"\",注文書!D$18)","v":""},"","","","",null,null,null,null,null,null,null,null,null,null,null,null,null,"*"]
[null,null,null,null,null,null,null,null,null,null,null,758,null,null,null,null,null,null,null,null,{"$f":"IF($P762=\"\",\"\",注文書!D$18)","v":""},"","","","",null,null,null,null,null,null,null,null,null,null,null,null,null,"*"]
[null,null,null,null,null,null,null,null,null,null,null,759,null,null,null,null,null,null,null,null,{"$f":"IF($P763=\"\",\"\",注文書!D$18)","v":""},"","","","",null,null,null,null,null,null,null,null,null,null,null,null,null,"*"]
[null,null,null,null,null,null,null,null,null,null,null,760,null,null,null,null,null,null,null,null,{"$f":"IF($P764=\"\",\"\",注文書!D$18)","v":""},"","","","",null,null,null,null,null,null,null,null,null,null,null,null,null,"*"]
[null,null,null,null,null,null,null,null,null,null,null,761,null,null,null,null,null,null,null,null,{"$f":"IF($P765=\"\",\"\",注文書!D$18)","v":""},"","","","",null,null,null,null,null,null,null,null,null,null,null,null,null,"*"]
[null,null,null,null,null,null,null,null,null,null,null,762,null,null,null,null,null,null,null,null,{"$f":"IF($P766=\"\",\"\",注文書!D$18)","v":""},{"$f":"IF($P766=\"\",\"\",V$5)","v":""},"","","",null,null,null,null,null,null,null,null,null,null,null,null,null,"*"]
[null,null,null,null,null,null,null,null,null,null,null,763,null,null,null,null,null,null,null,null,{"$f":"IF($P767=\"\",\"\",注文書!D$18)","v":""},"","","","",null,null,null,null,null,null,null,null,null,null,null,null,null,"*"]
[null,null,null,null,null,null,null,null,null,null,null,764,null,null,null,null,null,null,null,null,{"$f":"IF($P768=\"\",\"\",注文書!D$18)","v":""},"","","","",null,null,null,null,null,null,null,null,null,null,null,null,null,"*"]
[null,null,null,null,null,null,null,null,null,null,null,765,null,null,null,null,null,null,null,null,{"$f":"IF($P769=\"\",\"\",注文書!D$18)","v":""},"","","","",null,null,null,null,null,null,null,null,null,null,null,null,null,"*"]
[null,null,null,null,null,null,null,null,null,null,null,766,null,null,null,null,null,null,null,null,{"$f":"IF($P770=\"\",\"\",注文書!D$18)","v":""},"","","","",null,null,null,null,null,null,null,null,null,null,null,null,null,"*"]
[null,null,null,null,null,null,null,null,null,null,null,767,null,null,null,null,null,null,null,null,{"$f":"IF($P771=\"\",\"\",注文書!D$18)","v":""},"","","","",null,null,null,null,null,null,null,null,null,null,null,null,null,"*"]
[null,null,null,null,null,null,null,null,null,null,null,768,null,null,null,null,null,null,null,null,{"$f":"IF($P772=\"\",\"\",注文書!D$18)","v":""},"","","","",null,null,null,null,null,null,null,null,null,null,null,null,null,"*"]
[null,null,null,null,null,null,null,null,null,null,null,{"$f":"ROW()-4","v":769},null,null,null,null,null,null,null,null,{"$f":"IF($P773=\"\",\"\",注文書!D$18)","v":""},"","","","",null,null,null,null,null,null,null,null,null,null,null,null,null,"*"]
[null,null,null,null,null,null,null,null,null,null,null,770,null,null,null,null,null,null,null,null,{"$f":"IF($P774=\"\",\"\",注文書!D$18)","v":""},"","","","",null,null,null,null,null,null,null,null,null,null,null,null,null,"*"]
[null,null,null,null,null,null,null,null,null,null,null,771,null,null,null,null,null,null,null,null,{"$f":"IF($P775=\"\",\"\",注文書!D$18)","v":""},"","","","",null,null,null,null,null,null,null,null,null,null,null,null,null,"*"]
[null,null,null,null,null,null,null,null,null,null,null,772,null,null,null,null,null,null,null,null,{"$f":"IF($P776=\"\",\"\",注文書!D$18)","v":""},"","","","",null,null,null,null,null,null,null,null,null,null,null,null,null,"*"]
[null,null,null,null,null,null,null,null,null,null,null,773,null,null,null,null,null,null,null,null,{"$f":"IF($P777=\"\",\"\",注文書!D$18)","v":""},"","","","",null,null,null,null,null,null,null,null,null,null,null,null,null,"*"]
[null,null,null,null,null,null,null,null,null,null,null,774,null,null,null,null,null,null,null,null,{"$f":"IF($P778=\"\",\"\",注文書!D$18)","v":""},"","","","",null,null,null,null,null,null,null,null,null,null,null,null,null,"*"]
[null,null,null,null,null,null,null,null,null,null,null,775,null,null,null,null,null,null,null,null,{"$f":"IF($P779=\"\",\"\",注文書!D$18)","v":""},"","","","",null,null,null,null,null,null,null,null,null,null,null,null,null,"*"]
[null,null,null,null,null,null,null,null,null,null,null,776,null,null,null,null,null,null,null,null,{"$f":"IF($P780=\"\",\"\",注文書!D$18)","v":""},"","","","",null,null,null,null,null,null,null,null,null,null,null,null,null,"*"]
[null,null,null,null,null,null,null,null,null,null,null,777,null,null,null,null,null,null,null,null,{"$f":"IF($P781=\"\",\"\",注文書!D$18)","v":""},"","","","",null,null,null,null,null,null,null,null,null,null,null,null,null,"*"]
[null,null,null,null,null,null,null,null,null,null,null,778,null,null,null,null,null,null,null,null,{"$f":"IF($P782=\"\",\"\",注文書!D$18)","v":""},"","","","",null,null,null,null,null,null,null,null,null,null,null,null,null,"*"]
[null,null,null,null,null,null,null,null,null,null,null,779,null,null,null,null,null,null,null,null,{"$f":"IF($P783=\"\",\"\",注文書!D$18)","v":""},"","","","",null,null,null,null,null,null,null,null,null,null,null,null,null,"*"]
[null,null,null,null,null,null,null,null,null,null,null,780,null,null,null,null,null,null,null,null,{"$f":"IF($P784=\"\",\"\",注文書!D$18)","v":""},"","","","",null,null,null,null,null,null,null,null,null,null,null,null,null,"*"]
[null,null,null,null,null,null,null,null,null,null,null,781,null,null,null,null,null,null,null,null,{"$f":"IF($P785=\"\",\"\",注文書!D$18)","v":""},"","","","",null,null,null,null,null,null,null,null,null,null,null,null,null,"*"]
[null,null,null,null,null,null,null,null,null,null,null,782,null,null,null,null,null,null,null,null,{"$f":"IF($P786=\"\",\"\",注文書!D$18)","v":""},{"$f":"IF($P786=\"\",\"\",V$5)","v":""},"","","",null,null,null,null,null,null,null,null,null,null,null,null,null,"*"]
[null,null,null,null,null,null,null,null,null,null,null,783,null,null,null,null,null,null,null,null,{"$f":"IF($P787=\"\",\"\",注文書!D$18)","v":""},"","","","",null,null,null,null,null,null,null,null,null,null,null,null,null,"*"]
[null,null,null,null,null,null,null,null,null,null,null,784,null,null,null,null,null,null,null,null,{"$f":"IF($P788=\"\",\"\",注文書!D$18)","v":""},"","","","",null,null,null,null,null,null,null,null,null,null,null,null,null,"*"]
[null,null,null,null,null,null,null,null,null,null,null,785,null,null,null,null,null,null,null,null,{"$f":"IF($P789=\"\",\"\",注文書!D$18)","v":""},"","","","",null,null,null,null,null,null,null,null,null,null,null,null,null,"*"]
[null,null,null,null,null,null,null,null,null,null,null,786,null,null,null,null,null,null,null,null,{"$f":"IF($P790=\"\",\"\",注文書!D$18)","v":""},"","","","",null,null,null,null,null,null,null,null,null,null,null,null,null,"*"]
[null,null,null,null,null,null,null,null,null,null,null,787,null,null,null,null,null,null,null,null,{"$f":"IF($P791=\"\",\"\",注文書!D$18)","v":""},"","","","",null,null,null,null,null,null,null,null,null,null,null,null,null,"*"]
[null,null,null,null,null,null,null,null,null,null,null,788,null,null,null,null,null,null,null,null,{"$f":"IF($P792=\"\",\"\",注文書!D$18)","v":""},"","","","",null,null,null,null,null,null,null,null,null,null,null,null,null,"*"]
[null,null,null,null,null,null,null,null,null,null,null,789,null,null,null,null,null,null,null,null,{"$f":"IF($P793=\"\",\"\",注文書!D$18)","v":""},"","","","",null,null,null,null,null,null,null,null,null,null,null,null,null,"*"]
[null,null,null,null,null,null,null,null,null,null,null,790,null,null,null,null,null,null,null,null,{"$f":"IF($P794=\"\",\"\",注文書!D$18)","v":""},"","","","",null,null,null,null,null,null,null,null,null,null,null,null,null,"*"]
[null,null,null,null,null,null,null,null,null,null,null,791,null,null,null,null,null,null,null,null,{"$f":"IF($P795=\"\",\"\",注文書!D$18)","v":""},"","","","",null,null,null,null,null,null,null,null,null,null,null,null,null,"*"]
[null,null,null,null,null,null,null,null,null,null,null,792,null,null,null,null,null,null,null,null,{"$f":"IF($P796=\"\",\"\",注文書!D$18)","v":""},"","","","",null,null,null,null,null,null,null,null,null,null,null,null,null,"*"]
[null,null,null,null,null,null,null,null,null,null,null,793,null,null,null,null,null,null,null,null,{"$f":"IF($P797=\"\",\"\",注文書!D$18)","v":""},"","","","",null,null,null,null,null,null,null,null,null,null,null,null,null,"*"]
[null,null,null,null,null,null,null,null,null,null,null,794,null,null,null,null,null,null,null,null,{"$f":"IF($P798=\"\",\"\",注文書!D$18)","v":""},"","","","",null,null,null,null,null,null,null,null,null,null,null,null,null,"*"]
[null,null,null,null,null,null,null,null,null,null,null,795,null,null,null,null,null,null,null,null,{"$f":"IF($P799=\"\",\"\",注文書!D$18)","v":""},"","","","",null,null,null,null,null,null,null,null,null,null,null,null,null,"*"]
[null,null,null,null,null,null,null,null,null,null,null,796,null,null,null,null,null,null,null,null,{"$f":"IF($P800=\"\",\"\",注文書!D$18)","v":""},"","","","",null,null,null,null,null,null,null,null,null,null,null,null,null,"*"]
[null,null,null,null,null,null,null,null,null,null,null,797,null,null,null,null,null,null,null,null,{"$f":"IF($P801=\"\",\"\",注文書!D$18)","v":""},"","","","",null,null,null,null,null,null,null,null,null,null,null,null,null,"*"]
[null,null,null,null,null,null,null,null,null,null,null,798,null,null,null,null,null,null,null,null,{"$f":"IF($P802=\"\",\"\",注文書!D$18)","v":""},"","","","",null,null,null,null,null,null,null,null,null,null,null,null,null,"*"]
[null,null,null,null,null,null,null,null,null,null,null,799,null,null,null,null,null,null,null,null,{"$f":"IF($P803=\"\",\"\",注文書!D$18)","v":""},"","","","",null,null,null,null,null,null,null,null,null,null,null,null,null,"*"]
[null,null,null,null,null,null,null,null,null,null,null,800,null,null,null,null,null,null,null,null,{"$f":"IF($P804=\"\",\"\",注文書!D$18)","v":""},"","","","",null,null,null,null,null,null,null,null,null,null,null,null,null,"*"]
[null,null,null,null,null,null,null,null,null,null,null,801,null,null,null,null,null,null,null,null,{"$f":"IF($P805=\"\",\"\",注文書!D$18)","v":""},"","","","",null,null,null,null,null,null,null,null,null,null,null,null,null,"*"]
[null,null,null,null,null,null,null,null,null,null,null,802,null,null,null,null,null,null,null,null,{"$f":"IF($P806=\"\",\"\",注文書!D$18)","v":""},{"$f":"IF($P806=\"\",\"\",V$5)","v":""},"","","",null,null,null,null,null,null,null,null,null,null,null,null,null,"*"]
[null,null,null,null,null,null,null,null,null,null,null,803,null,null,null,null,null,null,null,null,{"$f":"IF($P807=\"\",\"\",注文書!D$18)","v":""},"","","","",null,null,null,null,null,null,null,null,null,null,null,null,null,"*"]
[null,null,null,null,null,null,null,null,null,null,null,804,null,null,null,null,null,null,null,null,{"$f":"IF($P808=\"\",\"\",注文書!D$18)","v":""},"","","","",null,null,null,null,null,null,null,null,null,null,null,null,null,"*"]
[null,null,null,null,null,null,null,null,null,null,null,805,null,null,null,null,null,null,null,null,{"$f":"IF($P809=\"\",\"\",注文書!D$18)","v":""},"","","","",null,null,null,null,null,null,null,null,null,null,null,null,null,"*"]
[null,null,null,null,null,null,null,null,null,null,null,806,null,null,null,null,null,null,null,null,{"$f":"IF($P810=\"\",\"\",注文書!D$18)","v":""},"","","","",null,null,null,null,null,null,null,null,null,null,null,null,null,"*"]
[null,null,null,null,null,null,null,null,null,null,null,807,null,null,null,null,null,null,null,null,{"$f":"IF($P811=\"\",\"\",注文書!D$18)","v":""},"","","","",null,null,null,null,null,null,null,null,null,null,null,null,null,"*"]
[null,null,null,null,null,null,null,null,null,null,null,808,null,null,null,null,null,null,null,null,{"$f":"IF($P812=\"\",\"\",注文書!D$18)","v":""},"","","","",null,null,null,null,null,null,null,null,null,null,null,null,null,"*"]
[null,null,null,null,null,null,null,null,null,null,null,809,null,null,null,null,null,null,null,null,{"$f":"IF($P813=\"\",\"\",注文書!D$18)","v":""},"","","","",null,null,null,null,null,null,null,null,null,null,null,null,null,"*"]
[null,null,null,null,null,null,null,null,null,null,null,810,null,null,null,null,null,null,null,null,{"$f":"IF($P814=\"\",\"\",注文書!D$18)","v":""},"","","","",null,null,null,null,null,null,null,null,null,null,null,null,null,"*"]
[null,null,null,null,null,null,null,null,null,null,null,811,null,null,null,null,null,null,null,null,{"$f":"IF($P815=\"\",\"\",注文書!D$18)","v":""},"","","","",null,null,null,null,null,null,null,null,null,null,null,null,null,"*"]
[null,null,null,null,null,null,null,null,null,null,null,812,null,null,null,null,null,null,null,null,{"$f":"IF($P816=\"\",\"\",注文書!D$18)","v":""},"","","","",null,null,null,null,null,null,null,null,null,null,null,null,null,"*"]
[null,null,null,null,null,null,null,null,null,null,null,813,null,null,null,null,null,null,null,null,{"$f":"IF($P817=\"\",\"\",注文書!D$18)","v":""},"","","","",null,null,null,null,null,null,null,null,null,null,null,null,null,"*"]
[null,null,null,null,null,null,null,null,null,null,null,814,null,null,null,null,null,null,null,null,{"$f":"IF($P818=\"\",\"\",注文書!D$18)","v":""},"","","","",null,null,null,null,null,null,null,null,null,null,null,null,null,"*"]
[null,null,null,null,null,null,null,null,null,null,null,815,null,null,null,null,null,null,null,null,{"$f":"IF($P819=\"\",\"\",注文書!D$18)","v":""},"","","","",null,null,null,null,null,null,null,null,null,null,null,null,null,"*"]
[null,null,null,null,null,null,null,null,null,null,null,816,null,null,null,null,null,null,null,null,{"$f":"IF($P820=\"\",\"\",注文書!D$18)","v":""},"","","","",null,null,null,null,null,null,null,null,null,null,null,null,null,"*"]
[null,null,null,null,null,null,null,null,null,null,null,817,null,null,null,null,null,null,null,null,{"$f":"IF($P821=\"\",\"\",注文書!D$18)","v":""},"","","","",null,null,null,null,null,null,null,null,null,null,null,null,null,"*"]
[null,null,null,null,null,null,null,null,null,null,null,818,null,null,null,null,null,null,null,null,{"$f":"IF($P822=\"\",\"\",注文書!D$18)","v":""},"","","","",null,null,null,null,null,null,null,null,null,null,null,null,null,"*"]
[null,null,null,null,null,null,null,null,null,null,null,819,null,null,null,null,null,null,null,null,{"$f":"IF($P823=\"\",\"\",注文書!D$18)","v":""},"","","","",null,null,null,null,null,null,null,null,null,null,null,null,null,"*"]
[null,null,null,null,null,null,null,null,null,null,null,820,null,null,null,null,null,null,null,null,{"$f":"IF($P824=\"\",\"\",注文書!D$18)","v":""},"","","","",null,null,null,null,null,null,null,null,null,null,null,null,null,"*"]
[null,null,null,null,null,null,null,null,null,null,null,821,null,null,null,null,null,null,null,null,{"$f":"IF($P825=\"\",\"\",注文書!D$18)","v":""},"","","","",null,null,null,null,null,null,null,null,null,null,null,null,null,"*"]
[null,null,null,null,null,null,null,null,null,null,null,822,null,null,null,null,null,null,null,null,{"$f":"IF($P826=\"\",\"\",注文書!D$18)","v":""},{"$f":"IF($P826=\"\",\"\",V$5)","v":""},"","","",null,null,null,null,null,null,null,null,null,null,null,null,null,"*"]
[null,null,null,null,null,null,null,null,null,null,null,823,null,null,null,null,null,null,null,null,{"$f":"IF($P827=\"\",\"\",注文書!D$18)","v":""},"","","","",null,null,null,null,null,null,null,null,null,null,null,null,null,"*"]
[null,null,null,null,null,null,null,null,null,null,null,824,null,null,null,null,null,null,null,null,{"$f":"IF($P828=\"\",\"\",注文書!D$18)","v":""},"","","","",null,null,null,null,null,null,null,null,null,null,null,null,null,"*"]
[null,null,null,null,null,null,null,null,null,null,null,825,null,null,null,null,null,null,null,null,{"$f":"IF($P829=\"\",\"\",注文書!D$18)","v":""},"","","","",null,null,null,null,null,null,null,null,null,null,null,null,null,"*"]
[null,null,null,null,null,null,null,null,null,null,null,826,null,null,null,null,null,null,null,null,{"$f":"IF($P830=\"\",\"\",注文書!D$18)","v":""},"","","","",null,null,null,null,null,null,null,null,null,null,null,null,null,"*"]
[null,null,null,null,null,null,null,null,null,null,null,827,null,null,null,null,null,null,null,null,{"$f":"IF($P831=\"\",\"\",注文書!D$18)","v":""},"","","","",null,null,null,null,null,null,null,null,null,null,null,null,null,"*"]
[null,null,null,null,null,null,null,null,null,null,null,828,null,null,null,null,null,null,null,null,{"$f":"IF($P832=\"\",\"\",注文書!D$18)","v":""},"","","","",null,null,null,null,null,null,null,null,null,null,null,null,null,"*"]
[null,null,null,null,null,null,null,null,null,null,null,829,null,null,null,null,null,null,null,null,{"$f":"IF($P833=\"\",\"\",注文書!D$18)","v":""},"","","","",null,null,null,null,null,null,null,null,null,null,null,null,null,"*"]
[null,null,null,null,null,null,null,null,null,null,null,830,null,null,null,null,null,null,null,null,{"$f":"IF($P834=\"\",\"\",注文書!D$18)","v":""},"","","","",null,null,null,null,null,null,null,null,null,null,null,null,null,"*"]
[null,null,null,null,null,null,null,null,null,null,null,831,null,null,null,null,null,null,null,null,{"$f":"IF($P835=\"\",\"\",注文書!D$18)","v":""},"","","","",null,null,null,null,null,null,null,null,null,null,null,null,null,"*"]
[null,null,null,null,null,null,null,null,null,null,null,832,null,null,null,null,null,null,null,null,{"$f":"IF($P836=\"\",\"\",注文書!D$18)","v":""},"","","","",null,null,null,null,null,null,null,null,null,null,null,null,null,"*"]
[null,null,null,null,null,null,null,null,null,null,null,{"$f":"ROW()-4","v":833},null,null,null,null,null,null,null,null,{"$f":"IF($P837=\"\",\"\",注文書!D$18)","v":""},"","","","",null,null,null,null,null,null,null,null,null,null,null,null,null,"*"]
[null,null,null,null,null,null,null,null,null,null,null,834,null,null,null,null,null,null,null,null,{"$f":"IF($P838=\"\",\"\",注文書!D$18)","v":""},"","","","",null,null,null,null,null,null,null,null,null,null,null,null,null,"*"]
[null,null,null,null,null,null,null,null,null,null,null,835,null,null,null,null,null,null,null,null,{"$f":"IF($P839=\"\",\"\",注文書!D$18)","v":""},"","","","",null,null,null,null,null,null,null,null,null,null,null,null,null,"*"]
[null,null,null,null,null,null,null,null,null,null,null,836,null,null,null,null,null,null,null,null,{"$f":"IF($P840=\"\",\"\",注文書!D$18)","v":""},"","","","",null,null,null,null,null,null,null,null,null,null,null,null,null,"*"]
[null,null,null,null,null,null,null,null,null,null,null,837,null,null,null,null,null,null,null,null,{"$f":"IF($P841=\"\",\"\",注文書!D$18)","v":""},"","","","",null,null,null,null,null,null,null,null,null,null,null,null,null,"*"]
[null,null,null,null,null,null,null,null,null,null,null,838,null,null,null,null,null,null,null,null,{"$f":"IF($P842=\"\",\"\",注文書!D$18)","v":""},"","","","",null,null,null,null,null,null,null,null,null,null,null,null,null,"*"]
[null,null,null,null,null,null,null,null,null,null,null,839,null,null,null,null,null,null,null,null,{"$f":"IF($P843=\"\",\"\",注文書!D$18)","v":""},"","","","",null,null,null,null,null,null,null,null,null,null,null,null,null,"*"]
[null,null,null,null,null,null,null,null,null,null,null,840,null,null,null,null,null,null,null,null,{"$f":"IF($P844=\"\",\"\",注文書!D$18)","v":""},"","","","",null,null,null,null,null,null,null,null,null,null,null,null,null,"*"]
[null,null,null,null,null,null,null,null,null,null,null,841,null,null,null,null,null,null,null,null,{"$f":"IF($P845=\"\",\"\",注文書!D$18)","v":""},"","","","",null,null,null,null,null,null,null,null,null,null,null,null,null,"*"]
[null,null,null,null,null,null,null,null,null,null,null,842,null,null,null,null,null,null,null,null,{"$f":"IF($P846=\"\",\"\",注文書!D$18)","v":""},{"$f":"IF($P846=\"\",\"\",V$5)","v":""},"","","",null,null,null,null,null,null,null,null,null,null,null,null,null,"*"]
[null,null,null,null,null,null,null,null,null,null,null,843,null,null,null,null,null,null,null,null,{"$f":"IF($P847=\"\",\"\",注文書!D$18)","v":""},"","","","",null,null,null,null,null,null,null,null,null,null,null,null,null,"*"]
[null,null,null,null,null,null,null,null,null,null,null,844,null,null,null,null,null,null,null,null,{"$f":"IF($P848=\"\",\"\",注文書!D$18)","v":""},"","","","",null,null,null,null,null,null,null,null,null,null,null,null,null,"*"]
[null,null,null,null,null,null,null,null,null,null,null,845,null,null,null,null,null,null,null,null,{"$f":"IF($P849=\"\",\"\",注文書!D$18)","v":""},"","","","",null,null,null,null,null,null,null,null,null,null,null,null,null,"*"]
[null,null,null,null,null,null,null,null,null,null,null,846,null,null,null,null,null,null,null,null,{"$f":"IF($P850=\"\",\"\",注文書!D$18)","v":""},"","","","",null,null,null,null,null,null,null,null,null,null,null,null,null,"*"]
[null,null,null,null,null,null,null,null,null,null,null,847,null,null,null,null,null,null,null,null,{"$f":"IF($P851=\"\",\"\",注文書!D$18)","v":""},"","","","",null,null,null,null,null,null,null,null,null,null,null,null,null,"*"]
[null,null,null,null,null,null,null,null,null,null,null,848,null,null,null,null,null,null,null,null,{"$f":"IF($P852=\"\",\"\",注文書!D$18)","v":""},"","","","",null,null,null,null,null,null,null,null,null,null,null,null,null,"*"]
[null,null,null,null,null,null,null,null,null,null,null,849,null,null,null,null,null,null,null,null,{"$f":"IF($P853=\"\",\"\",注文書!D$18)","v":""},"","","","",null,null,null,null,null,null,null,null,null,null,null,null,null,"*"]
[null,null,null,null,null,null,null,null,null,null,null,850,null,null,null,null,null,null,null,null,{"$f":"IF($P854=\"\",\"\",注文書!D$18)","v":""},"","","","",null,null,null,null,null,null,null,null,null,null,null,null,null,"*"]
[null,null,null,null,null,null,null,null,null,null,null,851,null,null,null,null,null,null,null,null,{"$f":"IF($P855=\"\",\"\",注文書!D$18)","v":""},"","","","",null,null,null,null,null,null,null,null,null,null,null,null,null,"*"]
[null,null,null,null,null,null,null,null,null,null,null,852,null,null,null,null,null,null,null,null,{"$f":"IF($P856=\"\",\"\",注文書!D$18)","v":""},"","","","",null,null,null,null,null,null,null,null,null,null,null,null,null,"*"]
[null,null,null,null,null,null,null,null,null,null,null,853,null,null,null,null,null,null,null,null,{"$f":"IF($P857=\"\",\"\",注文書!D$18)","v":""},"","","","",null,null,null,null,null,null,null,null,null,null,null,null,null,"*"]
[null,null,null,null,null,null,null,null,null,null,null,854,null,null,null,null,null,null,null,null,{"$f":"IF($P858=\"\",\"\",注文書!D$18)","v":""},"","","","",null,null,null,null,null,null,null,null,null,null,null,null,null,"*"]
[null,null,null,null,null,null,null,null,null,null,null,855,null,null,null,null,null,null,null,null,{"$f":"IF($P859=\"\",\"\",注文書!D$18)","v":""},"","","","",null,null,null,null,null,null,null,null,null,null,null,null,null,"*"]
[null,null,null,null,null,null,null,null,null,null,null,856,null,null,null,null,null,null,null,null,{"$f":"IF($P860=\"\",\"\",注文書!D$18)","v":""},"","","","",null,null,null,null,null,null,null,null,null,null,null,null,null,"*"]
[null,null,null,null,null,null,null,null,null,null,null,857,null,null,null,null,null,null,null,null,{"$f":"IF($P861=\"\",\"\",注文書!D$18)","v":""},"","","","",null,null,null,null,null,null,null,null,null,null,null,null,null,"*"]
[null,null,null,null,null,null,null,null,null,null,null,858,null,null,null,null,null,null,null,null,{"$f":"IF($P862=\"\",\"\",注文書!D$18)","v":""},"","","","",null,null,null,null,null,null,null,null,null,null,null,null,null,"*"]
[null,null,null,null,null,null,null,null,null,null,null,859,null,null,null,null,null,null,null,null,{"$f":"IF($P863=\"\",\"\",注文書!D$18)","v":""},"","","","",null,null,null,null,null,null,null,null,null,null,null,null,null,"*"]
[null,null,null,null,null,null,null,null,null,null,null,860,null,null,null,null,null,null,null,null,{"$f":"IF($P864=\"\",\"\",注文書!D$18)","v":""},"","","","",null,null,null,null,null,null,null,null,null,null,null,null,null,"*"]
[null,null,null,null,null,null,null,null,null,null,null,861,null,null,null,null,null,null,null,null,{"$f":"IF($P865=\"\",\"\",注文書!D$18)","v":""},"","","","",null,null,null,null,null,null,null,null,null,null,null,null,null,"*"]
[null,null,null,null,null,null,null,null,null,null,null,862,null,null,null,null,null,null,null,null,{"$f":"IF($P866=\"\",\"\",注文書!D$18)","v":""},{"$f":"IF($P866=\"\",\"\",V$5)","v":""},"","","",null,null,null,null,null,null,null,null,null,null,null,null,null,"*"]
[null,null,null,null,null,null,null,null,null,null,null,863,null,null,null,null,null,null,null,null,{"$f":"IF($P867=\"\",\"\",注文書!D$18)","v":""},"","","","",null,null,null,null,null,null,null,null,null,null,null,null,null,"*"]
[null,null,null,null,null,null,null,null,null,null,null,864,null,null,null,null,null,null,null,null,{"$f":"IF($P868=\"\",\"\",注文書!D$18)","v":""},"","","","",null,null,null,null,null,null,null,null,null,null,null,null,null,"*"]
[null,null,null,null,null,null,null,null,null,null,null,865,null,null,null,null,null,null,null,null,{"$f":"IF($P869=\"\",\"\",注文書!D$18)","v":""},"","","","",null,null,null,null,null,null,null,null,null,null,null,null,null,"*"]
[null,null,null,null,null,null,null,null,null,null,null,866,null,null,null,null,null,null,null,null,{"$f":"IF($P870=\"\",\"\",注文書!D$18)","v":""},"","","","",null,null,null,null,null,null,null,null,null,null,null,null,null,"*"]
[null,null,null,null,null,null,null,null,null,null,null,867,null,null,null,null,null,null,null,null,{"$f":"IF($P871=\"\",\"\",注文書!D$18)","v":""},"","","","",null,null,null,null,null,null,null,null,null,null,null,null,null,"*"]
[null,null,null,null,null,null,null,null,null,null,null,868,null,null,null,null,null,null,null,null,{"$f":"IF($P872=\"\",\"\",注文書!D$18)","v":""},"","","","",null,null,null,null,null,null,null,null,null,null,null,null,null,"*"]
[null,null,null,null,null,null,null,null,null,null,null,869,null,null,null,null,null,null,null,null,{"$f":"IF($P873=\"\",\"\",注文書!D$18)","v":""},"","","","",null,null,null,null,null,null,null,null,null,null,null,null,null,"*"]
[null,null,null,null,null,null,null,null,null,null,null,870,null,null,null,null,null,null,null,null,{"$f":"IF($P874=\"\",\"\",注文書!D$18)","v":""},"","","","",null,null,null,null,null,null,null,null,null,null,null,null,null,"*"]
[null,null,null,null,null,null,null,null,null,null,null,871,null,null,null,null,null,null,null,null,{"$f":"IF($P875=\"\",\"\",注文書!D$18)","v":""},"","","","",null,null,null,null,null,null,null,null,null,null,null,null,null,"*"]
[null,null,null,null,null,null,null,null,null,null,null,872,null,null,null,null,null,null,null,null,{"$f":"IF($P876=\"\",\"\",注文書!D$18)","v":""},"","","","",null,null,null,null,null,null,null,null,null,null,null,null,null,"*"]
[null,null,null,null,null,null,null,null,null,null,null,873,null,null,null,null,null,null,null,null,{"$f":"IF($P877=\"\",\"\",注文書!D$18)","v":""},"","","","",null,null,null,null,null,null,null,null,null,null,null,null,null,"*"]
[null,null,null,null,null,null,null,null,null,null,null,874,null,null,null,null,null,null,null,null,{"$f":"IF($P878=\"\",\"\",注文書!D$18)","v":""},"","","","",null,null,null,null,null,null,null,null,null,null,null,null,null,"*"]
[null,null,null,null,null,null,null,null,null,null,null,875,null,null,null,null,null,null,null,null,{"$f":"IF($P879=\"\",\"\",注文書!D$18)","v":""},"","","","",null,null,null,null,null,null,null,null,null,null,null,null,null,"*"]
[null,null,null,null,null,null,null,null,null,null,null,876,null,null,null,null,null,null,null,null,{"$f":"IF($P880=\"\",\"\",注文書!D$18)","v":""},"","","","",null,null,null,null,null,null,null,null,null,null,null,null,null,"*"]
[null,null,null,null,null,null,null,null,null,null,null,877,null,null,null,null,null,null,null,null,{"$f":"IF($P881=\"\",\"\",注文書!D$18)","v":""},"","","","",null,null,null,null,null,null,null,null,null,null,null,null,null,"*"]
[null,null,null,null,null,null,null,null,null,null,null,878,null,null,null,null,null,null,null,null,{"$f":"IF($P882=\"\",\"\",注文書!D$18)","v":""},"","","","",null,null,null,null,null,null,null,null,null,null,null,null,null,"*"]
[null,null,null,null,null,null,null,null,null,null,null,879,null,null,null,null,null,null,null,null,{"$f":"IF($P883=\"\",\"\",注文書!D$18)","v":""},"","","","",null,null,null,null,null,null,null,null,null,null,null,null,null,"*"]
[null,null,null,null,null,null,null,null,null,null,null,880,null,null,null,null,null,null,null,null,{"$f":"IF($P884=\"\",\"\",注文書!D$18)","v":""},"","","","",null,null,null,null,null,null,null,null,null,null,null,null,null,"*"]
[null,null,null,null,null,null,null,null,null,null,null,881,null,null,null,null,null,null,null,null,{"$f":"IF($P885=\"\",\"\",注文書!D$18)","v":""},"","","","",null,null,null,null,null,null,null,null,null,null,null,null,null,"*"]
[null,null,null,null,null,null,null,null,null,null,null,882,null,null,null,null,null,null,null,null,{"$f":"IF($P886=\"\",\"\",注文書!D$18)","v":""},{"$f":"IF($P886=\"\",\"\",V$5)","v":""},"","","",null,null,null,null,null,null,null,null,null,null,null,null,null,"*"]
[null,null,null,null,null,null,null,null,null,null,null,883,null,null,null,null,null,null,null,null,{"$f":"IF($P887=\"\",\"\",注文書!D$18)","v":""},"","","","",null,null,null,null,null,null,null,null,null,null,null,null,null,"*"]
[null,null,null,null,null,null,null,null,null,null,null,884,null,null,null,null,null,null,null,null,{"$f":"IF($P888=\"\",\"\",注文書!D$18)","v":""},"","","","",null,null,null,null,null,null,null,null,null,null,null,null,null,"*"]
[null,null,null,null,null,null,null,null,null,null,null,885,null,null,null,null,null,null,null,null,{"$f":"IF($P889=\"\",\"\",注文書!D$18)","v":""},"","","","",null,null,null,null,null,null,null,null,null,null,null,null,null,"*"]
[null,null,null,null,null,null,null,null,null,null,null,886,null,null,null,null,null,null,null,null,{"$f":"IF($P890=\"\",\"\",注文書!D$18)","v":""},"","","","",null,null,null,null,null,null,null,null,null,null,null,null,null,"*"]
[null,null,null,null,null,null,null,null,null,null,null,887,null,null,null,null,null,null,null,null,{"$f":"IF($P891=\"\",\"\",注文書!D$18)","v":""},"","","","",null,null,null,null,null,null,null,null,null,null,null,null,null,"*"]
[null,null,null,null,null,null,null,null,null,null,null,888,null,null,null,null,null,null,null,null,{"$f":"IF($P892=\"\",\"\",注文書!D$18)","v":""},"","","","",null,null,null,null,null,null,null,null,null,null,null,null,null,"*"]
[null,null,null,null,null,null,null,null,null,null,null,889,null,null,null,null,null,null,null,null,{"$f":"IF($P893=\"\",\"\",注文書!D$18)","v":""},"","","","",null,null,null,null,null,null,null,null,null,null,null,null,null,"*"]
[null,null,null,null,null,null,null,null,null,null,null,890,null,null,null,null,null,null,null,null,{"$f":"IF($P894=\"\",\"\",注文書!D$18)","v":""},"","","","",null,null,null,null,null,null,null,null,null,null,null,null,null,"*"]
[null,null,null,null,null,null,null,null,null,null,null,891,null,null,null,null,null,null,null,null,{"$f":"IF($P895=\"\",\"\",注文書!D$18)","v":""},"","","","",null,null,null,null,null,null,null,null,null,null,null,null,null,"*"]
[null,null,null,null,null,null,null,null,null,null,null,892,null,null,null,null,null,null,null,null,{"$f":"IF($P896=\"\",\"\",注文書!D$18)","v":""},"","","","",null,null,null,null,null,null,null,null,null,null,null,null,null,"*"]
[null,null,null,null,null,null,null,null,null,null,null,893,null,null,null,null,null,null,null,null,{"$f":"IF($P897=\"\",\"\",注文書!D$18)","v":""},"","","","",null,null,null,null,null,null,null,null,null,null,null,null,null,"*"]
[null,null,null,null,null,null,null,null,null,null,null,894,null,null,null,null,null,null,null,null,{"$f":"IF($P898=\"\",\"\",注文書!D$18)","v":""},"","","","",null,null,null,null,null,null,null,null,null,null,null,null,null,"*"]
[null,null,null,null,null,null,null,null,null,null,null,895,null,null,null,null,null,null,null,null,{"$f":"IF($P899=\"\",\"\",注文書!D$18)","v":""},"","","","",null,null,null,null,null,null,null,null,null,null,null,null,null,"*"]
[null,null,null,null,null,null,null,null,null,null,null,896,null,null,null,null,null,null,null,null,{"$f":"IF($P900=\"\",\"\",注文書!D$18)","v":""},"","","","",null,null,null,null,null,null,null,null,null,null,null,null,null,"*"]
[null,null,null,null,null,null,null,null,null,null,null,{"$f":"ROW()-4","v":897},null,null,null,null,null,null,null,null,{"$f":"IF($P901=\"\",\"\",注文書!D$18)","v":""},"","","","",null,null,null,null,null,null,null,null,null,null,null,null,null,"*"]
[null,null,null,null,null,null,null,null,null,null,null,898,null,null,null,null,null,null,null,null,{"$f":"IF($P902=\"\",\"\",注文書!D$18)","v":""},"","","","",null,null,null,null,null,null,null,null,null,null,null,null,null,"*"]
[null,null,null,null,null,null,null,null,null,null,null,899,null,null,null,null,null,null,null,null,{"$f":"IF($P903=\"\",\"\",注文書!D$18)","v":""},"","","","",null,null,null,null,null,null,null,null,null,null,null,null,null,"*"]
[null,null,null,null,null,null,null,null,null,null,null,900,null,null,null,null,null,null,null,null,{"$f":"IF($P904=\"\",\"\",注文書!D$18)","v":""},"","","","",null,null,null,null,null,null,null,null,null,null,null,null,null,"*"]
[null,null,null,null,null,null,null,null,null,null,null,901,null,null,null,null,null,null,null,null,{"$f":"IF($P905=\"\",\"\",注文書!D$18)","v":""},{"$f":"IF($P905=\"\",\"\",V$5)","v":""},"","","",null,null,null,null,null,null,null,null,null,null,null,null,null,"*"]
[null,null,null,null,null,null,null,null,null,null,null,902,null,null,null,null,null,null,null,null,{"$f":"IF($P906=\"\",\"\",注文書!D$18)","v":""},{"$f":"IF($P906=\"\",\"\",V$5)","v":""},"","","",null,null,null,null,null,null,null,null,null,null,null,null,null,"*"]
[null,null,null,null,null,null,null,null,null,null,null,903,null,null,null,null,null,null,null,null,{"$f":"IF($P907=\"\",\"\",注文書!D$18)","v":""},"","","","",null,null,null,null,null,null,null,null,null,null,null,null,null,"*"]
[null,null,null,null,null,null,null,null,null,null,null,904,null,null,null,null,null,null,null,null,{"$f":"IF($P908=\"\",\"\",注文書!D$18)","v":""},"","","","",null,null,null,null,null,null,null,null,null,null,null,null,null,"*"]
[null,null,null,null,null,null,null,null,null,null,null,905,null,null,null,null,null,null,null,null,{"$f":"IF($P909=\"\",\"\",注文書!D$18)","v":""},"","","","",null,null,null,null,null,null,null,null,null,null,null,null,null,"*"]
[null,null,null,null,null,null,null,null,null,null,null,906,null,null,null,null,null,null,null,null,{"$f":"IF($P910=\"\",\"\",注文書!D$18)","v":""},"","","","",null,null,null,null,null,null,null,null,null,null,null,null,null,"*"]
[null,null,null,null,null,null,null,null,null,null,null,907,null,null,null,null,null,null,null,null,{"$f":"IF($P911=\"\",\"\",注文書!D$18)","v":""},"","","","",null,null,null,null,null,null,null,null,null,null,null,null,null,"*"]
[null,null,null,null,null,null,null,null,null,null,null,908,null,null,null,null,null,null,null,null,{"$f":"IF($P912=\"\",\"\",注文書!D$18)","v":""},"","","","",null,null,null,null,null,null,null,null,null,null,null,null,null,"*"]
[null,null,null,null,null,null,null,null,null,null,null,909,null,null,null,null,null,null,null,null,{"$f":"IF($P913=\"\",\"\",注文書!D$18)","v":""},"","","","",null,null,null,null,null,null,null,null,null,null,null,null,null,"*"]
[null,null,null,null,null,null,null,null,null,null,null,910,null,null,null,null,null,null,null,null,{"$f":"IF($P914=\"\",\"\",注文書!D$18)","v":""},"","","","",null,null,null,null,null,null,null,null,null,null,null,null,null,"*"]
[null,null,null,null,null,null,null,null,null,null,null,911,null,null,null,null,null,null,null,null,{"$f":"IF($P915=\"\",\"\",注文書!D$18)","v":""},"","","","",null,null,null,null,null,null,null,null,null,null,null,null,null,"*"]
[null,null,null,null,null,null,null,null,null,null,null,912,null,null,null,null,null,null,null,null,{"$f":"IF($P916=\"\",\"\",注文書!D$18)","v":""},"","","","",null,null,null,null,null,null,null,null,null,null,null,null,null,"*"]
[null,null,null,null,null,null,null,null,null,null,null,913,null,null,null,null,null,null,null,null,{"$f":"IF($P917=\"\",\"\",注文書!D$18)","v":""},"","","","",null,null,null,null,null,null,null,null,null,null,null,null,null,"*"]
[null,null,null,null,null,null,null,null,null,null,null,914,null,null,null,null,null,null,null,null,{"$f":"IF($P918=\"\",\"\",注文書!D$18)","v":""},"","","","",null,null,null,null,null,null,null,null,null,null,null,null,null,"*"]
[null,null,null,null,null,null,null,null,null,null,null,915,null,null,null,null,null,null,null,null,{"$f":"IF($P919=\"\",\"\",注文書!D$18)","v":""},"","","","",null,null,null,null,null,null,null,null,null,null,null,null,null,"*"]
[null,null,null,null,null,null,null,null,null,null,null,916,null,null,null,null,null,null,null,null,{"$f":"IF($P920=\"\",\"\",注文書!D$18)","v":""},"","","","",null,null,null,null,null,null,null,null,null,null,null,null,null,"*"]
[null,null,null,null,null,null,null,null,null,null,null,917,null,null,null,null,null,null,null,null,{"$f":"IF($P921=\"\",\"\",注文書!D$18)","v":""},"","","","",null,null,null,null,null,null,null,null,null,null,null,null,null,"*"]
[null,null,null,null,null,null,null,null,null,null,null,918,null,null,null,null,null,null,null,null,{"$f":"IF($P922=\"\",\"\",注文書!D$18)","v":""},"","","","",null,null,null,null,null,null,null,null,null,null,null,null,null,"*"]
[null,null,null,null,null,null,null,null,null,null,null,919,null,null,null,null,null,null,null,null,{"$f":"IF($P923=\"\",\"\",注文書!D$18)","v":""},"","","","",null,null,null,null,null,null,null,null,null,null,null,null,null,"*"]
[null,null,null,null,null,null,null,null,null,null,null,920,null,null,null,null,null,null,null,null,{"$f":"IF($P924=\"\",\"\",注文書!D$18)","v":""},"","","","",null,null,null,null,null,null,null,null,null,null,null,null,null,"*"]
[null,null,null,null,null,null,null,null,null,null,null,921,null,null,null,null,null,null,null,null,{"$f":"IF($P925=\"\",\"\",注文書!D$18)","v":""},"","","","",null,null,null,null,null,null,null,null,null,null,null,null,null,"*"]
[null,null,null,null,null,null,null,null,null,null,null,922,null,null,null,null,null,null,null,null,{"$f":"IF($P926=\"\",\"\",注文書!D$18)","v":""},{"$f":"IF($P926=\"\",\"\",V$5)","v":""},"","","",null,null,null,null,null,null,null,null,null,null,null,null,null,"*"]
[null,null,null,null,null,null,null,null,null,null,null,923,null,null,null,null,null,null,null,null,{"$f":"IF($P927=\"\",\"\",注文書!D$18)","v":""},"","","","",null,null,null,null,null,null,null,null,null,null,null,null,null,"*"]
[null,null,null,null,null,null,null,null,null,null,null,924,null,null,null,null,null,null,null,null,{"$f":"IF($P928=\"\",\"\",注文書!D$18)","v":""},"","","","",null,null,null,null,null,null,null,null,null,null,null,null,null,"*"]
[null,null,null,null,null,null,null,null,null,null,null,925,null,null,null,null,null,null,null,null,{"$f":"IF($P929=\"\",\"\",注文書!D$18)","v":""},"","","","",null,null,null,null,null,null,null,null,null,null,null,null,null,"*"]
[null,null,null,null,null,null,null,null,null,null,null,926,null,null,null,null,null,null,null,null,{"$f":"IF($P930=\"\",\"\",注文書!D$18)","v":""},"","","","",null,null,null,null,null,null,null,null,null,null,null,null,null,"*"]
[null,null,null,null,null,null,null,null,null,null,null,927,null,null,null,null,null,null,null,null,{"$f":"IF($P931=\"\",\"\",注文書!D$18)","v":""},"","","","",null,null,null,null,null,null,null,null,null,null,null,null,null,"*"]
[null,null,null,null,null,null,null,null,null,null,null,928,null,null,null,null,null,null,null,null,{"$f":"IF($P932=\"\",\"\",注文書!D$18)","v":""},"","","","",null,null,null,null,null,null,null,null,null,null,null,null,null,"*"]
[null,null,null,null,null,null,null,null,null,null,null,929,null,null,null,null,null,null,null,null,{"$f":"IF($P933=\"\",\"\",注文書!D$18)","v":""},"","","","",null,null,null,null,null,null,null,null,null,null,null,null,null,"*"]
[null,null,null,null,null,null,null,null,null,null,null,930,null,null,null,null,null,null,null,null,{"$f":"IF($P934=\"\",\"\",注文書!D$18)","v":""},"","","","",null,null,null,null,null,null,null,null,null,null,null,null,null,"*"]
[null,null,null,null,null,null,null,null,null,null,null,931,null,null,null,null,null,null,null,null,{"$f":"IF($P935=\"\",\"\",注文書!D$18)","v":""},"","","","",null,null,null,null,null,null,null,null,null,null,null,null,null,"*"]
[null,null,null,null,null,null,null,null,null,null,null,932,null,null,null,null,null,null,null,null,{"$f":"IF($P936=\"\",\"\",注文書!D$18)","v":""},"","","","",null,null,null,null,null,null,null,null,null,null,null,null,null,"*"]
[null,null,null,null,null,null,null,null,null,null,null,933,null,null,null,null,null,null,null,null,{"$f":"IF($P937=\"\",\"\",注文書!D$18)","v":""},"","","","",null,null,null,null,null,null,null,null,null,null,null,null,null,"*"]
[null,null,null,null,null,null,null,null,null,null,null,934,null,null,null,null,null,null,null,null,{"$f":"IF($P938=\"\",\"\",注文書!D$18)","v":""},"","","","",null,null,null,null,null,null,null,null,null,null,null,null,null,"*"]
[null,null,null,null,null,null,null,null,null,null,null,935,null,null,null,null,null,null,null,null,{"$f":"IF($P939=\"\",\"\",注文書!D$18)","v":""},"","","","",null,null,null,null,null,null,null,null,null,null,null,null,null,"*"]
[null,null,null,null,null,null,null,null,null,null,null,936,null,null,null,null,null,null,null,null,{"$f":"IF($P940=\"\",\"\",注文書!D$18)","v":""},"","","","",null,null,null,null,null,null,null,null,null,null,null,null,null,"*"]
[null,null,null,null,null,null,null,null,null,null,null,937,null,null,null,null,null,null,null,null,{"$f":"IF($P941=\"\",\"\",注文書!D$18)","v":""},"","","","",null,null,null,null,null,null,null,null,null,null,null,null,null,"*"]
[null,null,null,null,null,null,null,null,null,null,null,938,null,null,null,null,null,null,null,null,{"$f":"IF($P942=\"\",\"\",注文書!D$18)","v":""},"","","","",null,null,null,null,null,null,null,null,null,null,null,null,null,"*"]
[null,null,null,null,null,null,null,null,null,null,null,939,null,null,null,null,null,null,null,null,{"$f":"IF($P943=\"\",\"\",注文書!D$18)","v":""},"","","","",null,null,null,null,null,null,null,null,null,null,null,null,null,"*"]
[null,null,null,null,null,null,null,null,null,null,null,940,null,null,null,null,null,null,null,null,{"$f":"IF($P944=\"\",\"\",注文書!D$18)","v":""},"","","","",null,null,null,null,null,null,null,null,null,null,null,null,null,"*"]
[null,null,null,null,null,null,null,null,null,null,null,941,null,null,null,null,null,null,null,null,{"$f":"IF($P945=\"\",\"\",注文書!D$18)","v":""},"","","","",null,null,null,null,null,null,null,null,null,null,null,null,null,"*"]
[null,null,null,null,null,null,null,null,null,null,null,942,null,null,null,null,null,null,null,null,{"$f":"IF($P946=\"\",\"\",注文書!D$18)","v":""},{"$f":"IF($P946=\"\",\"\",V$5)","v":""},"","","",null,null,null,null,null,null,null,null,null,null,null,null,null,"*"]
[null,null,null,null,null,null,null,null,null,null,null,943,null,null,null,null,null,null,null,null,{"$f":"IF($P947=\"\",\"\",注文書!D$18)","v":""},"","","","",null,null,null,null,null,null,null,null,null,null,null,null,null,"*"]
[null,null,null,null,null,null,null,null,null,null,null,944,null,null,null,null,null,null,null,null,{"$f":"IF($P948=\"\",\"\",注文書!D$18)","v":""},"","","","",null,null,null,null,null,null,null,null,null,null,null,null,null,"*"]
[null,null,null,null,null,null,null,null,null,null,null,945,null,null,null,null,null,null,null,null,{"$f":"IF($P949=\"\",\"\",注文書!D$18)","v":""},"","","","",null,null,null,null,null,null,null,null,null,null,null,null,null,"*"]
[null,null,null,null,null,null,null,null,null,null,null,946,null,null,null,null,null,null,null,null,{"$f":"IF($P950=\"\",\"\",注文書!D$18)","v":""},"","","","",null,null,null,null,null,null,null,null,null,null,null,null,null,"*"]
[null,null,null,null,null,null,null,null,null,null,null,947,null,null,null,null,null,null,null,null,{"$f":"IF($P951=\"\",\"\",注文書!D$18)","v":""},"","","","",null,null,null,null,null,null,null,null,null,null,null,null,null,"*"]
[null,null,null,null,null,null,null,null,null,null,null,948,null,null,null,null,null,null,null,null,{"$f":"IF($P952=\"\",\"\",注文書!D$18)","v":""},"","","","",null,null,null,null,null,null,null,null,null,null,null,null,null,"*"]
[null,null,null,null,null,null,null,null,null,null,null,949,null,null,null,null,null,null,null,null,{"$f":"IF($P953=\"\",\"\",注文書!D$18)","v":""},"","","","",null,null,null,null,null,null,null,null,null,null,null,null,null,"*"]
[null,null,null,null,null,null,null,null,null,null,null,950,null,null,null,null,null,null,null,null,{"$f":"IF($P954=\"\",\"\",注文書!D$18)","v":""},"","","","",null,null,null,null,null,null,null,null,null,null,null,null,null,"*"]
[null,null,null,null,null,null,null,null,null,null,null,951,null,null,null,null,null,null,null,null,{"$f":"IF($P955=\"\",\"\",注文書!D$18)","v":""},"","","","",null,null,null,null,null,null,null,null,null,null,null,null,null,"*"]
[null,null,null,null,null,null,null,null,null,null,null,952,null,null,null,null,null,null,null,null,{"$f":"IF($P956=\"\",\"\",注文書!D$18)","v":""},"","","","",null,null,null,null,null,null,null,null,null,null,null,null,null,"*"]
[null,null,null,null,null,null,null,null,null,null,null,953,null,null,null,null,null,null,null,null,{"$f":"IF($P957=\"\",\"\",注文書!D$18)","v":""},"","","","",null,null,null,null,null,null,null,null,null,null,null,null,null,"*"]
[null,null,null,null,null,null,null,null,null,null,null,954,null,null,null,null,null,null,null,null,{"$f":"IF($P958=\"\",\"\",注文書!D$18)","v":""},"","","","",null,null,null,null,null,null,null,null,null,null,null,null,null,"*"]
[null,null,null,null,null,null,null,null,null,null,null,955,null,null,null,null,null,null,null,null,{"$f":"IF($P959=\"\",\"\",注文書!D$18)","v":""},"","","","",null,null,null,null,null,null,null,null,null,null,null,null,null,"*"]
[null,null,null,null,null,null,null,null,null,null,null,956,null,null,null,null,null,null,null,null,{"$f":"IF($P960=\"\",\"\",注文書!D$18)","v":""},"","","","",null,null,null,null,null,null,null,null,null,null,null,null,null,"*"]
[null,null,null,null,null,null,null,null,null,null,null,957,null,null,null,null,null,null,null,null,{"$f":"IF($P961=\"\",\"\",注文書!D$18)","v":""},"","","","",null,null,null,null,null,null,null,null,null,null,null,null,null,"*"]
[null,null,null,null,null,null,null,null,null,null,null,958,null,null,null,null,null,null,null,null,{"$f":"IF($P962=\"\",\"\",注文書!D$18)","v":""},"","","","",null,null,null,null,null,null,null,null,null,null,null,null,null,"*"]
[null,null,null,null,null,null,null,null,null,null,null,959,null,null,null,null,null,null,null,null,{"$f":"IF($P963=\"\",\"\",注文書!D$18)","v":""},"","","","",null,null,null,null,null,null,null,null,null,null,null,null,null,"*"]
[null,null,null,null,null,null,null,null,null,null,null,960,null,null,null,null,null,null,null,null,{"$f":"IF($P964=\"\",\"\",注文書!D$18)","v":""},"","","","",null,null,null,null,null,null,null,null,null,null,null,null,null,"*"]
[null,null,null,null,null,null,null,null,null,null,null,{"$f":"ROW()-4","v":961},null,null,null,null,null,null,null,null,{"$f":"IF($P965=\"\",\"\",注文書!D$18)","v":""},"","","","",null,null,null,null,null,null,null,null,null,null,null,null,null,"*"]
[null,null,null,null,null,null,null,null,null,null,null,962,null,null,null,null,null,null,null,null,{"$f":"IF($P966=\"\",\"\",注文書!D$18)","v":""},{"$f":"IF($P966=\"\",\"\",V$5)","v":""},"","","",null,null,null,null,null,null,null,null,null,null,null,null,null,"*"]
[null,null,null,null,null,null,null,null,null,null,null,963,null,null,null,null,null,null,null,null,{"$f":"IF($P967=\"\",\"\",注文書!D$18)","v":""},"","","","",null,null,null,null,null,null,null,null,null,null,null,null,null,"*"]
[null,null,null,null,null,null,null,null,null,null,null,964,null,null,null,null,null,null,null,null,{"$f":"IF($P968=\"\",\"\",注文書!D$18)","v":""},"","","","",null,null,null,null,null,null,null,null,null,null,null,null,null,"*"]
[null,null,null,null,null,null,null,null,null,null,null,965,null,null,null,null,null,null,null,null,{"$f":"IF($P969=\"\",\"\",注文書!D$18)","v":""},"","","","",null,null,null,null,null,null,null,null,null,null,null,null,null,"*"]
[null,null,null,null,null,null,null,null,null,null,null,966,null,null,null,null,null,null,null,null,{"$f":"IF($P970=\"\",\"\",注文書!D$18)","v":""},"","","","",null,null,null,null,null,null,null,null,null,null,null,null,null,"*"]
[null,null,null,null,null,null,null,null,null,null,null,967,null,null,null,null,null,null,null,null,{"$f":"IF($P971=\"\",\"\",注文書!D$18)","v":""},"","","","",null,null,null,null,null,null,null,null,null,null,null,null,null,"*"]
[null,null,null,null,null,null,null,null,null,null,null,968,null,null,null,null,null,null,null,null,{"$f":"IF($P972=\"\",\"\",注文書!D$18)","v":""},"","","","",null,null,null,null,null,null,null,null,null,null,null,null,null,"*"]
[null,null,null,null,null,null,null,null,null,null,null,969,null,null,null,null,null,null,null,null,{"$f":"IF($P973=\"\",\"\",注文書!D$18)","v":""},"","","","",null,null,null,null,null,null,null,null,null,null,null,null,null,"*"]
[null,null,null,null,null,null,null,null,null,null,null,970,null,null,null,null,null,null,null,null,{"$f":"IF($P974=\"\",\"\",注文書!D$18)","v":""},"","","","",null,null,null,null,null,null,null,null,null,null,null,null,null,"*"]
[null,null,null,null,null,null,null,null,null,null,null,971,null,null,null,null,null,null,null,null,{"$f":"IF($P975=\"\",\"\",注文書!D$18)","v":""},"","","","",null,null,null,null,null,null,null,null,null,null,null,null,null,"*"]
[null,null,null,null,null,null,null,null,null,null,null,972,null,null,null,null,null,null,null,null,{"$f":"IF($P976=\"\",\"\",注文書!D$18)","v":""},"","","","",null,null,null,null,null,null,null,null,null,null,null,null,null,"*"]
[null,null,null,null,null,null,null,null,null,null,null,973,null,null,null,null,null,null,null,null,{"$f":"IF($P977=\"\",\"\",注文書!D$18)","v":""},"","","","",null,null,null,null,null,null,null,null,null,null,null,null,null,"*"]
[null,null,null,null,null,null,null,null,null,null,null,974,null,null,null,null,null,null,null,null,{"$f":"IF($P978=\"\",\"\",注文書!D$18)","v":""},"","","","",null,null,null,null,null,null,null,null,null,null,null,null,null,"*"]
[null,null,null,null,null,null,null,null,null,null,null,975,null,null,null,null,null,null,null,null,{"$f":"IF($P979=\"\",\"\",注文書!D$18)","v":""},"","","","",null,null,null,null,null,null,null,null,null,null,null,null,null,"*"]
[null,null,null,null,null,null,null,null,null,null,null,976,null,null,null,null,null,null,null,null,{"$f":"IF($P980=\"\",\"\",注文書!D$18)","v":""},"","","","",null,null,null,null,null,null,null,null,null,null,null,null,null,"*"]
[null,null,null,null,null,null,null,null,null,null,null,977,null,null,null,null,null,null,null,null,{"$f":"IF($P981=\"\",\"\",注文書!D$18)","v":""},"","","","",null,null,null,null,null,null,null,null,null,null,null,null,null,"*"]
[null,null,null,null,null,null,null,null,null,null,null,978,null,null,null,null,null,null,null,null,{"$f":"IF($P982=\"\",\"\",注文書!D$18)","v":""},"","","","",null,null,null,null,null,null,null,null,null,null,null,null,null,"*"]
[null,null,null,null,null,null,null,null,null,null,null,979,null,null,null,null,null,null,null,null,{"$f":"IF($P983=\"\",\"\",注文書!D$18)","v":""},"","","","",null,null,null,null,null,null,null,null,null,null,null,null,null,"*"]
[null,null,null,null,null,null,null,null,null,null,null,980,null,null,null,null,null,null,null,null,{"$f":"IF($P984=\"\",\"\",注文書!D$18)","v":""},"","","","",null,null,null,null,null,null,null,null,null,null,null,null,null,"*"]
[null,null,null,null,null,null,null,null,null,null,null,981,null,null,null,null,null,null,null,null,{"$f":"IF($P985=\"\",\"\",注文書!D$18)","v":""},"","","","",null,null,null,null,null,null,null,null,null,null,null,null,null,"*"]
[null,null,null,null,null,null,null,null,null,null,null,982,null,null,null,null,null,null,null,null,{"$f":"IF($P986=\"\",\"\",注文書!D$18)","v":""},{"$f":"IF($P986=\"\",\"\",V$5)","v":""},"","","",null,null,null,null,null,null,null,null,null,null,null,null,null,"*"]
[null,null,null,null,null,null,null,null,null,null,null,983,null,null,null,null,null,null,null,null,{"$f":"IF($P987=\"\",\"\",注文書!D$18)","v":""},"","","","",null,null,null,null,null,null,null,null,null,null,null,null,null,"*"]
[null,null,null,null,null,null,null,null,null,null,null,984,null,null,null,null,null,null,null,null,{"$f":"IF($P988=\"\",\"\",注文書!D$18)","v":""},"","","","",null,null,null,null,null,null,null,null,null,null,null,null,null,"*"]
[null,null,null,null,null,null,null,null,null,null,null,985,null,null,null,null,null,null,null,null,{"$f":"IF($P989=\"\",\"\",注文書!D$18)","v":""},"","","","",null,null,null,null,null,null,null,null,null,null,null,null,null,"*"]
[null,null,null,null,null,null,null,null,null,null,null,986,null,null,null,null,null,null,null,null,{"$f":"IF($P990=\"\",\"\",注文書!D$18)","v":""},"","","","",null,null,null,null,null,null,null,null,null,null,null,null,null,"*"]
[null,null,null,null,null,null,null,null,null,null,null,987,null,null,null,null,null,null,null,null,{"$f":"IF($P991=\"\",\"\",注文書!D$18)","v":""},"","","","",null,null,null,null,null,null,null,null,null,null,null,null,null,"*"]
[null,null,null,null,null,null,null,null,null,null,null,988,null,null,null,null,null,null,null,null,{"$f":"IF($P992=\"\",\"\",注文書!D$18)","v":""},"","","","",null,null,null,null,null,null,null,null,null,null,null,null,null,"*"]
[null,null,null,null,null,null,null,null,null,null,null,989,null,null,null,null,null,null,null,null,{"$f":"IF($P993=\"\",\"\",注文書!D$18)","v":""},"","","","",null,null,null,null,null,null,null,null,null,null,null,null,null,"*"]
[null,null,null,null,null,null,null,null,null,null,null,990,null,null,null,null,null,null,null,null,{"$f":"IF($P994=\"\",\"\",注文書!D$18)","v":""},"","","","",null,null,null,null,null,null,null,null,null,null,null,null,null,"*"]
[null,null,null,null,null,null,null,null,null,null,null,991,null,null,null,null,null,null,null,null,{"$f":"IF($P995=\"\",\"\",注文書!D$18)","v":""},"","","","",null,null,null,null,null,null,null,null,null,null,null,null,null,"*"]
[null,null,null,null,null,null,null,null,null,null,null,992,null,null,null,null,null,null,null,null,{"$f":"IF($P996=\"\",\"\",注文書!D$18)","v":""},"","","","",null,null,null,null,null,null,null,null,null,null,null,null,null,"*"]
[null,null,null,null,null,null,null,null,null,null,null,993,null,null,null,null,null,null,null,null,{"$f":"IF($P997=\"\",\"\",注文書!D$18)","v":""},"","","","",null,null,null,null,null,null,null,null,null,null,null,null,null,"*"]
[null,null,null,null,null,null,null,null,null,null,null,994,null,null,null,null,null,null,null,null,{"$f":"IF($P998=\"\",\"\",注文書!D$18)","v":""},"","","","",null,null,null,null,null,null,null,null,null,null,null,null,null,"*"]
[null,null,null,null,null,null,null,null,null,null,null,995,null,null,null,null,null,null,null,null,{"$f":"IF($P999=\"\",\"\",注文書!D$18)","v":""},"","","","",null,null,null,null,null,null,null,null,null,null,null,null,null,"*"]
[null,null,null,null,null,null,null,null,null,null,null,996,null,null,null,null,null,null,null,null,{"$f":"IF($P1000=\"\",\"\",注文書!D$18)","v":""},"","","","",null,null,null,null,null,null,null,null,null,null,null,null,null,"*"]
["*","*","*","*","*","*","*","*","*","*","*","*","*","*","*","*","*","*","*","*","*","*","*","*","*","*","*","*","*","*","*","*","*","*","*","*","*","*","*"]

{"sheet":"お急ぎ検体回収集荷情報書","index":3,"n_rows":1001,"n_cols":16,"rows_kept":1001,"cut":false,"hidden":false,"merged":[]}
["入力不要セル",null,null,null,null,null,null,null,null,null,null,null,null,null,"*"]
[null,null,"例","楽天グループ株式会社","PCR課課長　楽天太郎","050-5581-6910","158-0094","東京都","世田谷区","玉川1-14-1 楽天クリムゾンハウス（本社）","taro.rakuten@rakuten.com","2021-07-01","09:00:00",null,"*"]
["楽天使用列",null,"No","配送先情報",null,null,null,null,null,null,null,"希望集荷日","希望集荷時間",null,"*"]
["案件ID",null,null,"受取者の企業名","担当部署と氏名","担当者連絡先","郵便番号(半角ハイフンあり)","都道府県","市区町村","町名・番地以降","担当者メールアドレス",null,null,null,"*"]
[null,null,{"$f":"ROW()-4","v":1},null,null,null,null,null,null,null,null,null,null,null,"*"]
[null,null,{"$f":"ROW()-4","v":2},null,null,null,null,null,null,null,null,{"$f":"IF($H6=\"\",\"\",L$5)","v":""},null,null,"*"]
[null,null,3,null,null,null,null,null,null,null,null,{"$f":"IF($H7=\"\",\"\",L$5)","v":""},null,null,"*"]
[null,null,4,null,null,null,null,null,null,null,null,null,null,null,"*","09:00:00"]
[null,null,5,null,null,null,null,null,null,null,null,null,null,null,"*","10:00:00"]
[null,null,6,null,null,null,null,null,null,null,null,null,null,null,"*","11:00:00"]
[null,null,7,null,null,null,null,null,null,null,null,null,null,null,"*","12:00:00"]
[null,null,8,null,null,null,null,null,null,null,null,null,null,null,"*","13:00:00"]
[null,null,9,null,null,null,null,null,null,null,null,null,null,null,"*","14:00:00"]
[null,null,10,null,null,null,null,null,null,null,null,null,null,null,"*","15:00:00"]
[null,null,11,null,null,null,null,null,null,null,null,null,null,null,"*","16:00:00"]
[null,null,12,null,null,null,null,null,null,null,null,null,null,null,"*"]
[null,null,13,null,null,null,null,null,null,null,null,null,null,null,"*"]
[null,null,14,null,null,null,null,null,null,null,null,null,null,null,"*"]
[null,null,15,null,null,null,null,null,null,null,null,null,null,null,"*"]
[null,null,16,null,null,null,null,null,null,null,null,null,null,null,"*"]
[null,null,17,null,null,null,null,null,null,null,null,null,null,null,"*"]
[null,null,18,null,null,null,null,null,null,null,null,null,null,null,"*"]
[null,null,19,null,null,null,null,null,null,null,null,null,null,null,"*"]
[null,null,20,null,null,null,null,null,null,null,null,null,null,null,"*"]
[null,null,21,null,null,null,null,null,null,null,null,null,null,null,"*"]
[null,null,22,null,null,null,null,null,null,null,null,null,null,null,"*"]
[null,null,23,null,null,null,null,null,null,null,null,null,null,null,"*"]
[null,null,24,null,null,null,null,null,null,null,null,null,null,null,"*"]
[null,null,25,null,null,null,null,null,null,null,null,null,null,null,"*"]
[null,null,26,null,null,null,null,null,null,null,null,null,null,null,"*"]
[null,null,27,null,null,null,null,null,null,null,null,null,null,null,"*"]
[null,null,28,null,null,null,null,null,null,null,null,null,null,null,"*"]
[null,null,29,null,null,null,null,null,null,null,null,null,null,null,"*"]
[null,null,30,null,null,null,null,null,null,null,null,null,null,null,"*"]
[null,null,31,null,null,null,null,null,null,null,null,null,null,null,"*"]
[null,null,32,null,null,null,null,null,null,null,null,null,null,null,"*"]
[null,null,33,null,null,null,null,null,null,null,null,null,null,null,"*"]
[null,null,34,null,null,null,null,null,null,null,null,null,null,null,"*"]
[null,null,35,null,null,null,null,null,null,null,null,null,null,null,"*"]
[null,null,36,null,null,null,null,null,null,null,null,null,null,null,"*"]
[null,null,37,null,null,null,null,null,null,null,null,null,null,null,"*"]
[null,null,38,null,null,null,null,null,null,null,null,null,null,null,"*"]
[null,null,39,null,null,null,null,null,null,null,null,null,null,null,"*"]
[null,null,40,null,null,null,null,null,null,null,null,null,null,null,"*"]
[null,null,41,null,null,null,null,null,null,null,null,null,null,null,"*"]
[null,null,42,null,null,null,null,null,null,null,null,null,null,null,"*"]
[null,null,43,null,null,null,null,null,null,null,null,null,null,null,"*"]
[null,null,44,null,null,null,null,null,null,null,null,null,null,null,"*"]
[null,null,45,null,null,null,null,null,null,null,null,null,null,null,"*"]
[null,null,46,null,null,null,null,null,null,null,null,null,null,null,"*"]
[null,null,47,null,null,null,null,null,null,null,null,null,null,null,"*"]
[null,null,48,null,null,null,null,null,null,null,null,null,null,null,"*"]
[null,null,49,null,null,null,null,null,null,null,null,null,null,null,"*"]
[null,null,50,null,null,null,null,null,null,null,null,null,null,null,"*"]
[null,null,51,null,null,null,null,null,null,null,null,null,null,null,"*"]
[null,null,52,null,null,null,null,null,null,null,null,null,null,null,"*"]
[null,null,53,null,null,null,null,null,null,null,null,null,null,null,"*"]
[null,null,54,null,null,null,null,null,null,null,null,null,null,null,"*"]
[null,null,55,null,null,null,null,null,null,null,null,null,null,null,"*"]
[null,null,56,null,null,null,null,null,null,null,null,null,null,null,"*"]
[null,null,57,null,null,null,null,null,null,null,null,null,null,null,"*"]
[null,null,58,null,null,null,null,null,null,null,null,null,null,null,"*"]
[null,null,59,null,null,null,null,null,null,null,null,null,null,null,"*"]
[null,null,60,null,null,null,null,null,null,null,null,null,null,null,"*"]
[null,null,61,null,null,null,null,null,null,null,null,null,null,null,"*"]
[null,null,62,null,null,null,null,null,null,null,null,null,null,null,"*"]
[null,null,63,null,null,null,null,null,null,null,null,null,null,null,"*"]
[null,null,64,null,null,null,null,null,null,null,null,null,null,null,"*"]
[null,null,{"$f":"ROW()-4","v":65},null,null,null,null,null,null,null,null,null,null,null,"*"]
[null,null,66,null,null,null,null,null,null,null,null,null,null,null,"*"]
[null,null,67,null,null,null,null,null,null,null,null,null,null,null,"*"]
[null,null,68,null,null,null,null,null,null,null,null,null,null,null,"*"]
[null,null,69,null,null,null,null,null,null,null,null,null,null,null,"*"]
[null,null,70,null,null,null,null,null,null,null,null,null,null,null,"*"]
[null,null,71,null,null,null,null,null,null,null,null,null,null,null,"*"]
[null,null,72,null,null,null,null,null,null,null,null,null,null,null,"*"]
[null,null,73,null,null,null,null,null,null,null,null,null,null,null,"*"]
[null,null,74,null,null,null,null,null,null,null,null,null,null,null,"*"]
[null,null,75,null,null,null,null,null,null,null,null,null,null,null,"*"]
[null,null,76,null,null,null,null,null,null,null,null,null,null,null,"*"]
[null,null,77,null,null,null,null,null,null,null,null,null,null,null,"*"]
[null,null,78,null,null,null,null,null,null,null,null,null,null,null,"*"]
[null,null,79,null,null,null,null,null,null,null,null,null,null,null,"*"]
[null,null,80,null,null,null,null,null,null,null,null,null,null,null,"*"]
[null,null,81,null,null,null,null,null,null,null,null,null,null,null,"*"]
[null,null,82,null,null,null,null,null,null,null,null,null,null,null,"*"]
[null,null,83,null,null,null,null,null,null,null,null,null,null,null,"*"]
[null,null,84,null,null,null,null,null,null,null,null,null,null,null,"*"]
[null,null,85,null,null,null,null,null,null,null,null,null,null,null,"*"]
[null,null,86,null,null,null,null,null,null,null,null,null,null,null,"*"]
[null,null,87,null,null,null,null,null,null,null,null,null,null,null,"*"]
[null,null,88,null,null,null,null,null,null,null,null,null,null,null,"*"]
[null,null,89,null,null,null,null,null,null,null,null,null,null,null,"*"]
[null,null,90,null,null,null,null,null,null,null,null,null,null,null,"*"]
[null,null,91,null,null,null,null,null,null,null,null,null,null,null,"*"]
[null,null,92,null,null,null,null,null,null,null,null,null,null,null,"*"]
[null,null,93,null,null,null,null,null,null,null,null,null,null,null,"*"]
[null,null,94,null,null,null,null,null,null,null,null,null,null,null,"*"]
[null,null,95,null,null,null,null,null,null,null,null,null,null,null,"*"]
[null,null,96,null,null,null,null,null,null,null,null,null,null,null,"*"]
[null,null,97,null,null,null,null,null,null,null,null,null,null,null,"*"]
[null,null,98,null,null,null,null,null,null,null,null,null,null,null,"*"]
[null,null,99,null,null,null,null,null,null,null,null,null,null,null,"*"]
[null,null,100,null,null,null,null,null,null,null,null,null,null,null,"*"]
[null,null,101,null,null,null,null,null,null,null,null,null,null,null,"*"]
[null,null,102,null,null,null,null,null,null,null,null,null,null,null,"*"]
[null,null,103,null,null,null,null,null,null,null,null,null,null,null,"*"]
[null,null,104,null,null,null,null,null,null,null,null,null,null,null,"*"]
[null,null,105,null,null,null,null,null,null,null,null,null,null,null,"*"]
[null,null,106,null,null,null,null,null,null,null,null,null,null,null,"*"]
[null,null,107,null,null,null,null,null,null,null,null,null,null,null,"*"]
[null,null,108,null,null,null,null,null,null,null,null,null,null,null,"*"]
[null,null,109,null,null,null,null,null,null,null,null,null,null,null,"*"]
[null,null,110,null,null,null,null,null,null,null,null,null,null,null,"*"]
[null,null,111,null,null,null,null,null,null,null,null,null,null,null,"*"]
[null,null,112,null,null,null,null,null,null,null,null,null,null,null,"*"]
[null,null,113,null,null,null,null,null,null,null,null,null,null,null,"*"]
[null,null,114,null,null,null,null,null,null,null,null,null,null,null,"*"]
[null,null,115,null,null,null,null,null,null,null,null,null,null,null,"*"]
[null,null,116,null,null,null,null,null,null,null,null,null,null,null,"*"]
[null,null,117,null,null,null,null,null,null,null,null,null,null,null,"*"]
[null,null,118,null,null,null,null,null,null,null,null,null,null,null,"*"]
[null,null,119,null,null,null,null,null,null,null,null,null,null,null,"*"]
[null,null,120,null,null,null,null,null,null,null,null,null,null,null,"*"]
[null,null,121,null,null,null,null,null,null,null,null,null,null,null,"*"]
[null,null,122,null,null,null,null,null,null,null,null,null,null,null,"*"]
[null,null,123,null,null,null,null,null,null,null,null,null,null,null,"*"]
[null,null,124,null,null,null,null,null,null,null,null,null,null,null,"*"]
[null,null,125,null,null,null,null,null,null,null,null,null,null,null,"*"]
[null,null,126,null,null,null,null,null,null,null,null,null,null,null,"*"]
[null,null,127,null,null,null,null,null,null,null,null,null,null,null,"*"]
[null,null,128,null,null,null,null,null,null,null,null,null,null,null,"*"]
[null,null,{"$f":"ROW()-4","v":129},null,null,null,null,null,null,null,null,null,null,null,"*"]
[null,null,130,null,null,null,null,null,null,null,null,null,null,null,"*"]
[null,null,131,null,null,null,null,null,null,null,null,null,null,null,"*"]
[null,null,132,null,null,null,null,null,null,null,null,null,null,null,"*"]
[null,null,133,null,null,null,null,null,null,null,null,null,null,null,"*"]
[null,null,134,null,null,null,null,null,null,null,null,null,null,null,"*"]
[null,null,135,null,null,null,null,null,null,null,null,null,null,null,"*"]
[null,null,136,null,null,null,null,null,null,null,null,null,null,null,"*"]
[null,null,137,null,null,null,null,null,null,null,null,null,null,null,"*"]
[null,null,138,null,null,null,null,null,null,null,null,null,null,null,"*"]
[null,null,139,null,null,null,null,null,null,null,null,null,null,null,"*"]
[null,null,140,null,null,null,null,null,null,null,null,null,null,null,"*"]
[null,null,141,null,null,null,null,null,null,null,null,null,null,null,"*"]
[null,null,142,null,null,null,null,null,null,null,null,null,null,null,"*"]
[null,null,143,null,null,null,null,null,null,null,null,null,null,null,"*"]
[null,null,144,null,null,null,null,null,null,null,null,null,null,null,"*"]
[null,null,145,null,null,null,null,null,null,null,null,null,null,null,"*"]
[null,null,146,null,null,null,null,null,null,null,null,null,null,null,"*"]
[null,null,147,null,null,null,null,null,null,null,null,null,null,null,"*"]
[null,null,148,null,null,null,null,null,null,null,null,null,null,null,"*"]
[null,null,149,null,null,null,null,null,null,null,null,null,null,null,"*"]
[null,null,150,null,null,null,null,null,null,null,null,null,null,null,"*"]
[null,null,151,null,null,null,null,null,null,null,null,null,null,null,"*"]
[null,null,152,null,null,null,null,null,null,null,null,null,null,null,"*"]
[null,null,153,null,null,null,null,null,null,null,null,null,null,null,"*"]
[null,null,154,null,null,null,null,null,null,null,null,null,null,null,"*"]
[null,null,155,null,null,null,null,null,null,null,null,null,null,null,"*"]
[null,null,156,null,null,null,null,null,null,null,null,null,null,null,"*"]
[null,null,157,null,null,null,null,null,null,null,null,null,null,null,"*"]
[null,null,158,null,null,null,null,null,null,null,null,null,null,null,"*"]
[null,null,159,null,null,null,null,null,null,null,null,null,null,null,"*"]
[null,null,160,null,null,null,null,null,null,null,null,null,null,null,"*"]
[null,null,161,null,null,null,null,null,null,null,null,null,null,null,"*"]
[null,null,162,null,null,null,null,null,null,null,null,null,null,null,"*"]
[null,null,163,null,null,null,null,null,null,null,null,null,null,null,"*"]
[null,null,164,null,null,null,null,null,null,null,null,null,null,null,"*"]
[null,null,165,null,null,null,null,null,null,null,null,null,null,null,"*"]
[null,null,166,null,null,null,null,null,null,null,null,null,null,null,"*"]
[null,null,167,null,null,null,null,null,null,null,null,null,null,null,"*"]
[null,null,168,null,null,null,null,null,null,null,null,null,null,null,"*"]
[null,null,169,null,null,null,null,null,null,null,null,null,null,null,"*"]
[null,null,170,null,null,null,null,null,null,null,null,null,null,null,"*"]
[null,null,171,null,null,null,null,null,null,null,null,null,null,null,"*"]
[null,null,172,null,null,null,null,null,null,null,null,null,null,null,"*"]
[null,null,173,null,null,null,null,null,null,null,null,null,null,null,"*"]
[null,null,174,null,null,null,null,null,null,null,null,null,null,null,"*"]
[null,null,175,null,null,null,null,null,null,null,null,null,null,null,"*"]
[null,null,176,null,null,null,null,null,null,null,null,null,null,null,"*"]
[null,null,177,null,null,null,null,null,null,null,null,null,null,null,"*"]
[null,null,178,null,null,null,null,null,null,null,null,null,null,null,"*"]
[null,null,179,null,null,null,null,null,null,null,null,null,null,null,"*"]
[null,null,180,null,null,null,null,null,null,null,null,null,null,null,"*"]
[null,null,181,null,null,null,null,null,null,null,null,null,null,null,"*"]
[null,null,182,null,null,null,null,null,null,null,null,null,null,null,"*"]
[null,null,183,null,null,null,null,null,null,null,null,null,null,null,"*"]
[null,null,184,null,null,null,null,null,null,null,null,null,null,null,"*"]
[null,null,185,null,null,null,null,null,null,null,null,null,null,null,"*"]
[null,null,186,null,null,null,null,null,null,null,null,null,null,null,"*"]
[null,null,187,null,null,null,null,null,null,null,null,null,null,null,"*"]
[null,null,188,null,null,null,null,null,null,null,null,null,null,null,"*"]
[null,null,189,null,null,null,null,null,null,null,null,null,null,null,"*"]
[null,null,190,null,null,null,null,null,null,null,null,null,null,null,"*"]
[null,null,191,null,null,null,null,null,null,null,null,null,null,null,"*"]
[null,null,192,null,null,null,null,null,null,null,null,null,null,null,"*"]
[null,null,{"$f":"ROW()-4","v":193},null,null,null,null,null,null,null,null,null,null,null,"*"]
[null,null,194,null,null,null,null,null,null,null,null,null,null,null,"*"]
[null,null,195,null,null,null,null,null,null,null,null,null,null,null,"*"]
[null,null,196,null,null,null,null,null,null,null,null,null,null,null,"*"]
[null,null,197,null,null,null,null,null,null,null,null,null,null,null,"*"]
[null,null,198,null,null,null,null,null,null,null,null,null,null,null,"*"]
[null,null,199,null,null,null,null,null,null,null,null,null,null,null,"*"]
[null,null,200,null,null,null,null,null,null,null,null,null,null,null,"*"]
[null,null,201,null,null,null,null,null,null,null,null,null,null,null,"*"]
[null,null,202,null,null,null,null,null,null,null,null,null,null,null,"*"]
[null,null,203,null,null,null,null,null,null,null,null,null,null,null,"*"]
[null,null,204,null,null,null,null,null,null,null,null,null,null,null,"*"]
[null,null,205,null,null,null,null,null,null,null,null,null,null,null,"*"]
[null,null,206,null,null,null,null,null,null,null,null,null,null,null,"*"]
[null,null,207,null,null,null,null,null,null,null,null,null,null,null,"*"]
[null,null,208,null,null,null,null,null,null,null,null,null,null,null,"*"]
[null,null,209,null,null,null,null,null,null,null,null,null,null,null,"*"]
[null,null,210,null,null,null,null,null,null,null,null,null,null,null,"*"]
[null,null,211,null,null,null,null,null,null,null,null,null,null,null,"*"]
[null,null,212,null,null,null,null,null,null,null,null,null,null,null,"*"]
[null,null,213,null,null,null,null,null,null,null,null,null,null,null,"*"]
[null,null,214,null,null,null,null,null,null,null,null,null,null,null,"*"]
[null,null,215,null,null,null,null,null,null,null,null,null,null,null,"*"]
[null,null,216,null,null,null,null,null,null,null,null,null,null,null,"*"]
[null,null,217,null,null,null,null,null,null,null,null,null,null,null,"*"]
[null,null,218,null,null,null,null,null,null,null,null,null,null,null,"*"]
[null,null,219,null,null,null,null,null,null,null,null,null,null,null,"*"]
[null,null,220,null,null,null,null,null,null,null,null,null,null,null,"*"]
[null,null,221,null,null,null,null,null,null,null,null,null,null,null,"*"]
[null,null,222,null,null,null,null,null,null,null,null,null,null,null,"*"]
[null,null,223,null,null,null,null,null,null,null,null,null,null,null,"*"]
[null,null,224,null,null,null,null,null,null,null,null,null,null,null,"*"]
[null,null,225,null,null,null,null,null,null,null,null,null,null,null,"*"]
[null,null,226,null,null,null,null,null,null,null,null,null,null,null,"*"]
[null,null,227,null,null,null,null,null,null,null,null,null,null,null,"*"]
[null,null,228,null,null,null,null,null,null,null,null,null,null,null,"*"]
[null,null,229,null,null,null,null,null,null,null,null,null,null,null,"*"]
[null,null,230,null,null,null,null,null,null,null,null,null,null,null,"*"]
[null,null,231,null,null,null,null,null,null,null,null,null,null,null,"*"]
[null,null,232,null,null,null,null,null,null,null,null,null,null,null,"*"]
[null,null,233,null,null,null,null,null,null,null,null,null,null,null,"*"]
[null,null,234,null,null,null,null,null,null,null,null,null,null,null,"*"]
[null,null,235,null,null,null,null,null,null,null,null,null,null,null,"*"]
[null,null,236,null,null,null,null,null,null,null,null,null,null,null,"*"]
[null,null,237,null,null,null,null,null,null,null,null,null,null,null,"*"]
[null,null,238,null,null,null,null,null,null,null,null,null,null,null,"*"]
[null,null,239,null,null,null,null,null,null,null,null,null,null,null,"*"]
[null,null,240,null,null,null,null,null,null,null,null,null,null,null,"*"]
[null,null,241,null,null,null,null,null,null,null,null,null,null,null,"*"]
[null,null,242,null,null,null,null,null,null,null,null,null,null,null,"*"]
[null,null,243,null,null,null,null,null,null,null,null,null,null,null,"*"]
[null,null,244,null,null,null,null,null,null,null,null,null,null,null,"*"]
[null,null,245,null,null,null,null,null,null,null,null,null,null,null,"*"]
[null,null,246,null,null,null,null,null,null,null,null,null,null,null,"*"]
[null,null,247,null,null,null,null,null,null,null,null,null,null,null,"*"]
[null,null,248,null,null,null,null,null,null,null,null,null,null,null,"*"]
[null,null,249,null,null,null,null,null,null,null,null,null,null,null,"*"]
[null,null,250,null,null,null,null,null,null,null,null,null,null,null,"*"]
[null,null,251,null,null,null,null,null,null,null,null,null,null,null,"*"]
[null,null,252,null,null,null,null,null,null,null,null,null,null,null,"*"]
[null,null,253,null,null,null,null,null,null,null,null,null,null,null,"*"]
[null,null,254,null,null,null,null,null,null,null,null,null,null,null,"*"]
[null,null,255,null,null,null,null,null,null,null,null,null,null,null,"*"]
[null,null,256,null,null,null,null,null,null,null,null,null,null,null,"*"]
[null,null,{"$f":"ROW()-4","v":257},null,null,null,null,null,null,null,null,null,null,null,"*"]
[null,null,258,null,null,null,null,null,null,null,null,null,null,null,"*"]
[null,null,259,null,null,null,null,null,null,null,null,null,null,null,"*"]
[null,null,260,null,null,null,null,null,null,null,null,null,null,null,"*"]
[null,null,261,null,null,null,null,null,null,null,null,null,null,null,"*"]
[null,null,262,null,null,null,null,null,null,null,null,null,null,null,"*"]
[null,null,263,null,null,null,null,null,null,null,null,null,null,null,"*"]
[null,null,264,null,null,null,null,null,null,null,null,null,null,null,"*"]
[null,null,265,null,null,null,null,null,null,null,null,null,null,null,"*"]
[null,null,266,null,null,null,null,null,null,null,null,null,null,null,"*"]
[null,null,267,null,null,null,null,null,null,null,null,null,null,null,"*"]
[null,null,268,null,null,null,null,null,null,null,null,null,null,null,"*"]
[null,null,269,null,null,null,null,null,null,null,null,null,null,null,"*"]
[null,null,270,null,null,null,null,null,null,null,null,null,null,null,"*"]
[null,null,271,null,null,null,null,null,null,null,null,null,null,null,"*"]
[null,null,272,null,null,null,null,null,null,null,null,null,null,null,"*"]
[null,null,273,null,null,null,null,null,null,null,null,null,null,null,"*"]
[null,null,274,null,null,null,null,null,null,null,null,null,null,null,"*"]
[null,null,275,null,null,null,null,null,null,null,null,null,null,null,"*"]
[null,null,276,null,null,null,null,null,null,null,null,null,null,null,"*"]
[null,null,277,null,null,null,null,null,null,null,null,null,null,null,"*"]
[null,null,278,null,null,null,null,null,null,null,null,null,null,null,"*"]
[null,null,279,null,null,null,null,null,null,null,null,null,null,null,"*"]
[null,null,280,null,null,null,null,null,null,null,null,null,null,null,"*"]
[null,null,281,null,null,null,null,null,null,null,null,null,null,null,"*"]
[null,null,282,null,null,null,null,null,null,null,null,null,null,null,"*"]
[null,null,283,null,null,null,null,null,null,null,null,null,null,null,"*"]
[null,null,284,null,null,null,null,null,null,null,null,null,null,null,"*"]
[null,null,285,null,null,null,null,null,null,null,null,null,null,null,"*"]
[null,null,286,null,null,null,null,null,null,null,null,null,null,null,"*"]
[null,null,287,null,null,null,null,null,null,null,null,null,null,null,"*"]
[null,null,288,null,null,null,null,null,null,null,null,null,null,null,"*"]
[null,null,289,null,null,null,null,null,null,null,null,null,null,null,"*"]
[null,null,290,null,null,null,null,null,null,null,null,null,null,null,"*"]
[null,null,291,null,null,null,null,null,null,null,null,null,null,null,"*"]
[null,null,292,null,null,null,null,null,null,null,null,null,null,null,"*"]
[null,null,293,null,null,null,null,null,null,null,null,null,null,null,"*"]
[null,null,294,null,null,null,null,null,null,null,null,null,null,null,"*"]
[null,null,295,null,null,null,null,null,null,null,null,null,null,null,"*"]
[null,null,296,null,null,null,null,null,null,null,null,null,null,null,"*"]
[null,null,297,null,null,null,null,null,null,null,null,null,null,null,"*"]
[null,null,298,null,null,null,null,null,null,null,null,null,null,null,"*"]
[null,null,299,null,null,null,null,null,null,null,null,null,null,null,"*"]
[null,null,300,null,null,null,null,null,null,null,null,null,null,null,"*"]
[null,null,301,null,null,null,null,null,null,null,null,null,null,null,"*"]
[null,null,302,null,null,null,null,null,null,null,null,null,null,null,"*"]
[null,null,303,null,null,null,null,null,null,null,null,null,null,null,"*"]
[null,null,304,null,null,null,null,null,null,null,null,null,null,null,"*"]
[null,null,305,null,null,null,null,null,null,null,null,null,null,null,"*"]
[null,null,306,null,null,null,null,null,null,null,null,null,null,null,"*"]
[null,null,307,null,null,null,null,null,null,null,null,null,null,null,"*"]
[null,null,308,null,null,null,null,null,null,null,null,null,null,null,"*"]
[null,null,309,null,null,null,null,null,null,null,null,null,null,null,"*"]
[null,null,310,null,null,null,null,null,null,null,null,null,null,null,"*"]
[null,null,311,null,null,null,null,null,null,null,null,null,null,null,"*"]
[null,null,312,null,null,null,null,null,null,null,null,null,null,null,"*"]
[null,null,313,null,null,null,null,null,null,null,null,null,null,null,"*"]
[null,null,314,null,null,null,null,null,null,null,null,null,null,null,"*"]
[null,null,315,null,null,null,null,null,null,null,null,null,null,null,"*"]
[null,null,316,null,null,null,null,null,null,null,null,null,null,null,"*"]
[null,null,317,null,null,null,null,null,null,null,null,null,null,null,"*"]
[null,null,318,null,null,null,null,null,null,null,null,null,null,null,"*"]
[null,null,319,null,null,null,null,null,null,null,null,null,null,null,"*"]
[null,null,320,null,null,null,null,null,null,null,null,null,null,null,"*"]
[null,null,{"$f":"ROW()-4","v":321},null,null,null,null,null,null,null,null,null,null,null,"*"]
[null,null,322,null,null,null,null,null,null,null,null,null,null,null,"*"]
[null,null,323,null,null,null,null,null,null,null,null,null,null,null,"*"]
[null,null,324,null,null,null,null,null,null,null,null,null,null,null,"*"]
[null,null,325,null,null,null,null,null,null,null,null,null,null,null,"*"]
[null,null,326,null,null,null,null,null,null,null,null,null,null,null,"*"]
[null,null,327,null,null,null,null,null,null,null,null,null,null,null,"*"]
[null,null,328,null,null,null,null,null,null,null,null,null,null,null,"*"]
[null,null,329,null,null,null,null,null,null,null,null,null,null,null,"*"]
[null,null,330,null,null,null,null,null,null,null,null,null,null,null,"*"]
[null,null,331,null,null,null,null,null,null,null,null,null,null,null,"*"]
[null,null,332,null,null,null,null,null,null,null,null,null,null,null,"*"]
[null,null,333,null,null,null,null,null,null,null,null,null,null,null,"*"]
[null,null,334,null,null,null,null,null,null,null,null,null,null,null,"*"]
[null,null,335,null,null,null,null,null,null,null,null,null,null,null,"*"]
[null,null,336,null,null,null,null,null,null,null,null,null,null,null,"*"]
[null,null,337,null,null,null,null,null,null,null,null,null,null,null,"*"]
[null,null,338,null,null,null,null,null,null,null,null,null,null,null,"*"]
[null,null,339,null,null,null,null,null,null,null,null,null,null,null,"*"]
[null,null,340,null,null,null,null,null,null,null,null,null,null,null,"*"]
[null,null,341,null,null,null,null,null,null,null,null,null,null,null,"*"]
[null,null,342,null,null,null,null,null,null,null,null,null,null,null,"*"]
[null,null,343,null,null,null,null,null,null,null,null,null,null,null,"*"]
[null,null,344,null,null,null,null,null,null,null,null,null,null,null,"*"]
[null,null,345,null,null,null,null,null,null,null,null,null,null,null,"*"]
[null,null,346,null,null,null,null,null,null,null,null,null,null,null,"*"]
[null,null,347,null,null,null,null,null,null,null,null,null,null,null,"*"]
[null,null,348,null,null,null,null,null,null,null,null,null,null,null,"*"]
[null,null,349,null,null,null,null,null,null,null,null,null,null,null,"*"]
[null,null,350,null,null,null,null,null,null,null,null,null,null,null,"*"]
[null,null,351,null,null,null,null,null,null,null,null,null,null,null,"*"]
[null,null,352,null,null,null,null,null,null,null,null,null,null,null,"*"]
[null,null,353,null,null,null,null,null,null,null,null,null,null,null,"*"]
[null,null,354,null,null,null,null,null,null,null,null,null,null,null,"*"]
[null,null,355,null,null,null,null,null,null,null,null,null,null,null,"*"]
[null,null,356,null,null,null,null,null,null,null,null,null,null,null,"*"]
[null,null,357,null,null,null,null,null,null,null,null,null,null,null,"*"]
[null,null,358,null,null,null,null,null,null,null,null,null,null,null,"*"]
[null,null,359,null,null,null,null,null,null,null,null,null,null,null,"*"]
[null,null,360,null,null,null,null,null,null,null,null,null,null,null,"*"]
[null,null,361,null,null,null,null,null,null,null,null,null,null,null,"*"]
[null,null,362,null,null,null,null,null,null,null,null,null,null,null,"*"]
[null,null,363,null,null,null,null,null,null,null,null,null,null,null,"*"]
[null,null,364,null,null,null,null,null,null,null,null,null,null,null,"*"]
[null,null,365,null,null,null,null,null,null,null,null,null,null,null,"*"]
[null,null,366,null,null,null,null,null,null,null,null,null,null,null,"*"]
[null,null,367,null,null,null,null,null,null,null,null,null,null,null,"*"]
[null,null,368,null,null,null,null,null,null,null,null,null,null,null,"*"]
[null,null,369,null,null,null,null,null,null,null,null,null,null,null,"*"]
[null,null,370,null,null,null,null,null,null,null,null,null,null,null,"*"]
[null,null,371,null,null,null,null,null,null,null,null,null,null,null,"*"]
[null,null,372,null,null,null,null,null,null,null,null,null,null,null,"*"]
[null,null,373,null,null,null,null,null,null,null,null,null,null,null,"*"]
[null,null,374,null,null,null,null,null,null,null,null,null,null,null,"*"]
[null,null,375,null,null,null,null,null,null,null,null,null,null,null,"*"]
[null,null,376,null,null,null,null,null,null,null,null,null,null,null,"*"]
[null,null,377,null,null,null,null,null,null,null,null,null,null,null,"*"]
[null,null,378,null,null,null,null,null,null,null,null,null,null,null,"*"]
[null,null,379,null,null,null,null,null,null,null,null,null,null,null,"*"]
[null,null,380,null,null,null,null,null,null,null,null,null,null,null,"*"]
[null,null,381,null,null,null,null,null,null,null,null,null,null,null,"*"]
[null,null,382,null,null,null,null,null,null,null,null,null,null,null,"*"]
[null,null,383,null,null,null,null,null,null,null,null,null,null,null,"*"]
[null,null,384,null,null,null,null,null,null,null,null,null,null,null,"*"]
[null,null,{"$f":"ROW()-4","v":385},null,null,null,null,null,null,null,null,null,null,null,"*"]
[null,null,386,null,null,null,null,null,null,null,null,null,null,null,"*"]
[null,null,387,null,null,null,null,null,null,null,null,null,null,null,"*"]
[null,null,388,null,null,null,null,null,null,null,null,null,null,null,"*"]
[null,null,389,null,null,null,null,null,null,null,null,null,null,null,"*"]
[null,null,390,null,null,null,null,null,null,null,null,null,null,null,"*"]
[null,null,391,null,null,null,null,null,null,null,null,null,null,null,"*"]
[null,null,392,null,null,null,null,null,null,null,null,null,null,null,"*"]
[null,null,393,null,null,null,null,null,null,null,null,null,null,null,"*"]
[null,null,394,null,null,null,null,null,null,null,null,null,null,null,"*"]
[null,null,395,null,null,null,null,null,null,null,null,null,null,null,"*"]
[null,null,396,null,null,null,null,null,null,null,null,null,null,null,"*"]
[null,null,397,null,null,null,null,null,null,null,null,null,null,null,"*"]
[null,null,398,null,null,null,null,null,null,null,null,null,null,null,"*"]
[null,null,399,null,null,null,null,null,null,null,null,null,null,null,"*"]
[null,null,400,null,null,null,null,null,null,null,null,null,null,null,"*"]
[null,null,401,null,null,null,null,null,null,null,null,null,null,null,"*"]
[null,null,402,null,null,null,null,null,null,null,null,null,null,null,"*"]
[null,null,403,null,null,null,null,null,null,null,null,null,null,null,"*"]
[null,null,404,null,null,null,null,null,null,null,null,null,null,null,"*"]
[null,null,405,null,null,null,null,null,null,null,null,null,null,null,"*"]
[null,null,406,null,null,null,null,null,null,null,null,null,null,null,"*"]
[null,null,407,null,null,null,null,null,null,null,null,null,null,null,"*"]
[null,null,408,null,null,null,null,null,null,null,null,null,null,null,"*"]
[null,null,409,null,null,null,null,null,null,null,null,null,null,null,"*"]
[null,null,410,null,null,null,null,null,null,null,null,null,null,null,"*"]
[null,null,411,null,null,null,null,null,null,null,null,null,null,null,"*"]
[null,null,412,null,null,null,null,null,null,null,null,null,null,null,"*"]
[null,null,413,null,null,null,null,null,null,null,null,null,null,null,"*"]
[null,null,414,null,null,null,null,null,null,null,null,null,null,null,"*"]
[null,null,415,null,null,null,null,null,null,null,null,null,null,null,"*"]
[null,null,416,null,null,null,null,null,null,null,null,null,null,null,"*"]
[null,null,417,null,null,null,null,null,null,null,null,null,null,null,"*"]
[null,null,418,null,null,null,null,null,null,null,null,null,null,null,"*"]
[null,null,419,null,null,null,null,null,null,null,null,null,null,null,"*"]
[null,null,420,null,null,null,null,null,null,null,null,null,null,null,"*"]
[null,null,421,null,null,null,null,null,null,null,null,null,null,null,"*"]
[null,null,422,null,null,null,null,null,null,null,null,null,null,null,"*"]
[null,null,423,null,null,null,null,null,null,null,null,null,null,null,"*"]
[null,null,424,null,null,null,null,null,null,null,null,null,null,null,"*"]
[null,null,425,null,null,null,null,null,null,null,null,null,null,null,"*"]
[null,null,426,null,null,null,null,null,null,null,null,null,null,null,"*"]
[null,null,427,null,null,null,null,null,null,null,null,null,null,null,"*"]
[null,null,428,null,null,null,null,null,null,null,null,null,null,null,"*"]
[null,null,429,null,null,null,null,null,null,null,null,null,null,null,"*"]
[null,null,430,null,null,null,null,null,null,null,null,null,null,null,"*"]
[null,null,431,null,null,null,null,null,null,null,null,null,null,null,"*"]
[null,null,432,null,null,null,null,null,null,null,null,null,null,null,"*"]
[null,null,433,null,null,null,null,null,null,null,null,null,null,null,"*"]
[null,null,434,null,null,null,null,null,null,null,null,null,null,null,"*"]
[null,null,435,null,null,null,null,null,null,null,null,null,null,null,"*"]
[null,null,436,null,null,null,null,null,null,null,null,null,null,null,"*"]
[null,null,437,null,null,null,null,null,null,null,null,null,null,null,"*"]
[null,null,438,null,null,null,null,null,null,null,null,null,null,null,"*"]
[null,null,439,null,null,null,null,null,null,null,null,null,null,null,"*"]
[null,null,440,null,null,null,null,null,null,null,null,null,null,null,"*"]
[null,null,441,null,null,null,null,null,null,null,null,null,null,null,"*"]
[null,null,442,null,null,null,null,null,null,null,null,null,null,null,"*"]
[null,null,443,null,null,null,null,null,null,null,null,null,null,null,"*"]
[null,null,444,null,null,null,null,null,null,null,null,null,null,null,"*"]
[null,null,445,null,null,null,null,null,null,null,null,null,null,null,"*"]
[null,null,446,null,null,null,null,null,null,null,null,null,null,null,"*"]
[null,null,447,null,null,null,null,null,null,null,null,null,null,null,"*"]
[null,null,448,null,null,null,null,null,null,null,null,null,null,null,"*"]
[null,null,{"$f":"ROW()-4","v":449},null,null,null,null,null,null,null,null,null,null,null,"*"]
[null,null,450,null,null,null,null,null,null,null,null,null,null,null,"*"]
[null,null,451,null,null,null,null,null,null,null,null,null,null,null,"*"]
[null,null,452,null,null,null,null,null,null,null,null,null,null,null,"*"]
[null,null,453,null,null,null,null,null,null,null,null,null,null,null,"*"]
[null,null,454,null,null,null,null,null,null,null,null,null,null,null,"*"]
[null,null,455,null,null,null,null,null,null,null,null,null,null,null,"*"]
[null,null,456,null,null,null,null,null,null,null,null,null,null,null,"*"]
[null,null,457,null,null,null,null,null,null,null,null,null,null,null,"*"]
[null,null,458,null,null,null,null,null,null,null,null,null,null,null,"*"]
[null,null,459,null,null,null,null,null,null,null,null,null,null,null,"*"]
[null,null,460,null,null,null,null,null,null,null,null,null,null,null,"*"]
[null,null,461,null,null,null,null,null,null,null,null,null,null,null,"*"]
[null,null,462,null,null,null,null,null,null,null,null,null,null,null,"*"]
[null,null,463,null,null,null,null,null,null,null,null,null,null,null,"*"]
[null,null,464,null,null,null,null,null,null,null,null,null,null,null,"*"]
[null,null,465,null,null,null,null,null,null,null,null,null,null,null,"*"]
[null,null,466,null,null,null,null,null,null,null,null,null,null,null,"*"]
[null,null,467,null,null,null,null,null,null,null,null,null,null,null,"*"]
[null,null,468,null,null,null,null,null,null,null,null,null,null,null,"*"]
[null,null,469,null,null,null,null,null,null,null,null,null,null,null,"*"]
[null,null,470,null,null,null,null,null,null,null,null,null,null,null,"*"]
[null,null,471,null,null,null,null,null,null,null,null,null,null,null,"*"]
[null,null,472,null,null,null,null,null,null,null,null,null,null,null,"*"]
[null,null,473,null,null,null,null,null,null,null,null,null,null,null,"*"]
[null,null,474,null,null,null,null,null,null,null,null,null,null,null,"*"]
[null,null,475,null,null,null,null,null,null,null,null,null,null,null,"*"]
[null,null,476,null,null,null,null,null,null,null,null,null,null,null,"*"]
[null,null,477,null,null,null,null,null,null,null,null,null,null,null,"*"]
[null,null,478,null,null,null,null,null,null,null,null,null,null,null,"*"]
[null,null,479,null,null,null,null,null,null,null,null,null,null,null,"*"]
[null,null,480,null,null,null,null,null,null,null,null,null,null,null,"*"]
[null,null,481,null,null,null,null,null,null,null,null,null,null,null,"*"]
[null,null,482,null,null,null,null,null,null,null,null,null,null,null,"*"]
[null,null,483,null,null,null,null,null,null,null,null,null,null,null,"*"]
[null,null,484,null,null,null,null,null,null,null,null,null,null,null,"*"]
[null,null,485,null,null,null,null,null,null,null,null,null,null,null,"*"]
[null,null,486,null,null,null,null,null,null,null,null,null,null,null,"*"]
[null,null,487,null,null,null,null,null,null,null,null,null,null,null,"*"]
[null,null,488,null,null,null,null,null,null,null,null,null,null,null,"*"]
[null,null,489,null,null,null,null,null,null,null,null,null,null,null,"*"]
[null,null,490,null,null,null,null,null,null,null,null,null,null,null,"*"]
[null,null,491,null,null,null,null,null,null,null,null,null,null,null,"*"]
[null,null,492,null,null,null,null,null,null,null,null,null,null,null,"*"]
[null,null,493,null,null,null,null,null,null,null,null,null,null,null,"*"]
[null,null,494,null,null,null,null,null,null,null,null,null,null,null,"*"]
[null,null,495,null,null,null,null,null,null,null,null,null,null,null,"*"]
[null,null,496,null,null,null,null,null,null,null,null,null,null,null,"*"]
[null,null,497,null,null,null,null,null,null,null,null,null,null,null,"*"]
[null,null,498,null,null,null,null,null,null,null,null,null,null,null,"*"]
[null,null,499,null,null,null,null,null,null,null,null,null,null,null,"*"]
[null,null,500,null,null,null,null,null,null,null,null,null,null,null,"*"]
[null,null,501,null,null,null,null,null,null,null,null,null,null,null,"*"]
[null,null,502,null,null,null,null,null,null,null,null,null,null,null,"*"]
[null,null,503,null,null,null,null,null,null,null,null,null,null,null,"*"]
[null,null,504,null,null,null,null,null,null,null,null,null,null,null,"*"]
[null,null,505,null,null,null,null,null,null,null,null,null,null,null,"*"]
[null,null,506,null,null,null,null,null,null,null,null,null,null,null,"*"]
[null,null,507,null,null,null,null,null,null,null,null,null,null,null,"*"]
[null,null,508,null,null,null,null,null,null,null,null,null,null,null,"*"]
[null,null,509,null,null,null,null,null,null,null,null,null,null,null,"*"]
[null,null,510,null,null,null,null,null,null,null,null,null,null,null,"*"]
[null,null,511,null,null,null,null,null,null,null,null,null,null,null,"*"]
[null,null,512,null,null,null,null,null,null,null,null,null,null,null,"*"]
[null,null,{"$f":"ROW()-4","v":513},null,null,null,null,null,null,null,null,null,null,null,"*"]
[null,null,514,null,null,null,null,null,null,null,null,null,null,null,"*"]
[null,null,515,null,null,null,null,null,null,null,null,null,null,null,"*"]
[null,null,516,null,null,null,null,null,null,null,null,null,null,null,"*"]
[null,null,517,null,null,null,null,null,null,null,null,null,null,null,"*"]
[null,null,518,null,null,null,null,null,null,null,null,null,null,null,"*"]
[null,null,519,null,null,null,null,null,null,null,null,null,null,null,"*"]
[null,null,520,null,null,null,null,null,null,null,null,null,null,null,"*"]
[null,null,521,null,null,null,null,null,null,null,null,null,null,null,"*"]
[null,null,522,null,null,null,null,null,null,null,null,null,null,null,"*"]
[null,null,523,null,null,null,null,null,null,null,null,null,null,null,"*"]
[null,null,524,null,null,null,null,null,null,null,null,null,null,null,"*"]
[null,null,525,null,null,null,null,null,null,null,null,null,null,null,"*"]
[null,null,526,null,null,null,null,null,null,null,null,null,null,null,"*"]
[null,null,527,null,null,null,null,null,null,null,null,null,null,null,"*"]
[null,null,528,null,null,null,null,null,null,null,null,null,null,null,"*"]
[null,null,529,null,null,null,null,null,null,null,null,null,null,null,"*"]
[null,null,530,null,null,null,null,null,null,null,null,null,null,null,"*"]
[null,null,531,null,null,null,null,null,null,null,null,null,null,null,"*"]
[null,null,532,null,null,null,null,null,null,null,null,null,null,null,"*"]
[null,null,533,null,null,null,null,null,null,null,null,null,null,null,"*"]
[null,null,534,null,null,null,null,null,null,null,null,null,null,null,"*"]
[null,null,535,null,null,null,null,null,null,null,null,null,null,null,"*"]
[null,null,536,null,null,null,null,null,null,null,null,null,null,null,"*"]
[null,null,537,null,null,null,null,null,null,null,null,null,null,null,"*"]
[null,null,538,null,null,null,null,null,null,null,null,null,null,null,"*"]
[null,null,539,null,null,null,null,null,null,null,null,null,null,null,"*"]
[null,null,540,null,null,null,null,null,null,null,null,null,null,null,"*"]
[null,null,541,null,null,null,null,null,null,null,null,null,null,null,"*"]
[null,null,542,null,null,null,null,null,null,null,null,null,null,null,"*"]
[null,null,543,null,null,null,null,null,null,null,null,null,null,null,"*"]
[null,null,544,null,null,null,null,null,null,null,null,null,null,null,"*"]
[null,null,545,null,null,null,null,null,null,null,null,null,null,null,"*"]
[null,null,546,null,null,null,null,null,null,null,null,null,null,null,"*"]
[null,null,547,null,null,null,null,null,null,null,null,null,null,null,"*"]
[null,null,548,null,null,null,null,null,null,null,null,null,null,null,"*"]
[null,null,549,null,null,null,null,null,null,null,null,null,null,null,"*"]
[null,null,550,null,null,null,null,null,null,null,null,null,null,null,"*"]
[null,null,551,null,null,null,null,null,null,null,null,null,null,null,"*"]
[null,null,552,null,null,null,null,null,null,null,null,null,null,null,"*"]
[null,null,553,null,null,null,null,null,null,null,null,null,null,null,"*"]
[null,null,554,null,null,null,null,null,null,null,null,null,null,null,"*"]
[null,null,555,null,null,null,null,null,null,null,null,null,null,null,"*"]
[null,null,556,null,null,null,null,null,null,null,null,null,null,null,"*"]
[null,null,557,null,null,null,null,null,null,null,null,null,null,null,"*"]
[null,null,558,null,null,null,null,null,null,null,null,null,null,null,"*"]
[null,null,559,null,null,null,null,null,null,null,null,null,null,null,"*"]
[null,null,560,null,null,null,null,null,null,null,null,null,null,null,"*"]
[null,null,561,null,null,null,null,null,null,null,null,null,null,null,"*"]
[null,null,562,null,null,null,null,null,null,null,null,null,null,null,"*"]
[null,null,563,null,null,null,null,null,null,null,null,null,null,null,"*"]
[null,null,564,null,null,null,null,null,null,null,null,null,null,null,"*"]
[null,null,565,null,null,null,null,null,null,null,null,null,null,null,"*"]
[null,null,566,null,null,null,null,null,null,null,null,null,null,null,"*"]
[null,null,567,null,null,null,null,null,null,null,null,null,null,null,"*"]
[null,null,568,null,null,null,null,null,null,null,null,null,null,null,"*"]
[null,null,569,null,null,null,null,null,null,null,null,null,null,null,"*"]
[null,null,570,null,null,null,null,null,null,null,null,null,null,null,"*"]
[null,null,571,null,null,null,null,null,null,null,null,null,null,null,"*"]
[null,null,572,null,null,null,null,null,null,null,null,null,null,null,"*"]
[null,null,573,null,null,null,null,null,null,null,null,null,null,null,"*"]
[null,null,574,null,null,null,null,null,null,null,null,null,null,null,"*"]
[null,null,575,null,null,null,null,null,null,null,null,null,null,null,"*"]
[null,null,576,null,null,null,null,null,null,null,null,null,null,null,"*"]
[null,null,{"$f":"ROW()-4","v":577},null,null,null,null,null,null,null,null,null,null,null,"*"]
[null,null,578,null,null,null,null,null,null,null,null,null,null,null,"*"]
[null,null,579,null,null,null,null,null,null,null,null,null,null,null,"*"]
[null,null,580,null,null,null,null,null,null,null,null,null,null,null,"*"]
[null,null,581,null,null,null,null,null,null,null,null,null,null,null,"*"]
[null,null,582,null,null,null,null,null,null,null,null,null,null,null,"*"]
[null,null,583,null,null,null,null,null,null,null,null,null,null,null,"*"]
[null,null,584,null,null,null,null,null,null,null,null,null,null,null,"*"]
[null,null,585,null,null,null,null,null,null,null,null,null,null,null,"*"]
[null,null,586,null,null,null,null,null,null,null,null,null,null,null,"*"]
[null,null,587,null,null,null,null,null,null,null,null,null,null,null,"*"]
[null,null,588,null,null,null,null,null,null,null,null,null,null,null,"*"]
[null,null,589,null,null,null,null,null,null,null,null,null,null,null,"*"]
[null,null,590,null,null,null,null,null,null,null,null,null,null,null,"*"]
[null,null,591,null,null,null,null,null,null,null,null,null,null,null,"*"]
[null,null,592,null,null,null,null,null,null,null,null,null,null,null,"*"]
[null,null,593,null,null,null,null,null,null,null,null,null,null,null,"*"]
[null,null,594,null,null,null,null,null,null,null,null,null,null,null,"*"]
[null,null,595,null,null,null,null,null,null,null,null,null,null,null,"*"]
[null,null,596,null,null,null,null,null,null,null,null,null,null,null,"*"]
[null,null,597,null,null,null,null,null,null,null,null,null,null,null,"*"]
[null,null,598,null,null,null,null,null,null,null,null,null,null,null,"*"]
[null,null,599,null,null,null,null,null,null,null,null,null,null,null,"*"]
[null,null,600,null,null,null,null,null,null,null,null,null,null,null,"*"]
[null,null,601,null,null,null,null,null,null,null,null,null,null,null,"*"]
[null,null,602,null,null,null,null,null,null,null,null,null,null,null,"*"]
[null,null,603,null,null,null,null,null,null,null,null,null,null,null,"*"]
[null,null,604,null,null,null,null,null,null,null,null,null,null,null,"*"]
[null,null,605,null,null,null,null,null,null,null,null,null,null,null,"*"]
[null,null,606,null,null,null,null,null,null,null,null,null,null,null,"*"]
[null,null,607,null,null,null,null,null,null,null,null,null,null,null,"*"]
[null,null,608,null,null,null,null,null,null,null,null,null,null,null,"*"]
[null,null,609,null,null,null,null,null,null,null,null,null,null,null,"*"]
[null,null,610,null,null,null,null,null,null,null,null,null,null,null,"*"]
[null,null,611,null,null,null,null,null,null,null,null,null,null,null,"*"]
[null,null,612,null,null,null,null,null,null,null,null,null,null,null,"*"]
[null,null,613,null,null,null,null,null,null,null,null,null,null,null,"*"]
[null,null,614,null,null,null,null,null,null,null,null,null,null,null,"*"]
[null,null,615,null,null,null,null,null,null,null,null,null,null,null,"*"]
[null,null,616,null,null,null,null,null,null,null,null,null,null,null,"*"]
[null,null,617,null,null,null,null,null,null,null,null,null,null,null,"*"]
[null,null,618,null,null,null,null,null,null,null,null,null,null,null,"*"]
[null,null,619,null,null,null,null,null,null,null,null,null,null,null,"*"]
[null,null,620,null,null,null,null,null,null,null,null,null,null,null,"*"]
[null,null,621,null,null,null,null,null,null,null,null,null,null,null,"*"]
[null,null,622,null,null,null,null,null,null,null,null,null,null,null,"*"]
[null,null,623,null,null,null,null,null,null,null,null,null,null,null,"*"]
[null,null,624,null,null,null,null,null,null,null,null,null,null,null,"*"]
[null,null,625,null,null,null,null,null,null,null,null,null,null,null,"*"]
[null,null,626,null,null,null,null,null,null,null,null,null,null,null,"*"]
[null,null,627,null,null,null,null,null,null,null,null,null,null,null,"*"]
[null,null,628,null,null,null,null,null,null,null,null,null,null,null,"*"]
[null,null,629,null,null,null,null,null,null,null,null,null,null,null,"*"]
[null,null,630,null,null,null,null,null,null,null,null,null,null,null,"*"]
[null,null,631,null,null,null,null,null,null,null,null,null,null,null,"*"]
[null,null,632,null,null,null,null,null,null,null,null,null,null,null,"*"]
[null,null,633,null,null,null,null,null,null,null,null,null,null,null,"*"]
[null,null,634,null,null,null,null,null,null,null,null,null,null,null,"*"]
[null,null,635,null,null,null,null,null,null,null,null,null,null,null,"*"]
[null,null,636,null,null,null,null,null,null,null,null,null,null,null,"*"]
[null,null,637,null,null,null,null,null,null,null,null,null,null,null,"*"]
[null,null,638,null,null,null,null,null,null,null,null,null,null,null,"*"]
[null,null,639,null,null,null,null,null,null,null,null,null,null,null,"*"]
[null,null,640,null,null,null,null,null,null,null,null,null,null,null,"*"]
[null,null,{"$f":"ROW()-4","v":641},null,null,null,null,null,null,null,null,null,null,null,"*"]
[null,null,642,null,null,null,null,null,null,null,null,null,null,null,"*"]
[null,null,643,null,null,null,null,null,null,null,null,null,null,null,"*"]
[null,null,644,null,null,null,null,null,null,null,null,null,null,null,"*"]
[null,null,645,null,null,null,null,null,null,null,null,null,null,null,"*"]
[null,null,646,null,null,null,null,null,null,null,null,null,null,null,"*"]
[null,null,647,null,null,null,null,null,null,null,null,null,null,null,"*"]
[null,null,648,null,null,null,null,null,null,null,null,null,null,null,"*"]
[null,null,649,null,null,null,null,null,null,null,null,null,null,null,"*"]
[null,null,650,null,null,null,null,null,null,null,null,null,null,null,"*"]
[null,null,651,null,null,null,null,null,null,null,null,null,null,null,"*"]
[null,null,652,null,null,null,null,null,null,null,null,null,null,null,"*"]
[null,null,653,null,null,null,null,null,null,null,null,null,null,null,"*"]
[null,null,654,null,null,null,null,null,null,null,null,null,null,null,"*"]
[null,null,655,null,null,null,null,null,null,null,null,null,null,null,"*"]
[null,null,656,null,null,null,null,null,null,null,null,null,null,null,"*"]
[null,null,657,null,null,null,null,null,null,null,null,null,null,null,"*"]
[null,null,658,null,null,null,null,null,null,null,null,null,null,null,"*"]
[null,null,659,null,null,null,null,null,null,null,null,null,null,null,"*"]
[null,null,660,null,null,null,null,null,null,null,null,null,null,null,"*"]
[null,null,661,null,null,null,null,null,null,null,null,null,null,null,"*"]
[null,null,662,null,null,null,null,null,null,null,null,null,null,null,"*"]
[null,null,663,null,null,null,null,null,null,null,null,null,null,null,"*"]
[null,null,664,null,null,null,null,null,null,null,null,null,null,null,"*"]
[null,null,665,null,null,null,null,null,null,null,null,null,null,null,"*"]
[null,null,666,null,null,null,null,null,null,null,null,null,null,null,"*"]
[null,null,667,null,null,null,null,null,null,null,null,null,null,null,"*"]
[null,null,668,null,null,null,null,null,null,null,null,null,null,null,"*"]
[null,null,669,null,null,null,null,null,null,null,null,null,null,null,"*"]
[null,null,670,null,null,null,null,null,null,null,null,null,null,null,"*"]
[null,null,671,null,null,null,null,null,null,null,null,null,null,null,"*"]
[null,null,672,null,null,null,null,null,null,null,null,null,null,null,"*"]
[null,null,673,null,null,null,null,null,null,null,null,null,null,null,"*"]
[null,null,674,null,null,null,null,null,null,null,null,null,null,null,"*"]
[null,null,675,null,null,null,null,null,null,null,null,null,null,null,"*"]
[null,null,676,null,null,null,null,null,null,null,null,null,null,null,"*"]
[null,null,677,null,null,null,null,null,null,null,null,null,null,null,"*"]
[null,null,678,null,null,null,null,null,null,null,null,null,null,null,"*"]
[null,null,679,null,null,null,null,null,null,null,null,null,null,null,"*"]
[null,null,680,null,null,null,null,null,null,null,null,null,null,null,"*"]
[null,null,681,null,null,null,null,null,null,null,null,null,null,null,"*"]
[null,null,682,null,null,null,null,null,null,null,null,null,null,null,"*"]
[null,null,683,null,null,null,null,null,null,null,null,null,null,null,"*"]
[null,null,684,null,null,null,null,null,null,null,null,null,null,null,"*"]
[null,null,685,null,null,null,null,null,null,null,null,null,null,null,"*"]
[null,null,686,null,null,null,null,null,null,null,null,null,null,null,"*"]
[null,null,687,null,null,null,null,null,null,null,null,null,null,null,"*"]
[null,null,688,null,null,null,null,null,null,null,null,null,null,null,"*"]
[null,null,689,null,null,null,null,null,null,null,null,null,null,null,"*"]
[null,null,690,null,null,null,null,null,null,null,null,null,null,null,"*"]
[null,null,691,null,null,null,null,null,null,null,null,null,null,null,"*"]
[null,null,692,null,null,null,null,null,null,null,null,null,null,null,"*"]
[null,null,693,null,null,null,null,null,null,null,null,null,null,null,"*"]
[null,null,694,null,null,null,null,null,null,null,null,null,null,null,"*"]
[null,null,695,null,null,null,null,null,null,null,null,null,null,null,"*"]
[null,null,696,null,null,null,null,null,null,null,null,null,null,null,"*"]
[null,null,697,null,null,null,null,null,null,null,null,null,null,null,"*"]
[null,null,698,null,null,null,null,null,null,null,null,null,null,null,"*"]
[null,null,699,null,null,null,null,null,null,null,null,null,null,null,"*"]
[null,null,700,null,null,null,null,null,null,null,null,null,null,null,"*"]
[null,null,701,null,null,null,null,null,null,null,null,null,null,null,"*"]
[null,null,702,null,null,null,null,null,null,null,null,null,null,null,"*"]
[null,null,703,null,null,null,null,null,null,null,null,null,null,null,"*"]
[null,null,704,null,null,null,null,null,null,null,null,null,null,null,"*"]
[null,null,{"$f":"ROW()-4","v":705},null,null,null,null,null,null,null,null,null,null,null,"*"]
[null,null,706,null,null,null,null,null,null,null,null,null,null,null,"*"]
[null,null,707,null,null,null,null,null,null,null,null,null,null,null,"*"]
[null,null,708,null,null,null,null,null,null,null,null,null,null,null,"*"]
[null,null,709,null,null,null,null,null,null,null,null,null,null,null,"*"]
[null,null,710,null,null,null,null,null,null,null,null,null,null,null,"*"]
[null,null,711,null,null,null,null,null,null,null,null,null,null,null,"*"]
[null,null,712,null,null,null,null,null,null,null,null,null,null,null,"*"]
[null,null,713,null,null,null,null,null,null,null,null,null,null,null,"*"]
[null,null,714,null,null,null,null,null,null,null,null,null,null,null,"*"]
[null,null,715,null,null,null,null,null,null,null,null,null,null,null,"*"]
[null,null,716,null,null,null,null,null,null,null,null,null,null,null,"*"]
[null,null,717,null,null,null,null,null,null,null,null,null,null,null,"*"]
[null,null,718,null,null,null,null,null,null,null,null,null,null,null,"*"]
[null,null,719,null,null,null,null,null,null,null,null,null,null,null,"*"]
[null,null,720,null,null,null,null,null,null,null,null,null,null,null,"*"]
[null,null,721,null,null,null,null,null,null,null,null,null,null,null,"*"]
[null,null,722,null,null,null,null,null,null,null,null,null,null,null,"*"]
[null,null,723,null,null,null,null,null,null,null,null,null,null,null,"*"]
[null,null,724,null,null,null,null,null,null,null,null,null,null,null,"*"]
[null,null,725,null,null,null,null,null,null,null,null,null,null,null,"*"]
[null,null,726,null,null,null,null,null,null,null,null,null,null,null,"*"]
[null,null,727,null,null,null,null,null,null,null,null,null,null,null,"*"]
[null,null,728,null,null,null,null,null,null,null,null,null,null,null,"*"]
[null,null,729,null,null,null,null,null,null,null,null,null,null,null,"*"]
[null,null,730,null,null,null,null,null,null,null,null,null,null,null,"*"]
[null,null,731,null,null,null,null,null,null,null,null,null,null,null,"*"]
[null,null,732,null,null,null,null,null,null,null,null,null,null,null,"*"]
[null,null,733,null,null,null,null,null,null,null,null,null,null,null,"*"]
[null,null,734,null,null,null,null,null,null,null,null,null,null,null,"*"]
[null,null,735,null,null,null,null,null,null,null,null,null,null,null,"*"]
[null,null,736,null,null,null,null,null,null,null,null,null,null,null,"*"]
[null,null,737,null,null,null,null,null,null,null,null,null,null,null,"*"]
[null,null,738,null,null,null,null,null,null,null,null,null,null,null,"*"]
[null,null,739,null,null,null,null,null,null,null,null,null,null,null,"*"]
[null,null,740,null,null,null,null,null,null,null,null,null,null,null,"*"]
[null,null,741,null,null,null,null,null,null,null,null,null,null,null,"*"]
[null,null,742,null,null,null,null,null,null,null,null,null,null,null,"*"]
[null,null,743,null,null,null,null,null,null,null,null,null,null,null,"*"]
[null,null,744,null,null,null,null,null,null,null,null,null,null,null,"*"]
[null,null,745,null,null,null,null,null,null,null,null,null,null,null,"*"]
[null,null,746,null,null,null,null,null,null,null,null,null,null,null,"*"]
[null,null,747,null,null,null,null,null,null,null,null,null,null,null,"*"]
[null,null,748,null,null,null,null,null,null,null,null,null,null,null,"*"]
[null,null,749,null,null,null,null,null,null,null,null,null,null,null,"*"]
[null,null,750,null,null,null,null,null,null,null,null,null,null,null,"*"]
[null,null,751,null,null,null,null,null,null,null,null,null,null,null,"*"]
[null,null,752,null,null,null,null,null,null,null,null,null,null,null,"*"]
[null,null,753,null,null,null,null,null,null,null,null,null,null,null,"*"]
[null,null,754,null,null,null,null,null,null,null,null,null,null,null,"*"]
[null,null,755,null,null,null,null,null,null,null,null,null,null,null,"*"]
[null,null,756,null,null,null,null,null,null,null,null,null,null,null,"*"]
[null,null,757,null,null,null,null,null,null,null,null,null,null,null,"*"]
[null,null,758,null,null,null,null,null,null,null,null,null,null,null,"*"]
[null,null,759,null,null,null,null,null,null,null,null,null,null,null,"*"]
[null,null,760,null,null,null,null,null,null,null,null,null,null,null,"*"]
[null,null,761,null,null,null,null,null,null,null,null,null,null,null,"*"]
[null,null,762,null,null,null,null,null,null,null,null,null,null,null,"*"]
[null,null,763,null,null,null,null,null,null,null,null,null,null,null,"*"]
[null,null,764,null,null,null,null,null,null,null,null,null,null,null,"*"]
[null,null,765,null,null,null,null,null,null,null,null,null,null,null,"*"]
[null,null,766,null,null,null,null,null,null,null,null,null,null,null,"*"]
[null,null,767,null,null,null,null,null,null,null,null,null,null,null,"*"]
[null,null,768,null,null,null,null,null,null,null,null,null,null,null,"*"]
[null,null,{"$f":"ROW()-4","v":769},null,null,null,null,null,null,null,null,null,null,null,"*"]
[null,null,770,null,null,null,null,null,null,null,null,null,null,null,"*"]
[null,null,771,null,null,null,null,null,null,null,null,null,null,null,"*"]
[null,null,772,null,null,null,null,null,null,null,null,null,null,null,"*"]
[null,null,773,null,null,null,null,null,null,null,null,null,null,null,"*"]
[null,null,774,null,null,null,null,null,null,null,null,null,null,null,"*"]
[null,null,775,null,null,null,null,null,null,null,null,null,null,null,"*"]
[null,null,776,null,null,null,null,null,null,null,null,null,null,null,"*"]
[null,null,777,null,null,null,null,null,null,null,null,null,null,null,"*"]
[null,null,778,null,null,null,null,null,null,null,null,null,null,null,"*"]
[null,null,779,null,null,null,null,null,null,null,null,null,null,null,"*"]
[null,null,780,null,null,null,null,null,null,null,null,null,null,null,"*"]
[null,null,781,null,null,null,null,null,null,null,null,null,null,null,"*"]
[null,null,782,null,null,null,null,null,null,null,null,null,null,null,"*"]
[null,null,783,null,null,null,null,null,null,null,null,null,null,null,"*"]
[null,null,784,null,null,null,null,null,null,null,null,null,null,null,"*"]
[null,null,785,null,null,null,null,null,null,null,null,null,null,null,"*"]
[null,null,786,null,null,null,null,null,null,null,null,null,null,null,"*"]
[null,null,787,null,null,null,null,null,null,null,null,null,null,null,"*"]
[null,null,788,null,null,null,null,null,null,null,null,null,null,null,"*"]
[null,null,789,null,null,null,null,null,null,null,null,null,null,null,"*"]
[null,null,790,null,null,null,null,null,null,null,null,null,null,null,"*"]
[null,null,791,null,null,null,null,null,null,null,null,null,null,null,"*"]
[null,null,792,null,null,null,null,null,null,null,null,null,null,null,"*"]
[null,null,793,null,null,null,null,null,null,null,null,null,null,null,"*"]
[null,null,794,null,null,null,null,null,null,null,null,null,null,null,"*"]
[null,null,795,null,null,null,null,null,null,null,null,null,null,null,"*"]
[null,null,796,null,null,null,null,null,null,null,null,null,null,null,"*"]
[null,null,797,null,null,null,null,null,null,null,null,null,null,null,"*"]
[null,null,798,null,null,null,null,null,null,null,null,null,null,null,"*"]
[null,null,799,null,null,null,null,null,null,null,null,null,null,null,"*"]
[null,null,800,null,null,null,null,null,null,null,null,null,null,null,"*"]
[null,null,801,null,null,null,null,null,null,null,null,null,null,null,"*"]
[null,null,802,null,null,null,null,null,null,null,null,null,null,null,"*"]
[null,null,803,null,null,null,null,null,null,null,null,null,null,null,"*"]
[null,null,804,null,null,null,null,null,null,null,null,null,null,null,"*"]
[null,null,805,null,null,null,null,null,null,null,null,null,null,null,"*"]
[null,null,806,null,null,null,null,null,null,null,null,null,null,null,"*"]
[null,null,807,null,null,null,null,null,null,null,null,null,null,null,"*"]
[null,null,808,null,null,null,null,null,null,null,null,null,null,null,"*"]
[null,null,809,null,null,null,null,null,null,null,null,null,null,null,"*"]
[null,null,810,null,null,null,null,null,null,null,null,null,null,null,"*"]
[null,null,811,null,null,null,null,null,null,null,null,null,null,null,"*"]
[null,null,812,null,null,null,null,null,null,null,null,null,null,null,"*"]
[null,null,813,null,null,null,null,null,null,null,null,null,null,null,"*"]
[null,null,814,null,null,null,null,null,null,null,null,null,null,null,"*"]
[null,null,815,null,null,null,null,null,null,null,null,null,null,null,"*"]
[null,null,816,null,null,null,null,null,null,null,null,null,null,null,"*"]
[null,null,817,null,null,null,null,null,null,null,null,null,null,null,"*"]
[null,null,818,null,null,null,null,null,null,null,null,null,null,null,"*"]
[null,null,819,null,null,null,null,null,null,null,null,null,null,null,"*"]
[null,null,820,null,null,null,null,null,null,null,null,null,null,null,"*"]
[null,null,821,null,null,null,null,null,null,null,null,null,null,null,"*"]
[null,null,822,null,null,null,null,null,null,null,null,null,null,null,"*"]
[null,null,823,null,null,null,null,null,null,null,null,null,null,null,"*"]
[null,null,824,null,null,null,null,null,null,null,null,null,null,null,"*"]
[null,null,825,null,null,null,null,null,null,null,null,null,null,null,"*"]
[null,null,826,null,null,null,null,null,null,null,null,null,null,null,"*"]
[null,null,827,null,null,null,null,null,null,null,null,null,null,null,"*"]
[null,null,828,null,null,null,null,null,null,null,null,null,null,null,"*"]
[null,null,829,null,null,null,null,null,null,null,null,null,null,null,"*"]
[null,null,830,null,null,null,null,null,null,null,null,null,null,null,"*"]
[null,null,831,null,null,null,null,null,null,null,null,null,null,null,"*"]
[null,null,832,null,null,null,null,null,null,null,null,null,null,null,"*"]
[null,null,{"$f":"ROW()-4","v":833},null,null,null,null,null,null,null,null,null,null,null,"*"]
[null,null,834,null,null,null,null,null,null,null,null,null,null,null,"*"]
[null,null,835,null,null,null,null,null,null,null,null,null,null,null,"*"]
[null,null,836,null,null,null,null,null,null,null,null,null,null,null,"*"]
[null,null,837,null,null,null,null,null,null,null,null,null,null,null,"*"]
[null,null,838,null,null,null,null,null,null,null,null,null,null,null,"*"]
[null,null,839,null,null,null,null,null,null,null,null,null,null,null,"*"]
[null,null,840,null,null,null,null,null,null,null,null,null,null,null,"*"]
[null,null,841,null,null,null,null,null,null,null,null,null,null,null,"*"]
[null,null,842,null,null,null,null,null,null,null,null,null,null,null,"*"]
[null,null,843,null,null,null,null,null,null,null,null,null,null,null,"*"]
[null,null,844,null,null,null,null,null,null,null,null,null,null,null,"*"]
[null,null,845,null,null,null,null,null,null,null,null,null,null,null,"*"]
[null,null,846,null,null,null,null,null,null,null,null,null,null,null,"*"]
[null,null,847,null,null,null,null,null,null,null,null,null,null,null,"*"]
[null,null,848,null,null,null,null,null,null,null,null,null,null,null,"*"]
[null,null,849,null,null,null,null,null,null,null,null,null,null,null,"*"]
[null,null,850,null,null,null,null,null,null,null,null,null,null,null,"*"]
[null,null,851,null,null,null,null,null,null,null,null,null,null,null,"*"]
[null,null,852,null,null,null,null,null,null,null,null,null,null,null,"*"]
[null,null,853,null,null,null,null,null,null,null,null,null,null,null,"*"]
[null,null,854,null,null,null,null,null,null,null,null,null,null,null,"*"]
[null,null,855,null,null,null,null,null,null,null,null,null,null,null,"*"]
[null,null,856,null,null,null,null,null,null,null,null,null,null,null,"*"]
[null,null,857,null,null,null,null,null,null,null,null,null,null,null,"*"]
[null,null,858,null,null,null,null,null,null,null,null,null,null,null,"*"]
[null,null,859,null,null,null,null,null,null,null,null,null,null,null,"*"]
[null,null,860,null,null,null,null,null,null,null,null,null,null,null,"*"]
[null,null,861,null,null,null,null,null,null,null,null,null,null,null,"*"]
[null,null,862,null,null,null,null,null,null,null,null,null,null,null,"*"]
[null,null,863,null,null,null,null,null,null,null,null,null,null,null,"*"]
[null,null,864,null,null,null,null,null,null,null,null,null,null,null,"*"]
[null,null,865,null,null,null,null,null,null,null,null,null,null,null,"*"]
[null,null,866,null,null,null,null,null,null,null,null,null,null,null,"*"]
[null,null,867,null,null,null,null,null,null,null,null,null,null,null,"*"]
[null,null,868,null,null,null,null,null,null,null,null,null,null,null,"*"]
[null,null,869,null,null,null,null,null,null,null,null,null,null,null,"*"]
[null,null,870,null,null,null,null,null,null,null,null,null,null,null,"*"]
[null,null,871,null,null,null,null,null,null,null,null,null,null,null,"*"]
[null,null,872,null,null,null,null,null,null,null,null,null,null,null,"*"]
[null,null,873,null,null,null,null,null,null,null,null,null,null,null,"*"]
[null,null,874,null,null,null,null,null,null,null,null,null,null,null,"*"]
[null,null,875,null,null,null,null,null,null,null,null,null,null,null,"*"]
[null,null,876,null,null,null,null,null,null,null,null,null,null,null,"*"]
[null,null,877,null,null,null,null,null,null,null,null,null,null,null,"*"]
[null,null,878,null,null,null,null,null,null,null,null,null,null,null,"*"]
[null,null,879,null,null,null,null,null,null,null,null,null,null,null,"*"]
[null,null,880,null,null,null,null,null,null,null,null,null,null,null,"*"]
[null,null,881,null,null,null,null,null,null,null,null,null,null,null,"*"]
[null,null,882,null,null,null,null,null,null,null,null,null,null,null,"*"]
[null,null,883,null,null,null,null,null,null,null,null,null,null,null,"*"]
[null,null,884,null,null,null,null,null,null,null,null,null,null,null,"*"]
[null,null,885,null,null,null,null,null,null,null,null,null,null,null,"*"]
[null,null,886,null,null,null,null,null,null,null,null,null,null,null,"*"]
[null,null,887,null,null,null,null,null,null,null,null,null,null,null,"*"]
[null,null,888,null,null,null,null,null,null,null,null,null,null,null,"*"]
[null,null,889,null,null,null,null,null,null,null,null,null,null,null,"*"]
[null,null,890,null,null,null,null,null,null,null,null,null,null,null,"*"]
[null,null,891,null,null,null,null,null,null,null,null,null,null,null,"*"]
[null,null,892,null,null,null,null,null,null,null,null,null,null,null,"*"]
[null,null,893,null,null,null,null,null,null,null,null,null,null,null,"*"]
[null,null,894,null,null,null,null,null,null,null,null,null,null,null,"*"]
[null,null,895,null,null,null,null,null,null,null,null,null,null,null,"*"]
[null,null,896,null,null,null,null,null,null,null,null,null,null,null,"*"]
[null,null,{"$f":"ROW()-4","v":897},null,null,null,null,null,null,null,null,null,null,null,"*"]
[null,null,898,null,null,null,null,null,null,null,null,null,null,null,"*"]
[null,null,899,null,null,null,null,null,null,null,null,null,null,null,"*"]
[null,null,900,null,null,null,null,null,null,null,null,null,null,null,"*"]
[null,null,901,null,null,null,null,null,null,null,null,null,null,null,"*"]
[null,null,902,null,null,null,null,null,null,null,null,null,null,null,"*"]
[null,null,903,null,null,null,null,null,null,null,null,null,null,null,"*"]
[null,null,904,null,null,null,null,null,null,null,null,null,null,null,"*"]
[null,null,905,null,null,null,null,null,null,null,null,null,null,null,"*"]
[null,null,906,null,null,null,null,null,null,null,null,null,null,null,"*"]
[null,null,907,null,null,null,null,null,null,null,null,null,null,null,"*"]
[null,null,908,null,null,null,null,null,null,null,null,null,null,null,"*"]
[null,null,909,null,null,null,null,null,null,null,null,null,null,null,"*"]
[null,null,910,null,null,null,null,null,null,null,null,null,null,null,"*"]
[null,null,911,null,null,null,null,null,null,null,null,null,null,null,"*"]
[null,null,912,null,null,null,null,null,null,null,null,null,null,null,"*"]
[null,null,913,null,null,null,null,null,null,null,null,null,null,null,"*"]
[null,null,914,null,null,null,null,null,null,null,null,null,null,null,"*"]
[null,null,915,null,null,null,null,null,null,null,null,null,null,null,"*"]
[null,null,916,null,null,null,null,null,null,null,null,null,null,null,"*"]
[null,null,917,null,null,null,null,null,null,null,null,null,null,null,"*"]
[null,null,918,null,null,null,null,null,null,null,null,null,null,null,"*"]
[null,null,919,null,null,null,null,null,null,null,null,null,null,null,"*"]
[null,null,920,null,null,null,null,null,null,null,null,null,null,null,"*"]
[null,null,921,null,null,null,null,null,null,null,null,null,null,null,"*"]
[null,null,922,null,null,null,null,null,null,null,null,null,null,null,"*"]
[null,null,923,null,null,null,null,null,null,null,null,null,null,null,"*"]
[null,null,924,null,null,null,null,null,null,null,null,null,null,null,"*"]
[null,null,925,null,null,null,null,null,null,null,null,null,null,null,"*"]
[null,null,926,null,null,null,null,null,null,null,null,null,null,null,"*"]
[null,null,927,null,null,null,null,null,null,null,null,null,null,null,"*"]
[null,null,928,null,null,null,null,null,null,null,null,null,null,null,"*"]
[null,null,929,null,null,null,null,null,null,null,null,null,null,null,"*"]
[null,null,930,null,null,null,null,null,null,null,null,null,null,null,"*"]
[null,null,931,null,null,null,null,null,null,null,null,null,null,null,"*"]
[null,null,932,null,null,null,null,null,null,null,null,null,null,null,"*"]
[null,null,933,null,null,null,null,null,null,null,null,null,null,null,"*"]
[null,null,934,null,null,null,null,null,null,null,null,null,null,null,"*"]
[null,null,935,null,null,null,null,null,null,null,null,null,null,null,"*"]
[null,null,936,null,null,null,null,null,null,null,null,null,null,null,"*"]
[null,null,937,null,null,null,null,null,null,null,null,null,null,null,"*"]
[null,null,938,null,null,null,null,null,null,null,null,null,null,null,"*"]
[null,null,939,null,null,null,null,null,null,null,null,null,null,null,"*"]
[null,null,940,null,null,null,null,null,null,null,null,null,null,null,"*"]
[null,null,941,null,null,null,null,null,null,null,null,null,null,null,"*"]
[null,null,942,null,null,null,null,null,null,null,null,null,null,null,"*"]
[null,null,943,null,null,null,null,null,null,null,null,null,null,null,"*"]
[null,null,944,null,null,null,null,null,null,null,null,null,null,null,"*"]
[null,null,945,null,null,null,null,null,null,null,null,null,null,null,"*"]
[null,null,946,null,null,null,null,null,null,null,null,null,null,null,"*"]
[null,null,947,null,null,null,null,null,null,null,null,null,null,null,"*"]
[null,null,948,null,null,null,null,null,null,null,null,null,null,null,"*"]
[null,null,949,null,null,null,null,null,null,null,null,null,null,null,"*"]
[null,null,950,null,null,null,null,null,null,null,null,null,null,null,"*"]
[null,null,951,null,null,null,null,null,null,null,null,null,null,null,"*"]
[null,null,952,null,null,null,null,null,null,null,null,null,null,null,"*"]
[null,null,953,null,null,null,null,null,null,null,null,null,null,null,"*"]
[null,null,954,null,null,null,null,null,null,null,null,null,null,null,"*"]
[null,null,955,null,null,null,null,null,null,null,null,null,null,null,"*"]
[null,null,956,null,null,null,null,null,null,null,null,null,null,null,"*"]
[null,null,957,null,null,null,null,null,null,null,null,null,null,null,"*"]
[null,null,958,null,null,null,null,null,null,null,null,null,null,null,"*"]
[null,null,959,null,null,null,null,null,null,null,null,null,null,null,"*"]
[null,null,960,null,null,null,null,null,null,null,null,null,null,null,"*"]
[null,null,{"$f":"ROW()-4","v":961},null,null,null,null,null,null,null,null,null,null,null,"*"]
[null,null,962,null,null,null,null,null,null,null,null,null,null,null,"*"]
[null,null,963,null,null,null,null,null,null,null,null,null,null,null,"*"]
[null,null,964,null,null,null,null,null,null,null,null,null,null,null,"*"]
[null,null,965,null,null,null,null,null,null,null,null,null,null,null,"*"]
[null,null,966,null,null,null,null,null,null,null,null,null,null,null,"*"]
[null,null,967,null,null,null,null,null,null,null,null,null,null,null,"*"]
[null,null,968,null,null,null,null,null,null,null,null,null,null,null,"*"]
[null,null,969,null,null,null,null,null,null,null,null,null,null,null,"*"]
[null,null,970,null,null,null,null,null,null,null,null,null,null,null,"*"]
[null,null,971,null,null,null,null,null,null,null,null,null,null,null,"*"]
[null,null,972,null,null,null,null,null,null,null,null,null,null,null,"*"]
[null,null,973,null,null,null,null,null,null,null,null,null,null,null,"*"]
[null,null,974,null,null,null,null,null,null,null,null,null,null,null,"*"]
[null,null,975,null,null,null,null,null,null,null,null,null,null,null,"*"]
[null,null,976,null,null,null,null,null,null,null,null,null,null,null,"*"]
[null,null,977,null,null,null,null,null,null,null,null,null,null,null,"*"]
[null,null,978,null,null,null,null,null,null,null,null,null,null,null,"*"]
[null,null,979,null,null,null,null,null,null,null,null,null,null,null,"*"]
[null,null,980,null,null,null,null,null,null,null,null,null,null,null,"*"]
[null,null,981,null,null,null,null,null,null,null,null,null,null,null,"*"]
[null,null,982,null,null,null,null,null,null,null,null,null,null,null,"*"]
[null,null,983,null,null,null,null,null,null,null,null,null,null,null,"*"]
[null,null,984,null,null,null,null,null,null,null,null,null,null,null,"*"]
[null,null,985,null,null,null,null,null,null,null,null,null,null,null,"*"]
[null,null,986,null,null,null,null,null,null,null,null,null,null,null,"*"]
[null,null,987,null,null,null,null,null,null,null,null,null,null,null,"*"]
[null,null,988,null,null,null,null,null,null,null,null,null,null,null,"*"]
[null,null,989,null,null,null,null,null,null,null,null,null,null,null,"*"]
[null,null,990,null,null,null,null,null,null,null,null,null,null,null,"*"]
[null,null,991,null,null,null,null,null,null,null,null,null,null,null,"*"]
[null,null,992,null,null,null,null,null,null,null,null,null,null,null,"*"]
[null,null,993,null,null,null,null,null,null,null,null,null,null,null,"*"]
[null,null,994,null,null,null,null,null,null,null,null,null,null,null,"*"]
[null,null,995,null,null,null,null,null,null,null,null,null,null,null,"*"]
[null,null,996,null,null,null,null,null,null,null,null,null,null,null,"*"]
["*","*","*","*","*",null,"*","*","*","*","*","*","*","*","*"]

{"sheet":"使用可能SKUコード","index":4,"n_rows":3,"n_cols":3,"rows_kept":3,"cut":false,"hidden":true,"merged":[]}
["検査方式","商品名","SKUコード"]
["通常方式","【法人/通常】新型コロナウイルス唾液PCR検査キット",5901010026]
["プーリング方式（4検体）","【法人/プーリング】新型コロナウイルス唾液PCR検査キット",5901010027]

{"sheet":">変換FMT>","index":5,"n_rows":0,"n_cols":0,"rows_kept":0,"cut":false,"hidden":true,"merged":[]}

{"sheet":"注文マスタ貼り付け用","index":6,"n_rows":999,"n_cols":15,"rows_kept":999,"cut":false,"hidden":true,"merged":[]}
[null,"申込・注文マスタ　03.注文シート（I～W列）にコピペする情報",null,null,null,null,null,null,null,null,null,null,null,"作業列"]
["案件ID","申込担当者名","結果通知電話番号","結果通知メアド","指定医療機関ID","指定医療機関","希望納期","検査実施予定日","検査方式","数量","システム利用有無","備考",null,"数量","重複確認"]
[{"$f":"配送情報書!A5","v":0},{"$f":"配送情報書!AB5","v":0},{"$f":"配送情報書!AA5","v":0},{"$f":"配送情報書!AC5","v":0},{"$f":"INDEX(医療機関マスタ!$A:$A,MATCH(F3,医療機関マスタ!$B:$B,0),1)","v":"AH0000001"},{"$f":"INDEX(医療機関マスタ!$B:$B,MATCH(\"*\"&MID(注文書!$D$17,IFERROR(FIND(\" \",注文書!$D$17),IFERROR(FIND(\"　\",注文書!$D$17),0))+1,10)&\"*\",医療機関マスタ!$C:$C,0),1)","v":"医療法人社団斗南堂　八王子クリニック"},{"$f":"配送情報書!X5","v":"00:00:00"},{"$f":"配送情報書!Z5","v":"00:00:00"},{"$f":"配送情報書!$V5","v":0},{"$f":"IF(AND(N3>0,O3=1),SUMIFS($N:$N,$A:$A,A3),\"転記不要\")","v":"転記不要"},null,null,null,{"$f":"配送情報書!T5","v":0},{"$f":"COUNTIF($A$3:A3,A3)","v":1}]
[{"$f":"配送情報書!A6","v":0},{"$f":"配送情報書!AB6","v":0},{"$f":"配送情報書!AA6","v":0},{"$f":"配送情報書!AC6","v":0},{"$f":"INDEX(医療機関マスタ!$A:$A,MATCH(F4,医療機関マスタ!$B:$B,0),1)","v":"AH0000001"},{"$f":"INDEX(医療機関マスタ!$B:$B,MATCH(\"*\"&MID(注文書!$D$17,IFERROR(FIND(\" \",注文書!$D$17),IFERROR(FIND(\"　\",注文書!$D$17),0))+1,10)&\"*\",医療機関マスタ!$C:$C,0),1)","v":"医療法人社団斗南堂　八王子クリニック"},{"$f":"配送情報書!X6","v":"00:00:00"},{"$f":"配送情報書!Z6","v":"00:00:00"},{"$f":"配送情報書!$V6","v":""},{"$f":"IF(AND(N4>0,O4=1),SUMIFS($N:$N,$A:$A,A4),\"転記不要\")","v":"転記不要"},null,null,null,{"$f":"配送情報書!T6","v":0},{"$f":"COUNTIF($A$3:A4,A4)","v":2}]
[{"$f":"配送情報書!A7","v":0},{"$f":"配送情報書!AB7","v":0},{"$f":"配送情報書!AA7","v":0},{"$f":"配送情報書!AC7","v":0},{"$f":"INDEX(医療機関マスタ!$A:$A,MATCH(F5,医療機関マスタ!$B:$B,0),1)","v":"AH0000001"},{"$f":"INDEX(医療機関マスタ!$B:$B,MATCH(\"*\"&MID(注文書!$D$17,IFERROR(FIND(\" \",注文書!$D$17),IFERROR(FIND(\"　\",注文書!$D$17),0))+1,10)&\"*\",医療機関マスタ!$C:$C,0),1)","v":"医療法人社団斗南堂　八王子クリニック"},{"$f":"配送情報書!X7","v":"00:00:00"},{"$f":"配送情報書!Z7","v":"00:00:00"},{"$f":"配送情報書!$V7","v":""},"転記不要",null,null,null,{"$f":"配送情報書!T7","v":0},{"$f":"COUNTIF($A$3:A5,A5)","v":3}]
[{"$f":"配送情報書!A8","v":0},{"$f":"配送情報書!AB8","v":0},{"$f":"配送情報書!AA8","v":0},{"$f":"配送情報書!AC8","v":0},{"$f":"INDEX(医療機関マスタ!$A:$A,MATCH(F6,医療機関マスタ!$B:$B,0),1)","v":"AH0000001"},{"$f":"INDEX(医療機関マスタ!$B:$B,MATCH(\"*\"&MID(注文書!$D$17,IFERROR(FIND(\" \",注文書!$D$17),IFERROR(FIND(\"　\",注文書!$D$17),0))+1,10)&\"*\",医療機関マスタ!$C:$C,0),1)","v":"医療法人社団斗南堂　八王子クリニック"},{"$f":"配送情報書!X8","v":"00:00:00"},{"$f":"配送情報書!Z8","v":"00:00:00"},{"$f":"配送情報書!$V8","v":""},"転記不要",null,null,null,{"$f":"配送情報書!T8","v":0},{"$f":"COUNTIF($A$3:A6,A6)","v":4}]
[{"$f":"配送情報書!A9","v":0},{"$f":"配送情報書!AB9","v":0},{"$f":"配送情報書!AA9","v":0},{"$f":"配送情報書!AC9","v":0},{"$f":"INDEX(医療機関マスタ!$A:$A,MATCH(F7,医療機関マスタ!$B:$B,0),1)","v":"AH0000001"},{"$f":"INDEX(医療機関マスタ!$B:$B,MATCH(\"*\"&MID(注文書!$D$17,IFERROR(FIND(\" \",注文書!$D$17),IFERROR(FIND(\"　\",注文書!$D$17),0))+1,10)&\"*\",医療機関マスタ!$C:$C,0),1)","v":"医療法人社団斗南堂　八王子クリニック"},{"$f":"配送情報書!X9","v":"00:00:00"},{"$f":"配送情報書!Z9","v":"00:00:00"},{"$f":"配送情報書!$V9","v":""},"転記不要",null,null,null,{"$f":"配送情報書!T9","v":0},{"$f":"COUNTIF($A$3:A7,A7)","v":5}]
[{"$f":"配送情報書!A10","v":0},{"$f":"配送情報書!AB10","v":0},{"$f":"配送情報書!AA10","v":0},{"$f":"配送情報書!AC10","v":0},{"$f":"INDEX(医療機関マスタ!$A:$A,MATCH(F8,医療機関マスタ!$B:$B,0),1)","v":"AH0000001"},{"$f":"INDEX(医療機関マスタ!$B:$B,MATCH(\"*\"&MID(注文書!$D$17,IFERROR(FIND(\" \",注文書!$D$17),IFERROR(FIND(\"　\",注文書!$D$17),0))+1,10)&\"*\",医療機関マスタ!$C:$C,0),1)","v":"医療法人社団斗南堂　八王子クリニック"},{"$f":"配送情報書!X10","v":"00:00:00"},{"$f":"配送情報書!Z10","v":"00:00:00"},{"$f":"配送情報書!$V10","v":""},"転記不要",null,null,null,{"$f":"配送情報書!T10","v":0},{"$f":"COUNTIF($A$3:A8,A8)","v":6}]
[{"$f":"配送情報書!A11","v":0},{"$f":"配送情報書!AB11","v":0},{"$f":"配送情報書!AA11","v":0},{"$f":"配送情報書!AC11","v":0},{"$f":"INDEX(医療機関マスタ!$A:$A,MATCH(F9,医療機関マスタ!$B:$B,0),1)","v":"AH0000001"},{"$f":"INDEX(医療機関マスタ!$B:$B,MATCH(\"*\"&MID(注文書!$D$17,IFERROR(FIND(\" \",注文書!$D$17),IFERROR(FIND(\"　\",注文書!$D$17),0))+1,10)&\"*\",医療機関マスタ!$C:$C,0),1)","v":"医療法人社団斗南堂　八王子クリニック"},{"$f":"配送情報書!X11","v":"00:00:00"},{"$f":"配送情報書!Z11","v":"00:00:00"},{"$f":"配送情報書!$V11","v":""},"転記不要",null,null,null,{"$f":"配送情報書!T11","v":0},{"$f":"COUNTIF($A$3:A9,A9)","v":7}]
[{"$f":"配送情報書!A12","v":0},{"$f":"配送情報書!AB12","v":0},{"$f":"配送情報書!AA12","v":0},{"$f":"配送情報書!AC12","v":0},{"$f":"INDEX(医療機関マスタ!$A:$A,MATCH(F10,医療機関マスタ!$B:$B,0),1)","v":"AH0000001"},{"$f":"INDEX(医療機関マスタ!$B:$B,MATCH(\"*\"&MID(注文書!$D$17,IFERROR(FIND(\" \",注文書!$D$17),IFERROR(FIND(\"　\",注文書!$D$17),0))+1,10)&\"*\",医療機関マスタ!$C:$C,0),1)","v":"医療法人社団斗南堂　八王子クリニック"},{"$f":"配送情報書!X12","v":""},{"$f":"配送情報書!Z12","v":"00:00:00"},{"$f":"配送情報書!$V12","v":""},"転記不要",null,null,null,{"$f":"配送情報書!T12","v":0},{"$f":"COUNTIF($A$3:A10,A10)","v":8}]
[{"$f":"配送情報書!A13","v":0},{"$f":"配送情報書!AB13","v":0},{"$f":"配送情報書!AA13","v":0},{"$f":"配送情報書!AC13","v":0},{"$f":"INDEX(医療機関マスタ!$A:$A,MATCH(F11,医療機関マスタ!$B:$B,0),1)","v":"AH0000001"},{"$f":"INDEX(医療機関マスタ!$B:$B,MATCH(\"*\"&MID(注文書!$D$17,IFERROR(FIND(\" \",注文書!$D$17),IFERROR(FIND(\"　\",注文書!$D$17),0))+1,10)&\"*\",医療機関マスタ!$C:$C,0),1)","v":"医療法人社団斗南堂　八王子クリニック"},{"$f":"配送情報書!X13","v":""},{"$f":"配送情報書!Z13","v":"00:00:00"},{"$f":"配送情報書!$V13","v":""},"転記不要",null,null,null,{"$f":"配送情報書!T13","v":0},{"$f":"COUNTIF($A$3:A11,A11)","v":9}]
[{"$f":"配送情報書!A14","v":0},{"$f":"配送情報書!AB14","v":0},{"$f":"配送情報書!AA14","v":0},{"$f":"配送情報書!AC14","v":0},{"$f":"INDEX(医療機関マスタ!$A:$A,MATCH(F12,医療機関マスタ!$B:$B,0),1)","v":"AH0000001"},{"$f":"INDEX(医療機関マスタ!$B:$B,MATCH(\"*\"&MID(注文書!$D$17,IFERROR(FIND(\" \",注文書!$D$17),IFERROR(FIND(\"　\",注文書!$D$17),0))+1,10)&\"*\",医療機関マスタ!$C:$C,0),1)","v":"医療法人社団斗南堂　八王子クリニック"},{"$f":"配送情報書!X14","v":""},{"$f":"配送情報書!Z14","v":"00:00:00"},{"$f":"配送情報書!$V14","v":""},"転記不要",null,null,null,{"$f":"配送情報書!T14","v":0},{"$f":"COUNTIF($A$3:A12,A12)","v":10}]
[{"$f":"配送情報書!A15","v":0},{"$f":"配送情報書!AB15","v":0},{"$f":"配送情報書!AA15","v":0},{"$f":"配送情報書!AC15","v":0},{"$f":"INDEX(医療機関マスタ!$A:$A,MATCH(F13,医療機関マスタ!$B:$B,0),1)","v":"AH0000001"},{"$f":"INDEX(医療機関マスタ!$B:$B,MATCH(\"*\"&MID(注文書!$D$17,IFERROR(FIND(\" \",注文書!$D$17),IFERROR(FIND(\"　\",注文書!$D$17),0))+1,10)&\"*\",医療機関マスタ!$C:$C,0),1)","v":"医療法人社団斗南堂　八王子クリニック"},{"$f":"配送情報書!X15","v":""},{"$f":"配送情報書!Z15","v":"00:00:00"},{"$f":"配送情報書!$V15","v":""},"転記不要",null,null,null,{"$f":"配送情報書!T15","v":0},{"$f":"COUNTIF($A$3:A13,A13)","v":11}]
[{"$f":"配送情報書!A16","v":0},{"$f":"配送情報書!AB16","v":0},{"$f":"配送情報書!AA16","v":0},{"$f":"配送情報書!AC16","v":0},{"$f":"INDEX(医療機関マスタ!$A:$A,MATCH(F14,医療機関マスタ!$B:$B,0),1)","v":"AH0000001"},{"$f":"INDEX(医療機関マスタ!$B:$B,MATCH(\"*\"&MID(注文書!$D$17,IFERROR(FIND(\" \",注文書!$D$17),IFERROR(FIND(\"　\",注文書!$D$17),0))+1,10)&\"*\",医療機関マスタ!$C:$C,0),1)","v":"医療法人社団斗南堂　八王子クリニック"},{"$f":"配送情報書!X16","v":""},{"$f":"配送情報書!Z16","v":"00:00:00"},{"$f":"配送情報書!$V16","v":""},"転記不要",null,null,null,{"$f":"配送情報書!T16","v":0},{"$f":"COUNTIF($A$3:A14,A14)","v":12}]
[{"$f":"配送情報書!A17","v":0},{"$f":"配送情報書!AB17","v":0},{"$f":"配送情報書!AA17","v":0},{"$f":"配送情報書!AC17","v":0},{"$f":"INDEX(医療機関マスタ!$A:$A,MATCH(F15,医療機関マスタ!$B:$B,0),1)","v":"AH0000001"},{"$f":"INDEX(医療機関マスタ!$B:$B,MATCH(\"*\"&MID(注文書!$D$17,IFERROR(FIND(\" \",注文書!$D$17),IFERROR(FIND(\"　\",注文書!$D$17),0))+1,10)&\"*\",医療機関マスタ!$C:$C,0),1)","v":"医療法人社団斗南堂　八王子クリニック"},{"$f":"配送情報書!X17","v":""},{"$f":"配送情報書!Z17","v":"00:00:00"},{"$f":"配送情報書!$V17","v":""},"転記不要",null,null,null,{"$f":"配送情報書!T17","v":0},{"$f":"COUNTIF($A$3:A15,A15)","v":13}]
[{"$f":"配送情報書!A18","v":0},{"$f":"配送情報書!AB18","v":0},{"$f":"配送情報書!AA18","v":0},{"$f":"配送情報書!AC18","v":0},{"$f":"INDEX(医療機関マスタ!$A:$A,MATCH(F16,医療機関マスタ!$B:$B,0),1)","v":"AH0000001"},{"$f":"INDEX(医療機関マスタ!$B:$B,MATCH(\"*\"&MID(注文書!$D$17,IFERROR(FIND(\" \",注文書!$D$17),IFERROR(FIND(\"　\",注文書!$D$17),0))+1,10)&\"*\",医療機関マスタ!$C:$C,0),1)","v":"医療法人社団斗南堂　八王子クリニック"},{"$f":"配送情報書!X18","v":""},{"$f":"配送情報書!Z18","v":"00:00:00"},{"$f":"配送情報書!$V18","v":""},"転記不要",null,null,null,{"$f":"配送情報書!T18","v":0},{"$f":"COUNTIF($A$3:A16,A16)","v":14}]
[{"$f":"配送情報書!A19","v":0},{"$f":"配送情報書!AB19","v":0},{"$f":"配送情報書!AA19","v":0},{"$f":"配送情報書!AC19","v":0},{"$f":"INDEX(医療機関マスタ!$A:$A,MATCH(F17,医療機関マスタ!$B:$B,0),1)","v":"AH0000001"},{"$f":"INDEX(医療機関マスタ!$B:$B,MATCH(\"*\"&MID(注文書!$D$17,IFERROR(FIND(\" \",注文書!$D$17),IFERROR(FIND(\"　\",注文書!$D$17),0))+1,10)&\"*\",医療機関マスタ!$C:$C,0),1)","v":"医療法人社団斗南堂　八王子クリニック"},{"$f":"配送情報書!X19","v":""},{"$f":"配送情報書!Z19","v":"00:00:00"},{"$f":"配送情報書!$V19","v":""},"転記不要",null,null,null,{"$f":"配送情報書!T19","v":0},{"$f":"COUNTIF($A$3:A17,A17)","v":15}]
[{"$f":"配送情報書!A20","v":0},{"$f":"配送情報書!AB20","v":0},{"$f":"配送情報書!AA20","v":0},{"$f":"配送情報書!AC20","v":0},{"$f":"INDEX(医療機関マスタ!$A:$A,MATCH(F18,医療機関マスタ!$B:$B,0),1)","v":"AH0000001"},{"$f":"INDEX(医療機関マスタ!$B:$B,MATCH(\"*\"&MID(注文書!$D$17,IFERROR(FIND(\" \",注文書!$D$17),IFERROR(FIND(\"　\",注文書!$D$17),0))+1,10)&\"*\",医療機関マスタ!$C:$C,0),1)","v":"医療法人社団斗南堂　八王子クリニック"},{"$f":"配送情報書!X20","v":""},{"$f":"配送情報書!Z20","v":"00:00:00"},{"$f":"配送情報書!$V20","v":""},"転記不要",null,null,null,{"$f":"配送情報書!T20","v":0},{"$f":"COUNTIF($A$3:A18,A18)","v":16}]
[{"$f":"配送情報書!A21","v":0},{"$f":"配送情報書!AB21","v":0},{"$f":"配送情報書!AA21","v":0},{"$f":"配送情報書!AC21","v":0},{"$f":"INDEX(医療機関マスタ!$A:$A,MATCH(F19,医療機関マスタ!$B:$B,0),1)","v":"AH0000001"},{"$f":"INDEX(医療機関マスタ!$B:$B,MATCH(\"*\"&MID(注文書!$D$17,IFERROR(FIND(\" \",注文書!$D$17),IFERROR(FIND(\"　\",注文書!$D$17),0))+1,10)&\"*\",医療機関マスタ!$C:$C,0),1)","v":"医療法人社団斗南堂　八王子クリニック"},{"$f":"配送情報書!X21","v":""},{"$f":"配送情報書!Z21","v":"00:00:00"},{"$f":"配送情報書!$V21","v":""},"転記不要",null,null,null,{"$f":"配送情報書!T21","v":0},{"$f":"COUNTIF($A$3:A19,A19)","v":17}]
[{"$f":"配送情報書!A22","v":0},{"$f":"配送情報書!AB22","v":0},{"$f":"配送情報書!AA22","v":0},{"$f":"配送情報書!AC22","v":0},{"$f":"INDEX(医療機関マスタ!$A:$A,MATCH(F20,医療機関マスタ!$B:$B,0),1)","v":"AH0000001"},{"$f":"INDEX(医療機関マスタ!$B:$B,MATCH(\"*\"&MID(注文書!$D$17,IFERROR(FIND(\" \",注文書!$D$17),IFERROR(FIND(\"　\",注文書!$D$17),0))+1,10)&\"*\",医療機関マスタ!$C:$C,0),1)","v":"医療法人社団斗南堂　八王子クリニック"},{"$f":"配送情報書!X22","v":""},{"$f":"配送情報書!Z22","v":"00:00:00"},{"$f":"配送情報書!$V22","v":""},"転記不要",null,null,null,{"$f":"配送情報書!T22","v":0},{"$f":"COUNTIF($A$3:A20,A20)","v":18}]
[{"$f":"配送情報書!A23","v":0},{"$f":"配送情報書!AB23","v":0},{"$f":"配送情報書!AA23","v":0},{"$f":"配送情報書!AC23","v":0},{"$f":"INDEX(医療機関マスタ!$A:$A,MATCH(F21,医療機関マスタ!$B:$B,0),1)","v":"AH0000001"},{"$f":"INDEX(医療機関マスタ!$B:$B,MATCH(\"*\"&MID(注文書!$D$17,IFERROR(FIND(\" \",注文書!$D$17),IFERROR(FIND(\"　\",注文書!$D$17),0))+1,10)&\"*\",医療機関マスタ!$C:$C,0),1)","v":"医療法人社団斗南堂　八王子クリニック"},{"$f":"配送情報書!X23","v":""},{"$f":"配送情報書!Z23","v":"00:00:00"},{"$f":"配送情報書!$V23","v":""},"転記不要",null,null,null,{"$f":"配送情報書!T23","v":0},{"$f":"COUNTIF($A$3:A21,A21)","v":19}]
[{"$f":"配送情報書!A24","v":0},{"$f":"配送情報書!AB24","v":0},{"$f":"配送情報書!AA24","v":0},{"$f":"配送情報書!AC24","v":0},{"$f":"INDEX(医療機関マスタ!$A:$A,MATCH(F22,医療機関マスタ!$B:$B,0),1)","v":"AH0000001"},{"$f":"INDEX(医療機関マスタ!$B:$B,MATCH(\"*\"&MID(注文書!$D$17,IFERROR(FIND(\" \",注文書!$D$17),IFERROR(FIND(\"　\",注文書!$D$17),0))+1,10)&\"*\",医療機関マスタ!$C:$C,0),1)","v":"医療法人社団斗南堂　八王子クリニック"},{"$f":"配送情報書!X24","v":""},{"$f":"配送情報書!Z24","v":"00:00:00"},{"$f":"配送情報書!$V24","v":""},"転記不要",null,null,null,{"$f":"配送情報書!T24","v":0},{"$f":"COUNTIF($A$3:A22,A22)","v":20}]
[{"$f":"配送情報書!A25","v":0},{"$f":"配送情報書!AB25","v":0},{"$f":"配送情報書!AA25","v":0},{"$f":"配送情報書!AC25","v":0},{"$f":"INDEX(医療機関マスタ!$A:$A,MATCH(F23,医療機関マスタ!$B:$B,0),1)","v":"AH0000001"},{"$f":"INDEX(医療機関マスタ!$B:$B,MATCH(\"*\"&MID(注文書!$D$17,IFERROR(FIND(\" \",注文書!$D$17),IFERROR(FIND(\"　\",注文書!$D$17),0))+1,10)&\"*\",医療機関マスタ!$C:$C,0),1)","v":"医療法人社団斗南堂　八王子クリニック"},{"$f":"配送情報書!X25","v":""},{"$f":"配送情報書!Z25","v":"00:00:00"},{"$f":"配送情報書!$V25","v":""},"転記不要",null,null,null,{"$f":"配送情報書!T25","v":0},{"$f":"COUNTIF($A$3:A23,A23)","v":21}]
[{"$f":"配送情報書!A26","v":0},{"$f":"配送情報書!AB26","v":0},{"$f":"配送情報書!AA26","v":0},{"$f":"配送情報書!AC26","v":0},{"$f":"INDEX(医療機関マスタ!$A:$A,MATCH(F24,医療機関マスタ!$B:$B,0),1)","v":"AH0000001"},{"$f":"INDEX(医療機関マスタ!$B:$B,MATCH(\"*\"&MID(注文書!$D$17,IFERROR(FIND(\" \",注文書!$D$17),IFERROR(FIND(\"　\",注文書!$D$17),0))+1,10)&\"*\",医療機関マスタ!$C:$C,0),1)","v":"医療法人社団斗南堂　八王子クリニック"},{"$f":"配送情報書!X26","v":""},{"$f":"配送情報書!Z26","v":"00:00:00"},{"$f":"配送情報書!$V26","v":""},"転記不要",null,null,null,{"$f":"配送情報書!T26","v":0},{"$f":"COUNTIF($A$3:A24,A24)","v":22}]
[{"$f":"配送情報書!A27","v":0},{"$f":"配送情報書!AB27","v":0},{"$f":"配送情報書!AA27","v":0},{"$f":"配送情報書!AC27","v":0},{"$f":"INDEX(医療機関マスタ!$A:$A,MATCH(F25,医療機関マスタ!$B:$B,0),1)","v":"AH0000001"},{"$f":"INDEX(医療機関マスタ!$B:$B,MATCH(\"*\"&MID(注文書!$D$17,IFERROR(FIND(\" \",注文書!$D$17),IFERROR(FIND(\"　\",注文書!$D$17),0))+1,10)&\"*\",医療機関マスタ!$C:$C,0),1)","v":"医療法人社団斗南堂　八王子クリニック"},{"$f":"配送情報書!X27","v":""},{"$f":"配送情報書!Z27","v":"00:00:00"},{"$f":"配送情報書!$V27","v":""},"転記不要",null,null,null,{"$f":"配送情報書!T27","v":0},{"$f":"COUNTIF($A$3:A25,A25)","v":23}]
[{"$f":"配送情報書!A28","v":0},{"$f":"配送情報書!AB28","v":0},{"$f":"配送情報書!AA28","v":0},{"$f":"配送情報書!AC28","v":0},{"$f":"INDEX(医療機関マスタ!$A:$A,MATCH(F26,医療機関マスタ!$B:$B,0),1)","v":"AH0000001"},{"$f":"INDEX(医療機関マスタ!$B:$B,MATCH(\"*\"&MID(注文書!$D$17,IFERROR(FIND(\" \",注文書!$D$17),IFERROR(FIND(\"　\",注文書!$D$17),0))+1,10)&\"*\",医療機関マスタ!$C:$C,0),1)","v":"医療法人社団斗南堂　八王子クリニック"},{"$f":"配送情報書!X28","v":""},{"$f":"配送情報書!Z28","v":"00:00:00"},{"$f":"配送情報書!$V28","v":""},"転記不要",null,null,null,{"$f":"配送情報書!T28","v":0},{"$f":"COUNTIF($A$3:A26,A26)","v":24}]
[{"$f":"配送情報書!A29","v":0},{"$f":"配送情報書!AB29","v":0},{"$f":"配送情報書!AA29","v":0},{"$f":"配送情報書!AC29","v":0},{"$f":"INDEX(医療機関マスタ!$A:$A,MATCH(F27,医療機関マスタ!$B:$B,0),1)","v":"AH0000001"},{"$f":"INDEX(医療機関マスタ!$B:$B,MATCH(\"*\"&MID(注文書!$D$17,IFERROR(FIND(\" \",注文書!$D$17),IFERROR(FIND(\"　\",注文書!$D$17),0))+1,10)&\"*\",医療機関マスタ!$C:$C,0),1)","v":"医療法人社団斗南堂　八王子クリニック"},{"$f":"配送情報書!X29","v":""},{"$f":"配送情報書!Z29","v":"00:00:00"},{"$f":"配送情報書!$V29","v":""},"転記不要",null,null,null,{"$f":"配送情報書!T29","v":0},{"$f":"COUNTIF($A$3:A27,A27)","v":25}]
[{"$f":"配送情報書!A30","v":0},{"$f":"配送情報書!AB30","v":0},{"$f":"配送情報書!AA30","v":0},{"$f":"配送情報書!AC30","v":0},{"$f":"INDEX(医療機関マスタ!$A:$A,MATCH(F28,医療機関マスタ!$B:$B,0),1)","v":"AH0000001"},{"$f":"INDEX(医療機関マスタ!$B:$B,MATCH(\"*\"&MID(注文書!$D$17,IFERROR(FIND(\" \",注文書!$D$17),IFERROR(FIND(\"　\",注文書!$D$17),0))+1,10)&\"*\",医療機関マスタ!$C:$C,0),1)","v":"医療法人社団斗南堂　八王子クリニック"},{"$f":"配送情報書!X30","v":""},{"$f":"配送情報書!Z30","v":"00:00:00"},{"$f":"配送情報書!$V30","v":""},"転記不要",null,null,null,{"$f":"配送情報書!T30","v":0},{"$f":"COUNTIF($A$3:A28,A28)","v":26}]
[{"$f":"配送情報書!A31","v":0},{"$f":"配送情報書!AB31","v":0},{"$f":"配送情報書!AA31","v":0},{"$f":"配送情報書!AC31","v":0},{"$f":"INDEX(医療機関マスタ!$A:$A,MATCH(F29,医療機関マスタ!$B:$B,0),1)","v":"AH0000001"},{"$f":"INDEX(医療機関マスタ!$B:$B,MATCH(\"*\"&MID(注文書!$D$17,IFERROR(FIND(\" \",注文書!$D$17),IFERROR(FIND(\"　\",注文書!$D$17),0))+1,10)&\"*\",医療機関マスタ!$C:$C,0),1)","v":"医療法人社団斗南堂　八王子クリニック"},{"$f":"配送情報書!X31","v":""},{"$f":"配送情報書!Z31","v":"00:00:00"},{"$f":"配送情報書!$V31","v":""},"転記不要",null,null,null,{"$f":"配送情報書!T31","v":0},{"$f":"COUNTIF($A$3:A29,A29)","v":27}]
[{"$f":"配送情報書!A32","v":0},{"$f":"配送情報書!AB32","v":0},{"$f":"配送情報書!AA32","v":0},{"$f":"配送情報書!AC32","v":0},{"$f":"INDEX(医療機関マスタ!$A:$A,MATCH(F30,医療機関マスタ!$B:$B,0),1)","v":"AH0000001"},{"$f":"INDEX(医療機関マスタ!$B:$B,MATCH(\"*\"&MID(注文書!$D$17,IFERROR(FIND(\" \",注文書!$D$17),IFERROR(FIND(\"　\",注文書!$D$17),0))+1,10)&\"*\",医療機関マスタ!$C:$C,0),1)","v":"医療法人社団斗南堂　八王子クリニック"},{"$f":"配送情報書!X32","v":""},{"$f":"配送情報書!Z32","v":"00:00:00"},{"$f":"配送情報書!$V32","v":""},"転記不要",null,null,null,{"$f":"配送情報書!T32","v":0},{"$f":"COUNTIF($A$3:A30,A30)","v":28}]
[{"$f":"配送情報書!A33","v":0},{"$f":"配送情報書!AB33","v":0},{"$f":"配送情報書!AA33","v":0},{"$f":"配送情報書!AC33","v":0},{"$f":"INDEX(医療機関マスタ!$A:$A,MATCH(F31,医療機関マスタ!$B:$B,0),1)","v":"AH0000001"},{"$f":"INDEX(医療機関マスタ!$B:$B,MATCH(\"*\"&MID(注文書!$D$17,IFERROR(FIND(\" \",注文書!$D$17),IFERROR(FIND(\"　\",注文書!$D$17),0))+1,10)&\"*\",医療機関マスタ!$C:$C,0),1)","v":"医療法人社団斗南堂　八王子クリニック"},{"$f":"配送情報書!X33","v":""},{"$f":"配送情報書!Z33","v":"00:00:00"},{"$f":"配送情報書!$V33","v":""},"転記不要",null,null,null,{"$f":"配送情報書!T33","v":0},{"$f":"COUNTIF($A$3:A31,A31)","v":29}]
[{"$f":"配送情報書!A34","v":0},{"$f":"配送情報書!AB34","v":0},{"$f":"配送情報書!AA34","v":0},{"$f":"配送情報書!AC34","v":0},{"$f":"INDEX(医療機関マスタ!$A:$A,MATCH(F32,医療機関マスタ!$B:$B,0),1)","v":"AH0000001"},{"$f":"INDEX(医療機関マスタ!$B:$B,MATCH(\"*\"&MID(注文書!$D$17,IFERROR(FIND(\" \",注文書!$D$17),IFERROR(FIND(\"　\",注文書!$D$17),0))+1,10)&\"*\",医療機関マスタ!$C:$C,0),1)","v":"医療法人社団斗南堂　八王子クリニック"},{"$f":"配送情報書!X34","v":""},{"$f":"配送情報書!Z34","v":"00:00:00"},{"$f":"配送情報書!$V34","v":""},"転記不要",null,null,null,{"$f":"配送情報書!T34","v":0},{"$f":"COUNTIF($A$3:A32,A32)","v":30}]
[{"$f":"配送情報書!A35","v":0},{"$f":"配送情報書!AB35","v":0},{"$f":"配送情報書!AA35","v":0},{"$f":"配送情報書!AC35","v":0},{"$f":"INDEX(医療機関マスタ!$A:$A,MATCH(F33,医療機関マスタ!$B:$B,0),1)","v":"AH0000001"},{"$f":"INDEX(医療機関マスタ!$B:$B,MATCH(\"*\"&MID(注文書!$D$17,IFERROR(FIND(\" \",注文書!$D$17),IFERROR(FIND(\"　\",注文書!$D$17),0))+1,10)&\"*\",医療機関マスタ!$C:$C,0),1)","v":"医療法人社団斗南堂　八王子クリニック"},{"$f":"配送情報書!X35","v":""},{"$f":"配送情報書!Z35","v":"00:00:00"},{"$f":"配送情報書!$V35","v":""},"転記不要",null,null,null,{"$f":"配送情報書!T35","v":0},{"$f":"COUNTIF($A$3:A33,A33)","v":31}]
[{"$f":"配送情報書!A36","v":0},{"$f":"配送情報書!AB36","v":0},{"$f":"配送情報書!AA36","v":0},{"$f":"配送情報書!AC36","v":0},{"$f":"INDEX(医療機関マスタ!$A:$A,MATCH(F34,医療機関マスタ!$B:$B,0),1)","v":"AH0000001"},{"$f":"INDEX(医療機関マスタ!$B:$B,MATCH(\"*\"&MID(注文書!$D$17,IFERROR(FIND(\" \",注文書!$D$17),IFERROR(FIND(\"　\",注文書!$D$17),0))+1,10)&\"*\",医療機関マスタ!$C:$C,0),1)","v":"医療法人社団斗南堂　八王子クリニック"},{"$f":"配送情報書!X36","v":""},{"$f":"配送情報書!Z36","v":"00:00:00"},{"$f":"配送情報書!$V36","v":""},"転記不要",null,null,null,{"$f":"配送情報書!T36","v":0},{"$f":"COUNTIF($A$3:A34,A34)","v":32}]
[{"$f":"配送情報書!A37","v":0},{"$f":"配送情報書!AB37","v":0},{"$f":"配送情報書!AA37","v":0},{"$f":"配送情報書!AC37","v":0},{"$f":"INDEX(医療機関マスタ!$A:$A,MATCH(F35,医療機関マスタ!$B:$B,0),1)","v":"AH0000001"},{"$f":"INDEX(医療機関マスタ!$B:$B,MATCH(\"*\"&MID(注文書!$D$17,IFERROR(FIND(\" \",注文書!$D$17),IFERROR(FIND(\"　\",注文書!$D$17),0))+1,10)&\"*\",医療機関マスタ!$C:$C,0),1)","v":"医療法人社団斗南堂　八王子クリニック"},{"$f":"配送情報書!X37","v":""},{"$f":"配送情報書!Z37","v":"00:00:00"},{"$f":"配送情報書!$V37","v":""},"転記不要",null,null,null,{"$f":"配送情報書!T37","v":0},{"$f":"COUNTIF($A$3:A35,A35)","v":33}]
[{"$f":"配送情報書!A38","v":0},{"$f":"配送情報書!AB38","v":0},{"$f":"配送情報書!AA38","v":0},{"$f":"配送情報書!AC38","v":0},{"$f":"INDEX(医療機関マスタ!$A:$A,MATCH(F36,医療機関マスタ!$B:$B,0),1)","v":"AH0000001"},{"$f":"INDEX(医療機関マスタ!$B:$B,MATCH(\"*\"&MID(注文書!$D$17,IFERROR(FIND(\" \",注文書!$D$17),IFERROR(FIND(\"　\",注文書!$D$17),0))+1,10)&\"*\",医療機関マスタ!$C:$C,0),1)","v":"医療法人社団斗南堂　八王子クリニック"},{"$f":"配送情報書!X38","v":""},{"$f":"配送情報書!Z38","v":"00:00:00"},{"$f":"配送情報書!$V38","v":""},"転記不要",null,null,null,{"$f":"配送情報書!T38","v":0},{"$f":"COUNTIF($A$3:A36,A36)","v":34}]
[{"$f":"配送情報書!A39","v":0},{"$f":"配送情報書!AB39","v":0},{"$f":"配送情報書!AA39","v":0},{"$f":"配送情報書!AC39","v":0},{"$f":"INDEX(医療機関マスタ!$A:$A,MATCH(F37,医療機関マスタ!$B:$B,0),1)","v":"AH0000001"},{"$f":"INDEX(医療機関マスタ!$B:$B,MATCH(\"*\"&MID(注文書!$D$17,IFERROR(FIND(\" \",注文書!$D$17),IFERROR(FIND(\"　\",注文書!$D$17),0))+1,10)&\"*\",医療機関マスタ!$C:$C,0),1)","v":"医療法人社団斗南堂　八王子クリニック"},{"$f":"配送情報書!X39","v":""},{"$f":"配送情報書!Z39","v":"00:00:00"},{"$f":"配送情報書!$V39","v":""},"転記不要",null,null,null,{"$f":"配送情報書!T39","v":0},{"$f":"COUNTIF($A$3:A37,A37)","v":35}]
[{"$f":"配送情報書!A40","v":0},{"$f":"配送情報書!AB40","v":0},{"$f":"配送情報書!AA40","v":0},{"$f":"配送情報書!AC40","v":0},{"$f":"INDEX(医療機関マスタ!$A:$A,MATCH(F38,医療機関マスタ!$B:$B,0),1)","v":"AH0000001"},{"$f":"INDEX(医療機関マスタ!$B:$B,MATCH(\"*\"&MID(注文書!$D$17,IFERROR(FIND(\" \",注文書!$D$17),IFERROR(FIND(\"　\",注文書!$D$17),0))+1,10)&\"*\",医療機関マスタ!$C:$C,0),1)","v":"医療法人社団斗南堂　八王子クリニック"},{"$f":"配送情報書!X40","v":""},{"$f":"配送情報書!Z40","v":"00:00:00"},{"$f":"配送情報書!$V40","v":""},"転記不要",null,null,null,{"$f":"配送情報書!T40","v":0},{"$f":"COUNTIF($A$3:A38,A38)","v":36}]
[{"$f":"配送情報書!A41","v":0},{"$f":"配送情報書!AB41","v":0},{"$f":"配送情報書!AA41","v":0},{"$f":"配送情報書!AC41","v":0},{"$f":"INDEX(医療機関マスタ!$A:$A,MATCH(F39,医療機関マスタ!$B:$B,0),1)","v":"AH0000001"},{"$f":"INDEX(医療機関マスタ!$B:$B,MATCH(\"*\"&MID(注文書!$D$17,IFERROR(FIND(\" \",注文書!$D$17),IFERROR(FIND(\"　\",注文書!$D$17),0))+1,10)&\"*\",医療機関マスタ!$C:$C,0),1)","v":"医療法人社団斗南堂　八王子クリニック"},{"$f":"配送情報書!X41","v":""},{"$f":"配送情報書!Z41","v":"00:00:00"},{"$f":"配送情報書!$V41","v":""},"転記不要",null,null,null,{"$f":"配送情報書!T41","v":0},{"$f":"COUNTIF($A$3:A39,A39)","v":37}]
[{"$f":"配送情報書!A42","v":0},{"$f":"配送情報書!AB42","v":0},{"$f":"配送情報書!AA42","v":0},{"$f":"配送情報書!AC42","v":0},{"$f":"INDEX(医療機関マスタ!$A:$A,MATCH(F40,医療機関マスタ!$B:$B,0),1)","v":"AH0000001"},{"$f":"INDEX(医療機関マスタ!$B:$B,MATCH(\"*\"&MID(注文書!$D$17,IFERROR(FIND(\" \",注文書!$D$17),IFERROR(FIND(\"　\",注文書!$D$17),0))+1,10)&\"*\",医療機関マスタ!$C:$C,0),1)","v":"医療法人社団斗南堂　八王子クリニック"},{"$f":"配送情報書!X42","v":""},{"$f":"配送情報書!Z42","v":"00:00:00"},{"$f":"配送情報書!$V42","v":""},"転記不要",null,null,null,{"$f":"配送情報書!T42","v":0},{"$f":"COUNTIF($A$3:A40,A40)","v":38}]
[{"$f":"配送情報書!A43","v":0},{"$f":"配送情報書!AB43","v":0},{"$f":"配送情報書!AA43","v":0},{"$f":"配送情報書!AC43","v":0},{"$f":"INDEX(医療機関マスタ!$A:$A,MATCH(F41,医療機関マスタ!$B:$B,0),1)","v":"AH0000001"},{"$f":"INDEX(医療機関マスタ!$B:$B,MATCH(\"*\"&MID(注文書!$D$17,IFERROR(FIND(\" \",注文書!$D$17),IFERROR(FIND(\"　\",注文書!$D$17),0))+1,10)&\"*\",医療機関マスタ!$C:$C,0),1)","v":"医療法人社団斗南堂　八王子クリニック"},{"$f":"配送情報書!X43","v":""},{"$f":"配送情報書!Z43","v":"00:00:00"},{"$f":"配送情報書!$V43","v":""},"転記不要",null,null,null,{"$f":"配送情報書!T43","v":0},{"$f":"COUNTIF($A$3:A41,A41)","v":39}]
[{"$f":"配送情報書!A44","v":0},{"$f":"配送情報書!AB44","v":0},{"$f":"配送情報書!AA44","v":0},{"$f":"配送情報書!AC44","v":0},{"$f":"INDEX(医療機関マスタ!$A:$A,MATCH(F42,医療機関マスタ!$B:$B,0),1)","v":"AH0000001"},{"$f":"INDEX(医療機関マスタ!$B:$B,MATCH(\"*\"&MID(注文書!$D$17,IFERROR(FIND(\" \",注文書!$D$17),IFERROR(FIND(\"　\",注文書!$D$17),0))+1,10)&\"*\",医療機関マスタ!$C:$C,0),1)","v":"医療法人社団斗南堂　八王子クリニック"},{"$f":"配送情報書!X44","v":""},{"$f":"配送情報書!Z44","v":"00:00:00"},{"$f":"配送情報書!$V44","v":""},"転記不要",null,null,null,{"$f":"配送情報書!T44","v":0},{"$f":"COUNTIF($A$3:A42,A42)","v":40}]
[{"$f":"配送情報書!A45","v":0},{"$f":"配送情報書!AB45","v":0},{"$f":"配送情報書!AA45","v":0},{"$f":"配送情報書!AC45","v":0},{"$f":"INDEX(医療機関マスタ!$A:$A,MATCH(F43,医療機関マスタ!$B:$B,0),1)","v":"AH0000001"},{"$f":"INDEX(医療機関マスタ!$B:$B,MATCH(\"*\"&MID(注文書!$D$17,IFERROR(FIND(\" \",注文書!$D$17),IFERROR(FIND(\"　\",注文書!$D$17),0))+1,10)&\"*\",医療機関マスタ!$C:$C,0),1)","v":"医療法人社団斗南堂　八王子クリニック"},{"$f":"配送情報書!X45","v":""},{"$f":"配送情報書!Z45","v":"00:00:00"},{"$f":"配送情報書!$V45","v":""},"転記不要",null,null,null,{"$f":"配送情報書!T45","v":0},{"$f":"COUNTIF($A$3:A43,A43)","v":41}]
[{"$f":"配送情報書!A46","v":0},{"$f":"配送情報書!AB46","v":0},{"$f":"配送情報書!AA46","v":0},{"$f":"配送情報書!AC46","v":0},{"$f":"INDEX(医療機関マスタ!$A:$A,MATCH(F44,医療機関マスタ!$B:$B,0),1)","v":"AH0000001"},{"$f":"INDEX(医療機関マスタ!$B:$B,MATCH(\"*\"&MID(注文書!$D$17,IFERROR(FIND(\" \",注文書!$D$17),IFERROR(FIND(\"　\",注文書!$D$17),0))+1,10)&\"*\",医療機関マスタ!$C:$C,0),1)","v":"医療法人社団斗南堂　八王子クリニック"},{"$f":"配送情報書!X46","v":""},{"$f":"配送情報書!Z46","v":"00:00:00"},{"$f":"配送情報書!$V46","v":""},"転記不要",null,null,null,{"$f":"配送情報書!T46","v":0},{"$f":"COUNTIF($A$3:A44,A44)","v":42}]
[{"$f":"配送情報書!A47","v":0},{"$f":"配送情報書!AB47","v":0},{"$f":"配送情報書!AA47","v":0},{"$f":"配送情報書!AC47","v":0},{"$f":"INDEX(医療機関マスタ!$A:$A,MATCH(F45,医療機関マスタ!$B:$B,0),1)","v":"AH0000001"},{"$f":"INDEX(医療機関マスタ!$B:$B,MATCH(\"*\"&MID(注文書!$D$17,IFERROR(FIND(\" \",注文書!$D$17),IFERROR(FIND(\"　\",注文書!$D$17),0))+1,10)&\"*\",医療機関マスタ!$C:$C,0),1)","v":"医療法人社団斗南堂　八王子クリニック"},{"$f":"配送情報書!X47","v":""},{"$f":"配送情報書!Z47","v":"00:00:00"},{"$f":"配送情報書!$V47","v":""},"転記不要",null,null,null,{"$f":"配送情報書!T47","v":0},{"$f":"COUNTIF($A$3:A45,A45)","v":43}]
[{"$f":"配送情報書!A48","v":0},{"$f":"配送情報書!AB48","v":0},{"$f":"配送情報書!AA48","v":0},{"$f":"配送情報書!AC48","v":0},{"$f":"INDEX(医療機関マスタ!$A:$A,MATCH(F46,医療機関マスタ!$B:$B,0),1)","v":"AH0000001"},{"$f":"INDEX(医療機関マスタ!$B:$B,MATCH(\"*\"&MID(注文書!$D$17,IFERROR(FIND(\" \",注文書!$D$17),IFERROR(FIND(\"　\",注文書!$D$17),0))+1,10)&\"*\",医療機関マスタ!$C:$C,0),1)","v":"医療法人社団斗南堂　八王子クリニック"},{"$f":"配送情報書!X48","v":""},{"$f":"配送情報書!Z48","v":"00:00:00"},{"$f":"配送情報書!$V48","v":""},"転記不要",null,null,null,{"$f":"配送情報書!T48","v":0},{"$f":"COUNTIF($A$3:A46,A46)","v":44}]
[{"$f":"配送情報書!A49","v":0},{"$f":"配送情報書!AB49","v":0},{"$f":"配送情報書!AA49","v":0},{"$f":"配送情報書!AC49","v":0},{"$f":"INDEX(医療機関マスタ!$A:$A,MATCH(F47,医療機関マスタ!$B:$B,0),1)","v":"AH0000001"},{"$f":"INDEX(医療機関マスタ!$B:$B,MATCH(\"*\"&MID(注文書!$D$17,IFERROR(FIND(\" \",注文書!$D$17),IFERROR(FIND(\"　\",注文書!$D$17),0))+1,10)&\"*\",医療機関マスタ!$C:$C,0),1)","v":"医療法人社団斗南堂　八王子クリニック"},{"$f":"配送情報書!X49","v":""},{"$f":"配送情報書!Z49","v":"00:00:00"},{"$f":"配送情報書!$V49","v":""},"転記不要",null,null,null,{"$f":"配送情報書!T49","v":0},{"$f":"COUNTIF($A$3:A47,A47)","v":45}]
[{"$f":"配送情報書!A50","v":0},{"$f":"配送情報書!AB50","v":0},{"$f":"配送情報書!AA50","v":0},{"$f":"配送情報書!AC50","v":0},{"$f":"INDEX(医療機関マスタ!$A:$A,MATCH(F48,医療機関マスタ!$B:$B,0),1)","v":"AH0000001"},{"$f":"INDEX(医療機関マスタ!$B:$B,MATCH(\"*\"&MID(注文書!$D$17,IFERROR(FIND(\" \",注文書!$D$17),IFERROR(FIND(\"　\",注文書!$D$17),0))+1,10)&\"*\",医療機関マスタ!$C:$C,0),1)","v":"医療法人社団斗南堂　八王子クリニック"},{"$f":"配送情報書!X50","v":""},{"$f":"配送情報書!Z50","v":"00:00:00"},{"$f":"配送情報書!$V50","v":""},"転記不要",null,null,null,{"$f":"配送情報書!T50","v":0},{"$f":"COUNTIF($A$3:A48,A48)","v":46}]
[{"$f":"配送情報書!A51","v":0},{"$f":"配送情報書!AB51","v":0},{"$f":"配送情報書!AA51","v":0},{"$f":"配送情報書!AC51","v":0},{"$f":"INDEX(医療機関マスタ!$A:$A,MATCH(F49,医療機関マスタ!$B:$B,0),1)","v":"AH0000001"},{"$f":"INDEX(医療機関マスタ!$B:$B,MATCH(\"*\"&MID(注文書!$D$17,IFERROR(FIND(\" \",注文書!$D$17),IFERROR(FIND(\"　\",注文書!$D$17),0))+1,10)&\"*\",医療機関マスタ!$C:$C,0),1)","v":"医療法人社団斗南堂　八王子クリニック"},{"$f":"配送情報書!X51","v":""},{"$f":"配送情報書!Z51","v":"00:00:00"},{"$f":"配送情報書!$V51","v":""},"転記不要",null,null,null,{"$f":"配送情報書!T51","v":0},{"$f":"COUNTIF($A$3:A49,A49)","v":47}]
[{"$f":"配送情報書!A52","v":0},{"$f":"配送情報書!AB52","v":0},{"$f":"配送情報書!AA52","v":0},{"$f":"配送情報書!AC52","v":0},{"$f":"INDEX(医療機関マスタ!$A:$A,MATCH(F50,医療機関マスタ!$B:$B,0),1)","v":"AH0000001"},{"$f":"INDEX(医療機関マスタ!$B:$B,MATCH(\"*\"&MID(注文書!$D$17,IFERROR(FIND(\" \",注文書!$D$17),IFERROR(FIND(\"　\",注文書!$D$17),0))+1,10)&\"*\",医療機関マスタ!$C:$C,0),1)","v":"医療法人社団斗南堂　八王子クリニック"},{"$f":"配送情報書!X52","v":""},{"$f":"配送情報書!Z52","v":"00:00:00"},{"$f":"配送情報書!$V52","v":""},"転記不要",null,null,null,{"$f":"配送情報書!T52","v":0},{"$f":"COUNTIF($A$3:A50,A50)","v":48}]
[{"$f":"配送情報書!A53","v":0},{"$f":"配送情報書!AB53","v":0},{"$f":"配送情報書!AA53","v":0},{"$f":"配送情報書!AC53","v":0},{"$f":"INDEX(医療機関マスタ!$A:$A,MATCH(F51,医療機関マスタ!$B:$B,0),1)","v":"AH0000001"},{"$f":"INDEX(医療機関マスタ!$B:$B,MATCH(\"*\"&MID(注文書!$D$17,IFERROR(FIND(\" \",注文書!$D$17),IFERROR(FIND(\"　\",注文書!$D$17),0))+1,10)&\"*\",医療機関マスタ!$C:$C,0),1)","v":"医療法人社団斗南堂　八王子クリニック"},{"$f":"配送情報書!X53","v":""},{"$f":"配送情報書!Z53","v":"00:00:00"},{"$f":"配送情報書!$V53","v":""},"転記不要",null,null,null,{"$f":"配送情報書!T53","v":0},{"$f":"COUNTIF($A$3:A51,A51)","v":49}]
[{"$f":"配送情報書!A54","v":0},{"$f":"配送情報書!AB54","v":0},{"$f":"配送情報書!AA54","v":0},{"$f":"配送情報書!AC54","v":0},{"$f":"INDEX(医療機関マスタ!$A:$A,MATCH(F52,医療機関マスタ!$B:$B,0),1)","v":"AH0000001"},{"$f":"INDEX(医療機関マスタ!$B:$B,MATCH(\"*\"&MID(注文書!$D$17,IFERROR(FIND(\" \",注文書!$D$17),IFERROR(FIND(\"　\",注文書!$D$17),0))+1,10)&\"*\",医療機関マスタ!$C:$C,0),1)","v":"医療法人社団斗南堂　八王子クリニック"},{"$f":"配送情報書!X54","v":""},{"$f":"配送情報書!Z54","v":"00:00:00"},{"$f":"配送情報書!$V54","v":""},"転記不要",null,null,null,{"$f":"配送情報書!T54","v":0},{"$f":"COUNTIF($A$3:A52,A52)","v":50}]
[{"$f":"配送情報書!A55","v":0},{"$f":"配送情報書!AB55","v":0},{"$f":"配送情報書!AA55","v":0},{"$f":"配送情報書!AC55","v":0},{"$f":"INDEX(医療機関マスタ!$A:$A,MATCH(F53,医療機関マスタ!$B:$B,0),1)","v":"AH0000001"},{"$f":"INDEX(医療機関マスタ!$B:$B,MATCH(\"*\"&MID(注文書!$D$17,IFERROR(FIND(\" \",注文書!$D$17),IFERROR(FIND(\"　\",注文書!$D$17),0))+1,10)&\"*\",医療機関マスタ!$C:$C,0),1)","v":"医療法人社団斗南堂　八王子クリニック"},{"$f":"配送情報書!X55","v":""},{"$f":"配送情報書!Z55","v":"00:00:00"},{"$f":"配送情報書!$V55","v":""},"転記不要",null,null,null,{"$f":"配送情報書!T55","v":0},{"$f":"COUNTIF($A$3:A53,A53)","v":51}]
[{"$f":"配送情報書!A56","v":0},{"$f":"配送情報書!AB56","v":0},{"$f":"配送情報書!AA56","v":0},{"$f":"配送情報書!AC56","v":0},{"$f":"INDEX(医療機関マスタ!$A:$A,MATCH(F54,医療機関マスタ!$B:$B,0),1)","v":"AH0000001"},{"$f":"INDEX(医療機関マスタ!$B:$B,MATCH(\"*\"&MID(注文書!$D$17,IFERROR(FIND(\" \",注文書!$D$17),IFERROR(FIND(\"　\",注文書!$D$17),0))+1,10)&\"*\",医療機関マスタ!$C:$C,0),1)","v":"医療法人社団斗南堂　八王子クリニック"},{"$f":"配送情報書!X56","v":""},{"$f":"配送情報書!Z56","v":"00:00:00"},{"$f":"配送情報書!$V56","v":""},"転記不要",null,null,null,{"$f":"配送情報書!T56","v":0},{"$f":"COUNTIF($A$3:A54,A54)","v":52}]
[{"$f":"配送情報書!A57","v":0},{"$f":"配送情報書!AB57","v":0},{"$f":"配送情報書!AA57","v":0},{"$f":"配送情報書!AC57","v":0},{"$f":"INDEX(医療機関マスタ!$A:$A,MATCH(F55,医療機関マスタ!$B:$B,0),1)","v":"AH0000001"},{"$f":"INDEX(医療機関マスタ!$B:$B,MATCH(\"*\"&MID(注文書!$D$17,IFERROR(FIND(\" \",注文書!$D$17),IFERROR(FIND(\"　\",注文書!$D$17),0))+1,10)&\"*\",医療機関マスタ!$C:$C,0),1)","v":"医療法人社団斗南堂　八王子クリニック"},{"$f":"配送情報書!X57","v":""},{"$f":"配送情報書!Z57","v":"00:00:00"},{"$f":"配送情報書!$V57","v":""},"転記不要",null,null,null,{"$f":"配送情報書!T57","v":0},{"$f":"COUNTIF($A$3:A55,A55)","v":53}]
[{"$f":"配送情報書!A58","v":0},{"$f":"配送情報書!AB58","v":0},{"$f":"配送情報書!AA58","v":0},{"$f":"配送情報書!AC58","v":0},{"$f":"INDEX(医療機関マスタ!$A:$A,MATCH(F56,医療機関マスタ!$B:$B,0),1)","v":"AH0000001"},{"$f":"INDEX(医療機関マスタ!$B:$B,MATCH(\"*\"&MID(注文書!$D$17,IFERROR(FIND(\" \",注文書!$D$17),IFERROR(FIND(\"　\",注文書!$D$17),0))+1,10)&\"*\",医療機関マスタ!$C:$C,0),1)","v":"医療法人社団斗南堂　八王子クリニック"},{"$f":"配送情報書!X58","v":""},{"$f":"配送情報書!Z58","v":"00:00:00"},{"$f":"配送情報書!$V58","v":""},"転記不要",null,null,null,{"$f":"配送情報書!T58","v":0},{"$f":"COUNTIF($A$3:A56,A56)","v":54}]
[{"$f":"配送情報書!A59","v":0},{"$f":"配送情報書!AB59","v":0},{"$f":"配送情報書!AA59","v":0},{"$f":"配送情報書!AC59","v":0},{"$f":"INDEX(医療機関マスタ!$A:$A,MATCH(F57,医療機関マスタ!$B:$B,0),1)","v":"AH0000001"},{"$f":"INDEX(医療機関マスタ!$B:$B,MATCH(\"*\"&MID(注文書!$D$17,IFERROR(FIND(\" \",注文書!$D$17),IFERROR(FIND(\"　\",注文書!$D$17),0))+1,10)&\"*\",医療機関マスタ!$C:$C,0),1)","v":"医療法人社団斗南堂　八王子クリニック"},{"$f":"配送情報書!X59","v":""},{"$f":"配送情報書!Z59","v":"00:00:00"},{"$f":"配送情報書!$V59","v":""},"転記不要",null,null,null,{"$f":"配送情報書!T59","v":0},{"$f":"COUNTIF($A$3:A57,A57)","v":55}]
[{"$f":"配送情報書!A60","v":0},{"$f":"配送情報書!AB60","v":0},{"$f":"配送情報書!AA60","v":0},{"$f":"配送情報書!AC60","v":0},{"$f":"INDEX(医療機関マスタ!$A:$A,MATCH(F58,医療機関マスタ!$B:$B,0),1)","v":"AH0000001"},{"$f":"INDEX(医療機関マスタ!$B:$B,MATCH(\"*\"&MID(注文書!$D$17,IFERROR(FIND(\" \",注文書!$D$17),IFERROR(FIND(\"　\",注文書!$D$17),0))+1,10)&\"*\",医療機関マスタ!$C:$C,0),1)","v":"医療法人社団斗南堂　八王子クリニック"},{"$f":"配送情報書!X60","v":""},{"$f":"配送情報書!Z60","v":"00:00:00"},{"$f":"配送情報書!$V60","v":""},"転記不要",null,null,null,{"$f":"配送情報書!T60","v":0},{"$f":"COUNTIF($A$3:A58,A58)","v":56}]
[{"$f":"配送情報書!A61","v":0},{"$f":"配送情報書!AB61","v":0},{"$f":"配送情報書!AA61","v":0},{"$f":"配送情報書!AC61","v":0},{"$f":"INDEX(医療機関マスタ!$A:$A,MATCH(F59,医療機関マスタ!$B:$B,0),1)","v":"AH0000001"},{"$f":"INDEX(医療機関マスタ!$B:$B,MATCH(\"*\"&MID(注文書!$D$17,IFERROR(FIND(\" \",注文書!$D$17),IFERROR(FIND(\"　\",注文書!$D$17),0))+1,10)&\"*\",医療機関マスタ!$C:$C,0),1)","v":"医療法人社団斗南堂　八王子クリニック"},{"$f":"配送情報書!X61","v":""},{"$f":"配送情報書!Z61","v":"00:00:00"},{"$f":"配送情報書!$V61","v":""},"転記不要",null,null,null,{"$f":"配送情報書!T61","v":0},{"$f":"COUNTIF($A$3:A59,A59)","v":57}]
[{"$f":"配送情報書!A62","v":0},{"$f":"配送情報書!AB62","v":0},{"$f":"配送情報書!AA62","v":0},{"$f":"配送情報書!AC62","v":0},{"$f":"INDEX(医療機関マスタ!$A:$A,MATCH(F60,医療機関マスタ!$B:$B,0),1)","v":"AH0000001"},{"$f":"INDEX(医療機関マスタ!$B:$B,MATCH(\"*\"&MID(注文書!$D$17,IFERROR(FIND(\" \",注文書!$D$17),IFERROR(FIND(\"　\",注文書!$D$17),0))+1,10)&\"*\",医療機関マスタ!$C:$C,0),1)","v":"医療法人社団斗南堂　八王子クリニック"},{"$f":"配送情報書!X62","v":""},{"$f":"配送情報書!Z62","v":"00:00:00"},{"$f":"配送情報書!$V62","v":""},"転記不要",null,null,null,{"$f":"配送情報書!T62","v":0},{"$f":"COUNTIF($A$3:A60,A60)","v":58}]
[{"$f":"配送情報書!A63","v":0},{"$f":"配送情報書!AB63","v":0},{"$f":"配送情報書!AA63","v":0},{"$f":"配送情報書!AC63","v":0},{"$f":"INDEX(医療機関マスタ!$A:$A,MATCH(F61,医療機関マスタ!$B:$B,0),1)","v":"AH0000001"},{"$f":"INDEX(医療機関マスタ!$B:$B,MATCH(\"*\"&MID(注文書!$D$17,IFERROR(FIND(\" \",注文書!$D$17),IFERROR(FIND(\"　\",注文書!$D$17),0))+1,10)&\"*\",医療機関マスタ!$C:$C,0),1)","v":"医療法人社団斗南堂　八王子クリニック"},{"$f":"配送情報書!X63","v":""},{"$f":"配送情報書!Z63","v":"00:00:00"},{"$f":"配送情報書!$V63","v":""},"転記不要",null,null,null,{"$f":"配送情報書!T63","v":0},{"$f":"COUNTIF($A$3:A61,A61)","v":59}]
[{"$f":"配送情報書!A64","v":0},{"$f":"配送情報書!AB64","v":0},{"$f":"配送情報書!AA64","v":0},{"$f":"配送情報書!AC64","v":0},{"$f":"INDEX(医療機関マスタ!$A:$A,MATCH(F62,医療機関マスタ!$B:$B,0),1)","v":"AH0000001"},{"$f":"INDEX(医療機関マスタ!$B:$B,MATCH(\"*\"&MID(注文書!$D$17,IFERROR(FIND(\" \",注文書!$D$17),IFERROR(FIND(\"　\",注文書!$D$17),0))+1,10)&\"*\",医療機関マスタ!$C:$C,0),1)","v":"医療法人社団斗南堂　八王子クリニック"},{"$f":"配送情報書!X64","v":""},{"$f":"配送情報書!Z64","v":"00:00:00"},{"$f":"配送情報書!$V64","v":""},"転記不要",null,null,null,{"$f":"配送情報書!T64","v":0},{"$f":"COUNTIF($A$3:A62,A62)","v":60}]
[{"$f":"配送情報書!A65","v":0},{"$f":"配送情報書!AB65","v":0},{"$f":"配送情報書!AA65","v":0},{"$f":"配送情報書!AC65","v":0},{"$f":"INDEX(医療機関マスタ!$A:$A,MATCH(F63,医療機関マスタ!$B:$B,0),1)","v":"AH0000001"},{"$f":"INDEX(医療機関マスタ!$B:$B,MATCH(\"*\"&MID(注文書!$D$17,IFERROR(FIND(\" \",注文書!$D$17),IFERROR(FIND(\"　\",注文書!$D$17),0))+1,10)&\"*\",医療機関マスタ!$C:$C,0),1)","v":"医療法人社団斗南堂　八王子クリニック"},{"$f":"配送情報書!X65","v":""},{"$f":"配送情報書!Z65","v":"00:00:00"},{"$f":"配送情報書!$V65","v":""},"転記不要",null,null,null,{"$f":"配送情報書!T65","v":0},{"$f":"COUNTIF($A$3:A63,A63)","v":61}]
[{"$f":"配送情報書!A66","v":0},{"$f":"配送情報書!AB66","v":0},{"$f":"配送情報書!AA66","v":0},{"$f":"配送情報書!AC66","v":0},{"$f":"INDEX(医療機関マスタ!$A:$A,MATCH(F64,医療機関マスタ!$B:$B,0),1)","v":"AH0000001"},{"$f":"INDEX(医療機関マスタ!$B:$B,MATCH(\"*\"&MID(注文書!$D$17,IFERROR(FIND(\" \",注文書!$D$17),IFERROR(FIND(\"　\",注文書!$D$17),0))+1,10)&\"*\",医療機関マスタ!$C:$C,0),1)","v":"医療法人社団斗南堂　八王子クリニック"},{"$f":"配送情報書!X66","v":""},{"$f":"配送情報書!Z66","v":"00:00:00"},{"$f":"配送情報書!$V66","v":""},"転記不要",null,null,null,{"$f":"配送情報書!T66","v":0},{"$f":"COUNTIF($A$3:A64,A64)","v":62}]
[{"$f":"配送情報書!A67","v":0},{"$f":"配送情報書!AB67","v":0},{"$f":"配送情報書!AA67","v":0},{"$f":"配送情報書!AC67","v":0},{"$f":"INDEX(医療機関マスタ!$A:$A,MATCH(F65,医療機関マスタ!$B:$B,0),1)","v":"AH0000001"},{"$f":"INDEX(医療機関マスタ!$B:$B,MATCH(\"*\"&MID(注文書!$D$17,IFERROR(FIND(\" \",注文書!$D$17),IFERROR(FIND(\"　\",注文書!$D$17),0))+1,10)&\"*\",医療機関マスタ!$C:$C,0),1)","v":"医療法人社団斗南堂　八王子クリニック"},{"$f":"配送情報書!X67","v":""},{"$f":"配送情報書!Z67","v":"00:00:00"},{"$f":"配送情報書!$V67","v":""},"転記不要",null,null,null,{"$f":"配送情報書!T67","v":0},{"$f":"COUNTIF($A$3:A65,A65)","v":63}]
[{"$f":"配送情報書!A68","v":0},{"$f":"配送情報書!AB68","v":0},{"$f":"配送情報書!AA68","v":0},{"$f":"配送情報書!AC68","v":0},{"$f":"INDEX(医療機関マスタ!$A:$A,MATCH(F66,医療機関マスタ!$B:$B,0),1)","v":"AH0000001"},{"$f":"INDEX(医療機関マスタ!$B:$B,MATCH(\"*\"&MID(注文書!$D$17,IFERROR(FIND(\" \",注文書!$D$17),IFERROR(FIND(\"　\",注文書!$D$17),0))+1,10)&\"*\",医療機関マスタ!$C:$C,0),1)","v":"医療法人社団斗南堂　八王子クリニック"},{"$f":"配送情報書!X68","v":""},{"$f":"配送情報書!Z68","v":"00:00:00"},{"$f":"配送情報書!$V68","v":""},"転記不要",null,null,null,{"$f":"配送情報書!T68","v":0},{"$f":"COUNTIF($A$3:A66,A66)","v":64}]
[{"$f":"配送情報書!A69","v":0},{"$f":"配送情報書!AB69","v":0},{"$f":"配送情報書!AA69","v":0},{"$f":"配送情報書!AC69","v":0},{"$f":"INDEX(医療機関マスタ!$A:$A,MATCH(F67,医療機関マスタ!$B:$B,0),1)","v":"AH0000001"},{"$f":"INDEX(医療機関マスタ!$B:$B,MATCH(\"*\"&MID(注文書!$D$17,IFERROR(FIND(\" \",注文書!$D$17),IFERROR(FIND(\"　\",注文書!$D$17),0))+1,10)&\"*\",医療機関マスタ!$C:$C,0),1)","v":"医療法人社団斗南堂　八王子クリニック"},{"$f":"配送情報書!X69","v":""},{"$f":"配送情報書!Z69","v":"00:00:00"},{"$f":"配送情報書!$V69","v":""},"転記不要",null,null,null,{"$f":"配送情報書!T69","v":0},{"$f":"COUNTIF($A$3:A67,A67)","v":65}]
[{"$f":"配送情報書!A70","v":0},{"$f":"配送情報書!AB70","v":0},{"$f":"配送情報書!AA70","v":0},{"$f":"配送情報書!AC70","v":0},{"$f":"INDEX(医療機関マスタ!$A:$A,MATCH(F68,医療機関マスタ!$B:$B,0),1)","v":"AH0000001"},{"$f":"INDEX(医療機関マスタ!$B:$B,MATCH(\"*\"&MID(注文書!$D$17,IFERROR(FIND(\" \",注文書!$D$17),IFERROR(FIND(\"　\",注文書!$D$17),0))+1,10)&\"*\",医療機関マスタ!$C:$C,0),1)","v":"医療法人社団斗南堂　八王子クリニック"},{"$f":"配送情報書!X70","v":""},{"$f":"配送情報書!Z70","v":"00:00:00"},{"$f":"配送情報書!$V70","v":""},{"$f":"IF(AND(N68>0,O68=1),SUMIFS($N:$N,$A:$A,A68),\"転記不要\")","v":"転記不要"},null,null,null,{"$f":"配送情報書!T70","v":0},{"$f":"COUNTIF($A$3:A68,A68)","v":66}]
[{"$f":"配送情報書!A71","v":0},{"$f":"配送情報書!AB71","v":0},{"$f":"配送情報書!AA71","v":0},{"$f":"配送情報書!AC71","v":0},{"$f":"INDEX(医療機関マスタ!$A:$A,MATCH(F69,医療機関マスタ!$B:$B,0),1)","v":"AH0000001"},{"$f":"INDEX(医療機関マスタ!$B:$B,MATCH(\"*\"&MID(注文書!$D$17,IFERROR(FIND(\" \",注文書!$D$17),IFERROR(FIND(\"　\",注文書!$D$17),0))+1,10)&\"*\",医療機関マスタ!$C:$C,0),1)","v":"医療法人社団斗南堂　八王子クリニック"},{"$f":"配送情報書!X71","v":""},{"$f":"配送情報書!Z71","v":"00:00:00"},{"$f":"配送情報書!$V71","v":""},"転記不要",null,null,null,{"$f":"配送情報書!T71","v":0},{"$f":"COUNTIF($A$3:A69,A69)","v":67}]
[{"$f":"配送情報書!A72","v":0},{"$f":"配送情報書!AB72","v":0},{"$f":"配送情報書!AA72","v":0},{"$f":"配送情報書!AC72","v":0},{"$f":"INDEX(医療機関マスタ!$A:$A,MATCH(F70,医療機関マスタ!$B:$B,0),1)","v":"AH0000001"},{"$f":"INDEX(医療機関マスタ!$B:$B,MATCH(\"*\"&MID(注文書!$D$17,IFERROR(FIND(\" \",注文書!$D$17),IFERROR(FIND(\"　\",注文書!$D$17),0))+1,10)&\"*\",医療機関マスタ!$C:$C,0),1)","v":"医療法人社団斗南堂　八王子クリニック"},{"$f":"配送情報書!X72","v":""},{"$f":"配送情報書!Z72","v":"00:00:00"},{"$f":"配送情報書!$V72","v":""},"転記不要",null,null,null,{"$f":"配送情報書!T72","v":0},{"$f":"COUNTIF($A$3:A70,A70)","v":68}]
[{"$f":"配送情報書!A73","v":0},{"$f":"配送情報書!AB73","v":0},{"$f":"配送情報書!AA73","v":0},{"$f":"配送情報書!AC73","v":0},{"$f":"INDEX(医療機関マスタ!$A:$A,MATCH(F71,医療機関マスタ!$B:$B,0),1)","v":"AH0000001"},{"$f":"INDEX(医療機関マスタ!$B:$B,MATCH(\"*\"&MID(注文書!$D$17,IFERROR(FIND(\" \",注文書!$D$17),IFERROR(FIND(\"　\",注文書!$D$17),0))+1,10)&\"*\",医療機関マスタ!$C:$C,0),1)","v":"医療法人社団斗南堂　八王子クリニック"},{"$f":"配送情報書!X73","v":""},{"$f":"配送情報書!Z73","v":"00:00:00"},{"$f":"配送情報書!$V73","v":""},"転記不要",null,null,null,{"$f":"配送情報書!T73","v":0},{"$f":"COUNTIF($A$3:A71,A71)","v":69}]
[{"$f":"配送情報書!A74","v":0},{"$f":"配送情報書!AB74","v":0},{"$f":"配送情報書!AA74","v":0},{"$f":"配送情報書!AC74","v":0},{"$f":"INDEX(医療機関マスタ!$A:$A,MATCH(F72,医療機関マスタ!$B:$B,0),1)","v":"AH0000001"},{"$f":"INDEX(医療機関マスタ!$B:$B,MATCH(\"*\"&MID(注文書!$D$17,IFERROR(FIND(\" \",注文書!$D$17),IFERROR(FIND(\"　\",注文書!$D$17),0))+1,10)&\"*\",医療機関マスタ!$C:$C,0),1)","v":"医療法人社団斗南堂　八王子クリニック"},{"$f":"配送情報書!X74","v":""},{"$f":"配送情報書!Z74","v":"00:00:00"},{"$f":"配送情報書!$V74","v":""},"転記不要",null,null,null,{"$f":"配送情報書!T74","v":0},{"$f":"COUNTIF($A$3:A72,A72)","v":70}]
[{"$f":"配送情報書!A75","v":0},{"$f":"配送情報書!AB75","v":0},{"$f":"配送情報書!AA75","v":0},{"$f":"配送情報書!AC75","v":0},{"$f":"INDEX(医療機関マスタ!$A:$A,MATCH(F73,医療機関マスタ!$B:$B,0),1)","v":"AH0000001"},{"$f":"INDEX(医療機関マスタ!$B:$B,MATCH(\"*\"&MID(注文書!$D$17,IFERROR(FIND(\" \",注文書!$D$17),IFERROR(FIND(\"　\",注文書!$D$17),0))+1,10)&\"*\",医療機関マスタ!$C:$C,0),1)","v":"医療法人社団斗南堂　八王子クリニック"},{"$f":"配送情報書!X75","v":""},{"$f":"配送情報書!Z75","v":"00:00:00"},{"$f":"配送情報書!$V75","v":""},"転記不要",null,null,null,{"$f":"配送情報書!T75","v":0},{"$f":"COUNTIF($A$3:A73,A73)","v":71}]
[{"$f":"配送情報書!A76","v":0},{"$f":"配送情報書!AB76","v":0},{"$f":"配送情報書!AA76","v":0},{"$f":"配送情報書!AC76","v":0},{"$f":"INDEX(医療機関マスタ!$A:$A,MATCH(F74,医療機関マスタ!$B:$B,0),1)","v":"AH0000001"},{"$f":"INDEX(医療機関マスタ!$B:$B,MATCH(\"*\"&MID(注文書!$D$17,IFERROR(FIND(\" \",注文書!$D$17),IFERROR(FIND(\"　\",注文書!$D$17),0))+1,10)&\"*\",医療機関マスタ!$C:$C,0),1)","v":"医療法人社団斗南堂　八王子クリニック"},{"$f":"配送情報書!X76","v":""},{"$f":"配送情報書!Z76","v":"00:00:00"},{"$f":"配送情報書!$V76","v":""},"転記不要",null,null,null,{"$f":"配送情報書!T76","v":0},{"$f":"COUNTIF($A$3:A74,A74)","v":72}]
[{"$f":"配送情報書!A77","v":0},{"$f":"配送情報書!AB77","v":0},{"$f":"配送情報書!AA77","v":0},{"$f":"配送情報書!AC77","v":0},{"$f":"INDEX(医療機関マスタ!$A:$A,MATCH(F75,医療機関マスタ!$B:$B,0),1)","v":"AH0000001"},{"$f":"INDEX(医療機関マスタ!$B:$B,MATCH(\"*\"&MID(注文書!$D$17,IFERROR(FIND(\" \",注文書!$D$17),IFERROR(FIND(\"　\",注文書!$D$17),0))+1,10)&\"*\",医療機関マスタ!$C:$C,0),1)","v":"医療法人社団斗南堂　八王子クリニック"},{"$f":"配送情報書!X77","v":""},{"$f":"配送情報書!Z77","v":"00:00:00"},{"$f":"配送情報書!$V77","v":""},"転記不要",null,null,null,{"$f":"配送情報書!T77","v":0},{"$f":"COUNTIF($A$3:A75,A75)","v":73}]
[{"$f":"配送情報書!A78","v":0},{"$f":"配送情報書!AB78","v":0},{"$f":"配送情報書!AA78","v":0},{"$f":"配送情報書!AC78","v":0},{"$f":"INDEX(医療機関マスタ!$A:$A,MATCH(F76,医療機関マスタ!$B:$B,0),1)","v":"AH0000001"},{"$f":"INDEX(医療機関マスタ!$B:$B,MATCH(\"*\"&MID(注文書!$D$17,IFERROR(FIND(\" \",注文書!$D$17),IFERROR(FIND(\"　\",注文書!$D$17),0))+1,10)&\"*\",医療機関マスタ!$C:$C,0),1)","v":"医療法人社団斗南堂　八王子クリニック"},{"$f":"配送情報書!X78","v":""},{"$f":"配送情報書!Z78","v":"00:00:00"},{"$f":"配送情報書!$V78","v":""},"転記不要",null,null,null,{"$f":"配送情報書!T78","v":0},{"$f":"COUNTIF($A$3:A76,A76)","v":74}]
[{"$f":"配送情報書!A79","v":0},{"$f":"配送情報書!AB79","v":0},{"$f":"配送情報書!AA79","v":0},{"$f":"配送情報書!AC79","v":0},{"$f":"INDEX(医療機関マスタ!$A:$A,MATCH(F77,医療機関マスタ!$B:$B,0),1)","v":"AH0000001"},{"$f":"INDEX(医療機関マスタ!$B:$B,MATCH(\"*\"&MID(注文書!$D$17,IFERROR(FIND(\" \",注文書!$D$17),IFERROR(FIND(\"　\",注文書!$D$17),0))+1,10)&\"*\",医療機関マスタ!$C:$C,0),1)","v":"医療法人社団斗南堂　八王子クリニック"},{"$f":"配送情報書!X79","v":""},{"$f":"配送情報書!Z79","v":"00:00:00"},{"$f":"配送情報書!$V79","v":""},"転記不要",null,null,null,{"$f":"配送情報書!T79","v":0},{"$f":"COUNTIF($A$3:A77,A77)","v":75}]
[{"$f":"配送情報書!A80","v":0},{"$f":"配送情報書!AB80","v":0},{"$f":"配送情報書!AA80","v":0},{"$f":"配送情報書!AC80","v":0},{"$f":"INDEX(医療機関マスタ!$A:$A,MATCH(F78,医療機関マスタ!$B:$B,0),1)","v":"AH0000001"},{"$f":"INDEX(医療機関マスタ!$B:$B,MATCH(\"*\"&MID(注文書!$D$17,IFERROR(FIND(\" \",注文書!$D$17),IFERROR(FIND(\"　\",注文書!$D$17),0))+1,10)&\"*\",医療機関マスタ!$C:$C,0),1)","v":"医療法人社団斗南堂　八王子クリニック"},{"$f":"配送情報書!X80","v":""},{"$f":"配送情報書!Z80","v":"00:00:00"},{"$f":"配送情報書!$V80","v":""},"転記不要",null,null,null,{"$f":"配送情報書!T80","v":0},{"$f":"COUNTIF($A$3:A78,A78)","v":76}]
[{"$f":"配送情報書!A81","v":0},{"$f":"配送情報書!AB81","v":0},{"$f":"配送情報書!AA81","v":0},{"$f":"配送情報書!AC81","v":0},{"$f":"INDEX(医療機関マスタ!$A:$A,MATCH(F79,医療機関マスタ!$B:$B,0),1)","v":"AH0000001"},{"$f":"INDEX(医療機関マスタ!$B:$B,MATCH(\"*\"&MID(注文書!$D$17,IFERROR(FIND(\" \",注文書!$D$17),IFERROR(FIND(\"　\",注文書!$D$17),0))+1,10)&\"*\",医療機関マスタ!$C:$C,0),1)","v":"医療法人社団斗南堂　八王子クリニック"},{"$f":"配送情報書!X81","v":""},{"$f":"配送情報書!Z81","v":"00:00:00"},{"$f":"配送情報書!$V81","v":""},"転記不要",null,null,null,{"$f":"配送情報書!T81","v":0},{"$f":"COUNTIF($A$3:A79,A79)","v":77}]
[{"$f":"配送情報書!A82","v":0},{"$f":"配送情報書!AB82","v":0},{"$f":"配送情報書!AA82","v":0},{"$f":"配送情報書!AC82","v":0},{"$f":"INDEX(医療機関マスタ!$A:$A,MATCH(F80,医療機関マスタ!$B:$B,0),1)","v":"AH0000001"},{"$f":"INDEX(医療機関マスタ!$B:$B,MATCH(\"*\"&MID(注文書!$D$17,IFERROR(FIND(\" \",注文書!$D$17),IFERROR(FIND(\"　\",注文書!$D$17),0))+1,10)&\"*\",医療機関マスタ!$C:$C,0),1)","v":"医療法人社団斗南堂　八王子クリニック"},{"$f":"配送情報書!X82","v":""},{"$f":"配送情報書!Z82","v":"00:00:00"},{"$f":"配送情報書!$V82","v":""},"転記不要",null,null,null,{"$f":"配送情報書!T82","v":0},{"$f":"COUNTIF($A$3:A80,A80)","v":78}]
[{"$f":"配送情報書!A83","v":0},{"$f":"配送情報書!AB83","v":0},{"$f":"配送情報書!AA83","v":0},{"$f":"配送情報書!AC83","v":0},{"$f":"INDEX(医療機関マスタ!$A:$A,MATCH(F81,医療機関マスタ!$B:$B,0),1)","v":"AH0000001"},{"$f":"INDEX(医療機関マスタ!$B:$B,MATCH(\"*\"&MID(注文書!$D$17,IFERROR(FIND(\" \",注文書!$D$17),IFERROR(FIND(\"　\",注文書!$D$17),0))+1,10)&\"*\",医療機関マスタ!$C:$C,0),1)","v":"医療法人社団斗南堂　八王子クリニック"},{"$f":"配送情報書!X83","v":""},{"$f":"配送情報書!Z83","v":"00:00:00"},{"$f":"配送情報書!$V83","v":""},"転記不要",null,null,null,{"$f":"配送情報書!T83","v":0},{"$f":"COUNTIF($A$3:A81,A81)","v":79}]
[{"$f":"配送情報書!A84","v":0},{"$f":"配送情報書!AB84","v":0},{"$f":"配送情報書!AA84","v":0},{"$f":"配送情報書!AC84","v":0},{"$f":"INDEX(医療機関マスタ!$A:$A,MATCH(F82,医療機関マスタ!$B:$B,0),1)","v":"AH0000001"},{"$f":"INDEX(医療機関マスタ!$B:$B,MATCH(\"*\"&MID(注文書!$D$17,IFERROR(FIND(\" \",注文書!$D$17),IFERROR(FIND(\"　\",注文書!$D$17),0))+1,10)&\"*\",医療機関マスタ!$C:$C,0),1)","v":"医療法人社団斗南堂　八王子クリニック"},{"$f":"配送情報書!X84","v":""},{"$f":"配送情報書!Z84","v":"00:00:00"},{"$f":"配送情報書!$V84","v":""},"転記不要",null,null,null,{"$f":"配送情報書!T84","v":0},{"$f":"COUNTIF($A$3:A82,A82)","v":80}]
[{"$f":"配送情報書!A85","v":0},{"$f":"配送情報書!AB85","v":0},{"$f":"配送情報書!AA85","v":0},{"$f":"配送情報書!AC85","v":0},{"$f":"INDEX(医療機関マスタ!$A:$A,MATCH(F83,医療機関マスタ!$B:$B,0),1)","v":"AH0000001"},{"$f":"INDEX(医療機関マスタ!$B:$B,MATCH(\"*\"&MID(注文書!$D$17,IFERROR(FIND(\" \",注文書!$D$17),IFERROR(FIND(\"　\",注文書!$D$17),0))+1,10)&\"*\",医療機関マスタ!$C:$C,0),1)","v":"医療法人社団斗南堂　八王子クリニック"},{"$f":"配送情報書!X85","v":""},{"$f":"配送情報書!Z85","v":"00:00:00"},{"$f":"配送情報書!$V85","v":""},"転記不要",null,null,null,{"$f":"配送情報書!T85","v":0},{"$f":"COUNTIF($A$3:A83,A83)","v":81}]
[{"$f":"配送情報書!A86","v":0},{"$f":"配送情報書!AB86","v":0},{"$f":"配送情報書!AA86","v":0},{"$f":"配送情報書!AC86","v":0},{"$f":"INDEX(医療機関マスタ!$A:$A,MATCH(F84,医療機関マスタ!$B:$B,0),1)","v":"AH0000001"},{"$f":"INDEX(医療機関マスタ!$B:$B,MATCH(\"*\"&MID(注文書!$D$17,IFERROR(FIND(\" \",注文書!$D$17),IFERROR(FIND(\"　\",注文書!$D$17),0))+1,10)&\"*\",医療機関マスタ!$C:$C,0),1)","v":"医療法人社団斗南堂　八王子クリニック"},{"$f":"配送情報書!X86","v":""},{"$f":"配送情報書!Z86","v":"00:00:00"},{"$f":"配送情報書!$V86","v":""},"転記不要",null,null,null,{"$f":"配送情報書!T86","v":0},{"$f":"COUNTIF($A$3:A84,A84)","v":82}]
[{"$f":"配送情報書!A87","v":0},{"$f":"配送情報書!AB87","v":0},{"$f":"配送情報書!AA87","v":0},{"$f":"配送情報書!AC87","v":0},{"$f":"INDEX(医療機関マスタ!$A:$A,MATCH(F85,医療機関マスタ!$B:$B,0),1)","v":"AH0000001"},{"$f":"INDEX(医療機関マスタ!$B:$B,MATCH(\"*\"&MID(注文書!$D$17,IFERROR(FIND(\" \",注文書!$D$17),IFERROR(FIND(\"　\",注文書!$D$17),0))+1,10)&\"*\",医療機関マスタ!$C:$C,0),1)","v":"医療法人社団斗南堂　八王子クリニック"},{"$f":"配送情報書!X87","v":""},{"$f":"配送情報書!Z87","v":"00:00:00"},{"$f":"配送情報書!$V87","v":""},"転記不要",null,null,null,{"$f":"配送情報書!T87","v":0},{"$f":"COUNTIF($A$3:A85,A85)","v":83}]
[{"$f":"配送情報書!A88","v":0},{"$f":"配送情報書!AB88","v":0},{"$f":"配送情報書!AA88","v":0},{"$f":"配送情報書!AC88","v":0},{"$f":"INDEX(医療機関マスタ!$A:$A,MATCH(F86,医療機関マスタ!$B:$B,0),1)","v":"AH0000001"},{"$f":"INDEX(医療機関マスタ!$B:$B,MATCH(\"*\"&MID(注文書!$D$17,IFERROR(FIND(\" \",注文書!$D$17),IFERROR(FIND(\"　\",注文書!$D$17),0))+1,10)&\"*\",医療機関マスタ!$C:$C,0),1)","v":"医療法人社団斗南堂　八王子クリニック"},{"$f":"配送情報書!X88","v":""},{"$f":"配送情報書!Z88","v":"00:00:00"},{"$f":"配送情報書!$V88","v":""},"転記不要",null,null,null,{"$f":"配送情報書!T88","v":0},{"$f":"COUNTIF($A$3:A86,A86)","v":84}]
[{"$f":"配送情報書!A89","v":0},{"$f":"配送情報書!AB89","v":0},{"$f":"配送情報書!AA89","v":0},{"$f":"配送情報書!AC89","v":0},{"$f":"INDEX(医療機関マスタ!$A:$A,MATCH(F87,医療機関マスタ!$B:$B,0),1)","v":"AH0000001"},{"$f":"INDEX(医療機関マスタ!$B:$B,MATCH(\"*\"&MID(注文書!$D$17,IFERROR(FIND(\" \",注文書!$D$17),IFERROR(FIND(\"　\",注文書!$D$17),0))+1,10)&\"*\",医療機関マスタ!$C:$C,0),1)","v":"医療法人社団斗南堂　八王子クリニック"},{"$f":"配送情報書!X89","v":""},{"$f":"配送情報書!Z89","v":"00:00:00"},{"$f":"配送情報書!$V89","v":""},"転記不要",null,null,null,{"$f":"配送情報書!T89","v":0},{"$f":"COUNTIF($A$3:A87,A87)","v":85}]
[{"$f":"配送情報書!A90","v":0},{"$f":"配送情報書!AB90","v":0},{"$f":"配送情報書!AA90","v":0},{"$f":"配送情報書!AC90","v":0},{"$f":"INDEX(医療機関マスタ!$A:$A,MATCH(F88,医療機関マスタ!$B:$B,0),1)","v":"AH0000001"},{"$f":"INDEX(医療機関マスタ!$B:$B,MATCH(\"*\"&MID(注文書!$D$17,IFERROR(FIND(\" \",注文書!$D$17),IFERROR(FIND(\"　\",注文書!$D$17),0))+1,10)&\"*\",医療機関マスタ!$C:$C,0),1)","v":"医療法人社団斗南堂　八王子クリニック"},{"$f":"配送情報書!X90","v":""},{"$f":"配送情報書!Z90","v":"00:00:00"},{"$f":"配送情報書!$V90","v":""},"転記不要",null,null,null,{"$f":"配送情報書!T90","v":0},{"$f":"COUNTIF($A$3:A88,A88)","v":86}]
[{"$f":"配送情報書!A91","v":0},{"$f":"配送情報書!AB91","v":0},{"$f":"配送情報書!AA91","v":0},{"$f":"配送情報書!AC91","v":0},{"$f":"INDEX(医療機関マスタ!$A:$A,MATCH(F89,医療機関マスタ!$B:$B,0),1)","v":"AH0000001"},{"$f":"INDEX(医療機関マスタ!$B:$B,MATCH(\"*\"&MID(注文書!$D$17,IFERROR(FIND(\" \",注文書!$D$17),IFERROR(FIND(\"　\",注文書!$D$17),0))+1,10)&\"*\",医療機関マスタ!$C:$C,0),1)","v":"医療法人社団斗南堂　八王子クリニック"},{"$f":"配送情報書!X91","v":""},{"$f":"配送情報書!Z91","v":"00:00:00"},{"$f":"配送情報書!$V91","v":""},"転記不要",null,null,null,{"$f":"配送情報書!T91","v":0},{"$f":"COUNTIF($A$3:A89,A89)","v":87}]
[{"$f":"配送情報書!A92","v":0},{"$f":"配送情報書!AB92","v":0},{"$f":"配送情報書!AA92","v":0},{"$f":"配送情報書!AC92","v":0},{"$f":"INDEX(医療機関マスタ!$A:$A,MATCH(F90,医療機関マスタ!$B:$B,0),1)","v":"AH0000001"},{"$f":"INDEX(医療機関マスタ!$B:$B,MATCH(\"*\"&MID(注文書!$D$17,IFERROR(FIND(\" \",注文書!$D$17),IFERROR(FIND(\"　\",注文書!$D$17),0))+1,10)&\"*\",医療機関マスタ!$C:$C,0),1)","v":"医療法人社団斗南堂　八王子クリニック"},{"$f":"配送情報書!X92","v":""},{"$f":"配送情報書!Z92","v":"00:00:00"},{"$f":"配送情報書!$V92","v":""},"転記不要",null,null,null,{"$f":"配送情報書!T92","v":0},{"$f":"COUNTIF($A$3:A90,A90)","v":88}]
[{"$f":"配送情報書!A93","v":0},{"$f":"配送情報書!AB93","v":0},{"$f":"配送情報書!AA93","v":0},{"$f":"配送情報書!AC93","v":0},{"$f":"INDEX(医療機関マスタ!$A:$A,MATCH(F91,医療機関マスタ!$B:$B,0),1)","v":"AH0000001"},{"$f":"INDEX(医療機関マスタ!$B:$B,MATCH(\"*\"&MID(注文書!$D$17,IFERROR(FIND(\" \",注文書!$D$17),IFERROR(FIND(\"　\",注文書!$D$17),0))+1,10)&\"*\",医療機関マスタ!$C:$C,0),1)","v":"医療法人社団斗南堂　八王子クリニック"},{"$f":"配送情報書!X93","v":""},{"$f":"配送情報書!Z93","v":"00:00:00"},{"$f":"配送情報書!$V93","v":""},"転記不要",null,null,null,{"$f":"配送情報書!T93","v":0},{"$f":"COUNTIF($A$3:A91,A91)","v":89}]
[{"$f":"配送情報書!A94","v":0},{"$f":"配送情報書!AB94","v":0},{"$f":"配送情報書!AA94","v":0},{"$f":"配送情報書!AC94","v":0},{"$f":"INDEX(医療機関マスタ!$A:$A,MATCH(F92,医療機関マスタ!$B:$B,0),1)","v":"AH0000001"},{"$f":"INDEX(医療機関マスタ!$B:$B,MATCH(\"*\"&MID(注文書!$D$17,IFERROR(FIND(\" \",注文書!$D$17),IFERROR(FIND(\"　\",注文書!$D$17),0))+1,10)&\"*\",医療機関マスタ!$C:$C,0),1)","v":"医療法人社団斗南堂　八王子クリニック"},{"$f":"配送情報書!X94","v":""},{"$f":"配送情報書!Z94","v":"00:00:00"},{"$f":"配送情報書!$V94","v":""},"転記不要",null,null,null,{"$f":"配送情報書!T94","v":0},{"$f":"COUNTIF($A$3:A92,A92)","v":90}]
[{"$f":"配送情報書!A95","v":0},{"$f":"配送情報書!AB95","v":0},{"$f":"配送情報書!AA95","v":0},{"$f":"配送情報書!AC95","v":0},{"$f":"INDEX(医療機関マスタ!$A:$A,MATCH(F93,医療機関マスタ!$B:$B,0),1)","v":"AH0000001"},{"$f":"INDEX(医療機関マスタ!$B:$B,MATCH(\"*\"&MID(注文書!$D$17,IFERROR(FIND(\" \",注文書!$D$17),IFERROR(FIND(\"　\",注文書!$D$17),0))+1,10)&\"*\",医療機関マスタ!$C:$C,0),1)","v":"医療法人社団斗南堂　八王子クリニック"},{"$f":"配送情報書!X95","v":""},{"$f":"配送情報書!Z95","v":"00:00:00"},{"$f":"配送情報書!$V95","v":""},"転記不要",null,null,null,{"$f":"配送情報書!T95","v":0},{"$f":"COUNTIF($A$3:A93,A93)","v":91}]
[{"$f":"配送情報書!A96","v":0},{"$f":"配送情報書!AB96","v":0},{"$f":"配送情報書!AA96","v":0},{"$f":"配送情報書!AC96","v":0},{"$f":"INDEX(医療機関マスタ!$A:$A,MATCH(F94,医療機関マスタ!$B:$B,0),1)","v":"AH0000001"},{"$f":"INDEX(医療機関マスタ!$B:$B,MATCH(\"*\"&MID(注文書!$D$17,IFERROR(FIND(\" \",注文書!$D$17),IFERROR(FIND(\"　\",注文書!$D$17),0))+1,10)&\"*\",医療機関マスタ!$C:$C,0),1)","v":"医療法人社団斗南堂　八王子クリニック"},{"$f":"配送情報書!X96","v":""},{"$f":"配送情報書!Z96","v":"00:00:00"},{"$f":"配送情報書!$V96","v":""},"転記不要",null,null,null,{"$f":"配送情報書!T96","v":0},{"$f":"COUNTIF($A$3:A94,A94)","v":92}]
[{"$f":"配送情報書!A97","v":0},{"$f":"配送情報書!AB97","v":0},{"$f":"配送情報書!AA97","v":0},{"$f":"配送情報書!AC97","v":0},{"$f":"INDEX(医療機関マスタ!$A:$A,MATCH(F95,医療機関マスタ!$B:$B,0),1)","v":"AH0000001"},{"$f":"INDEX(医療機関マスタ!$B:$B,MATCH(\"*\"&MID(注文書!$D$17,IFERROR(FIND(\" \",注文書!$D$17),IFERROR(FIND(\"　\",注文書!$D$17),0))+1,10)&\"*\",医療機関マスタ!$C:$C,0),1)","v":"医療法人社団斗南堂　八王子クリニック"},{"$f":"配送情報書!X97","v":""},{"$f":"配送情報書!Z97","v":"00:00:00"},{"$f":"配送情報書!$V97","v":""},"転記不要",null,null,null,{"$f":"配送情報書!T97","v":0},{"$f":"COUNTIF($A$3:A95,A95)","v":93}]
[{"$f":"配送情報書!A98","v":0},{"$f":"配送情報書!AB98","v":0},{"$f":"配送情報書!AA98","v":0},{"$f":"配送情報書!AC98","v":0},{"$f":"INDEX(医療機関マスタ!$A:$A,MATCH(F96,医療機関マスタ!$B:$B,0),1)","v":"AH0000001"},{"$f":"INDEX(医療機関マスタ!$B:$B,MATCH(\"*\"&MID(注文書!$D$17,IFERROR(FIND(\" \",注文書!$D$17),IFERROR(FIND(\"　\",注文書!$D$17),0))+1,10)&\"*\",医療機関マスタ!$C:$C,0),1)","v":"医療法人社団斗南堂　八王子クリニック"},{"$f":"配送情報書!X98","v":""},{"$f":"配送情報書!Z98","v":"00:00:00"},{"$f":"配送情報書!$V98","v":""},"転記不要",null,null,null,{"$f":"配送情報書!T98","v":0},{"$f":"COUNTIF($A$3:A96,A96)","v":94}]
[{"$f":"配送情報書!A99","v":0},{"$f":"配送情報書!AB99","v":0},{"$f":"配送情報書!AA99","v":0},{"$f":"配送情報書!AC99","v":0},{"$f":"INDEX(医療機関マスタ!$A:$A,MATCH(F97,医療機関マスタ!$B:$B,0),1)","v":"AH0000001"},{"$f":"INDEX(医療機関マスタ!$B:$B,MATCH(\"*\"&MID(注文書!$D$17,IFERROR(FIND(\" \",注文書!$D$17),IFERROR(FIND(\"　\",注文書!$D$17),0))+1,10)&\"*\",医療機関マスタ!$C:$C,0),1)","v":"医療法人社団斗南堂　八王子クリニック"},{"$f":"配送情報書!X99","v":""},{"$f":"配送情報書!Z99","v":"00:00:00"},{"$f":"配送情報書!$V99","v":""},"転記不要",null,null,null,{"$f":"配送情報書!T99","v":0},{"$f":"COUNTIF($A$3:A97,A97)","v":95}]
[{"$f":"配送情報書!A100","v":0},{"$f":"配送情報書!AB100","v":0},{"$f":"配送情報書!AA100","v":0},{"$f":"配送情報書!AC100","v":0},{"$f":"INDEX(医療機関マスタ!$A:$A,MATCH(F98,医療機関マスタ!$B:$B,0),1)","v":"AH0000001"},{"$f":"INDEX(医療機関マスタ!$B:$B,MATCH(\"*\"&MID(注文書!$D$17,IFERROR(FIND(\" \",注文書!$D$17),IFERROR(FIND(\"　\",注文書!$D$17),0))+1,10)&\"*\",医療機関マスタ!$C:$C,0),1)","v":"医療法人社団斗南堂　八王子クリニック"},{"$f":"配送情報書!X100","v":""},{"$f":"配送情報書!Z100","v":"00:00:00"},{"$f":"配送情報書!$V100","v":""},"転記不要",null,null,null,{"$f":"配送情報書!T100","v":0},{"$f":"COUNTIF($A$3:A98,A98)","v":96}]
[{"$f":"配送情報書!A101","v":0},{"$f":"配送情報書!AB101","v":0},{"$f":"配送情報書!AA101","v":0},{"$f":"配送情報書!AC101","v":0},{"$f":"INDEX(医療機関マスタ!$A:$A,MATCH(F99,医療機関マスタ!$B:$B,0),1)","v":"AH0000001"},{"$f":"INDEX(医療機関マスタ!$B:$B,MATCH(\"*\"&MID(注文書!$D$17,IFERROR(FIND(\" \",注文書!$D$17),IFERROR(FIND(\"　\",注文書!$D$17),0))+1,10)&\"*\",医療機関マスタ!$C:$C,0),1)","v":"医療法人社団斗南堂　八王子クリニック"},{"$f":"配送情報書!X101","v":""},{"$f":"配送情報書!Z101","v":"00:00:00"},{"$f":"配送情報書!$V101","v":""},"転記不要",null,null,null,{"$f":"配送情報書!T101","v":0},{"$f":"COUNTIF($A$3:A99,A99)","v":97}]
[{"$f":"配送情報書!A102","v":0},{"$f":"配送情報書!AB102","v":0},{"$f":"配送情報書!AA102","v":0},{"$f":"配送情報書!AC102","v":0},{"$f":"INDEX(医療機関マスタ!$A:$A,MATCH(F100,医療機関マスタ!$B:$B,0),1)","v":"AH0000001"},{"$f":"INDEX(医療機関マスタ!$B:$B,MATCH(\"*\"&MID(注文書!$D$17,IFERROR(FIND(\" \",注文書!$D$17),IFERROR(FIND(\"　\",注文書!$D$17),0))+1,10)&\"*\",医療機関マスタ!$C:$C,0),1)","v":"医療法人社団斗南堂　八王子クリニック"},{"$f":"配送情報書!X102","v":""},{"$f":"配送情報書!Z102","v":"00:00:00"},{"$f":"配送情報書!$V102","v":""},"転記不要",null,null,null,{"$f":"配送情報書!T102","v":0},{"$f":"COUNTIF($A$3:A100,A100)","v":98}]
[{"$f":"配送情報書!A103","v":0},{"$f":"配送情報書!AB103","v":0},{"$f":"配送情報書!AA103","v":0},{"$f":"配送情報書!AC103","v":0},{"$f":"INDEX(医療機関マスタ!$A:$A,MATCH(F101,医療機関マスタ!$B:$B,0),1)","v":"AH0000001"},{"$f":"INDEX(医療機関マスタ!$B:$B,MATCH(\"*\"&MID(注文書!$D$17,IFERROR(FIND(\" \",注文書!$D$17),IFERROR(FIND(\"　\",注文書!$D$17),0))+1,10)&\"*\",医療機関マスタ!$C:$C,0),1)","v":"医療法人社団斗南堂　八王子クリニック"},{"$f":"配送情報書!X103","v":""},{"$f":"配送情報書!Z103","v":"00:00:00"},{"$f":"配送情報書!$V103","v":""},"転記不要",null,null,null,{"$f":"配送情報書!T103","v":0},{"$f":"COUNTIF($A$3:A101,A101)","v":99}]
[{"$f":"配送情報書!A104","v":0},{"$f":"配送情報書!AB104","v":0},{"$f":"配送情報書!AA104","v":0},{"$f":"配送情報書!AC104","v":0},{"$f":"INDEX(医療機関マスタ!$A:$A,MATCH(F102,医療機関マスタ!$B:$B,0),1)","v":"AH0000001"},{"$f":"INDEX(医療機関マスタ!$B:$B,MATCH(\"*\"&MID(注文書!$D$17,IFERROR(FIND(\" \",注文書!$D$17),IFERROR(FIND(\"　\",注文書!$D$17),0))+1,10)&\"*\",医療機関マスタ!$C:$C,0),1)","v":"医療法人社団斗南堂　八王子クリニック"},{"$f":"配送情報書!X104","v":""},{"$f":"配送情報書!Z104","v":"00:00:00"},{"$f":"配送情報書!$V104","v":""},"転記不要",null,null,null,{"$f":"配送情報書!T104","v":0},{"$f":"COUNTIF($A$3:A102,A102)","v":100}]
[{"$f":"配送情報書!A105","v":0},{"$f":"配送情報書!AB105","v":0},{"$f":"配送情報書!AA105","v":0},{"$f":"配送情報書!AC105","v":0},{"$f":"INDEX(医療機関マスタ!$A:$A,MATCH(F103,医療機関マスタ!$B:$B,0),1)","v":"AH0000001"},{"$f":"INDEX(医療機関マスタ!$B:$B,MATCH(\"*\"&MID(注文書!$D$17,IFERROR(FIND(\" \",注文書!$D$17),IFERROR(FIND(\"　\",注文書!$D$17),0))+1,10)&\"*\",医療機関マスタ!$C:$C,0),1)","v":"医療法人社団斗南堂　八王子クリニック"},{"$f":"配送情報書!X105","v":""},{"$f":"配送情報書!Z105","v":"00:00:00"},{"$f":"配送情報書!$V105","v":""},"転記不要",null,null,null,{"$f":"配送情報書!T105","v":0},{"$f":"COUNTIF($A$3:A103,A103)","v":101}]
[{"$f":"配送情報書!A106","v":0},{"$f":"配送情報書!AB106","v":0},{"$f":"配送情報書!AA106","v":0},{"$f":"配送情報書!AC106","v":0},{"$f":"INDEX(医療機関マスタ!$A:$A,MATCH(F104,医療機関マスタ!$B:$B,0),1)","v":"AH0000001"},{"$f":"INDEX(医療機関マスタ!$B:$B,MATCH(\"*\"&MID(注文書!$D$17,IFERROR(FIND(\" \",注文書!$D$17),IFERROR(FIND(\"　\",注文書!$D$17),0))+1,10)&\"*\",医療機関マスタ!$C:$C,0),1)","v":"医療法人社団斗南堂　八王子クリニック"},{"$f":"配送情報書!X106","v":""},{"$f":"配送情報書!Z106","v":"00:00:00"},{"$f":"配送情報書!$V106","v":""},"転記不要",null,null,null,{"$f":"配送情報書!T106","v":0},{"$f":"COUNTIF($A$3:A104,A104)","v":102}]
[{"$f":"配送情報書!A107","v":0},{"$f":"配送情報書!AB107","v":0},{"$f":"配送情報書!AA107","v":0},{"$f":"配送情報書!AC107","v":0},{"$f":"INDEX(医療機関マスタ!$A:$A,MATCH(F105,医療機関マスタ!$B:$B,0),1)","v":"AH0000001"},{"$f":"INDEX(医療機関マスタ!$B:$B,MATCH(\"*\"&MID(注文書!$D$17,IFERROR(FIND(\" \",注文書!$D$17),IFERROR(FIND(\"　\",注文書!$D$17),0))+1,10)&\"*\",医療機関マスタ!$C:$C,0),1)","v":"医療法人社団斗南堂　八王子クリニック"},{"$f":"配送情報書!X107","v":""},{"$f":"配送情報書!Z107","v":"00:00:00"},{"$f":"配送情報書!$V107","v":""},"転記不要",null,null,null,{"$f":"配送情報書!T107","v":0},{"$f":"COUNTIF($A$3:A105,A105)","v":103}]
[{"$f":"配送情報書!A108","v":0},{"$f":"配送情報書!AB108","v":0},{"$f":"配送情報書!AA108","v":0},{"$f":"配送情報書!AC108","v":0},{"$f":"INDEX(医療機関マスタ!$A:$A,MATCH(F106,医療機関マスタ!$B:$B,0),1)","v":"AH0000001"},{"$f":"INDEX(医療機関マスタ!$B:$B,MATCH(\"*\"&MID(注文書!$D$17,IFERROR(FIND(\" \",注文書!$D$17),IFERROR(FIND(\"　\",注文書!$D$17),0))+1,10)&\"*\",医療機関マスタ!$C:$C,0),1)","v":"医療法人社団斗南堂　八王子クリニック"},{"$f":"配送情報書!X108","v":""},{"$f":"配送情報書!Z108","v":"00:00:00"},{"$f":"配送情報書!$V108","v":""},"転記不要",null,null,null,{"$f":"配送情報書!T108","v":0},{"$f":"COUNTIF($A$3:A106,A106)","v":104}]
[{"$f":"配送情報書!A109","v":0},{"$f":"配送情報書!AB109","v":0},{"$f":"配送情報書!AA109","v":0},{"$f":"配送情報書!AC109","v":0},{"$f":"INDEX(医療機関マスタ!$A:$A,MATCH(F107,医療機関マスタ!$B:$B,0),1)","v":"AH0000001"},{"$f":"INDEX(医療機関マスタ!$B:$B,MATCH(\"*\"&MID(注文書!$D$17,IFERROR(FIND(\" \",注文書!$D$17),IFERROR(FIND(\"　\",注文書!$D$17),0))+1,10)&\"*\",医療機関マスタ!$C:$C,0),1)","v":"医療法人社団斗南堂　八王子クリニック"},{"$f":"配送情報書!X109","v":""},{"$f":"配送情報書!Z109","v":"00:00:00"},{"$f":"配送情報書!$V109","v":""},"転記不要",null,null,null,{"$f":"配送情報書!T109","v":0},{"$f":"COUNTIF($A$3:A107,A107)","v":105}]
[{"$f":"配送情報書!A110","v":0},{"$f":"配送情報書!AB110","v":0},{"$f":"配送情報書!AA110","v":0},{"$f":"配送情報書!AC110","v":0},{"$f":"INDEX(医療機関マスタ!$A:$A,MATCH(F108,医療機関マスタ!$B:$B,0),1)","v":"AH0000001"},{"$f":"INDEX(医療機関マスタ!$B:$B,MATCH(\"*\"&MID(注文書!$D$17,IFERROR(FIND(\" \",注文書!$D$17),IFERROR(FIND(\"　\",注文書!$D$17),0))+1,10)&\"*\",医療機関マスタ!$C:$C,0),1)","v":"医療法人社団斗南堂　八王子クリニック"},{"$f":"配送情報書!X110","v":""},{"$f":"配送情報書!Z110","v":"00:00:00"},{"$f":"配送情報書!$V110","v":""},"転記不要",null,null,null,{"$f":"配送情報書!T110","v":0},{"$f":"COUNTIF($A$3:A108,A108)","v":106}]
[{"$f":"配送情報書!A111","v":0},{"$f":"配送情報書!AB111","v":0},{"$f":"配送情報書!AA111","v":0},{"$f":"配送情報書!AC111","v":0},{"$f":"INDEX(医療機関マスタ!$A:$A,MATCH(F109,医療機関マスタ!$B:$B,0),1)","v":"AH0000001"},{"$f":"INDEX(医療機関マスタ!$B:$B,MATCH(\"*\"&MID(注文書!$D$17,IFERROR(FIND(\" \",注文書!$D$17),IFERROR(FIND(\"　\",注文書!$D$17),0))+1,10)&\"*\",医療機関マスタ!$C:$C,0),1)","v":"医療法人社団斗南堂　八王子クリニック"},{"$f":"配送情報書!X111","v":""},{"$f":"配送情報書!Z111","v":"00:00:00"},{"$f":"配送情報書!$V111","v":""},"転記不要",null,null,null,{"$f":"配送情報書!T111","v":0},{"$f":"COUNTIF($A$3:A109,A109)","v":107}]
[{"$f":"配送情報書!A112","v":0},{"$f":"配送情報書!AB112","v":0},{"$f":"配送情報書!AA112","v":0},{"$f":"配送情報書!AC112","v":0},{"$f":"INDEX(医療機関マスタ!$A:$A,MATCH(F110,医療機関マスタ!$B:$B,0),1)","v":"AH0000001"},{"$f":"INDEX(医療機関マスタ!$B:$B,MATCH(\"*\"&MID(注文書!$D$17,IFERROR(FIND(\" \",注文書!$D$17),IFERROR(FIND(\"　\",注文書!$D$17),0))+1,10)&\"*\",医療機関マスタ!$C:$C,0),1)","v":"医療法人社団斗南堂　八王子クリニック"},{"$f":"配送情報書!X112","v":""},{"$f":"配送情報書!Z112","v":"00:00:00"},{"$f":"配送情報書!$V112","v":""},"転記不要",null,null,null,{"$f":"配送情報書!T112","v":0},{"$f":"COUNTIF($A$3:A110,A110)","v":108}]
[{"$f":"配送情報書!A113","v":0},{"$f":"配送情報書!AB113","v":0},{"$f":"配送情報書!AA113","v":0},{"$f":"配送情報書!AC113","v":0},{"$f":"INDEX(医療機関マスタ!$A:$A,MATCH(F111,医療機関マスタ!$B:$B,0),1)","v":"AH0000001"},{"$f":"INDEX(医療機関マスタ!$B:$B,MATCH(\"*\"&MID(注文書!$D$17,IFERROR(FIND(\" \",注文書!$D$17),IFERROR(FIND(\"　\",注文書!$D$17),0))+1,10)&\"*\",医療機関マスタ!$C:$C,0),1)","v":"医療法人社団斗南堂　八王子クリニック"},{"$f":"配送情報書!X113","v":""},{"$f":"配送情報書!Z113","v":"00:00:00"},{"$f":"配送情報書!$V113","v":""},"転記不要",null,null,null,{"$f":"配送情報書!T113","v":0},{"$f":"COUNTIF($A$3:A111,A111)","v":109}]
[{"$f":"配送情報書!A114","v":0},{"$f":"配送情報書!AB114","v":0},{"$f":"配送情報書!AA114","v":0},{"$f":"配送情報書!AC114","v":0},{"$f":"INDEX(医療機関マスタ!$A:$A,MATCH(F112,医療機関マスタ!$B:$B,0),1)","v":"AH0000001"},{"$f":"INDEX(医療機関マスタ!$B:$B,MATCH(\"*\"&MID(注文書!$D$17,IFERROR(FIND(\" \",注文書!$D$17),IFERROR(FIND(\"　\",注文書!$D$17),0))+1,10)&\"*\",医療機関マスタ!$C:$C,0),1)","v":"医療法人社団斗南堂　八王子クリニック"},{"$f":"配送情報書!X114","v":""},{"$f":"配送情報書!Z114","v":"00:00:00"},{"$f":"配送情報書!$V114","v":""},"転記不要",null,null,null,{"$f":"配送情報書!T114","v":0},{"$f":"COUNTIF($A$3:A112,A112)","v":110}]
[{"$f":"配送情報書!A115","v":0},{"$f":"配送情報書!AB115","v":0},{"$f":"配送情報書!AA115","v":0},{"$f":"配送情報書!AC115","v":0},{"$f":"INDEX(医療機関マスタ!$A:$A,MATCH(F113,医療機関マスタ!$B:$B,0),1)","v":"AH0000001"},{"$f":"INDEX(医療機関マスタ!$B:$B,MATCH(\"*\"&MID(注文書!$D$17,IFERROR(FIND(\" \",注文書!$D$17),IFERROR(FIND(\"　\",注文書!$D$17),0))+1,10)&\"*\",医療機関マスタ!$C:$C,0),1)","v":"医療法人社団斗南堂　八王子クリニック"},{"$f":"配送情報書!X115","v":""},{"$f":"配送情報書!Z115","v":"00:00:00"},{"$f":"配送情報書!$V115","v":""},"転記不要",null,null,null,{"$f":"配送情報書!T115","v":0},{"$f":"COUNTIF($A$3:A113,A113)","v":111}]
[{"$f":"配送情報書!A116","v":0},{"$f":"配送情報書!AB116","v":0},{"$f":"配送情報書!AA116","v":0},{"$f":"配送情報書!AC116","v":0},{"$f":"INDEX(医療機関マスタ!$A:$A,MATCH(F114,医療機関マスタ!$B:$B,0),1)","v":"AH0000001"},{"$f":"INDEX(医療機関マスタ!$B:$B,MATCH(\"*\"&MID(注文書!$D$17,IFERROR(FIND(\" \",注文書!$D$17),IFERROR(FIND(\"　\",注文書!$D$17),0))+1,10)&\"*\",医療機関マスタ!$C:$C,0),1)","v":"医療法人社団斗南堂　八王子クリニック"},{"$f":"配送情報書!X116","v":""},{"$f":"配送情報書!Z116","v":"00:00:00"},{"$f":"配送情報書!$V116","v":""},"転記不要",null,null,null,{"$f":"配送情報書!T116","v":0},{"$f":"COUNTIF($A$3:A114,A114)","v":112}]
[{"$f":"配送情報書!A117","v":0},{"$f":"配送情報書!AB117","v":0},{"$f":"配送情報書!AA117","v":0},{"$f":"配送情報書!AC117","v":0},{"$f":"INDEX(医療機関マスタ!$A:$A,MATCH(F115,医療機関マスタ!$B:$B,0),1)","v":"AH0000001"},{"$f":"INDEX(医療機関マスタ!$B:$B,MATCH(\"*\"&MID(注文書!$D$17,IFERROR(FIND(\" \",注文書!$D$17),IFERROR(FIND(\"　\",注文書!$D$17),0))+1,10)&\"*\",医療機関マスタ!$C:$C,0),1)","v":"医療法人社団斗南堂　八王子クリニック"},{"$f":"配送情報書!X117","v":""},{"$f":"配送情報書!Z117","v":"00:00:00"},{"$f":"配送情報書!$V117","v":""},"転記不要",null,null,null,{"$f":"配送情報書!T117","v":0},{"$f":"COUNTIF($A$3:A115,A115)","v":113}]
[{"$f":"配送情報書!A118","v":0},{"$f":"配送情報書!AB118","v":0},{"$f":"配送情報書!AA118","v":0},{"$f":"配送情報書!AC118","v":0},{"$f":"INDEX(医療機関マスタ!$A:$A,MATCH(F116,医療機関マスタ!$B:$B,0),1)","v":"AH0000001"},{"$f":"INDEX(医療機関マスタ!$B:$B,MATCH(\"*\"&MID(注文書!$D$17,IFERROR(FIND(\" \",注文書!$D$17),IFERROR(FIND(\"　\",注文書!$D$17),0))+1,10)&\"*\",医療機関マスタ!$C:$C,0),1)","v":"医療法人社団斗南堂　八王子クリニック"},{"$f":"配送情報書!X118","v":""},{"$f":"配送情報書!Z118","v":"00:00:00"},{"$f":"配送情報書!$V118","v":""},"転記不要",null,null,null,{"$f":"配送情報書!T118","v":0},{"$f":"COUNTIF($A$3:A116,A116)","v":114}]
[{"$f":"配送情報書!A119","v":0},{"$f":"配送情報書!AB119","v":0},{"$f":"配送情報書!AA119","v":0},{"$f":"配送情報書!AC119","v":0},{"$f":"INDEX(医療機関マスタ!$A:$A,MATCH(F117,医療機関マスタ!$B:$B,0),1)","v":"AH0000001"},{"$f":"INDEX(医療機関マスタ!$B:$B,MATCH(\"*\"&MID(注文書!$D$17,IFERROR(FIND(\" \",注文書!$D$17),IFERROR(FIND(\"　\",注文書!$D$17),0))+1,10)&\"*\",医療機関マスタ!$C:$C,0),1)","v":"医療法人社団斗南堂　八王子クリニック"},{"$f":"配送情報書!X119","v":""},{"$f":"配送情報書!Z119","v":"00:00:00"},{"$f":"配送情報書!$V119","v":""},"転記不要",null,null,null,{"$f":"配送情報書!T119","v":0},{"$f":"COUNTIF($A$3:A117,A117)","v":115}]
[{"$f":"配送情報書!A120","v":0},{"$f":"配送情報書!AB120","v":0},{"$f":"配送情報書!AA120","v":0},{"$f":"配送情報書!AC120","v":0},{"$f":"INDEX(医療機関マスタ!$A:$A,MATCH(F118,医療機関マスタ!$B:$B,0),1)","v":"AH0000001"},{"$f":"INDEX(医療機関マスタ!$B:$B,MATCH(\"*\"&MID(注文書!$D$17,IFERROR(FIND(\" \",注文書!$D$17),IFERROR(FIND(\"　\",注文書!$D$17),0))+1,10)&\"*\",医療機関マスタ!$C:$C,0),1)","v":"医療法人社団斗南堂　八王子クリニック"},{"$f":"配送情報書!X120","v":""},{"$f":"配送情報書!Z120","v":"00:00:00"},{"$f":"配送情報書!$V120","v":""},"転記不要",null,null,null,{"$f":"配送情報書!T120","v":0},{"$f":"COUNTIF($A$3:A118,A118)","v":116}]
[{"$f":"配送情報書!A121","v":0},{"$f":"配送情報書!AB121","v":0},{"$f":"配送情報書!AA121","v":0},{"$f":"配送情報書!AC121","v":0},{"$f":"INDEX(医療機関マスタ!$A:$A,MATCH(F119,医療機関マスタ!$B:$B,0),1)","v":"AH0000001"},{"$f":"INDEX(医療機関マスタ!$B:$B,MATCH(\"*\"&MID(注文書!$D$17,IFERROR(FIND(\" \",注文書!$D$17),IFERROR(FIND(\"　\",注文書!$D$17),0))+1,10)&\"*\",医療機関マスタ!$C:$C,0),1)","v":"医療法人社団斗南堂　八王子クリニック"},{"$f":"配送情報書!X121","v":""},{"$f":"配送情報書!Z121","v":"00:00:00"},{"$f":"配送情報書!$V121","v":""},"転記不要",null,null,null,{"$f":"配送情報書!T121","v":0},{"$f":"COUNTIF($A$3:A119,A119)","v":117}]
[{"$f":"配送情報書!A122","v":0},{"$f":"配送情報書!AB122","v":0},{"$f":"配送情報書!AA122","v":0},{"$f":"配送情報書!AC122","v":0},{"$f":"INDEX(医療機関マスタ!$A:$A,MATCH(F120,医療機関マスタ!$B:$B,0),1)","v":"AH0000001"},{"$f":"INDEX(医療機関マスタ!$B:$B,MATCH(\"*\"&MID(注文書!$D$17,IFERROR(FIND(\" \",注文書!$D$17),IFERROR(FIND(\"　\",注文書!$D$17),0))+1,10)&\"*\",医療機関マスタ!$C:$C,0),1)","v":"医療法人社団斗南堂　八王子クリニック"},{"$f":"配送情報書!X122","v":""},{"$f":"配送情報書!Z122","v":"00:00:00"},{"$f":"配送情報書!$V122","v":""},"転記不要",null,null,null,{"$f":"配送情報書!T122","v":0},{"$f":"COUNTIF($A$3:A120,A120)","v":118}]
[{"$f":"配送情報書!A123","v":0},{"$f":"配送情報書!AB123","v":0},{"$f":"配送情報書!AA123","v":0},{"$f":"配送情報書!AC123","v":0},{"$f":"INDEX(医療機関マスタ!$A:$A,MATCH(F121,医療機関マスタ!$B:$B,0),1)","v":"AH0000001"},{"$f":"INDEX(医療機関マスタ!$B:$B,MATCH(\"*\"&MID(注文書!$D$17,IFERROR(FIND(\" \",注文書!$D$17),IFERROR(FIND(\"　\",注文書!$D$17),0))+1,10)&\"*\",医療機関マスタ!$C:$C,0),1)","v":"医療法人社団斗南堂　八王子クリニック"},{"$f":"配送情報書!X123","v":""},{"$f":"配送情報書!Z123","v":"00:00:00"},{"$f":"配送情報書!$V123","v":""},"転記不要",null,null,null,{"$f":"配送情報書!T123","v":0},{"$f":"COUNTIF($A$3:A121,A121)","v":119}]
[{"$f":"配送情報書!A124","v":0},{"$f":"配送情報書!AB124","v":0},{"$f":"配送情報書!AA124","v":0},{"$f":"配送情報書!AC124","v":0},{"$f":"INDEX(医療機関マスタ!$A:$A,MATCH(F122,医療機関マスタ!$B:$B,0),1)","v":"AH0000001"},{"$f":"INDEX(医療機関マスタ!$B:$B,MATCH(\"*\"&MID(注文書!$D$17,IFERROR(FIND(\" \",注文書!$D$17),IFERROR(FIND(\"　\",注文書!$D$17),0))+1,10)&\"*\",医療機関マスタ!$C:$C,0),1)","v":"医療法人社団斗南堂　八王子クリニック"},{"$f":"配送情報書!X124","v":""},{"$f":"配送情報書!Z124","v":"00:00:00"},{"$f":"配送情報書!$V124","v":""},"転記不要",null,null,null,{"$f":"配送情報書!T124","v":0},{"$f":"COUNTIF($A$3:A122,A122)","v":120}]
[{"$f":"配送情報書!A125","v":0},{"$f":"配送情報書!AB125","v":0},{"$f":"配送情報書!AA125","v":0},{"$f":"配送情報書!AC125","v":0},{"$f":"INDEX(医療機関マスタ!$A:$A,MATCH(F123,医療機関マスタ!$B:$B,0),1)","v":"AH0000001"},{"$f":"INDEX(医療機関マスタ!$B:$B,MATCH(\"*\"&MID(注文書!$D$17,IFERROR(FIND(\" \",注文書!$D$17),IFERROR(FIND(\"　\",注文書!$D$17),0))+1,10)&\"*\",医療機関マスタ!$C:$C,0),1)","v":"医療法人社団斗南堂　八王子クリニック"},{"$f":"配送情報書!X125","v":""},{"$f":"配送情報書!Z125","v":"00:00:00"},{"$f":"配送情報書!$V125","v":""},"転記不要",null,null,null,{"$f":"配送情報書!T125","v":0},{"$f":"COUNTIF($A$3:A123,A123)","v":121}]
[{"$f":"配送情報書!A126","v":0},{"$f":"配送情報書!AB126","v":0},{"$f":"配送情報書!AA126","v":0},{"$f":"配送情報書!AC126","v":0},{"$f":"INDEX(医療機関マスタ!$A:$A,MATCH(F124,医療機関マスタ!$B:$B,0),1)","v":"AH0000001"},{"$f":"INDEX(医療機関マスタ!$B:$B,MATCH(\"*\"&MID(注文書!$D$17,IFERROR(FIND(\" \",注文書!$D$17),IFERROR(FIND(\"　\",注文書!$D$17),0))+1,10)&\"*\",医療機関マスタ!$C:$C,0),1)","v":"医療法人社団斗南堂　八王子クリニック"},{"$f":"配送情報書!X126","v":""},{"$f":"配送情報書!Z126","v":"00:00:00"},{"$f":"配送情報書!$V126","v":""},"転記不要",null,null,null,{"$f":"配送情報書!T126","v":0},{"$f":"COUNTIF($A$3:A124,A124)","v":122}]
[{"$f":"配送情報書!A127","v":0},{"$f":"配送情報書!AB127","v":0},{"$f":"配送情報書!AA127","v":0},{"$f":"配送情報書!AC127","v":0},{"$f":"INDEX(医療機関マスタ!$A:$A,MATCH(F125,医療機関マスタ!$B:$B,0),1)","v":"AH0000001"},{"$f":"INDEX(医療機関マスタ!$B:$B,MATCH(\"*\"&MID(注文書!$D$17,IFERROR(FIND(\" \",注文書!$D$17),IFERROR(FIND(\"　\",注文書!$D$17),0))+1,10)&\"*\",医療機関マスタ!$C:$C,0),1)","v":"医療法人社団斗南堂　八王子クリニック"},{"$f":"配送情報書!X127","v":""},{"$f":"配送情報書!Z127","v":"00:00:00"},{"$f":"配送情報書!$V127","v":""},"転記不要",null,null,null,{"$f":"配送情報書!T127","v":0},{"$f":"COUNTIF($A$3:A125,A125)","v":123}]
[{"$f":"配送情報書!A128","v":0},{"$f":"配送情報書!AB128","v":0},{"$f":"配送情報書!AA128","v":0},{"$f":"配送情報書!AC128","v":0},{"$f":"INDEX(医療機関マスタ!$A:$A,MATCH(F126,医療機関マスタ!$B:$B,0),1)","v":"AH0000001"},{"$f":"INDEX(医療機関マスタ!$B:$B,MATCH(\"*\"&MID(注文書!$D$17,IFERROR(FIND(\" \",注文書!$D$17),IFERROR(FIND(\"　\",注文書!$D$17),0))+1,10)&\"*\",医療機関マスタ!$C:$C,0),1)","v":"医療法人社団斗南堂　八王子クリニック"},{"$f":"配送情報書!X128","v":""},{"$f":"配送情報書!Z128","v":"00:00:00"},{"$f":"配送情報書!$V128","v":""},"転記不要",null,null,null,{"$f":"配送情報書!T128","v":0},{"$f":"COUNTIF($A$3:A126,A126)","v":124}]
[{"$f":"配送情報書!A129","v":0},{"$f":"配送情報書!AB129","v":0},{"$f":"配送情報書!AA129","v":0},{"$f":"配送情報書!AC129","v":0},{"$f":"INDEX(医療機関マスタ!$A:$A,MATCH(F127,医療機関マスタ!$B:$B,0),1)","v":"AH0000001"},{"$f":"INDEX(医療機関マスタ!$B:$B,MATCH(\"*\"&MID(注文書!$D$17,IFERROR(FIND(\" \",注文書!$D$17),IFERROR(FIND(\"　\",注文書!$D$17),0))+1,10)&\"*\",医療機関マスタ!$C:$C,0),1)","v":"医療法人社団斗南堂　八王子クリニック"},{"$f":"配送情報書!X129","v":""},{"$f":"配送情報書!Z129","v":"00:00:00"},{"$f":"配送情報書!$V129","v":""},"転記不要",null,null,null,{"$f":"配送情報書!T129","v":0},{"$f":"COUNTIF($A$3:A127,A127)","v":125}]
[{"$f":"配送情報書!A130","v":0},{"$f":"配送情報書!AB130","v":0},{"$f":"配送情報書!AA130","v":0},{"$f":"配送情報書!AC130","v":0},{"$f":"INDEX(医療機関マスタ!$A:$A,MATCH(F128,医療機関マスタ!$B:$B,0),1)","v":"AH0000001"},{"$f":"INDEX(医療機関マスタ!$B:$B,MATCH(\"*\"&MID(注文書!$D$17,IFERROR(FIND(\" \",注文書!$D$17),IFERROR(FIND(\"　\",注文書!$D$17),0))+1,10)&\"*\",医療機関マスタ!$C:$C,0),1)","v":"医療法人社団斗南堂　八王子クリニック"},{"$f":"配送情報書!X130","v":""},{"$f":"配送情報書!Z130","v":"00:00:00"},{"$f":"配送情報書!$V130","v":""},"転記不要",null,null,null,{"$f":"配送情報書!T130","v":0},{"$f":"COUNTIF($A$3:A128,A128)","v":126}]
[{"$f":"配送情報書!A131","v":0},{"$f":"配送情報書!AB131","v":0},{"$f":"配送情報書!AA131","v":0},{"$f":"配送情報書!AC131","v":0},{"$f":"INDEX(医療機関マスタ!$A:$A,MATCH(F129,医療機関マスタ!$B:$B,0),1)","v":"AH0000001"},{"$f":"INDEX(医療機関マスタ!$B:$B,MATCH(\"*\"&MID(注文書!$D$17,IFERROR(FIND(\" \",注文書!$D$17),IFERROR(FIND(\"　\",注文書!$D$17),0))+1,10)&\"*\",医療機関マスタ!$C:$C,0),1)","v":"医療法人社団斗南堂　八王子クリニック"},{"$f":"配送情報書!X131","v":""},{"$f":"配送情報書!Z131","v":"00:00:00"},{"$f":"配送情報書!$V131","v":""},"転記不要",null,null,null,{"$f":"配送情報書!T131","v":0},{"$f":"COUNTIF($A$3:A129,A129)","v":127}]
[{"$f":"配送情報書!A132","v":0},{"$f":"配送情報書!AB132","v":0},{"$f":"配送情報書!AA132","v":0},{"$f":"配送情報書!AC132","v":0},{"$f":"INDEX(医療機関マスタ!$A:$A,MATCH(F130,医療機関マスタ!$B:$B,0),1)","v":"AH0000001"},{"$f":"INDEX(医療機関マスタ!$B:$B,MATCH(\"*\"&MID(注文書!$D$17,IFERROR(FIND(\" \",注文書!$D$17),IFERROR(FIND(\"　\",注文書!$D$17),0))+1,10)&\"*\",医療機関マスタ!$C:$C,0),1)","v":"医療法人社団斗南堂　八王子クリニック"},{"$f":"配送情報書!X132","v":""},{"$f":"配送情報書!Z132","v":"00:00:00"},{"$f":"配送情報書!$V132","v":""},"転記不要",null,null,null,{"$f":"配送情報書!T132","v":0},{"$f":"COUNTIF($A$3:A130,A130)","v":128}]
[{"$f":"配送情報書!A133","v":0},{"$f":"配送情報書!AB133","v":0},{"$f":"配送情報書!AA133","v":0},{"$f":"配送情報書!AC133","v":0},{"$f":"INDEX(医療機関マスタ!$A:$A,MATCH(F131,医療機関マスタ!$B:$B,0),1)","v":"AH0000001"},{"$f":"INDEX(医療機関マスタ!$B:$B,MATCH(\"*\"&MID(注文書!$D$17,IFERROR(FIND(\" \",注文書!$D$17),IFERROR(FIND(\"　\",注文書!$D$17),0))+1,10)&\"*\",医療機関マスタ!$C:$C,0),1)","v":"医療法人社団斗南堂　八王子クリニック"},{"$f":"配送情報書!X133","v":""},{"$f":"配送情報書!Z133","v":"00:00:00"},{"$f":"配送情報書!$V133","v":""},"転記不要",null,null,null,{"$f":"配送情報書!T133","v":0},{"$f":"COUNTIF($A$3:A131,A131)","v":129}]
[{"$f":"配送情報書!A134","v":0},{"$f":"配送情報書!AB134","v":0},{"$f":"配送情報書!AA134","v":0},{"$f":"配送情報書!AC134","v":0},{"$f":"INDEX(医療機関マスタ!$A:$A,MATCH(F132,医療機関マスタ!$B:$B,0),1)","v":"AH0000001"},{"$f":"INDEX(医療機関マスタ!$B:$B,MATCH(\"*\"&MID(注文書!$D$17,IFERROR(FIND(\" \",注文書!$D$17),IFERROR(FIND(\"　\",注文書!$D$17),0))+1,10)&\"*\",医療機関マスタ!$C:$C,0),1)","v":"医療法人社団斗南堂　八王子クリニック"},{"$f":"配送情報書!X134","v":""},{"$f":"配送情報書!Z134","v":"00:00:00"},{"$f":"配送情報書!$V134","v":""},{"$f":"IF(AND(N132>0,O132=1),SUMIFS($N:$N,$A:$A,A132),\"転記不要\")","v":"転記不要"},null,null,null,{"$f":"配送情報書!T134","v":0},{"$f":"COUNTIF($A$3:A132,A132)","v":130}]
[{"$f":"配送情報書!A135","v":0},{"$f":"配送情報書!AB135","v":0},{"$f":"配送情報書!AA135","v":0},{"$f":"配送情報書!AC135","v":0},{"$f":"INDEX(医療機関マスタ!$A:$A,MATCH(F133,医療機関マスタ!$B:$B,0),1)","v":"AH0000001"},{"$f":"INDEX(医療機関マスタ!$B:$B,MATCH(\"*\"&MID(注文書!$D$17,IFERROR(FIND(\" \",注文書!$D$17),IFERROR(FIND(\"　\",注文書!$D$17),0))+1,10)&\"*\",医療機関マスタ!$C:$C,0),1)","v":"医療法人社団斗南堂　八王子クリニック"},{"$f":"配送情報書!X135","v":""},{"$f":"配送情報書!Z135","v":"00:00:00"},{"$f":"配送情報書!$V135","v":""},"転記不要",null,null,null,{"$f":"配送情報書!T135","v":0},{"$f":"COUNTIF($A$3:A133,A133)","v":131}]
[{"$f":"配送情報書!A136","v":0},{"$f":"配送情報書!AB136","v":0},{"$f":"配送情報書!AA136","v":0},{"$f":"配送情報書!AC136","v":0},{"$f":"INDEX(医療機関マスタ!$A:$A,MATCH(F134,医療機関マスタ!$B:$B,0),1)","v":"AH0000001"},{"$f":"INDEX(医療機関マスタ!$B:$B,MATCH(\"*\"&MID(注文書!$D$17,IFERROR(FIND(\" \",注文書!$D$17),IFERROR(FIND(\"　\",注文書!$D$17),0))+1,10)&\"*\",医療機関マスタ!$C:$C,0),1)","v":"医療法人社団斗南堂　八王子クリニック"},{"$f":"配送情報書!X136","v":""},{"$f":"配送情報書!Z136","v":"00:00:00"},{"$f":"配送情報書!$V136","v":""},"転記不要",null,null,null,{"$f":"配送情報書!T136","v":0},{"$f":"COUNTIF($A$3:A134,A134)","v":132}]
[{"$f":"配送情報書!A137","v":0},{"$f":"配送情報書!AB137","v":0},{"$f":"配送情報書!AA137","v":0},{"$f":"配送情報書!AC137","v":0},{"$f":"INDEX(医療機関マスタ!$A:$A,MATCH(F135,医療機関マスタ!$B:$B,0),1)","v":"AH0000001"},{"$f":"INDEX(医療機関マスタ!$B:$B,MATCH(\"*\"&MID(注文書!$D$17,IFERROR(FIND(\" \",注文書!$D$17),IFERROR(FIND(\"　\",注文書!$D$17),0))+1,10)&\"*\",医療機関マスタ!$C:$C,0),1)","v":"医療法人社団斗南堂　八王子クリニック"},{"$f":"配送情報書!X137","v":""},{"$f":"配送情報書!Z137","v":"00:00:00"},{"$f":"配送情報書!$V137","v":""},"転記不要",null,null,null,{"$f":"配送情報書!T137","v":0},{"$f":"COUNTIF($A$3:A135,A135)","v":133}]
[{"$f":"配送情報書!A138","v":0},{"$f":"配送情報書!AB138","v":0},{"$f":"配送情報書!AA138","v":0},{"$f":"配送情報書!AC138","v":0},{"$f":"INDEX(医療機関マスタ!$A:$A,MATCH(F136,医療機関マスタ!$B:$B,0),1)","v":"AH0000001"},{"$f":"INDEX(医療機関マスタ!$B:$B,MATCH(\"*\"&MID(注文書!$D$17,IFERROR(FIND(\" \",注文書!$D$17),IFERROR(FIND(\"　\",注文書!$D$17),0))+1,10)&\"*\",医療機関マスタ!$C:$C,0),1)","v":"医療法人社団斗南堂　八王子クリニック"},{"$f":"配送情報書!X138","v":""},{"$f":"配送情報書!Z138","v":"00:00:00"},{"$f":"配送情報書!$V138","v":""},"転記不要",null,null,null,{"$f":"配送情報書!T138","v":0},{"$f":"COUNTIF($A$3:A136,A136)","v":134}]
[{"$f":"配送情報書!A139","v":0},{"$f":"配送情報書!AB139","v":0},{"$f":"配送情報書!AA139","v":0},{"$f":"配送情報書!AC139","v":0},{"$f":"INDEX(医療機関マスタ!$A:$A,MATCH(F137,医療機関マスタ!$B:$B,0),1)","v":"AH0000001"},{"$f":"INDEX(医療機関マスタ!$B:$B,MATCH(\"*\"&MID(注文書!$D$17,IFERROR(FIND(\" \",注文書!$D$17),IFERROR(FIND(\"　\",注文書!$D$17),0))+1,10)&\"*\",医療機関マスタ!$C:$C,0),1)","v":"医療法人社団斗南堂　八王子クリニック"},{"$f":"配送情報書!X139","v":""},{"$f":"配送情報書!Z139","v":"00:00:00"},{"$f":"配送情報書!$V139","v":""},"転記不要",null,null,null,{"$f":"配送情報書!T139","v":0},{"$f":"COUNTIF($A$3:A137,A137)","v":135}]
[{"$f":"配送情報書!A140","v":0},{"$f":"配送情報書!AB140","v":0},{"$f":"配送情報書!AA140","v":0},{"$f":"配送情報書!AC140","v":0},{"$f":"INDEX(医療機関マスタ!$A:$A,MATCH(F138,医療機関マスタ!$B:$B,0),1)","v":"AH0000001"},{"$f":"INDEX(医療機関マスタ!$B:$B,MATCH(\"*\"&MID(注文書!$D$17,IFERROR(FIND(\" \",注文書!$D$17),IFERROR(FIND(\"　\",注文書!$D$17),0))+1,10)&\"*\",医療機関マスタ!$C:$C,0),1)","v":"医療法人社団斗南堂　八王子クリニック"},{"$f":"配送情報書!X140","v":""},{"$f":"配送情報書!Z140","v":"00:00:00"},{"$f":"配送情報書!$V140","v":""},"転記不要",null,null,null,{"$f":"配送情報書!T140","v":0},{"$f":"COUNTIF($A$3:A138,A138)","v":136}]
[{"$f":"配送情報書!A141","v":0},{"$f":"配送情報書!AB141","v":0},{"$f":"配送情報書!AA141","v":0},{"$f":"配送情報書!AC141","v":0},{"$f":"INDEX(医療機関マスタ!$A:$A,MATCH(F139,医療機関マスタ!$B:$B,0),1)","v":"AH0000001"},{"$f":"INDEX(医療機関マスタ!$B:$B,MATCH(\"*\"&MID(注文書!$D$17,IFERROR(FIND(\" \",注文書!$D$17),IFERROR(FIND(\"　\",注文書!$D$17),0))+1,10)&\"*\",医療機関マスタ!$C:$C,0),1)","v":"医療法人社団斗南堂　八王子クリニック"},{"$f":"配送情報書!X141","v":""},{"$f":"配送情報書!Z141","v":"00:00:00"},{"$f":"配送情報書!$V141","v":""},"転記不要",null,null,null,{"$f":"配送情報書!T141","v":0},{"$f":"COUNTIF($A$3:A139,A139)","v":137}]
[{"$f":"配送情報書!A142","v":0},{"$f":"配送情報書!AB142","v":0},{"$f":"配送情報書!AA142","v":0},{"$f":"配送情報書!AC142","v":0},{"$f":"INDEX(医療機関マスタ!$A:$A,MATCH(F140,医療機関マスタ!$B:$B,0),1)","v":"AH0000001"},{"$f":"INDEX(医療機関マスタ!$B:$B,MATCH(\"*\"&MID(注文書!$D$17,IFERROR(FIND(\" \",注文書!$D$17),IFERROR(FIND(\"　\",注文書!$D$17),0))+1,10)&\"*\",医療機関マスタ!$C:$C,0),1)","v":"医療法人社団斗南堂　八王子クリニック"},{"$f":"配送情報書!X142","v":""},{"$f":"配送情報書!Z142","v":"00:00:00"},{"$f":"配送情報書!$V142","v":""},"転記不要",null,null,null,{"$f":"配送情報書!T142","v":0},{"$f":"COUNTIF($A$3:A140,A140)","v":138}]
[{"$f":"配送情報書!A143","v":0},{"$f":"配送情報書!AB143","v":0},{"$f":"配送情報書!AA143","v":0},{"$f":"配送情報書!AC143","v":0},{"$f":"INDEX(医療機関マスタ!$A:$A,MATCH(F141,医療機関マスタ!$B:$B,0),1)","v":"AH0000001"},{"$f":"INDEX(医療機関マスタ!$B:$B,MATCH(\"*\"&MID(注文書!$D$17,IFERROR(FIND(\" \",注文書!$D$17),IFERROR(FIND(\"　\",注文書!$D$17),0))+1,10)&\"*\",医療機関マスタ!$C:$C,0),1)","v":"医療法人社団斗南堂　八王子クリニック"},{"$f":"配送情報書!X143","v":""},{"$f":"配送情報書!Z143","v":"00:00:00"},{"$f":"配送情報書!$V143","v":""},"転記不要",null,null,null,{"$f":"配送情報書!T143","v":0},{"$f":"COUNTIF($A$3:A141,A141)","v":139}]
[{"$f":"配送情報書!A144","v":0},{"$f":"配送情報書!AB144","v":0},{"$f":"配送情報書!AA144","v":0},{"$f":"配送情報書!AC144","v":0},{"$f":"INDEX(医療機関マスタ!$A:$A,MATCH(F142,医療機関マスタ!$B:$B,0),1)","v":"AH0000001"},{"$f":"INDEX(医療機関マスタ!$B:$B,MATCH(\"*\"&MID(注文書!$D$17,IFERROR(FIND(\" \",注文書!$D$17),IFERROR(FIND(\"　\",注文書!$D$17),0))+1,10)&\"*\",医療機関マスタ!$C:$C,0),1)","v":"医療法人社団斗南堂　八王子クリニック"},{"$f":"配送情報書!X144","v":""},{"$f":"配送情報書!Z144","v":"00:00:00"},{"$f":"配送情報書!$V144","v":""},"転記不要",null,null,null,{"$f":"配送情報書!T144","v":0},{"$f":"COUNTIF($A$3:A142,A142)","v":140}]
[{"$f":"配送情報書!A145","v":0},{"$f":"配送情報書!AB145","v":0},{"$f":"配送情報書!AA145","v":0},{"$f":"配送情報書!AC145","v":0},{"$f":"INDEX(医療機関マスタ!$A:$A,MATCH(F143,医療機関マスタ!$B:$B,0),1)","v":"AH0000001"},{"$f":"INDEX(医療機関マスタ!$B:$B,MATCH(\"*\"&MID(注文書!$D$17,IFERROR(FIND(\" \",注文書!$D$17),IFERROR(FIND(\"　\",注文書!$D$17),0))+1,10)&\"*\",医療機関マスタ!$C:$C,0),1)","v":"医療法人社団斗南堂　八王子クリニック"},{"$f":"配送情報書!X145","v":""},{"$f":"配送情報書!Z145","v":"00:00:00"},{"$f":"配送情報書!$V145","v":""},"転記不要",null,null,null,{"$f":"配送情報書!T145","v":0},{"$f":"COUNTIF($A$3:A143,A143)","v":141}]
[{"$f":"配送情報書!A146","v":0},{"$f":"配送情報書!AB146","v":0},{"$f":"配送情報書!AA146","v":0},{"$f":"配送情報書!AC146","v":0},{"$f":"INDEX(医療機関マスタ!$A:$A,MATCH(F144,医療機関マスタ!$B:$B,0),1)","v":"AH0000001"},{"$f":"INDEX(医療機関マスタ!$B:$B,MATCH(\"*\"&MID(注文書!$D$17,IFERROR(FIND(\" \",注文書!$D$17),IFERROR(FIND(\"　\",注文書!$D$17),0))+1,10)&\"*\",医療機関マスタ!$C:$C,0),1)","v":"医療法人社団斗南堂　八王子クリニック"},{"$f":"配送情報書!X146","v":""},{"$f":"配送情報書!Z146","v":"00:00:00"},{"$f":"配送情報書!$V146","v":""},"転記不要",null,null,null,{"$f":"配送情報書!T146","v":0},{"$f":"COUNTIF($A$3:A144,A144)","v":142}]
[{"$f":"配送情報書!A147","v":0},{"$f":"配送情報書!AB147","v":0},{"$f":"配送情報書!AA147","v":0},{"$f":"配送情報書!AC147","v":0},{"$f":"INDEX(医療機関マスタ!$A:$A,MATCH(F145,医療機関マスタ!$B:$B,0),1)","v":"AH0000001"},{"$f":"INDEX(医療機関マスタ!$B:$B,MATCH(\"*\"&MID(注文書!$D$17,IFERROR(FIND(\" \",注文書!$D$17),IFERROR(FIND(\"　\",注文書!$D$17),0))+1,10)&\"*\",医療機関マスタ!$C:$C,0),1)","v":"医療法人社団斗南堂　八王子クリニック"},{"$f":"配送情報書!X147","v":""},{"$f":"配送情報書!Z147","v":"00:00:00"},{"$f":"配送情報書!$V147","v":""},"転記不要",null,null,null,{"$f":"配送情報書!T147","v":0},{"$f":"COUNTIF($A$3:A145,A145)","v":143}]
[{"$f":"配送情報書!A148","v":0},{"$f":"配送情報書!AB148","v":0},{"$f":"配送情報書!AA148","v":0},{"$f":"配送情報書!AC148","v":0},{"$f":"INDEX(医療機関マスタ!$A:$A,MATCH(F146,医療機関マスタ!$B:$B,0),1)","v":"AH0000001"},{"$f":"INDEX(医療機関マスタ!$B:$B,MATCH(\"*\"&MID(注文書!$D$17,IFERROR(FIND(\" \",注文書!$D$17),IFERROR(FIND(\"　\",注文書!$D$17),0))+1,10)&\"*\",医療機関マスタ!$C:$C,0),1)","v":"医療法人社団斗南堂　八王子クリニック"},{"$f":"配送情報書!X148","v":""},{"$f":"配送情報書!Z148","v":"00:00:00"},{"$f":"配送情報書!$V148","v":""},"転記不要",null,null,null,{"$f":"配送情報書!T148","v":0},{"$f":"COUNTIF($A$3:A146,A146)","v":144}]
[{"$f":"配送情報書!A149","v":0},{"$f":"配送情報書!AB149","v":0},{"$f":"配送情報書!AA149","v":0},{"$f":"配送情報書!AC149","v":0},{"$f":"INDEX(医療機関マスタ!$A:$A,MATCH(F147,医療機関マスタ!$B:$B,0),1)","v":"AH0000001"},{"$f":"INDEX(医療機関マスタ!$B:$B,MATCH(\"*\"&MID(注文書!$D$17,IFERROR(FIND(\" \",注文書!$D$17),IFERROR(FIND(\"　\",注文書!$D$17),0))+1,10)&\"*\",医療機関マスタ!$C:$C,0),1)","v":"医療法人社団斗南堂　八王子クリニック"},{"$f":"配送情報書!X149","v":""},{"$f":"配送情報書!Z149","v":"00:00:00"},{"$f":"配送情報書!$V149","v":""},"転記不要",null,null,null,{"$f":"配送情報書!T149","v":0},{"$f":"COUNTIF($A$3:A147,A147)","v":145}]
[{"$f":"配送情報書!A150","v":0},{"$f":"配送情報書!AB150","v":0},{"$f":"配送情報書!AA150","v":0},{"$f":"配送情報書!AC150","v":0},{"$f":"INDEX(医療機関マスタ!$A:$A,MATCH(F148,医療機関マスタ!$B:$B,0),1)","v":"AH0000001"},{"$f":"INDEX(医療機関マスタ!$B:$B,MATCH(\"*\"&MID(注文書!$D$17,IFERROR(FIND(\" \",注文書!$D$17),IFERROR(FIND(\"　\",注文書!$D$17),0))+1,10)&\"*\",医療機関マスタ!$C:$C,0),1)","v":"医療法人社団斗南堂　八王子クリニック"},{"$f":"配送情報書!X150","v":""},{"$f":"配送情報書!Z150","v":"00:00:00"},{"$f":"配送情報書!$V150","v":""},"転記不要",null,null,null,{"$f":"配送情報書!T150","v":0},{"$f":"COUNTIF($A$3:A148,A148)","v":146}]
[{"$f":"配送情報書!A151","v":0},{"$f":"配送情報書!AB151","v":0},{"$f":"配送情報書!AA151","v":0},{"$f":"配送情報書!AC151","v":0},{"$f":"INDEX(医療機関マスタ!$A:$A,MATCH(F149,医療機関マスタ!$B:$B,0),1)","v":"AH0000001"},{"$f":"INDEX(医療機関マスタ!$B:$B,MATCH(\"*\"&MID(注文書!$D$17,IFERROR(FIND(\" \",注文書!$D$17),IFERROR(FIND(\"　\",注文書!$D$17),0))+1,10)&\"*\",医療機関マスタ!$C:$C,0),1)","v":"医療法人社団斗南堂　八王子クリニック"},{"$f":"配送情報書!X151","v":""},{"$f":"配送情報書!Z151","v":"00:00:00"},{"$f":"配送情報書!$V151","v":""},"転記不要",null,null,null,{"$f":"配送情報書!T151","v":0},{"$f":"COUNTIF($A$3:A149,A149)","v":147}]
[{"$f":"配送情報書!A152","v":0},{"$f":"配送情報書!AB152","v":0},{"$f":"配送情報書!AA152","v":0},{"$f":"配送情報書!AC152","v":0},{"$f":"INDEX(医療機関マスタ!$A:$A,MATCH(F150,医療機関マスタ!$B:$B,0),1)","v":"AH0000001"},{"$f":"INDEX(医療機関マスタ!$B:$B,MATCH(\"*\"&MID(注文書!$D$17,IFERROR(FIND(\" \",注文書!$D$17),IFERROR(FIND(\"　\",注文書!$D$17),0))+1,10)&\"*\",医療機関マスタ!$C:$C,0),1)","v":"医療法人社団斗南堂　八王子クリニック"},{"$f":"配送情報書!X152","v":""},{"$f":"配送情報書!Z152","v":"00:00:00"},{"$f":"配送情報書!$V152","v":""},"転記不要",null,null,null,{"$f":"配送情報書!T152","v":0},{"$f":"COUNTIF($A$3:A150,A150)","v":148}]
[{"$f":"配送情報書!A153","v":0},{"$f":"配送情報書!AB153","v":0},{"$f":"配送情報書!AA153","v":0},{"$f":"配送情報書!AC153","v":0},{"$f":"INDEX(医療機関マスタ!$A:$A,MATCH(F151,医療機関マスタ!$B:$B,0),1)","v":"AH0000001"},{"$f":"INDEX(医療機関マスタ!$B:$B,MATCH(\"*\"&MID(注文書!$D$17,IFERROR(FIND(\" \",注文書!$D$17),IFERROR(FIND(\"　\",注文書!$D$17),0))+1,10)&\"*\",医療機関マスタ!$C:$C,0),1)","v":"医療法人社団斗南堂　八王子クリニック"},{"$f":"配送情報書!X153","v":""},{"$f":"配送情報書!Z153","v":"00:00:00"},{"$f":"配送情報書!$V153","v":""},"転記不要",null,null,null,{"$f":"配送情報書!T153","v":0},{"$f":"COUNTIF($A$3:A151,A151)","v":149}]
[{"$f":"配送情報書!A154","v":0},{"$f":"配送情報書!AB154","v":0},{"$f":"配送情報書!AA154","v":0},{"$f":"配送情報書!AC154","v":0},{"$f":"INDEX(医療機関マスタ!$A:$A,MATCH(F152,医療機関マスタ!$B:$B,0),1)","v":"AH0000001"},{"$f":"INDEX(医療機関マスタ!$B:$B,MATCH(\"*\"&MID(注文書!$D$17,IFERROR(FIND(\" \",注文書!$D$17),IFERROR(FIND(\"　\",注文書!$D$17),0))+1,10)&\"*\",医療機関マスタ!$C:$C,0),1)","v":"医療法人社団斗南堂　八王子クリニック"},{"$f":"配送情報書!X154","v":""},{"$f":"配送情報書!Z154","v":"00:00:00"},{"$f":"配送情報書!$V154","v":""},"転記不要",null,null,null,{"$f":"配送情報書!T154","v":0},{"$f":"COUNTIF($A$3:A152,A152)","v":150}]
[{"$f":"配送情報書!A155","v":0},{"$f":"配送情報書!AB155","v":0},{"$f":"配送情報書!AA155","v":0},{"$f":"配送情報書!AC155","v":0},{"$f":"INDEX(医療機関マスタ!$A:$A,MATCH(F153,医療機関マスタ!$B:$B,0),1)","v":"AH0000001"},{"$f":"INDEX(医療機関マスタ!$B:$B,MATCH(\"*\"&MID(注文書!$D$17,IFERROR(FIND(\" \",注文書!$D$17),IFERROR(FIND(\"　\",注文書!$D$17),0))+1,10)&\"*\",医療機関マスタ!$C:$C,0),1)","v":"医療法人社団斗南堂　八王子クリニック"},{"$f":"配送情報書!X155","v":""},{"$f":"配送情報書!Z155","v":"00:00:00"},{"$f":"配送情報書!$V155","v":""},"転記不要",null,null,null,{"$f":"配送情報書!T155","v":0},{"$f":"COUNTIF($A$3:A153,A153)","v":151}]
[{"$f":"配送情報書!A156","v":0},{"$f":"配送情報書!AB156","v":0},{"$f":"配送情報書!AA156","v":0},{"$f":"配送情報書!AC156","v":0},{"$f":"INDEX(医療機関マスタ!$A:$A,MATCH(F154,医療機関マスタ!$B:$B,0),1)","v":"AH0000001"},{"$f":"INDEX(医療機関マスタ!$B:$B,MATCH(\"*\"&MID(注文書!$D$17,IFERROR(FIND(\" \",注文書!$D$17),IFERROR(FIND(\"　\",注文書!$D$17),0))+1,10)&\"*\",医療機関マスタ!$C:$C,0),1)","v":"医療法人社団斗南堂　八王子クリニック"},{"$f":"配送情報書!X156","v":""},{"$f":"配送情報書!Z156","v":"00:00:00"},{"$f":"配送情報書!$V156","v":""},"転記不要",null,null,null,{"$f":"配送情報書!T156","v":0},{"$f":"COUNTIF($A$3:A154,A154)","v":152}]
[{"$f":"配送情報書!A157","v":0},{"$f":"配送情報書!AB157","v":0},{"$f":"配送情報書!AA157","v":0},{"$f":"配送情報書!AC157","v":0},{"$f":"INDEX(医療機関マスタ!$A:$A,MATCH(F155,医療機関マスタ!$B:$B,0),1)","v":"AH0000001"},{"$f":"INDEX(医療機関マスタ!$B:$B,MATCH(\"*\"&MID(注文書!$D$17,IFERROR(FIND(\" \",注文書!$D$17),IFERROR(FIND(\"　\",注文書!$D$17),0))+1,10)&\"*\",医療機関マスタ!$C:$C,0),1)","v":"医療法人社団斗南堂　八王子クリニック"},{"$f":"配送情報書!X157","v":""},{"$f":"配送情報書!Z157","v":"00:00:00"},{"$f":"配送情報書!$V157","v":""},"転記不要",null,null,null,{"$f":"配送情報書!T157","v":0},{"$f":"COUNTIF($A$3:A155,A155)","v":153}]
[{"$f":"配送情報書!A158","v":0},{"$f":"配送情報書!AB158","v":0},{"$f":"配送情報書!AA158","v":0},{"$f":"配送情報書!AC158","v":0},{"$f":"INDEX(医療機関マスタ!$A:$A,MATCH(F156,医療機関マスタ!$B:$B,0),1)","v":"AH0000001"},{"$f":"INDEX(医療機関マスタ!$B:$B,MATCH(\"*\"&MID(注文書!$D$17,IFERROR(FIND(\" \",注文書!$D$17),IFERROR(FIND(\"　\",注文書!$D$17),0))+1,10)&\"*\",医療機関マスタ!$C:$C,0),1)","v":"医療法人社団斗南堂　八王子クリニック"},{"$f":"配送情報書!X158","v":""},{"$f":"配送情報書!Z158","v":"00:00:00"},{"$f":"配送情報書!$V158","v":""},"転記不要",null,null,null,{"$f":"配送情報書!T158","v":0},{"$f":"COUNTIF($A$3:A156,A156)","v":154}]
[{"$f":"配送情報書!A159","v":0},{"$f":"配送情報書!AB159","v":0},{"$f":"配送情報書!AA159","v":0},{"$f":"配送情報書!AC159","v":0},{"$f":"INDEX(医療機関マスタ!$A:$A,MATCH(F157,医療機関マスタ!$B:$B,0),1)","v":"AH0000001"},{"$f":"INDEX(医療機関マスタ!$B:$B,MATCH(\"*\"&MID(注文書!$D$17,IFERROR(FIND(\" \",注文書!$D$17),IFERROR(FIND(\"　\",注文書!$D$17),0))+1,10)&\"*\",医療機関マスタ!$C:$C,0),1)","v":"医療法人社団斗南堂　八王子クリニック"},{"$f":"配送情報書!X159","v":""},{"$f":"配送情報書!Z159","v":"00:00:00"},{"$f":"配送情報書!$V159","v":""},"転記不要",null,null,null,{"$f":"配送情報書!T159","v":0},{"$f":"COUNTIF($A$3:A157,A157)","v":155}]
[{"$f":"配送情報書!A160","v":0},{"$f":"配送情報書!AB160","v":0},{"$f":"配送情報書!AA160","v":0},{"$f":"配送情報書!AC160","v":0},{"$f":"INDEX(医療機関マスタ!$A:$A,MATCH(F158,医療機関マスタ!$B:$B,0),1)","v":"AH0000001"},{"$f":"INDEX(医療機関マスタ!$B:$B,MATCH(\"*\"&MID(注文書!$D$17,IFERROR(FIND(\" \",注文書!$D$17),IFERROR(FIND(\"　\",注文書!$D$17),0))+1,10)&\"*\",医療機関マスタ!$C:$C,0),1)","v":"医療法人社団斗南堂　八王子クリニック"},{"$f":"配送情報書!X160","v":""},{"$f":"配送情報書!Z160","v":"00:00:00"},{"$f":"配送情報書!$V160","v":""},"転記不要",null,null,null,{"$f":"配送情報書!T160","v":0},{"$f":"COUNTIF($A$3:A158,A158)","v":156}]
[{"$f":"配送情報書!A161","v":0},{"$f":"配送情報書!AB161","v":0},{"$f":"配送情報書!AA161","v":0},{"$f":"配送情報書!AC161","v":0},{"$f":"INDEX(医療機関マスタ!$A:$A,MATCH(F159,医療機関マスタ!$B:$B,0),1)","v":"AH0000001"},{"$f":"INDEX(医療機関マスタ!$B:$B,MATCH(\"*\"&MID(注文書!$D$17,IFERROR(FIND(\" \",注文書!$D$17),IFERROR(FIND(\"　\",注文書!$D$17),0))+1,10)&\"*\",医療機関マスタ!$C:$C,0),1)","v":"医療法人社団斗南堂　八王子クリニック"},{"$f":"配送情報書!X161","v":""},{"$f":"配送情報書!Z161","v":"00:00:00"},{"$f":"配送情報書!$V161","v":""},"転記不要",null,null,null,{"$f":"配送情報書!T161","v":0},{"$f":"COUNTIF($A$3:A159,A159)","v":157}]
[{"$f":"配送情報書!A162","v":0},{"$f":"配送情報書!AB162","v":0},{"$f":"配送情報書!AA162","v":0},{"$f":"配送情報書!AC162","v":0},{"$f":"INDEX(医療機関マスタ!$A:$A,MATCH(F160,医療機関マスタ!$B:$B,0),1)","v":"AH0000001"},{"$f":"INDEX(医療機関マスタ!$B:$B,MATCH(\"*\"&MID(注文書!$D$17,IFERROR(FIND(\" \",注文書!$D$17),IFERROR(FIND(\"　\",注文書!$D$17),0))+1,10)&\"*\",医療機関マスタ!$C:$C,0),1)","v":"医療法人社団斗南堂　八王子クリニック"},{"$f":"配送情報書!X162","v":""},{"$f":"配送情報書!Z162","v":"00:00:00"},{"$f":"配送情報書!$V162","v":""},"転記不要",null,null,null,{"$f":"配送情報書!T162","v":0},{"$f":"COUNTIF($A$3:A160,A160)","v":158}]
[{"$f":"配送情報書!A163","v":0},{"$f":"配送情報書!AB163","v":0},{"$f":"配送情報書!AA163","v":0},{"$f":"配送情報書!AC163","v":0},{"$f":"INDEX(医療機関マスタ!$A:$A,MATCH(F161,医療機関マスタ!$B:$B,0),1)","v":"AH0000001"},{"$f":"INDEX(医療機関マスタ!$B:$B,MATCH(\"*\"&MID(注文書!$D$17,IFERROR(FIND(\" \",注文書!$D$17),IFERROR(FIND(\"　\",注文書!$D$17),0))+1,10)&\"*\",医療機関マスタ!$C:$C,0),1)","v":"医療法人社団斗南堂　八王子クリニック"},{"$f":"配送情報書!X163","v":""},{"$f":"配送情報書!Z163","v":"00:00:00"},{"$f":"配送情報書!$V163","v":""},"転記不要",null,null,null,{"$f":"配送情報書!T163","v":0},{"$f":"COUNTIF($A$3:A161,A161)","v":159}]
[{"$f":"配送情報書!A164","v":0},{"$f":"配送情報書!AB164","v":0},{"$f":"配送情報書!AA164","v":0},{"$f":"配送情報書!AC164","v":0},{"$f":"INDEX(医療機関マスタ!$A:$A,MATCH(F162,医療機関マスタ!$B:$B,0),1)","v":"AH0000001"},{"$f":"INDEX(医療機関マスタ!$B:$B,MATCH(\"*\"&MID(注文書!$D$17,IFERROR(FIND(\" \",注文書!$D$17),IFERROR(FIND(\"　\",注文書!$D$17),0))+1,10)&\"*\",医療機関マスタ!$C:$C,0),1)","v":"医療法人社団斗南堂　八王子クリニック"},{"$f":"配送情報書!X164","v":""},{"$f":"配送情報書!Z164","v":"00:00:00"},{"$f":"配送情報書!$V164","v":""},"転記不要",null,null,null,{"$f":"配送情報書!T164","v":0},{"$f":"COUNTIF($A$3:A162,A162)","v":160}]
[{"$f":"配送情報書!A165","v":0},{"$f":"配送情報書!AB165","v":0},{"$f":"配送情報書!AA165","v":0},{"$f":"配送情報書!AC165","v":0},{"$f":"INDEX(医療機関マスタ!$A:$A,MATCH(F163,医療機関マスタ!$B:$B,0),1)","v":"AH0000001"},{"$f":"INDEX(医療機関マスタ!$B:$B,MATCH(\"*\"&MID(注文書!$D$17,IFERROR(FIND(\" \",注文書!$D$17),IFERROR(FIND(\"　\",注文書!$D$17),0))+1,10)&\"*\",医療機関マスタ!$C:$C,0),1)","v":"医療法人社団斗南堂　八王子クリニック"},{"$f":"配送情報書!X165","v":""},{"$f":"配送情報書!Z165","v":"00:00:00"},{"$f":"配送情報書!$V165","v":""},"転記不要",null,null,null,{"$f":"配送情報書!T165","v":0},{"$f":"COUNTIF($A$3:A163,A163)","v":161}]
[{"$f":"配送情報書!A166","v":0},{"$f":"配送情報書!AB166","v":0},{"$f":"配送情報書!AA166","v":0},{"$f":"配送情報書!AC166","v":0},{"$f":"INDEX(医療機関マスタ!$A:$A,MATCH(F164,医療機関マスタ!$B:$B,0),1)","v":"AH0000001"},{"$f":"INDEX(医療機関マスタ!$B:$B,MATCH(\"*\"&MID(注文書!$D$17,IFERROR(FIND(\" \",注文書!$D$17),IFERROR(FIND(\"　\",注文書!$D$17),0))+1,10)&\"*\",医療機関マスタ!$C:$C,0),1)","v":"医療法人社団斗南堂　八王子クリニック"},{"$f":"配送情報書!X166","v":""},{"$f":"配送情報書!Z166","v":"00:00:00"},{"$f":"配送情報書!$V166","v":""},"転記不要",null,null,null,{"$f":"配送情報書!T166","v":0},{"$f":"COUNTIF($A$3:A164,A164)","v":162}]
[{"$f":"配送情報書!A167","v":0},{"$f":"配送情報書!AB167","v":0},{"$f":"配送情報書!AA167","v":0},{"$f":"配送情報書!AC167","v":0},{"$f":"INDEX(医療機関マスタ!$A:$A,MATCH(F165,医療機関マスタ!$B:$B,0),1)","v":"AH0000001"},{"$f":"INDEX(医療機関マスタ!$B:$B,MATCH(\"*\"&MID(注文書!$D$17,IFERROR(FIND(\" \",注文書!$D$17),IFERROR(FIND(\"　\",注文書!$D$17),0))+1,10)&\"*\",医療機関マスタ!$C:$C,0),1)","v":"医療法人社団斗南堂　八王子クリニック"},{"$f":"配送情報書!X167","v":""},{"$f":"配送情報書!Z167","v":"00:00:00"},{"$f":"配送情報書!$V167","v":""},"転記不要",null,null,null,{"$f":"配送情報書!T167","v":0},{"$f":"COUNTIF($A$3:A165,A165)","v":163}]
[{"$f":"配送情報書!A168","v":0},{"$f":"配送情報書!AB168","v":0},{"$f":"配送情報書!AA168","v":0},{"$f":"配送情報書!AC168","v":0},{"$f":"INDEX(医療機関マスタ!$A:$A,MATCH(F166,医療機関マスタ!$B:$B,0),1)","v":"AH0000001"},{"$f":"INDEX(医療機関マスタ!$B:$B,MATCH(\"*\"&MID(注文書!$D$17,IFERROR(FIND(\" \",注文書!$D$17),IFERROR(FIND(\"　\",注文書!$D$17),0))+1,10)&\"*\",医療機関マスタ!$C:$C,0),1)","v":"医療法人社団斗南堂　八王子クリニック"},{"$f":"配送情報書!X168","v":""},{"$f":"配送情報書!Z168","v":"00:00:00"},{"$f":"配送情報書!$V168","v":""},"転記不要",null,null,null,{"$f":"配送情報書!T168","v":0},{"$f":"COUNTIF($A$3:A166,A166)","v":164}]
[{"$f":"配送情報書!A169","v":0},{"$f":"配送情報書!AB169","v":0},{"$f":"配送情報書!AA169","v":0},{"$f":"配送情報書!AC169","v":0},{"$f":"INDEX(医療機関マスタ!$A:$A,MATCH(F167,医療機関マスタ!$B:$B,0),1)","v":"AH0000001"},{"$f":"INDEX(医療機関マスタ!$B:$B,MATCH(\"*\"&MID(注文書!$D$17,IFERROR(FIND(\" \",注文書!$D$17),IFERROR(FIND(\"　\",注文書!$D$17),0))+1,10)&\"*\",医療機関マスタ!$C:$C,0),1)","v":"医療法人社団斗南堂　八王子クリニック"},{"$f":"配送情報書!X169","v":""},{"$f":"配送情報書!Z169","v":"00:00:00"},{"$f":"配送情報書!$V169","v":""},"転記不要",null,null,null,{"$f":"配送情報書!T169","v":0},{"$f":"COUNTIF($A$3:A167,A167)","v":165}]
[{"$f":"配送情報書!A170","v":0},{"$f":"配送情報書!AB170","v":0},{"$f":"配送情報書!AA170","v":0},{"$f":"配送情報書!AC170","v":0},{"$f":"INDEX(医療機関マスタ!$A:$A,MATCH(F168,医療機関マスタ!$B:$B,0),1)","v":"AH0000001"},{"$f":"INDEX(医療機関マスタ!$B:$B,MATCH(\"*\"&MID(注文書!$D$17,IFERROR(FIND(\" \",注文書!$D$17),IFERROR(FIND(\"　\",注文書!$D$17),0))+1,10)&\"*\",医療機関マスタ!$C:$C,0),1)","v":"医療法人社団斗南堂　八王子クリニック"},{"$f":"配送情報書!X170","v":""},{"$f":"配送情報書!Z170","v":"00:00:00"},{"$f":"配送情報書!$V170","v":""},"転記不要",null,null,null,{"$f":"配送情報書!T170","v":0},{"$f":"COUNTIF($A$3:A168,A168)","v":166}]
[{"$f":"配送情報書!A171","v":0},{"$f":"配送情報書!AB171","v":0},{"$f":"配送情報書!AA171","v":0},{"$f":"配送情報書!AC171","v":0},{"$f":"INDEX(医療機関マスタ!$A:$A,MATCH(F169,医療機関マスタ!$B:$B,0),1)","v":"AH0000001"},{"$f":"INDEX(医療機関マスタ!$B:$B,MATCH(\"*\"&MID(注文書!$D$17,IFERROR(FIND(\" \",注文書!$D$17),IFERROR(FIND(\"　\",注文書!$D$17),0))+1,10)&\"*\",医療機関マスタ!$C:$C,0),1)","v":"医療法人社団斗南堂　八王子クリニック"},{"$f":"配送情報書!X171","v":""},{"$f":"配送情報書!Z171","v":"00:00:00"},{"$f":"配送情報書!$V171","v":""},"転記不要",null,null,null,{"$f":"配送情報書!T171","v":0},{"$f":"COUNTIF($A$3:A169,A169)","v":167}]
[{"$f":"配送情報書!A172","v":0},{"$f":"配送情報書!AB172","v":0},{"$f":"配送情報書!AA172","v":0},{"$f":"配送情報書!AC172","v":0},{"$f":"INDEX(医療機関マスタ!$A:$A,MATCH(F170,医療機関マスタ!$B:$B,0),1)","v":"AH0000001"},{"$f":"INDEX(医療機関マスタ!$B:$B,MATCH(\"*\"&MID(注文書!$D$17,IFERROR(FIND(\" \",注文書!$D$17),IFERROR(FIND(\"　\",注文書!$D$17),0))+1,10)&\"*\",医療機関マスタ!$C:$C,0),1)","v":"医療法人社団斗南堂　八王子クリニック"},{"$f":"配送情報書!X172","v":""},{"$f":"配送情報書!Z172","v":"00:00:00"},{"$f":"配送情報書!$V172","v":""},"転記不要",null,null,null,{"$f":"配送情報書!T172","v":0},{"$f":"COUNTIF($A$3:A170,A170)","v":168}]
[{"$f":"配送情報書!A173","v":0},{"$f":"配送情報書!AB173","v":0},{"$f":"配送情報書!AA173","v":0},{"$f":"配送情報書!AC173","v":0},{"$f":"INDEX(医療機関マスタ!$A:$A,MATCH(F171,医療機関マスタ!$B:$B,0),1)","v":"AH0000001"},{"$f":"INDEX(医療機関マスタ!$B:$B,MATCH(\"*\"&MID(注文書!$D$17,IFERROR(FIND(\" \",注文書!$D$17),IFERROR(FIND(\"　\",注文書!$D$17),0))+1,10)&\"*\",医療機関マスタ!$C:$C,0),1)","v":"医療法人社団斗南堂　八王子クリニック"},{"$f":"配送情報書!X173","v":""},{"$f":"配送情報書!Z173","v":"00:00:00"},{"$f":"配送情報書!$V173","v":""},"転記不要",null,null,null,{"$f":"配送情報書!T173","v":0},{"$f":"COUNTIF($A$3:A171,A171)","v":169}]
[{"$f":"配送情報書!A174","v":0},{"$f":"配送情報書!AB174","v":0},{"$f":"配送情報書!AA174","v":0},{"$f":"配送情報書!AC174","v":0},{"$f":"INDEX(医療機関マスタ!$A:$A,MATCH(F172,医療機関マスタ!$B:$B,0),1)","v":"AH0000001"},{"$f":"INDEX(医療機関マスタ!$B:$B,MATCH(\"*\"&MID(注文書!$D$17,IFERROR(FIND(\" \",注文書!$D$17),IFERROR(FIND(\"　\",注文書!$D$17),0))+1,10)&\"*\",医療機関マスタ!$C:$C,0),1)","v":"医療法人社団斗南堂　八王子クリニック"},{"$f":"配送情報書!X174","v":""},{"$f":"配送情報書!Z174","v":"00:00:00"},{"$f":"配送情報書!$V174","v":""},"転記不要",null,null,null,{"$f":"配送情報書!T174","v":0},{"$f":"COUNTIF($A$3:A172,A172)","v":170}]
[{"$f":"配送情報書!A175","v":0},{"$f":"配送情報書!AB175","v":0},{"$f":"配送情報書!AA175","v":0},{"$f":"配送情報書!AC175","v":0},{"$f":"INDEX(医療機関マスタ!$A:$A,MATCH(F173,医療機関マスタ!$B:$B,0),1)","v":"AH0000001"},{"$f":"INDEX(医療機関マスタ!$B:$B,MATCH(\"*\"&MID(注文書!$D$17,IFERROR(FIND(\" \",注文書!$D$17),IFERROR(FIND(\"　\",注文書!$D$17),0))+1,10)&\"*\",医療機関マスタ!$C:$C,0),1)","v":"医療法人社団斗南堂　八王子クリニック"},{"$f":"配送情報書!X175","v":""},{"$f":"配送情報書!Z175","v":"00:00:00"},{"$f":"配送情報書!$V175","v":""},"転記不要",null,null,null,{"$f":"配送情報書!T175","v":0},{"$f":"COUNTIF($A$3:A173,A173)","v":171}]
[{"$f":"配送情報書!A176","v":0},{"$f":"配送情報書!AB176","v":0},{"$f":"配送情報書!AA176","v":0},{"$f":"配送情報書!AC176","v":0},{"$f":"INDEX(医療機関マスタ!$A:$A,MATCH(F174,医療機関マスタ!$B:$B,0),1)","v":"AH0000001"},{"$f":"INDEX(医療機関マスタ!$B:$B,MATCH(\"*\"&MID(注文書!$D$17,IFERROR(FIND(\" \",注文書!$D$17),IFERROR(FIND(\"　\",注文書!$D$17),0))+1,10)&\"*\",医療機関マスタ!$C:$C,0),1)","v":"医療法人社団斗南堂　八王子クリニック"},{"$f":"配送情報書!X176","v":""},{"$f":"配送情報書!Z176","v":"00:00:00"},{"$f":"配送情報書!$V176","v":""},"転記不要",null,null,null,{"$f":"配送情報書!T176","v":0},{"$f":"COUNTIF($A$3:A174,A174)","v":172}]
[{"$f":"配送情報書!A177","v":0},{"$f":"配送情報書!AB177","v":0},{"$f":"配送情報書!AA177","v":0},{"$f":"配送情報書!AC177","v":0},{"$f":"INDEX(医療機関マスタ!$A:$A,MATCH(F175,医療機関マスタ!$B:$B,0),1)","v":"AH0000001"},{"$f":"INDEX(医療機関マスタ!$B:$B,MATCH(\"*\"&MID(注文書!$D$17,IFERROR(FIND(\" \",注文書!$D$17),IFERROR(FIND(\"　\",注文書!$D$17),0))+1,10)&\"*\",医療機関マスタ!$C:$C,0),1)","v":"医療法人社団斗南堂　八王子クリニック"},{"$f":"配送情報書!X177","v":""},{"$f":"配送情報書!Z177","v":"00:00:00"},{"$f":"配送情報書!$V177","v":""},"転記不要",null,null,null,{"$f":"配送情報書!T177","v":0},{"$f":"COUNTIF($A$3:A175,A175)","v":173}]
[{"$f":"配送情報書!A178","v":0},{"$f":"配送情報書!AB178","v":0},{"$f":"配送情報書!AA178","v":0},{"$f":"配送情報書!AC178","v":0},{"$f":"INDEX(医療機関マスタ!$A:$A,MATCH(F176,医療機関マスタ!$B:$B,0),1)","v":"AH0000001"},{"$f":"INDEX(医療機関マスタ!$B:$B,MATCH(\"*\"&MID(注文書!$D$17,IFERROR(FIND(\" \",注文書!$D$17),IFERROR(FIND(\"　\",注文書!$D$17),0))+1,10)&\"*\",医療機関マスタ!$C:$C,0),1)","v":"医療法人社団斗南堂　八王子クリニック"},{"$f":"配送情報書!X178","v":""},{"$f":"配送情報書!Z178","v":"00:00:00"},{"$f":"配送情報書!$V178","v":""},"転記不要",null,null,null,{"$f":"配送情報書!T178","v":0},{"$f":"COUNTIF($A$3:A176,A176)","v":174}]
[{"$f":"配送情報書!A179","v":0},{"$f":"配送情報書!AB179","v":0},{"$f":"配送情報書!AA179","v":0},{"$f":"配送情報書!AC179","v":0},{"$f":"INDEX(医療機関マスタ!$A:$A,MATCH(F177,医療機関マスタ!$B:$B,0),1)","v":"AH0000001"},{"$f":"INDEX(医療機関マスタ!$B:$B,MATCH(\"*\"&MID(注文書!$D$17,IFERROR(FIND(\" \",注文書!$D$17),IFERROR(FIND(\"　\",注文書!$D$17),0))+1,10)&\"*\",医療機関マスタ!$C:$C,0),1)","v":"医療法人社団斗南堂　八王子クリニック"},{"$f":"配送情報書!X179","v":""},{"$f":"配送情報書!Z179","v":"00:00:00"},{"$f":"配送情報書!$V179","v":""},"転記不要",null,null,null,{"$f":"配送情報書!T179","v":0},{"$f":"COUNTIF($A$3:A177,A177)","v":175}]
[{"$f":"配送情報書!A180","v":0},{"$f":"配送情報書!AB180","v":0},{"$f":"配送情報書!AA180","v":0},{"$f":"配送情報書!AC180","v":0},{"$f":"INDEX(医療機関マスタ!$A:$A,MATCH(F178,医療機関マスタ!$B:$B,0),1)","v":"AH0000001"},{"$f":"INDEX(医療機関マスタ!$B:$B,MATCH(\"*\"&MID(注文書!$D$17,IFERROR(FIND(\" \",注文書!$D$17),IFERROR(FIND(\"　\",注文書!$D$17),0))+1,10)&\"*\",医療機関マスタ!$C:$C,0),1)","v":"医療法人社団斗南堂　八王子クリニック"},{"$f":"配送情報書!X180","v":""},{"$f":"配送情報書!Z180","v":"00:00:00"},{"$f":"配送情報書!$V180","v":""},"転記不要",null,null,null,{"$f":"配送情報書!T180","v":0},{"$f":"COUNTIF($A$3:A178,A178)","v":176}]
[{"$f":"配送情報書!A181","v":0},{"$f":"配送情報書!AB181","v":0},{"$f":"配送情報書!AA181","v":0},{"$f":"配送情報書!AC181","v":0},{"$f":"INDEX(医療機関マスタ!$A:$A,MATCH(F179,医療機関マスタ!$B:$B,0),1)","v":"AH0000001"},{"$f":"INDEX(医療機関マスタ!$B:$B,MATCH(\"*\"&MID(注文書!$D$17,IFERROR(FIND(\" \",注文書!$D$17),IFERROR(FIND(\"　\",注文書!$D$17),0))+1,10)&\"*\",医療機関マスタ!$C:$C,0),1)","v":"医療法人社団斗南堂　八王子クリニック"},{"$f":"配送情報書!X181","v":""},{"$f":"配送情報書!Z181","v":"00:00:00"},{"$f":"配送情報書!$V181","v":""},"転記不要",null,null,null,{"$f":"配送情報書!T181","v":0},{"$f":"COUNTIF($A$3:A179,A179)","v":177}]
[{"$f":"配送情報書!A182","v":0},{"$f":"配送情報書!AB182","v":0},{"$f":"配送情報書!AA182","v":0},{"$f":"配送情報書!AC182","v":0},{"$f":"INDEX(医療機関マスタ!$A:$A,MATCH(F180,医療機関マスタ!$B:$B,0),1)","v":"AH0000001"},{"$f":"INDEX(医療機関マスタ!$B:$B,MATCH(\"*\"&MID(注文書!$D$17,IFERROR(FIND(\" \",注文書!$D$17),IFERROR(FIND(\"　\",注文書!$D$17),0))+1,10)&\"*\",医療機関マスタ!$C:$C,0),1)","v":"医療法人社団斗南堂　八王子クリニック"},{"$f":"配送情報書!X182","v":""},{"$f":"配送情報書!Z182","v":"00:00:00"},{"$f":"配送情報書!$V182","v":""},"転記不要",null,null,null,{"$f":"配送情報書!T182","v":0},{"$f":"COUNTIF($A$3:A180,A180)","v":178}]
[{"$f":"配送情報書!A183","v":0},{"$f":"配送情報書!AB183","v":0},{"$f":"配送情報書!AA183","v":0},{"$f":"配送情報書!AC183","v":0},{"$f":"INDEX(医療機関マスタ!$A:$A,MATCH(F181,医療機関マスタ!$B:$B,0),1)","v":"AH0000001"},{"$f":"INDEX(医療機関マスタ!$B:$B,MATCH(\"*\"&MID(注文書!$D$17,IFERROR(FIND(\" \",注文書!$D$17),IFERROR(FIND(\"　\",注文書!$D$17),0))+1,10)&\"*\",医療機関マスタ!$C:$C,0),1)","v":"医療法人社団斗南堂　八王子クリニック"},{"$f":"配送情報書!X183","v":""},{"$f":"配送情報書!Z183","v":"00:00:00"},{"$f":"配送情報書!$V183","v":""},"転記不要",null,null,null,{"$f":"配送情報書!T183","v":0},{"$f":"COUNTIF($A$3:A181,A181)","v":179}]
[{"$f":"配送情報書!A184","v":0},{"$f":"配送情報書!AB184","v":0},{"$f":"配送情報書!AA184","v":0},{"$f":"配送情報書!AC184","v":0},{"$f":"INDEX(医療機関マスタ!$A:$A,MATCH(F182,医療機関マスタ!$B:$B,0),1)","v":"AH0000001"},{"$f":"INDEX(医療機関マスタ!$B:$B,MATCH(\"*\"&MID(注文書!$D$17,IFERROR(FIND(\" \",注文書!$D$17),IFERROR(FIND(\"　\",注文書!$D$17),0))+1,10)&\"*\",医療機関マスタ!$C:$C,0),1)","v":"医療法人社団斗南堂　八王子クリニック"},{"$f":"配送情報書!X184","v":""},{"$f":"配送情報書!Z184","v":"00:00:00"},{"$f":"配送情報書!$V184","v":""},"転記不要",null,null,null,{"$f":"配送情報書!T184","v":0},{"$f":"COUNTIF($A$3:A182,A182)","v":180}]
[{"$f":"配送情報書!A185","v":0},{"$f":"配送情報書!AB185","v":0},{"$f":"配送情報書!AA185","v":0},{"$f":"配送情報書!AC185","v":0},{"$f":"INDEX(医療機関マスタ!$A:$A,MATCH(F183,医療機関マスタ!$B:$B,0),1)","v":"AH0000001"},{"$f":"INDEX(医療機関マスタ!$B:$B,MATCH(\"*\"&MID(注文書!$D$17,IFERROR(FIND(\" \",注文書!$D$17),IFERROR(FIND(\"　\",注文書!$D$17),0))+1,10)&\"*\",医療機関マスタ!$C:$C,0),1)","v":"医療法人社団斗南堂　八王子クリニック"},{"$f":"配送情報書!X185","v":""},{"$f":"配送情報書!Z185","v":"00:00:00"},{"$f":"配送情報書!$V185","v":""},"転記不要",null,null,null,{"$f":"配送情報書!T185","v":0},{"$f":"COUNTIF($A$3:A183,A183)","v":181}]
[{"$f":"配送情報書!A186","v":0},{"$f":"配送情報書!AB186","v":0},{"$f":"配送情報書!AA186","v":0},{"$f":"配送情報書!AC186","v":0},{"$f":"INDEX(医療機関マスタ!$A:$A,MATCH(F184,医療機関マスタ!$B:$B,0),1)","v":"AH0000001"},{"$f":"INDEX(医療機関マスタ!$B:$B,MATCH(\"*\"&MID(注文書!$D$17,IFERROR(FIND(\" \",注文書!$D$17),IFERROR(FIND(\"　\",注文書!$D$17),0))+1,10)&\"*\",医療機関マスタ!$C:$C,0),1)","v":"医療法人社団斗南堂　八王子クリニック"},{"$f":"配送情報書!X186","v":""},{"$f":"配送情報書!Z186","v":"00:00:00"},{"$f":"配送情報書!$V186","v":""},"転記不要",null,null,null,{"$f":"配送情報書!T186","v":0},{"$f":"COUNTIF($A$3:A184,A184)","v":182}]
[{"$f":"配送情報書!A187","v":0},{"$f":"配送情報書!AB187","v":0},{"$f":"配送情報書!AA187","v":0},{"$f":"配送情報書!AC187","v":0},{"$f":"INDEX(医療機関マスタ!$A:$A,MATCH(F185,医療機関マスタ!$B:$B,0),1)","v":"AH0000001"},{"$f":"INDEX(医療機関マスタ!$B:$B,MATCH(\"*\"&MID(注文書!$D$17,IFERROR(FIND(\" \",注文書!$D$17),IFERROR(FIND(\"　\",注文書!$D$17),0))+1,10)&\"*\",医療機関マスタ!$C:$C,0),1)","v":"医療法人社団斗南堂　八王子クリニック"},{"$f":"配送情報書!X187","v":""},{"$f":"配送情報書!Z187","v":"00:00:00"},{"$f":"配送情報書!$V187","v":""},"転記不要",null,null,null,{"$f":"配送情報書!T187","v":0},{"$f":"COUNTIF($A$3:A185,A185)","v":183}]
[{"$f":"配送情報書!A188","v":0},{"$f":"配送情報書!AB188","v":0},{"$f":"配送情報書!AA188","v":0},{"$f":"配送情報書!AC188","v":0},{"$f":"INDEX(医療機関マスタ!$A:$A,MATCH(F186,医療機関マスタ!$B:$B,0),1)","v":"AH0000001"},{"$f":"INDEX(医療機関マスタ!$B:$B,MATCH(\"*\"&MID(注文書!$D$17,IFERROR(FIND(\" \",注文書!$D$17),IFERROR(FIND(\"　\",注文書!$D$17),0))+1,10)&\"*\",医療機関マスタ!$C:$C,0),1)","v":"医療法人社団斗南堂　八王子クリニック"},{"$f":"配送情報書!X188","v":""},{"$f":"配送情報書!Z188","v":"00:00:00"},{"$f":"配送情報書!$V188","v":""},"転記不要",null,null,null,{"$f":"配送情報書!T188","v":0},{"$f":"COUNTIF($A$3:A186,A186)","v":184}]
[{"$f":"配送情報書!A189","v":0},{"$f":"配送情報書!AB189","v":0},{"$f":"配送情報書!AA189","v":0},{"$f":"配送情報書!AC189","v":0},{"$f":"INDEX(医療機関マスタ!$A:$A,MATCH(F187,医療機関マスタ!$B:$B,0),1)","v":"AH0000001"},{"$f":"INDEX(医療機関マスタ!$B:$B,MATCH(\"*\"&MID(注文書!$D$17,IFERROR(FIND(\" \",注文書!$D$17),IFERROR(FIND(\"　\",注文書!$D$17),0))+1,10)&\"*\",医療機関マスタ!$C:$C,0),1)","v":"医療法人社団斗南堂　八王子クリニック"},{"$f":"配送情報書!X189","v":""},{"$f":"配送情報書!Z189","v":"00:00:00"},{"$f":"配送情報書!$V189","v":""},"転記不要",null,null,null,{"$f":"配送情報書!T189","v":0},{"$f":"COUNTIF($A$3:A187,A187)","v":185}]
[{"$f":"配送情報書!A190","v":0},{"$f":"配送情報書!AB190","v":0},{"$f":"配送情報書!AA190","v":0},{"$f":"配送情報書!AC190","v":0},{"$f":"INDEX(医療機関マスタ!$A:$A,MATCH(F188,医療機関マスタ!$B:$B,0),1)","v":"AH0000001"},{"$f":"INDEX(医療機関マスタ!$B:$B,MATCH(\"*\"&MID(注文書!$D$17,IFERROR(FIND(\" \",注文書!$D$17),IFERROR(FIND(\"　\",注文書!$D$17),0))+1,10)&\"*\",医療機関マスタ!$C:$C,0),1)","v":"医療法人社団斗南堂　八王子クリニック"},{"$f":"配送情報書!X190","v":""},{"$f":"配送情報書!Z190","v":"00:00:00"},{"$f":"配送情報書!$V190","v":""},"転記不要",null,null,null,{"$f":"配送情報書!T190","v":0},{"$f":"COUNTIF($A$3:A188,A188)","v":186}]
[{"$f":"配送情報書!A191","v":0},{"$f":"配送情報書!AB191","v":0},{"$f":"配送情報書!AA191","v":0},{"$f":"配送情報書!AC191","v":0},{"$f":"INDEX(医療機関マスタ!$A:$A,MATCH(F189,医療機関マスタ!$B:$B,0),1)","v":"AH0000001"},{"$f":"INDEX(医療機関マスタ!$B:$B,MATCH(\"*\"&MID(注文書!$D$17,IFERROR(FIND(\" \",注文書!$D$17),IFERROR(FIND(\"　\",注文書!$D$17),0))+1,10)&\"*\",医療機関マスタ!$C:$C,0),1)","v":"医療法人社団斗南堂　八王子クリニック"},{"$f":"配送情報書!X191","v":""},{"$f":"配送情報書!Z191","v":"00:00:00"},{"$f":"配送情報書!$V191","v":""},"転記不要",null,null,null,{"$f":"配送情報書!T191","v":0},{"$f":"COUNTIF($A$3:A189,A189)","v":187}]
[{"$f":"配送情報書!A192","v":0},{"$f":"配送情報書!AB192","v":0},{"$f":"配送情報書!AA192","v":0},{"$f":"配送情報書!AC192","v":0},{"$f":"INDEX(医療機関マスタ!$A:$A,MATCH(F190,医療機関マスタ!$B:$B,0),1)","v":"AH0000001"},{"$f":"INDEX(医療機関マスタ!$B:$B,MATCH(\"*\"&MID(注文書!$D$17,IFERROR(FIND(\" \",注文書!$D$17),IFERROR(FIND(\"　\",注文書!$D$17),0))+1,10)&\"*\",医療機関マスタ!$C:$C,0),1)","v":"医療法人社団斗南堂　八王子クリニック"},{"$f":"配送情報書!X192","v":""},{"$f":"配送情報書!Z192","v":"00:00:00"},{"$f":"配送情報書!$V192","v":""},"転記不要",null,null,null,{"$f":"配送情報書!T192","v":0},{"$f":"COUNTIF($A$3:A190,A190)","v":188}]
[{"$f":"配送情報書!A193","v":0},{"$f":"配送情報書!AB193","v":0},{"$f":"配送情報書!AA193","v":0},{"$f":"配送情報書!AC193","v":0},{"$f":"INDEX(医療機関マスタ!$A:$A,MATCH(F191,医療機関マスタ!$B:$B,0),1)","v":"AH0000001"},{"$f":"INDEX(医療機関マスタ!$B:$B,MATCH(\"*\"&MID(注文書!$D$17,IFERROR(FIND(\" \",注文書!$D$17),IFERROR(FIND(\"　\",注文書!$D$17),0))+1,10)&\"*\",医療機関マスタ!$C:$C,0),1)","v":"医療法人社団斗南堂　八王子クリニック"},{"$f":"配送情報書!X193","v":""},{"$f":"配送情報書!Z193","v":"00:00:00"},{"$f":"配送情報書!$V193","v":""},"転記不要",null,null,null,{"$f":"配送情報書!T193","v":0},{"$f":"COUNTIF($A$3:A191,A191)","v":189}]
[{"$f":"配送情報書!A194","v":0},{"$f":"配送情報書!AB194","v":0},{"$f":"配送情報書!AA194","v":0},{"$f":"配送情報書!AC194","v":0},{"$f":"INDEX(医療機関マスタ!$A:$A,MATCH(F192,医療機関マスタ!$B:$B,0),1)","v":"AH0000001"},{"$f":"INDEX(医療機関マスタ!$B:$B,MATCH(\"*\"&MID(注文書!$D$17,IFERROR(FIND(\" \",注文書!$D$17),IFERROR(FIND(\"　\",注文書!$D$17),0))+1,10)&\"*\",医療機関マスタ!$C:$C,0),1)","v":"医療法人社団斗南堂　八王子クリニック"},{"$f":"配送情報書!X194","v":""},{"$f":"配送情報書!Z194","v":"00:00:00"},{"$f":"配送情報書!$V194","v":""},"転記不要",null,null,null,{"$f":"配送情報書!T194","v":0},{"$f":"COUNTIF($A$3:A192,A192)","v":190}]
[{"$f":"配送情報書!A195","v":0},{"$f":"配送情報書!AB195","v":0},{"$f":"配送情報書!AA195","v":0},{"$f":"配送情報書!AC195","v":0},{"$f":"INDEX(医療機関マスタ!$A:$A,MATCH(F193,医療機関マスタ!$B:$B,0),1)","v":"AH0000001"},{"$f":"INDEX(医療機関マスタ!$B:$B,MATCH(\"*\"&MID(注文書!$D$17,IFERROR(FIND(\" \",注文書!$D$17),IFERROR(FIND(\"　\",注文書!$D$17),0))+1,10)&\"*\",医療機関マスタ!$C:$C,0),1)","v":"医療法人社団斗南堂　八王子クリニック"},{"$f":"配送情報書!X195","v":""},{"$f":"配送情報書!Z195","v":"00:00:00"},{"$f":"配送情報書!$V195","v":""},"転記不要",null,null,null,{"$f":"配送情報書!T195","v":0},{"$f":"COUNTIF($A$3:A193,A193)","v":191}]
[{"$f":"配送情報書!A196","v":0},{"$f":"配送情報書!AB196","v":0},{"$f":"配送情報書!AA196","v":0},{"$f":"配送情報書!AC196","v":0},{"$f":"INDEX(医療機関マスタ!$A:$A,MATCH(F194,医療機関マスタ!$B:$B,0),1)","v":"AH0000001"},{"$f":"INDEX(医療機関マスタ!$B:$B,MATCH(\"*\"&MID(注文書!$D$17,IFERROR(FIND(\" \",注文書!$D$17),IFERROR(FIND(\"　\",注文書!$D$17),0))+1,10)&\"*\",医療機関マスタ!$C:$C,0),1)","v":"医療法人社団斗南堂　八王子クリニック"},{"$f":"配送情報書!X196","v":""},{"$f":"配送情報書!Z196","v":"00:00:00"},{"$f":"配送情報書!$V196","v":""},"転記不要",null,null,null,{"$f":"配送情報書!T196","v":0},{"$f":"COUNTIF($A$3:A194,A194)","v":192}]
[{"$f":"配送情報書!A197","v":0},{"$f":"配送情報書!AB197","v":0},{"$f":"配送情報書!AA197","v":0},{"$f":"配送情報書!AC197","v":0},{"$f":"INDEX(医療機関マスタ!$A:$A,MATCH(F195,医療機関マスタ!$B:$B,0),1)","v":"AH0000001"},{"$f":"INDEX(医療機関マスタ!$B:$B,MATCH(\"*\"&MID(注文書!$D$17,IFERROR(FIND(\" \",注文書!$D$17),IFERROR(FIND(\"　\",注文書!$D$17),0))+1,10)&\"*\",医療機関マスタ!$C:$C,0),1)","v":"医療法人社団斗南堂　八王子クリニック"},{"$f":"配送情報書!X197","v":""},{"$f":"配送情報書!Z197","v":"00:00:00"},{"$f":"配送情報書!$V197","v":""},"転記不要",null,null,null,{"$f":"配送情報書!T197","v":0},{"$f":"COUNTIF($A$3:A195,A195)","v":193}]
[{"$f":"配送情報書!A198","v":0},{"$f":"配送情報書!AB198","v":0},{"$f":"配送情報書!AA198","v":0},{"$f":"配送情報書!AC198","v":0},{"$f":"INDEX(医療機関マスタ!$A:$A,MATCH(F196,医療機関マスタ!$B:$B,0),1)","v":"AH0000001"},{"$f":"INDEX(医療機関マスタ!$B:$B,MATCH(\"*\"&MID(注文書!$D$17,IFERROR(FIND(\" \",注文書!$D$17),IFERROR(FIND(\"　\",注文書!$D$17),0))+1,10)&\"*\",医療機関マスタ!$C:$C,0),1)","v":"医療法人社団斗南堂　八王子クリニック"},{"$f":"配送情報書!X198","v":""},{"$f":"配送情報書!Z198","v":"00:00:00"},{"$f":"配送情報書!$V198","v":""},{"$f":"IF(AND(N196>0,O196=1),SUMIFS($N:$N,$A:$A,A196),\"転記不要\")","v":"転記不要"},null,null,null,{"$f":"配送情報書!T198","v":0},{"$f":"COUNTIF($A$3:A196,A196)","v":194}]
[{"$f":"配送情報書!A199","v":0},{"$f":"配送情報書!AB199","v":0},{"$f":"配送情報書!AA199","v":0},{"$f":"配送情報書!AC199","v":0},{"$f":"INDEX(医療機関マスタ!$A:$A,MATCH(F197,医療機関マスタ!$B:$B,0),1)","v":"AH0000001"},{"$f":"INDEX(医療機関マスタ!$B:$B,MATCH(\"*\"&MID(注文書!$D$17,IFERROR(FIND(\" \",注文書!$D$17),IFERROR(FIND(\"　\",注文書!$D$17),0))+1,10)&\"*\",医療機関マスタ!$C:$C,0),1)","v":"医療法人社団斗南堂　八王子クリニック"},{"$f":"配送情報書!X199","v":""},{"$f":"配送情報書!Z199","v":"00:00:00"},{"$f":"配送情報書!$V199","v":""},"転記不要",null,null,null,{"$f":"配送情報書!T199","v":0},{"$f":"COUNTIF($A$3:A197,A197)","v":195}]
[{"$f":"配送情報書!A200","v":0},{"$f":"配送情報書!AB200","v":0},{"$f":"配送情報書!AA200","v":0},{"$f":"配送情報書!AC200","v":0},{"$f":"INDEX(医療機関マスタ!$A:$A,MATCH(F198,医療機関マスタ!$B:$B,0),1)","v":"AH0000001"},{"$f":"INDEX(医療機関マスタ!$B:$B,MATCH(\"*\"&MID(注文書!$D$17,IFERROR(FIND(\" \",注文書!$D$17),IFERROR(FIND(\"　\",注文書!$D$17),0))+1,10)&\"*\",医療機関マスタ!$C:$C,0),1)","v":"医療法人社団斗南堂　八王子クリニック"},{"$f":"配送情報書!X200","v":""},{"$f":"配送情報書!Z200","v":"00:00:00"},{"$f":"配送情報書!$V200","v":""},"転記不要",null,null,null,{"$f":"配送情報書!T200","v":0},{"$f":"COUNTIF($A$3:A198,A198)","v":196}]
[{"$f":"配送情報書!A201","v":0},{"$f":"配送情報書!AB201","v":0},{"$f":"配送情報書!AA201","v":0},{"$f":"配送情報書!AC201","v":0},{"$f":"INDEX(医療機関マスタ!$A:$A,MATCH(F199,医療機関マスタ!$B:$B,0),1)","v":"AH0000001"},{"$f":"INDEX(医療機関マスタ!$B:$B,MATCH(\"*\"&MID(注文書!$D$17,IFERROR(FIND(\" \",注文書!$D$17),IFERROR(FIND(\"　\",注文書!$D$17),0))+1,10)&\"*\",医療機関マスタ!$C:$C,0),1)","v":"医療法人社団斗南堂　八王子クリニック"},{"$f":"配送情報書!X201","v":""},{"$f":"配送情報書!Z201","v":"00:00:00"},{"$f":"配送情報書!$V201","v":""},"転記不要",null,null,null,{"$f":"配送情報書!T201","v":0},{"$f":"COUNTIF($A$3:A199,A199)","v":197}]
[{"$f":"配送情報書!A202","v":0},{"$f":"配送情報書!AB202","v":0},{"$f":"配送情報書!AA202","v":0},{"$f":"配送情報書!AC202","v":0},{"$f":"INDEX(医療機関マスタ!$A:$A,MATCH(F200,医療機関マスタ!$B:$B,0),1)","v":"AH0000001"},{"$f":"INDEX(医療機関マスタ!$B:$B,MATCH(\"*\"&MID(注文書!$D$17,IFERROR(FIND(\" \",注文書!$D$17),IFERROR(FIND(\"　\",注文書!$D$17),0))+1,10)&\"*\",医療機関マスタ!$C:$C,0),1)","v":"医療法人社団斗南堂　八王子クリニック"},{"$f":"配送情報書!X202","v":""},{"$f":"配送情報書!Z202","v":"00:00:00"},{"$f":"配送情報書!$V202","v":""},"転記不要",null,null,null,{"$f":"配送情報書!T202","v":0},{"$f":"COUNTIF($A$3:A200,A200)","v":198}]
[{"$f":"配送情報書!A203","v":0},{"$f":"配送情報書!AB203","v":0},{"$f":"配送情報書!AA203","v":0},{"$f":"配送情報書!AC203","v":0},{"$f":"INDEX(医療機関マスタ!$A:$A,MATCH(F201,医療機関マスタ!$B:$B,0),1)","v":"AH0000001"},{"$f":"INDEX(医療機関マスタ!$B:$B,MATCH(\"*\"&MID(注文書!$D$17,IFERROR(FIND(\" \",注文書!$D$17),IFERROR(FIND(\"　\",注文書!$D$17),0))+1,10)&\"*\",医療機関マスタ!$C:$C,0),1)","v":"医療法人社団斗南堂　八王子クリニック"},{"$f":"配送情報書!X203","v":""},{"$f":"配送情報書!Z203","v":"00:00:00"},{"$f":"配送情報書!$V203","v":""},"転記不要",null,null,null,{"$f":"配送情報書!T203","v":0},{"$f":"COUNTIF($A$3:A201,A201)","v":199}]
[{"$f":"配送情報書!A204","v":0},{"$f":"配送情報書!AB204","v":0},{"$f":"配送情報書!AA204","v":0},{"$f":"配送情報書!AC204","v":0},{"$f":"INDEX(医療機関マスタ!$A:$A,MATCH(F202,医療機関マスタ!$B:$B,0),1)","v":"AH0000001"},{"$f":"INDEX(医療機関マスタ!$B:$B,MATCH(\"*\"&MID(注文書!$D$17,IFERROR(FIND(\" \",注文書!$D$17),IFERROR(FIND(\"　\",注文書!$D$17),0))+1,10)&\"*\",医療機関マスタ!$C:$C,0),1)","v":"医療法人社団斗南堂　八王子クリニック"},{"$f":"配送情報書!X204","v":""},{"$f":"配送情報書!Z204","v":"00:00:00"},{"$f":"配送情報書!$V204","v":""},"転記不要",null,null,null,{"$f":"配送情報書!T204","v":0},{"$f":"COUNTIF($A$3:A202,A202)","v":200}]
[{"$f":"配送情報書!A205","v":0},{"$f":"配送情報書!AB205","v":0},{"$f":"配送情報書!AA205","v":0},{"$f":"配送情報書!AC205","v":0},{"$f":"INDEX(医療機関マスタ!$A:$A,MATCH(F203,医療機関マスタ!$B:$B,0),1)","v":"AH0000001"},{"$f":"INDEX(医療機関マスタ!$B:$B,MATCH(\"*\"&MID(注文書!$D$17,IFERROR(FIND(\" \",注文書!$D$17),IFERROR(FIND(\"　\",注文書!$D$17),0))+1,10)&\"*\",医療機関マスタ!$C:$C,0),1)","v":"医療法人社団斗南堂　八王子クリニック"},{"$f":"配送情報書!X205","v":""},{"$f":"配送情報書!Z205","v":"00:00:00"},{"$f":"配送情報書!$V205","v":""},"転記不要",null,null,null,{"$f":"配送情報書!T205","v":0},{"$f":"COUNTIF($A$3:A203,A203)","v":201}]
[{"$f":"配送情報書!A206","v":0},{"$f":"配送情報書!AB206","v":0},{"$f":"配送情報書!AA206","v":0},{"$f":"配送情報書!AC206","v":0},{"$f":"INDEX(医療機関マスタ!$A:$A,MATCH(F204,医療機関マスタ!$B:$B,0),1)","v":"AH0000001"},{"$f":"INDEX(医療機関マスタ!$B:$B,MATCH(\"*\"&MID(注文書!$D$17,IFERROR(FIND(\" \",注文書!$D$17),IFERROR(FIND(\"　\",注文書!$D$17),0))+1,10)&\"*\",医療機関マスタ!$C:$C,0),1)","v":"医療法人社団斗南堂　八王子クリニック"},{"$f":"配送情報書!X206","v":""},{"$f":"配送情報書!Z206","v":"00:00:00"},{"$f":"配送情報書!$V206","v":""},"転記不要",null,null,null,{"$f":"配送情報書!T206","v":0},{"$f":"COUNTIF($A$3:A204,A204)","v":202}]
[{"$f":"配送情報書!A207","v":0},{"$f":"配送情報書!AB207","v":0},{"$f":"配送情報書!AA207","v":0},{"$f":"配送情報書!AC207","v":0},{"$f":"INDEX(医療機関マスタ!$A:$A,MATCH(F205,医療機関マスタ!$B:$B,0),1)","v":"AH0000001"},{"$f":"INDEX(医療機関マスタ!$B:$B,MATCH(\"*\"&MID(注文書!$D$17,IFERROR(FIND(\" \",注文書!$D$17),IFERROR(FIND(\"　\",注文書!$D$17),0))+1,10)&\"*\",医療機関マスタ!$C:$C,0),1)","v":"医療法人社団斗南堂　八王子クリニック"},{"$f":"配送情報書!X207","v":""},{"$f":"配送情報書!Z207","v":"00:00:00"},{"$f":"配送情報書!$V207","v":""},"転記不要",null,null,null,{"$f":"配送情報書!T207","v":0},{"$f":"COUNTIF($A$3:A205,A205)","v":203}]
[{"$f":"配送情報書!A208","v":0},{"$f":"配送情報書!AB208","v":0},{"$f":"配送情報書!AA208","v":0},{"$f":"配送情報書!AC208","v":0},{"$f":"INDEX(医療機関マスタ!$A:$A,MATCH(F206,医療機関マスタ!$B:$B,0),1)","v":"AH0000001"},{"$f":"INDEX(医療機関マスタ!$B:$B,MATCH(\"*\"&MID(注文書!$D$17,IFERROR(FIND(\" \",注文書!$D$17),IFERROR(FIND(\"　\",注文書!$D$17),0))+1,10)&\"*\",医療機関マスタ!$C:$C,0),1)","v":"医療法人社団斗南堂　八王子クリニック"},{"$f":"配送情報書!X208","v":""},{"$f":"配送情報書!Z208","v":"00:00:00"},{"$f":"配送情報書!$V208","v":""},"転記不要",null,null,null,{"$f":"配送情報書!T208","v":0},{"$f":"COUNTIF($A$3:A206,A206)","v":204}]
[{"$f":"配送情報書!A209","v":0},{"$f":"配送情報書!AB209","v":0},{"$f":"配送情報書!AA209","v":0},{"$f":"配送情報書!AC209","v":0},{"$f":"INDEX(医療機関マスタ!$A:$A,MATCH(F207,医療機関マスタ!$B:$B,0),1)","v":"AH0000001"},{"$f":"INDEX(医療機関マスタ!$B:$B,MATCH(\"*\"&MID(注文書!$D$17,IFERROR(FIND(\" \",注文書!$D$17),IFERROR(FIND(\"　\",注文書!$D$17),0))+1,10)&\"*\",医療機関マスタ!$C:$C,0),1)","v":"医療法人社団斗南堂　八王子クリニック"},{"$f":"配送情報書!X209","v":""},{"$f":"配送情報書!Z209","v":"00:00:00"},{"$f":"配送情報書!$V209","v":""},"転記不要",null,null,null,{"$f":"配送情報書!T209","v":0},{"$f":"COUNTIF($A$3:A207,A207)","v":205}]
[{"$f":"配送情報書!A210","v":0},{"$f":"配送情報書!AB210","v":0},{"$f":"配送情報書!AA210","v":0},{"$f":"配送情報書!AC210","v":0},{"$f":"INDEX(医療機関マスタ!$A:$A,MATCH(F208,医療機関マスタ!$B:$B,0),1)","v":"AH0000001"},{"$f":"INDEX(医療機関マスタ!$B:$B,MATCH(\"*\"&MID(注文書!$D$17,IFERROR(FIND(\" \",注文書!$D$17),IFERROR(FIND(\"　\",注文書!$D$17),0))+1,10)&\"*\",医療機関マスタ!$C:$C,0),1)","v":"医療法人社団斗南堂　八王子クリニック"},{"$f":"配送情報書!X210","v":""},{"$f":"配送情報書!Z210","v":"00:00:00"},{"$f":"配送情報書!$V210","v":""},"転記不要",null,null,null,{"$f":"配送情報書!T210","v":0},{"$f":"COUNTIF($A$3:A208,A208)","v":206}]
[{"$f":"配送情報書!A211","v":0},{"$f":"配送情報書!AB211","v":0},{"$f":"配送情報書!AA211","v":0},{"$f":"配送情報書!AC211","v":0},{"$f":"INDEX(医療機関マスタ!$A:$A,MATCH(F209,医療機関マスタ!$B:$B,0),1)","v":"AH0000001"},{"$f":"INDEX(医療機関マスタ!$B:$B,MATCH(\"*\"&MID(注文書!$D$17,IFERROR(FIND(\" \",注文書!$D$17),IFERROR(FIND(\"　\",注文書!$D$17),0))+1,10)&\"*\",医療機関マスタ!$C:$C,0),1)","v":"医療法人社団斗南堂　八王子クリニック"},{"$f":"配送情報書!X211","v":""},{"$f":"配送情報書!Z211","v":"00:00:00"},{"$f":"配送情報書!$V211","v":""},"転記不要",null,null,null,{"$f":"配送情報書!T211","v":0},{"$f":"COUNTIF($A$3:A209,A209)","v":207}]
[{"$f":"配送情報書!A212","v":0},{"$f":"配送情報書!AB212","v":0},{"$f":"配送情報書!AA212","v":0},{"$f":"配送情報書!AC212","v":0},{"$f":"INDEX(医療機関マスタ!$A:$A,MATCH(F210,医療機関マスタ!$B:$B,0),1)","v":"AH0000001"},{"$f":"INDEX(医療機関マスタ!$B:$B,MATCH(\"*\"&MID(注文書!$D$17,IFERROR(FIND(\" \",注文書!$D$17),IFERROR(FIND(\"　\",注文書!$D$17),0))+1,10)&\"*\",医療機関マスタ!$C:$C,0),1)","v":"医療法人社団斗南堂　八王子クリニック"},{"$f":"配送情報書!X212","v":""},{"$f":"配送情報書!Z212","v":"00:00:00"},{"$f":"配送情報書!$V212","v":""},"転記不要",null,null,null,{"$f":"配送情報書!T212","v":0},{"$f":"COUNTIF($A$3:A210,A210)","v":208}]
[{"$f":"配送情報書!A213","v":0},{"$f":"配送情報書!AB213","v":0},{"$f":"配送情報書!AA213","v":0},{"$f":"配送情報書!AC213","v":0},{"$f":"INDEX(医療機関マスタ!$A:$A,MATCH(F211,医療機関マスタ!$B:$B,0),1)","v":"AH0000001"},{"$f":"INDEX(医療機関マスタ!$B:$B,MATCH(\"*\"&MID(注文書!$D$17,IFERROR(FIND(\" \",注文書!$D$17),IFERROR(FIND(\"　\",注文書!$D$17),0))+1,10)&\"*\",医療機関マスタ!$C:$C,0),1)","v":"医療法人社団斗南堂　八王子クリニック"},{"$f":"配送情報書!X213","v":""},{"$f":"配送情報書!Z213","v":"00:00:00"},{"$f":"配送情報書!$V213","v":""},"転記不要",null,null,null,{"$f":"配送情報書!T213","v":0},{"$f":"COUNTIF($A$3:A211,A211)","v":209}]
[{"$f":"配送情報書!A214","v":0},{"$f":"配送情報書!AB214","v":0},{"$f":"配送情報書!AA214","v":0},{"$f":"配送情報書!AC214","v":0},{"$f":"INDEX(医療機関マスタ!$A:$A,MATCH(F212,医療機関マスタ!$B:$B,0),1)","v":"AH0000001"},{"$f":"INDEX(医療機関マスタ!$B:$B,MATCH(\"*\"&MID(注文書!$D$17,IFERROR(FIND(\" \",注文書!$D$17),IFERROR(FIND(\"　\",注文書!$D$17),0))+1,10)&\"*\",医療機関マスタ!$C:$C,0),1)","v":"医療法人社団斗南堂　八王子クリニック"},{"$f":"配送情報書!X214","v":""},{"$f":"配送情報書!Z214","v":"00:00:00"},{"$f":"配送情報書!$V214","v":""},"転記不要",null,null,null,{"$f":"配送情報書!T214","v":0},{"$f":"COUNTIF($A$3:A212,A212)","v":210}]
[{"$f":"配送情報書!A215","v":0},{"$f":"配送情報書!AB215","v":0},{"$f":"配送情報書!AA215","v":0},{"$f":"配送情報書!AC215","v":0},{"$f":"INDEX(医療機関マスタ!$A:$A,MATCH(F213,医療機関マスタ!$B:$B,0),1)","v":"AH0000001"},{"$f":"INDEX(医療機関マスタ!$B:$B,MATCH(\"*\"&MID(注文書!$D$17,IFERROR(FIND(\" \",注文書!$D$17),IFERROR(FIND(\"　\",注文書!$D$17),0))+1,10)&\"*\",医療機関マスタ!$C:$C,0),1)","v":"医療法人社団斗南堂　八王子クリニック"},{"$f":"配送情報書!X215","v":""},{"$f":"配送情報書!Z215","v":"00:00:00"},{"$f":"配送情報書!$V215","v":""},"転記不要",null,null,null,{"$f":"配送情報書!T215","v":0},{"$f":"COUNTIF($A$3:A213,A213)","v":211}]
[{"$f":"配送情報書!A216","v":0},{"$f":"配送情報書!AB216","v":0},{"$f":"配送情報書!AA216","v":0},{"$f":"配送情報書!AC216","v":0},{"$f":"INDEX(医療機関マスタ!$A:$A,MATCH(F214,医療機関マスタ!$B:$B,0),1)","v":"AH0000001"},{"$f":"INDEX(医療機関マスタ!$B:$B,MATCH(\"*\"&MID(注文書!$D$17,IFERROR(FIND(\" \",注文書!$D$17),IFERROR(FIND(\"　\",注文書!$D$17),0))+1,10)&\"*\",医療機関マスタ!$C:$C,0),1)","v":"医療法人社団斗南堂　八王子クリニック"},{"$f":"配送情報書!X216","v":""},{"$f":"配送情報書!Z216","v":"00:00:00"},{"$f":"配送情報書!$V216","v":""},"転記不要",null,null,null,{"$f":"配送情報書!T216","v":0},{"$f":"COUNTIF($A$3:A214,A214)","v":212}]
[{"$f":"配送情報書!A217","v":0},{"$f":"配送情報書!AB217","v":0},{"$f":"配送情報書!AA217","v":0},{"$f":"配送情報書!AC217","v":0},{"$f":"INDEX(医療機関マスタ!$A:$A,MATCH(F215,医療機関マスタ!$B:$B,0),1)","v":"AH0000001"},{"$f":"INDEX(医療機関マスタ!$B:$B,MATCH(\"*\"&MID(注文書!$D$17,IFERROR(FIND(\" \",注文書!$D$17),IFERROR(FIND(\"　\",注文書!$D$17),0))+1,10)&\"*\",医療機関マスタ!$C:$C,0),1)","v":"医療法人社団斗南堂　八王子クリニック"},{"$f":"配送情報書!X217","v":""},{"$f":"配送情報書!Z217","v":"00:00:00"},{"$f":"配送情報書!$V217","v":""},"転記不要",null,null,null,{"$f":"配送情報書!T217","v":0},{"$f":"COUNTIF($A$3:A215,A215)","v":213}]
[{"$f":"配送情報書!A218","v":0},{"$f":"配送情報書!AB218","v":0},{"$f":"配送情報書!AA218","v":0},{"$f":"配送情報書!AC218","v":0},{"$f":"INDEX(医療機関マスタ!$A:$A,MATCH(F216,医療機関マスタ!$B:$B,0),1)","v":"AH0000001"},{"$f":"INDEX(医療機関マスタ!$B:$B,MATCH(\"*\"&MID(注文書!$D$17,IFERROR(FIND(\" \",注文書!$D$17),IFERROR(FIND(\"　\",注文書!$D$17),0))+1,10)&\"*\",医療機関マスタ!$C:$C,0),1)","v":"医療法人社団斗南堂　八王子クリニック"},{"$f":"配送情報書!X218","v":""},{"$f":"配送情報書!Z218","v":"00:00:00"},{"$f":"配送情報書!$V218","v":""},"転記不要",null,null,null,{"$f":"配送情報書!T218","v":0},{"$f":"COUNTIF($A$3:A216,A216)","v":214}]
[{"$f":"配送情報書!A219","v":0},{"$f":"配送情報書!AB219","v":0},{"$f":"配送情報書!AA219","v":0},{"$f":"配送情報書!AC219","v":0},{"$f":"INDEX(医療機関マスタ!$A:$A,MATCH(F217,医療機関マスタ!$B:$B,0),1)","v":"AH0000001"},{"$f":"INDEX(医療機関マスタ!$B:$B,MATCH(\"*\"&MID(注文書!$D$17,IFERROR(FIND(\" \",注文書!$D$17),IFERROR(FIND(\"　\",注文書!$D$17),0))+1,10)&\"*\",医療機関マスタ!$C:$C,0),1)","v":"医療法人社団斗南堂　八王子クリニック"},{"$f":"配送情報書!X219","v":""},{"$f":"配送情報書!Z219","v":"00:00:00"},{"$f":"配送情報書!$V219","v":""},"転記不要",null,null,null,{"$f":"配送情報書!T219","v":0},{"$f":"COUNTIF($A$3:A217,A217)","v":215}]
[{"$f":"配送情報書!A220","v":0},{"$f":"配送情報書!AB220","v":0},{"$f":"配送情報書!AA220","v":0},{"$f":"配送情報書!AC220","v":0},{"$f":"INDEX(医療機関マスタ!$A:$A,MATCH(F218,医療機関マスタ!$B:$B,0),1)","v":"AH0000001"},{"$f":"INDEX(医療機関マスタ!$B:$B,MATCH(\"*\"&MID(注文書!$D$17,IFERROR(FIND(\" \",注文書!$D$17),IFERROR(FIND(\"　\",注文書!$D$17),0))+1,10)&\"*\",医療機関マスタ!$C:$C,0),1)","v":"医療法人社団斗南堂　八王子クリニック"},{"$f":"配送情報書!X220","v":""},{"$f":"配送情報書!Z220","v":"00:00:00"},{"$f":"配送情報書!$V220","v":""},"転記不要",null,null,null,{"$f":"配送情報書!T220","v":0},{"$f":"COUNTIF($A$3:A218,A218)","v":216}]
[{"$f":"配送情報書!A221","v":0},{"$f":"配送情報書!AB221","v":0},{"$f":"配送情報書!AA221","v":0},{"$f":"配送情報書!AC221","v":0},{"$f":"INDEX(医療機関マスタ!$A:$A,MATCH(F219,医療機関マスタ!$B:$B,0),1)","v":"AH0000001"},{"$f":"INDEX(医療機関マスタ!$B:$B,MATCH(\"*\"&MID(注文書!$D$17,IFERROR(FIND(\" \",注文書!$D$17),IFERROR(FIND(\"　\",注文書!$D$17),0))+1,10)&\"*\",医療機関マスタ!$C:$C,0),1)","v":"医療法人社団斗南堂　八王子クリニック"},{"$f":"配送情報書!X221","v":""},{"$f":"配送情報書!Z221","v":"00:00:00"},{"$f":"配送情報書!$V221","v":""},"転記不要",null,null,null,{"$f":"配送情報書!T221","v":0},{"$f":"COUNTIF($A$3:A219,A219)","v":217}]
[{"$f":"配送情報書!A222","v":0},{"$f":"配送情報書!AB222","v":0},{"$f":"配送情報書!AA222","v":0},{"$f":"配送情報書!AC222","v":0},{"$f":"INDEX(医療機関マスタ!$A:$A,MATCH(F220,医療機関マスタ!$B:$B,0),1)","v":"AH0000001"},{"$f":"INDEX(医療機関マスタ!$B:$B,MATCH(\"*\"&MID(注文書!$D$17,IFERROR(FIND(\" \",注文書!$D$17),IFERROR(FIND(\"　\",注文書!$D$17),0))+1,10)&\"*\",医療機関マスタ!$C:$C,0),1)","v":"医療法人社団斗南堂　八王子クリニック"},{"$f":"配送情報書!X222","v":""},{"$f":"配送情報書!Z222","v":"00:00:00"},{"$f":"配送情報書!$V222","v":""},"転記不要",null,null,null,{"$f":"配送情報書!T222","v":0},{"$f":"COUNTIF($A$3:A220,A220)","v":218}]
[{"$f":"配送情報書!A223","v":0},{"$f":"配送情報書!AB223","v":0},{"$f":"配送情報書!AA223","v":0},{"$f":"配送情報書!AC223","v":0},{"$f":"INDEX(医療機関マスタ!$A:$A,MATCH(F221,医療機関マスタ!$B:$B,0),1)","v":"AH0000001"},{"$f":"INDEX(医療機関マスタ!$B:$B,MATCH(\"*\"&MID(注文書!$D$17,IFERROR(FIND(\" \",注文書!$D$17),IFERROR(FIND(\"　\",注文書!$D$17),0))+1,10)&\"*\",医療機関マスタ!$C:$C,0),1)","v":"医療法人社団斗南堂　八王子クリニック"},{"$f":"配送情報書!X223","v":""},{"$f":"配送情報書!Z223","v":"00:00:00"},{"$f":"配送情報書!$V223","v":""},"転記不要",null,null,null,{"$f":"配送情報書!T223","v":0},{"$f":"COUNTIF($A$3:A221,A221)","v":219}]
[{"$f":"配送情報書!A224","v":0},{"$f":"配送情報書!AB224","v":0},{"$f":"配送情報書!AA224","v":0},{"$f":"配送情報書!AC224","v":0},{"$f":"INDEX(医療機関マスタ!$A:$A,MATCH(F222,医療機関マスタ!$B:$B,0),1)","v":"AH0000001"},{"$f":"INDEX(医療機関マスタ!$B:$B,MATCH(\"*\"&MID(注文書!$D$17,IFERROR(FIND(\" \",注文書!$D$17),IFERROR(FIND(\"　\",注文書!$D$17),0))+1,10)&\"*\",医療機関マスタ!$C:$C,0),1)","v":"医療法人社団斗南堂　八王子クリニック"},{"$f":"配送情報書!X224","v":""},{"$f":"配送情報書!Z224","v":"00:00:00"},{"$f":"配送情報書!$V224","v":""},"転記不要",null,null,null,{"$f":"配送情報書!T224","v":0},{"$f":"COUNTIF($A$3:A222,A222)","v":220}]
[{"$f":"配送情報書!A225","v":0},{"$f":"配送情報書!AB225","v":0},{"$f":"配送情報書!AA225","v":0},{"$f":"配送情報書!AC225","v":0},{"$f":"INDEX(医療機関マスタ!$A:$A,MATCH(F223,医療機関マスタ!$B:$B,0),1)","v":"AH0000001"},{"$f":"INDEX(医療機関マスタ!$B:$B,MATCH(\"*\"&MID(注文書!$D$17,IFERROR(FIND(\" \",注文書!$D$17),IFERROR(FIND(\"　\",注文書!$D$17),0))+1,10)&\"*\",医療機関マスタ!$C:$C,0),1)","v":"医療法人社団斗南堂　八王子クリニック"},{"$f":"配送情報書!X225","v":""},{"$f":"配送情報書!Z225","v":"00:00:00"},{"$f":"配送情報書!$V225","v":""},"転記不要",null,null,null,{"$f":"配送情報書!T225","v":0},{"$f":"COUNTIF($A$3:A223,A223)","v":221}]
[{"$f":"配送情報書!A226","v":0},{"$f":"配送情報書!AB226","v":0},{"$f":"配送情報書!AA226","v":0},{"$f":"配送情報書!AC226","v":0},{"$f":"INDEX(医療機関マスタ!$A:$A,MATCH(F224,医療機関マスタ!$B:$B,0),1)","v":"AH0000001"},{"$f":"INDEX(医療機関マスタ!$B:$B,MATCH(\"*\"&MID(注文書!$D$17,IFERROR(FIND(\" \",注文書!$D$17),IFERROR(FIND(\"　\",注文書!$D$17),0))+1,10)&\"*\",医療機関マスタ!$C:$C,0),1)","v":"医療法人社団斗南堂　八王子クリニック"},{"$f":"配送情報書!X226","v":""},{"$f":"配送情報書!Z226","v":"00:00:00"},{"$f":"配送情報書!$V226","v":""},"転記不要",null,null,null,{"$f":"配送情報書!T226","v":0},{"$f":"COUNTIF($A$3:A224,A224)","v":222}]
[{"$f":"配送情報書!A227","v":0},{"$f":"配送情報書!AB227","v":0},{"$f":"配送情報書!AA227","v":0},{"$f":"配送情報書!AC227","v":0},{"$f":"INDEX(医療機関マスタ!$A:$A,MATCH(F225,医療機関マスタ!$B:$B,0),1)","v":"AH0000001"},{"$f":"INDEX(医療機関マスタ!$B:$B,MATCH(\"*\"&MID(注文書!$D$17,IFERROR(FIND(\" \",注文書!$D$17),IFERROR(FIND(\"　\",注文書!$D$17),0))+1,10)&\"*\",医療機関マスタ!$C:$C,0),1)","v":"医療法人社団斗南堂　八王子クリニック"},{"$f":"配送情報書!X227","v":""},{"$f":"配送情報書!Z227","v":"00:00:00"},{"$f":"配送情報書!$V227","v":""},"転記不要",null,null,null,{"$f":"配送情報書!T227","v":0},{"$f":"COUNTIF($A$3:A225,A225)","v":223}]
[{"$f":"配送情報書!A228","v":0},{"$f":"配送情報書!AB228","v":0},{"$f":"配送情報書!AA228","v":0},{"$f":"配送情報書!AC228","v":0},{"$f":"INDEX(医療機関マスタ!$A:$A,MATCH(F226,医療機関マスタ!$B:$B,0),1)","v":"AH0000001"},{"$f":"INDEX(医療機関マスタ!$B:$B,MATCH(\"*\"&MID(注文書!$D$17,IFERROR(FIND(\" \",注文書!$D$17),IFERROR(FIND(\"　\",注文書!$D$17),0))+1,10)&\"*\",医療機関マスタ!$C:$C,0),1)","v":"医療法人社団斗南堂　八王子クリニック"},{"$f":"配送情報書!X228","v":""},{"$f":"配送情報書!Z228","v":"00:00:00"},{"$f":"配送情報書!$V228","v":""},"転記不要",null,null,null,{"$f":"配送情報書!T228","v":0},{"$f":"COUNTIF($A$3:A226,A226)","v":224}]
[{"$f":"配送情報書!A229","v":0},{"$f":"配送情報書!AB229","v":0},{"$f":"配送情報書!AA229","v":0},{"$f":"配送情報書!AC229","v":0},{"$f":"INDEX(医療機関マスタ!$A:$A,MATCH(F227,医療機関マスタ!$B:$B,0),1)","v":"AH0000001"},{"$f":"INDEX(医療機関マスタ!$B:$B,MATCH(\"*\"&MID(注文書!$D$17,IFERROR(FIND(\" \",注文書!$D$17),IFERROR(FIND(\"　\",注文書!$D$17),0))+1,10)&\"*\",医療機関マスタ!$C:$C,0),1)","v":"医療法人社団斗南堂　八王子クリニック"},{"$f":"配送情報書!X229","v":""},{"$f":"配送情報書!Z229","v":"00:00:00"},{"$f":"配送情報書!$V229","v":""},"転記不要",null,null,null,{"$f":"配送情報書!T229","v":0},{"$f":"COUNTIF($A$3:A227,A227)","v":225}]
[{"$f":"配送情報書!A230","v":0},{"$f":"配送情報書!AB230","v":0},{"$f":"配送情報書!AA230","v":0},{"$f":"配送情報書!AC230","v":0},{"$f":"INDEX(医療機関マスタ!$A:$A,MATCH(F228,医療機関マスタ!$B:$B,0),1)","v":"AH0000001"},{"$f":"INDEX(医療機関マスタ!$B:$B,MATCH(\"*\"&MID(注文書!$D$17,IFERROR(FIND(\" \",注文書!$D$17),IFERROR(FIND(\"　\",注文書!$D$17),0))+1,10)&\"*\",医療機関マスタ!$C:$C,0),1)","v":"医療法人社団斗南堂　八王子クリニック"},{"$f":"配送情報書!X230","v":""},{"$f":"配送情報書!Z230","v":"00:00:00"},{"$f":"配送情報書!$V230","v":""},"転記不要",null,null,null,{"$f":"配送情報書!T230","v":0},{"$f":"COUNTIF($A$3:A228,A228)","v":226}]
[{"$f":"配送情報書!A231","v":0},{"$f":"配送情報書!AB231","v":0},{"$f":"配送情報書!AA231","v":0},{"$f":"配送情報書!AC231","v":0},{"$f":"INDEX(医療機関マスタ!$A:$A,MATCH(F229,医療機関マスタ!$B:$B,0),1)","v":"AH0000001"},{"$f":"INDEX(医療機関マスタ!$B:$B,MATCH(\"*\"&MID(注文書!$D$17,IFERROR(FIND(\" \",注文書!$D$17),IFERROR(FIND(\"　\",注文書!$D$17),0))+1,10)&\"*\",医療機関マスタ!$C:$C,0),1)","v":"医療法人社団斗南堂　八王子クリニック"},{"$f":"配送情報書!X231","v":""},{"$f":"配送情報書!Z231","v":"00:00:00"},{"$f":"配送情報書!$V231","v":""},"転記不要",null,null,null,{"$f":"配送情報書!T231","v":0},{"$f":"COUNTIF($A$3:A229,A229)","v":227}]
[{"$f":"配送情報書!A232","v":0},{"$f":"配送情報書!AB232","v":0},{"$f":"配送情報書!AA232","v":0},{"$f":"配送情報書!AC232","v":0},{"$f":"INDEX(医療機関マスタ!$A:$A,MATCH(F230,医療機関マスタ!$B:$B,0),1)","v":"AH0000001"},{"$f":"INDEX(医療機関マスタ!$B:$B,MATCH(\"*\"&MID(注文書!$D$17,IFERROR(FIND(\" \",注文書!$D$17),IFERROR(FIND(\"　\",注文書!$D$17),0))+1,10)&\"*\",医療機関マスタ!$C:$C,0),1)","v":"医療法人社団斗南堂　八王子クリニック"},{"$f":"配送情報書!X232","v":""},{"$f":"配送情報書!Z232","v":"00:00:00"},{"$f":"配送情報書!$V232","v":""},"転記不要",null,null,null,{"$f":"配送情報書!T232","v":0},{"$f":"COUNTIF($A$3:A230,A230)","v":228}]
[{"$f":"配送情報書!A233","v":0},{"$f":"配送情報書!AB233","v":0},{"$f":"配送情報書!AA233","v":0},{"$f":"配送情報書!AC233","v":0},{"$f":"INDEX(医療機関マスタ!$A:$A,MATCH(F231,医療機関マスタ!$B:$B,0),1)","v":"AH0000001"},{"$f":"INDEX(医療機関マスタ!$B:$B,MATCH(\"*\"&MID(注文書!$D$17,IFERROR(FIND(\" \",注文書!$D$17),IFERROR(FIND(\"　\",注文書!$D$17),0))+1,10)&\"*\",医療機関マスタ!$C:$C,0),1)","v":"医療法人社団斗南堂　八王子クリニック"},{"$f":"配送情報書!X233","v":""},{"$f":"配送情報書!Z233","v":"00:00:00"},{"$f":"配送情報書!$V233","v":""},"転記不要",null,null,null,{"$f":"配送情報書!T233","v":0},{"$f":"COUNTIF($A$3:A231,A231)","v":229}]
[{"$f":"配送情報書!A234","v":0},{"$f":"配送情報書!AB234","v":0},{"$f":"配送情報書!AA234","v":0},{"$f":"配送情報書!AC234","v":0},{"$f":"INDEX(医療機関マスタ!$A:$A,MATCH(F232,医療機関マスタ!$B:$B,0),1)","v":"AH0000001"},{"$f":"INDEX(医療機関マスタ!$B:$B,MATCH(\"*\"&MID(注文書!$D$17,IFERROR(FIND(\" \",注文書!$D$17),IFERROR(FIND(\"　\",注文書!$D$17),0))+1,10)&\"*\",医療機関マスタ!$C:$C,0),1)","v":"医療法人社団斗南堂　八王子クリニック"},{"$f":"配送情報書!X234","v":""},{"$f":"配送情報書!Z234","v":"00:00:00"},{"$f":"配送情報書!$V234","v":""},"転記不要",null,null,null,{"$f":"配送情報書!T234","v":0},{"$f":"COUNTIF($A$3:A232,A232)","v":230}]
[{"$f":"配送情報書!A235","v":0},{"$f":"配送情報書!AB235","v":0},{"$f":"配送情報書!AA235","v":0},{"$f":"配送情報書!AC235","v":0},{"$f":"INDEX(医療機関マスタ!$A:$A,MATCH(F233,医療機関マスタ!$B:$B,0),1)","v":"AH0000001"},{"$f":"INDEX(医療機関マスタ!$B:$B,MATCH(\"*\"&MID(注文書!$D$17,IFERROR(FIND(\" \",注文書!$D$17),IFERROR(FIND(\"　\",注文書!$D$17),0))+1,10)&\"*\",医療機関マスタ!$C:$C,0),1)","v":"医療法人社団斗南堂　八王子クリニック"},{"$f":"配送情報書!X235","v":""},{"$f":"配送情報書!Z235","v":"00:00:00"},{"$f":"配送情報書!$V235","v":""},"転記不要",null,null,null,{"$f":"配送情報書!T235","v":0},{"$f":"COUNTIF($A$3:A233,A233)","v":231}]
[{"$f":"配送情報書!A236","v":0},{"$f":"配送情報書!AB236","v":0},{"$f":"配送情報書!AA236","v":0},{"$f":"配送情報書!AC236","v":0},{"$f":"INDEX(医療機関マスタ!$A:$A,MATCH(F234,医療機関マスタ!$B:$B,0),1)","v":"AH0000001"},{"$f":"INDEX(医療機関マスタ!$B:$B,MATCH(\"*\"&MID(注文書!$D$17,IFERROR(FIND(\" \",注文書!$D$17),IFERROR(FIND(\"　\",注文書!$D$17),0))+1,10)&\"*\",医療機関マスタ!$C:$C,0),1)","v":"医療法人社団斗南堂　八王子クリニック"},{"$f":"配送情報書!X236","v":""},{"$f":"配送情報書!Z236","v":"00:00:00"},{"$f":"配送情報書!$V236","v":""},"転記不要",null,null,null,{"$f":"配送情報書!T236","v":0},{"$f":"COUNTIF($A$3:A234,A234)","v":232}]
[{"$f":"配送情報書!A237","v":0},{"$f":"配送情報書!AB237","v":0},{"$f":"配送情報書!AA237","v":0},{"$f":"配送情報書!AC237","v":0},{"$f":"INDEX(医療機関マスタ!$A:$A,MATCH(F235,医療機関マスタ!$B:$B,0),1)","v":"AH0000001"},{"$f":"INDEX(医療機関マスタ!$B:$B,MATCH(\"*\"&MID(注文書!$D$17,IFERROR(FIND(\" \",注文書!$D$17),IFERROR(FIND(\"　\",注文書!$D$17),0))+1,10)&\"*\",医療機関マスタ!$C:$C,0),1)","v":"医療法人社団斗南堂　八王子クリニック"},{"$f":"配送情報書!X237","v":""},{"$f":"配送情報書!Z237","v":"00:00:00"},{"$f":"配送情報書!$V237","v":""},"転記不要",null,null,null,{"$f":"配送情報書!T237","v":0},{"$f":"COUNTIF($A$3:A235,A235)","v":233}]
[{"$f":"配送情報書!A238","v":0},{"$f":"配送情報書!AB238","v":0},{"$f":"配送情報書!AA238","v":0},{"$f":"配送情報書!AC238","v":0},{"$f":"INDEX(医療機関マスタ!$A:$A,MATCH(F236,医療機関マスタ!$B:$B,0),1)","v":"AH0000001"},{"$f":"INDEX(医療機関マスタ!$B:$B,MATCH(\"*\"&MID(注文書!$D$17,IFERROR(FIND(\" \",注文書!$D$17),IFERROR(FIND(\"　\",注文書!$D$17),0))+1,10)&\"*\",医療機関マスタ!$C:$C,0),1)","v":"医療法人社団斗南堂　八王子クリニック"},{"$f":"配送情報書!X238","v":""},{"$f":"配送情報書!Z238","v":"00:00:00"},{"$f":"配送情報書!$V238","v":""},"転記不要",null,null,null,{"$f":"配送情報書!T238","v":0},{"$f":"COUNTIF($A$3:A236,A236)","v":234}]
[{"$f":"配送情報書!A239","v":0},{"$f":"配送情報書!AB239","v":0},{"$f":"配送情報書!AA239","v":0},{"$f":"配送情報書!AC239","v":0},{"$f":"INDEX(医療機関マスタ!$A:$A,MATCH(F237,医療機関マスタ!$B:$B,0),1)","v":"AH0000001"},{"$f":"INDEX(医療機関マスタ!$B:$B,MATCH(\"*\"&MID(注文書!$D$17,IFERROR(FIND(\" \",注文書!$D$17),IFERROR(FIND(\"　\",注文書!$D$17),0))+1,10)&\"*\",医療機関マスタ!$C:$C,0),1)","v":"医療法人社団斗南堂　八王子クリニック"},{"$f":"配送情報書!X239","v":""},{"$f":"配送情報書!Z239","v":"00:00:00"},{"$f":"配送情報書!$V239","v":""},"転記不要",null,null,null,{"$f":"配送情報書!T239","v":0},{"$f":"COUNTIF($A$3:A237,A237)","v":235}]
[{"$f":"配送情報書!A240","v":0},{"$f":"配送情報書!AB240","v":0},{"$f":"配送情報書!AA240","v":0},{"$f":"配送情報書!AC240","v":0},{"$f":"INDEX(医療機関マスタ!$A:$A,MATCH(F238,医療機関マスタ!$B:$B,0),1)","v":"AH0000001"},{"$f":"INDEX(医療機関マスタ!$B:$B,MATCH(\"*\"&MID(注文書!$D$17,IFERROR(FIND(\" \",注文書!$D$17),IFERROR(FIND(\"　\",注文書!$D$17),0))+1,10)&\"*\",医療機関マスタ!$C:$C,0),1)","v":"医療法人社団斗南堂　八王子クリニック"},{"$f":"配送情報書!X240","v":""},{"$f":"配送情報書!Z240","v":"00:00:00"},{"$f":"配送情報書!$V240","v":""},"転記不要",null,null,null,{"$f":"配送情報書!T240","v":0},{"$f":"COUNTIF($A$3:A238,A238)","v":236}]
[{"$f":"配送情報書!A241","v":0},{"$f":"配送情報書!AB241","v":0},{"$f":"配送情報書!AA241","v":0},{"$f":"配送情報書!AC241","v":0},{"$f":"INDEX(医療機関マスタ!$A:$A,MATCH(F239,医療機関マスタ!$B:$B,0),1)","v":"AH0000001"},{"$f":"INDEX(医療機関マスタ!$B:$B,MATCH(\"*\"&MID(注文書!$D$17,IFERROR(FIND(\" \",注文書!$D$17),IFERROR(FIND(\"　\",注文書!$D$17),0))+1,10)&\"*\",医療機関マスタ!$C:$C,0),1)","v":"医療法人社団斗南堂　八王子クリニック"},{"$f":"配送情報書!X241","v":""},{"$f":"配送情報書!Z241","v":"00:00:00"},{"$f":"配送情報書!$V241","v":""},"転記不要",null,null,null,{"$f":"配送情報書!T241","v":0},{"$f":"COUNTIF($A$3:A239,A239)","v":237}]
[{"$f":"配送情報書!A242","v":0},{"$f":"配送情報書!AB242","v":0},{"$f":"配送情報書!AA242","v":0},{"$f":"配送情報書!AC242","v":0},{"$f":"INDEX(医療機関マスタ!$A:$A,MATCH(F240,医療機関マスタ!$B:$B,0),1)","v":"AH0000001"},{"$f":"INDEX(医療機関マスタ!$B:$B,MATCH(\"*\"&MID(注文書!$D$17,IFERROR(FIND(\" \",注文書!$D$17),IFERROR(FIND(\"　\",注文書!$D$17),0))+1,10)&\"*\",医療機関マスタ!$C:$C,0),1)","v":"医療法人社団斗南堂　八王子クリニック"},{"$f":"配送情報書!X242","v":""},{"$f":"配送情報書!Z242","v":"00:00:00"},{"$f":"配送情報書!$V242","v":""},"転記不要",null,null,null,{"$f":"配送情報書!T242","v":0},{"$f":"COUNTIF($A$3:A240,A240)","v":238}]
[{"$f":"配送情報書!A243","v":0},{"$f":"配送情報書!AB243","v":0},{"$f":"配送情報書!AA243","v":0},{"$f":"配送情報書!AC243","v":0},{"$f":"INDEX(医療機関マスタ!$A:$A,MATCH(F241,医療機関マスタ!$B:$B,0),1)","v":"AH0000001"},{"$f":"INDEX(医療機関マスタ!$B:$B,MATCH(\"*\"&MID(注文書!$D$17,IFERROR(FIND(\" \",注文書!$D$17),IFERROR(FIND(\"　\",注文書!$D$17),0))+1,10)&\"*\",医療機関マスタ!$C:$C,0),1)","v":"医療法人社団斗南堂　八王子クリニック"},{"$f":"配送情報書!X243","v":""},{"$f":"配送情報書!Z243","v":"00:00:00"},{"$f":"配送情報書!$V243","v":""},"転記不要",null,null,null,{"$f":"配送情報書!T243","v":0},{"$f":"COUNTIF($A$3:A241,A241)","v":239}]
[{"$f":"配送情報書!A244","v":0},{"$f":"配送情報書!AB244","v":0},{"$f":"配送情報書!AA244","v":0},{"$f":"配送情報書!AC244","v":0},{"$f":"INDEX(医療機関マスタ!$A:$A,MATCH(F242,医療機関マスタ!$B:$B,0),1)","v":"AH0000001"},{"$f":"INDEX(医療機関マスタ!$B:$B,MATCH(\"*\"&MID(注文書!$D$17,IFERROR(FIND(\" \",注文書!$D$17),IFERROR(FIND(\"　\",注文書!$D$17),0))+1,10)&\"*\",医療機関マスタ!$C:$C,0),1)","v":"医療法人社団斗南堂　八王子クリニック"},{"$f":"配送情報書!X244","v":""},{"$f":"配送情報書!Z244","v":"00:00:00"},{"$f":"配送情報書!$V244","v":""},"転記不要",null,null,null,{"$f":"配送情報書!T244","v":0},{"$f":"COUNTIF($A$3:A242,A242)","v":240}]
[{"$f":"配送情報書!A245","v":0},{"$f":"配送情報書!AB245","v":0},{"$f":"配送情報書!AA245","v":0},{"$f":"配送情報書!AC245","v":0},{"$f":"INDEX(医療機関マスタ!$A:$A,MATCH(F243,医療機関マスタ!$B:$B,0),1)","v":"AH0000001"},{"$f":"INDEX(医療機関マスタ!$B:$B,MATCH(\"*\"&MID(注文書!$D$17,IFERROR(FIND(\" \",注文書!$D$17),IFERROR(FIND(\"　\",注文書!$D$17),0))+1,10)&\"*\",医療機関マスタ!$C:$C,0),1)","v":"医療法人社団斗南堂　八王子クリニック"},{"$f":"配送情報書!X245","v":""},{"$f":"配送情報書!Z245","v":"00:00:00"},{"$f":"配送情報書!$V245","v":""},"転記不要",null,null,null,{"$f":"配送情報書!T245","v":0},{"$f":"COUNTIF($A$3:A243,A243)","v":241}]
[{"$f":"配送情報書!A246","v":0},{"$f":"配送情報書!AB246","v":0},{"$f":"配送情報書!AA246","v":0},{"$f":"配送情報書!AC246","v":0},{"$f":"INDEX(医療機関マスタ!$A:$A,MATCH(F244,医療機関マスタ!$B:$B,0),1)","v":"AH0000001"},{"$f":"INDEX(医療機関マスタ!$B:$B,MATCH(\"*\"&MID(注文書!$D$17,IFERROR(FIND(\" \",注文書!$D$17),IFERROR(FIND(\"　\",注文書!$D$17),0))+1,10)&\"*\",医療機関マスタ!$C:$C,0),1)","v":"医療法人社団斗南堂　八王子クリニック"},{"$f":"配送情報書!X246","v":""},{"$f":"配送情報書!Z246","v":"00:00:00"},{"$f":"配送情報書!$V246","v":""},"転記不要",null,null,null,{"$f":"配送情報書!T246","v":0},{"$f":"COUNTIF($A$3:A244,A244)","v":242}]
[{"$f":"配送情報書!A247","v":0},{"$f":"配送情報書!AB247","v":0},{"$f":"配送情報書!AA247","v":0},{"$f":"配送情報書!AC247","v":0},{"$f":"INDEX(医療機関マスタ!$A:$A,MATCH(F245,医療機関マスタ!$B:$B,0),1)","v":"AH0000001"},{"$f":"INDEX(医療機関マスタ!$B:$B,MATCH(\"*\"&MID(注文書!$D$17,IFERROR(FIND(\" \",注文書!$D$17),IFERROR(FIND(\"　\",注文書!$D$17),0))+1,10)&\"*\",医療機関マスタ!$C:$C,0),1)","v":"医療法人社団斗南堂　八王子クリニック"},{"$f":"配送情報書!X247","v":""},{"$f":"配送情報書!Z247","v":"00:00:00"},{"$f":"配送情報書!$V247","v":""},"転記不要",null,null,null,{"$f":"配送情報書!T247","v":0},{"$f":"COUNTIF($A$3:A245,A245)","v":243}]
[{"$f":"配送情報書!A248","v":0},{"$f":"配送情報書!AB248","v":0},{"$f":"配送情報書!AA248","v":0},{"$f":"配送情報書!AC248","v":0},{"$f":"INDEX(医療機関マスタ!$A:$A,MATCH(F246,医療機関マスタ!$B:$B,0),1)","v":"AH0000001"},{"$f":"INDEX(医療機関マスタ!$B:$B,MATCH(\"*\"&MID(注文書!$D$17,IFERROR(FIND(\" \",注文書!$D$17),IFERROR(FIND(\"　\",注文書!$D$17),0))+1,10)&\"*\",医療機関マスタ!$C:$C,0),1)","v":"医療法人社団斗南堂　八王子クリニック"},{"$f":"配送情報書!X248","v":""},{"$f":"配送情報書!Z248","v":"00:00:00"},{"$f":"配送情報書!$V248","v":""},"転記不要",null,null,null,{"$f":"配送情報書!T248","v":0},{"$f":"COUNTIF($A$3:A246,A246)","v":244}]
[{"$f":"配送情報書!A249","v":0},{"$f":"配送情報書!AB249","v":0},{"$f":"配送情報書!AA249","v":0},{"$f":"配送情報書!AC249","v":0},{"$f":"INDEX(医療機関マスタ!$A:$A,MATCH(F247,医療機関マスタ!$B:$B,0),1)","v":"AH0000001"},{"$f":"INDEX(医療機関マスタ!$B:$B,MATCH(\"*\"&MID(注文書!$D$17,IFERROR(FIND(\" \",注文書!$D$17),IFERROR(FIND(\"　\",注文書!$D$17),0))+1,10)&\"*\",医療機関マスタ!$C:$C,0),1)","v":"医療法人社団斗南堂　八王子クリニック"},{"$f":"配送情報書!X249","v":""},{"$f":"配送情報書!Z249","v":"00:00:00"},{"$f":"配送情報書!$V249","v":""},"転記不要",null,null,null,{"$f":"配送情報書!T249","v":0},{"$f":"COUNTIF($A$3:A247,A247)","v":245}]
[{"$f":"配送情報書!A250","v":0},{"$f":"配送情報書!AB250","v":0},{"$f":"配送情報書!AA250","v":0},{"$f":"配送情報書!AC250","v":0},{"$f":"INDEX(医療機関マスタ!$A:$A,MATCH(F248,医療機関マスタ!$B:$B,0),1)","v":"AH0000001"},{"$f":"INDEX(医療機関マスタ!$B:$B,MATCH(\"*\"&MID(注文書!$D$17,IFERROR(FIND(\" \",注文書!$D$17),IFERROR(FIND(\"　\",注文書!$D$17),0))+1,10)&\"*\",医療機関マスタ!$C:$C,0),1)","v":"医療法人社団斗南堂　八王子クリニック"},{"$f":"配送情報書!X250","v":""},{"$f":"配送情報書!Z250","v":"00:00:00"},{"$f":"配送情報書!$V250","v":""},"転記不要",null,null,null,{"$f":"配送情報書!T250","v":0},{"$f":"COUNTIF($A$3:A248,A248)","v":246}]
[{"$f":"配送情報書!A251","v":0},{"$f":"配送情報書!AB251","v":0},{"$f":"配送情報書!AA251","v":0},{"$f":"配送情報書!AC251","v":0},{"$f":"INDEX(医療機関マスタ!$A:$A,MATCH(F249,医療機関マスタ!$B:$B,0),1)","v":"AH0000001"},{"$f":"INDEX(医療機関マスタ!$B:$B,MATCH(\"*\"&MID(注文書!$D$17,IFERROR(FIND(\" \",注文書!$D$17),IFERROR(FIND(\"　\",注文書!$D$17),0))+1,10)&\"*\",医療機関マスタ!$C:$C,0),1)","v":"医療法人社団斗南堂　八王子クリニック"},{"$f":"配送情報書!X251","v":""},{"$f":"配送情報書!Z251","v":"00:00:00"},{"$f":"配送情報書!$V251","v":""},"転記不要",null,null,null,{"$f":"配送情報書!T251","v":0},{"$f":"COUNTIF($A$3:A249,A249)","v":247}]
[{"$f":"配送情報書!A252","v":0},{"$f":"配送情報書!AB252","v":0},{"$f":"配送情報書!AA252","v":0},{"$f":"配送情報書!AC252","v":0},{"$f":"INDEX(医療機関マスタ!$A:$A,MATCH(F250,医療機関マスタ!$B:$B,0),1)","v":"AH0000001"},{"$f":"INDEX(医療機関マスタ!$B:$B,MATCH(\"*\"&MID(注文書!$D$17,IFERROR(FIND(\" \",注文書!$D$17),IFERROR(FIND(\"　\",注文書!$D$17),0))+1,10)&\"*\",医療機関マスタ!$C:$C,0),1)","v":"医療法人社団斗南堂　八王子クリニック"},{"$f":"配送情報書!X252","v":""},{"$f":"配送情報書!Z252","v":"00:00:00"},{"$f":"配送情報書!$V252","v":""},"転記不要",null,null,null,{"$f":"配送情報書!T252","v":0},{"$f":"COUNTIF($A$3:A250,A250)","v":248}]
[{"$f":"配送情報書!A253","v":0},{"$f":"配送情報書!AB253","v":0},{"$f":"配送情報書!AA253","v":0},{"$f":"配送情報書!AC253","v":0},{"$f":"INDEX(医療機関マスタ!$A:$A,MATCH(F251,医療機関マスタ!$B:$B,0),1)","v":"AH0000001"},{"$f":"INDEX(医療機関マスタ!$B:$B,MATCH(\"*\"&MID(注文書!$D$17,IFERROR(FIND(\" \",注文書!$D$17),IFERROR(FIND(\"　\",注文書!$D$17),0))+1,10)&\"*\",医療機関マスタ!$C:$C,0),1)","v":"医療法人社団斗南堂　八王子クリニック"},{"$f":"配送情報書!X253","v":""},{"$f":"配送情報書!Z253","v":"00:00:00"},{"$f":"配送情報書!$V253","v":""},"転記不要",null,null,null,{"$f":"配送情報書!T253","v":0},{"$f":"COUNTIF($A$3:A251,A251)","v":249}]
[{"$f":"配送情報書!A254","v":0},{"$f":"配送情報書!AB254","v":0},{"$f":"配送情報書!AA254","v":0},{"$f":"配送情報書!AC254","v":0},{"$f":"INDEX(医療機関マスタ!$A:$A,MATCH(F252,医療機関マスタ!$B:$B,0),1)","v":"AH0000001"},{"$f":"INDEX(医療機関マスタ!$B:$B,MATCH(\"*\"&MID(注文書!$D$17,IFERROR(FIND(\" \",注文書!$D$17),IFERROR(FIND(\"　\",注文書!$D$17),0))+1,10)&\"*\",医療機関マスタ!$C:$C,0),1)","v":"医療法人社団斗南堂　八王子クリニック"},{"$f":"配送情報書!X254","v":""},{"$f":"配送情報書!Z254","v":"00:00:00"},{"$f":"配送情報書!$V254","v":""},"転記不要",null,null,null,{"$f":"配送情報書!T254","v":0},{"$f":"COUNTIF($A$3:A252,A252)","v":250}]
[{"$f":"配送情報書!A255","v":0},{"$f":"配送情報書!AB255","v":0},{"$f":"配送情報書!AA255","v":0},{"$f":"配送情報書!AC255","v":0},{"$f":"INDEX(医療機関マスタ!$A:$A,MATCH(F253,医療機関マスタ!$B:$B,0),1)","v":"AH0000001"},{"$f":"INDEX(医療機関マスタ!$B:$B,MATCH(\"*\"&MID(注文書!$D$17,IFERROR(FIND(\" \",注文書!$D$17),IFERROR(FIND(\"　\",注文書!$D$17),0))+1,10)&\"*\",医療機関マスタ!$C:$C,0),1)","v":"医療法人社団斗南堂　八王子クリニック"},{"$f":"配送情報書!X255","v":""},{"$f":"配送情報書!Z255","v":"00:00:00"},{"$f":"配送情報書!$V255","v":""},"転記不要",null,null,null,{"$f":"配送情報書!T255","v":0},{"$f":"COUNTIF($A$3:A253,A253)","v":251}]
[{"$f":"配送情報書!A256","v":0},{"$f":"配送情報書!AB256","v":0},{"$f":"配送情報書!AA256","v":0},{"$f":"配送情報書!AC256","v":0},{"$f":"INDEX(医療機関マスタ!$A:$A,MATCH(F254,医療機関マスタ!$B:$B,0),1)","v":"AH0000001"},{"$f":"INDEX(医療機関マスタ!$B:$B,MATCH(\"*\"&MID(注文書!$D$17,IFERROR(FIND(\" \",注文書!$D$17),IFERROR(FIND(\"　\",注文書!$D$17),0))+1,10)&\"*\",医療機関マスタ!$C:$C,0),1)","v":"医療法人社団斗南堂　八王子クリニック"},{"$f":"配送情報書!X256","v":""},{"$f":"配送情報書!Z256","v":"00:00:00"},{"$f":"配送情報書!$V256","v":""},"転記不要",null,null,null,{"$f":"配送情報書!T256","v":0},{"$f":"COUNTIF($A$3:A254,A254)","v":252}]
[{"$f":"配送情報書!A257","v":0},{"$f":"配送情報書!AB257","v":0},{"$f":"配送情報書!AA257","v":0},{"$f":"配送情報書!AC257","v":0},{"$f":"INDEX(医療機関マスタ!$A:$A,MATCH(F255,医療機関マスタ!$B:$B,0),1)","v":"AH0000001"},{"$f":"INDEX(医療機関マスタ!$B:$B,MATCH(\"*\"&MID(注文書!$D$17,IFERROR(FIND(\" \",注文書!$D$17),IFERROR(FIND(\"　\",注文書!$D$17),0))+1,10)&\"*\",医療機関マスタ!$C:$C,0),1)","v":"医療法人社団斗南堂　八王子クリニック"},{"$f":"配送情報書!X257","v":""},{"$f":"配送情報書!Z257","v":"00:00:00"},{"$f":"配送情報書!$V257","v":""},"転記不要",null,null,null,{"$f":"配送情報書!T257","v":0},{"$f":"COUNTIF($A$3:A255,A255)","v":253}]
[{"$f":"配送情報書!A258","v":0},{"$f":"配送情報書!AB258","v":0},{"$f":"配送情報書!AA258","v":0},{"$f":"配送情報書!AC258","v":0},{"$f":"INDEX(医療機関マスタ!$A:$A,MATCH(F256,医療機関マスタ!$B:$B,0),1)","v":"AH0000001"},{"$f":"INDEX(医療機関マスタ!$B:$B,MATCH(\"*\"&MID(注文書!$D$17,IFERROR(FIND(\" \",注文書!$D$17),IFERROR(FIND(\"　\",注文書!$D$17),0))+1,10)&\"*\",医療機関マスタ!$C:$C,0),1)","v":"医療法人社団斗南堂　八王子クリニック"},{"$f":"配送情報書!X258","v":""},{"$f":"配送情報書!Z258","v":"00:00:00"},{"$f":"配送情報書!$V258","v":""},"転記不要",null,null,null,{"$f":"配送情報書!T258","v":0},{"$f":"COUNTIF($A$3:A256,A256)","v":254}]
[{"$f":"配送情報書!A259","v":0},{"$f":"配送情報書!AB259","v":0},{"$f":"配送情報書!AA259","v":0},{"$f":"配送情報書!AC259","v":0},{"$f":"INDEX(医療機関マスタ!$A:$A,MATCH(F257,医療機関マスタ!$B:$B,0),1)","v":"AH0000001"},{"$f":"INDEX(医療機関マスタ!$B:$B,MATCH(\"*\"&MID(注文書!$D$17,IFERROR(FIND(\" \",注文書!$D$17),IFERROR(FIND(\"　\",注文書!$D$17),0))+1,10)&\"*\",医療機関マスタ!$C:$C,0),1)","v":"医療法人社団斗南堂　八王子クリニック"},{"$f":"配送情報書!X259","v":""},{"$f":"配送情報書!Z259","v":"00:00:00"},{"$f":"配送情報書!$V259","v":""},"転記不要",null,null,null,{"$f":"配送情報書!T259","v":0},{"$f":"COUNTIF($A$3:A257,A257)","v":255}]
[{"$f":"配送情報書!A260","v":0},{"$f":"配送情報書!AB260","v":0},{"$f":"配送情報書!AA260","v":0},{"$f":"配送情報書!AC260","v":0},{"$f":"INDEX(医療機関マスタ!$A:$A,MATCH(F258,医療機関マスタ!$B:$B,0),1)","v":"AH0000001"},{"$f":"INDEX(医療機関マスタ!$B:$B,MATCH(\"*\"&MID(注文書!$D$17,IFERROR(FIND(\" \",注文書!$D$17),IFERROR(FIND(\"　\",注文書!$D$17),0))+1,10)&\"*\",医療機関マスタ!$C:$C,0),1)","v":"医療法人社団斗南堂　八王子クリニック"},{"$f":"配送情報書!X260","v":""},{"$f":"配送情報書!Z260","v":"00:00:00"},{"$f":"配送情報書!$V260","v":""},"転記不要",null,null,null,{"$f":"配送情報書!T260","v":0},{"$f":"COUNTIF($A$3:A258,A258)","v":256}]
[{"$f":"配送情報書!A261","v":0},{"$f":"配送情報書!AB261","v":0},{"$f":"配送情報書!AA261","v":0},{"$f":"配送情報書!AC261","v":0},{"$f":"INDEX(医療機関マスタ!$A:$A,MATCH(F259,医療機関マスタ!$B:$B,0),1)","v":"AH0000001"},{"$f":"INDEX(医療機関マスタ!$B:$B,MATCH(\"*\"&MID(注文書!$D$17,IFERROR(FIND(\" \",注文書!$D$17),IFERROR(FIND(\"　\",注文書!$D$17),0))+1,10)&\"*\",医療機関マスタ!$C:$C,0),1)","v":"医療法人社団斗南堂　八王子クリニック"},{"$f":"配送情報書!X261","v":""},{"$f":"配送情報書!Z261","v":"00:00:00"},{"$f":"配送情報書!$V261","v":""},"転記不要",null,null,null,{"$f":"配送情報書!T261","v":0},{"$f":"COUNTIF($A$3:A259,A259)","v":257}]
[{"$f":"配送情報書!A262","v":0},{"$f":"配送情報書!AB262","v":0},{"$f":"配送情報書!AA262","v":0},{"$f":"配送情報書!AC262","v":0},{"$f":"INDEX(医療機関マスタ!$A:$A,MATCH(F260,医療機関マスタ!$B:$B,0),1)","v":"AH0000001"},{"$f":"INDEX(医療機関マスタ!$B:$B,MATCH(\"*\"&MID(注文書!$D$17,IFERROR(FIND(\" \",注文書!$D$17),IFERROR(FIND(\"　\",注文書!$D$17),0))+1,10)&\"*\",医療機関マスタ!$C:$C,0),1)","v":"医療法人社団斗南堂　八王子クリニック"},{"$f":"配送情報書!X262","v":""},{"$f":"配送情報書!Z262","v":"00:00:00"},{"$f":"配送情報書!$V262","v":""},{"$f":"IF(AND(N260>0,O260=1),SUMIFS($N:$N,$A:$A,A260),\"転記不要\")","v":"転記不要"},null,null,null,{"$f":"配送情報書!T262","v":0},{"$f":"COUNTIF($A$3:A260,A260)","v":258}]
[{"$f":"配送情報書!A263","v":0},{"$f":"配送情報書!AB263","v":0},{"$f":"配送情報書!AA263","v":0},{"$f":"配送情報書!AC263","v":0},{"$f":"INDEX(医療機関マスタ!$A:$A,MATCH(F261,医療機関マスタ!$B:$B,0),1)","v":"AH0000001"},{"$f":"INDEX(医療機関マスタ!$B:$B,MATCH(\"*\"&MID(注文書!$D$17,IFERROR(FIND(\" \",注文書!$D$17),IFERROR(FIND(\"　\",注文書!$D$17),0))+1,10)&\"*\",医療機関マスタ!$C:$C,0),1)","v":"医療法人社団斗南堂　八王子クリニック"},{"$f":"配送情報書!X263","v":""},{"$f":"配送情報書!Z263","v":"00:00:00"},{"$f":"配送情報書!$V263","v":""},"転記不要",null,null,null,{"$f":"配送情報書!T263","v":0},{"$f":"COUNTIF($A$3:A261,A261)","v":259}]
[{"$f":"配送情報書!A264","v":0},{"$f":"配送情報書!AB264","v":0},{"$f":"配送情報書!AA264","v":0},{"$f":"配送情報書!AC264","v":0},{"$f":"INDEX(医療機関マスタ!$A:$A,MATCH(F262,医療機関マスタ!$B:$B,0),1)","v":"AH0000001"},{"$f":"INDEX(医療機関マスタ!$B:$B,MATCH(\"*\"&MID(注文書!$D$17,IFERROR(FIND(\" \",注文書!$D$17),IFERROR(FIND(\"　\",注文書!$D$17),0))+1,10)&\"*\",医療機関マスタ!$C:$C,0),1)","v":"医療法人社団斗南堂　八王子クリニック"},{"$f":"配送情報書!X264","v":""},{"$f":"配送情報書!Z264","v":"00:00:00"},{"$f":"配送情報書!$V264","v":""},"転記不要",null,null,null,{"$f":"配送情報書!T264","v":0},{"$f":"COUNTIF($A$3:A262,A262)","v":260}]
[{"$f":"配送情報書!A265","v":0},{"$f":"配送情報書!AB265","v":0},{"$f":"配送情報書!AA265","v":0},{"$f":"配送情報書!AC265","v":0},{"$f":"INDEX(医療機関マスタ!$A:$A,MATCH(F263,医療機関マスタ!$B:$B,0),1)","v":"AH0000001"},{"$f":"INDEX(医療機関マスタ!$B:$B,MATCH(\"*\"&MID(注文書!$D$17,IFERROR(FIND(\" \",注文書!$D$17),IFERROR(FIND(\"　\",注文書!$D$17),0))+1,10)&\"*\",医療機関マスタ!$C:$C,0),1)","v":"医療法人社団斗南堂　八王子クリニック"},{"$f":"配送情報書!X265","v":""},{"$f":"配送情報書!Z265","v":"00:00:00"},{"$f":"配送情報書!$V265","v":""},"転記不要",null,null,null,{"$f":"配送情報書!T265","v":0},{"$f":"COUNTIF($A$3:A263,A263)","v":261}]
[{"$f":"配送情報書!A266","v":0},{"$f":"配送情報書!AB266","v":0},{"$f":"配送情報書!AA266","v":0},{"$f":"配送情報書!AC266","v":0},{"$f":"INDEX(医療機関マスタ!$A:$A,MATCH(F264,医療機関マスタ!$B:$B,0),1)","v":"AH0000001"},{"$f":"INDEX(医療機関マスタ!$B:$B,MATCH(\"*\"&MID(注文書!$D$17,IFERROR(FIND(\" \",注文書!$D$17),IFERROR(FIND(\"　\",注文書!$D$17),0))+1,10)&\"*\",医療機関マスタ!$C:$C,0),1)","v":"医療法人社団斗南堂　八王子クリニック"},{"$f":"配送情報書!X266","v":""},{"$f":"配送情報書!Z266","v":"00:00:00"},{"$f":"配送情報書!$V266","v":""},"転記不要",null,null,null,{"$f":"配送情報書!T266","v":0},{"$f":"COUNTIF($A$3:A264,A264)","v":262}]
[{"$f":"配送情報書!A267","v":0},{"$f":"配送情報書!AB267","v":0},{"$f":"配送情報書!AA267","v":0},{"$f":"配送情報書!AC267","v":0},{"$f":"INDEX(医療機関マスタ!$A:$A,MATCH(F265,医療機関マスタ!$B:$B,0),1)","v":"AH0000001"},{"$f":"INDEX(医療機関マスタ!$B:$B,MATCH(\"*\"&MID(注文書!$D$17,IFERROR(FIND(\" \",注文書!$D$17),IFERROR(FIND(\"　\",注文書!$D$17),0))+1,10)&\"*\",医療機関マスタ!$C:$C,0),1)","v":"医療法人社団斗南堂　八王子クリニック"},{"$f":"配送情報書!X267","v":""},{"$f":"配送情報書!Z267","v":"00:00:00"},{"$f":"配送情報書!$V267","v":""},"転記不要",null,null,null,{"$f":"配送情報書!T267","v":0},{"$f":"COUNTIF($A$3:A265,A265)","v":263}]
[{"$f":"配送情報書!A268","v":0},{"$f":"配送情報書!AB268","v":0},{"$f":"配送情報書!AA268","v":0},{"$f":"配送情報書!AC268","v":0},{"$f":"INDEX(医療機関マスタ!$A:$A,MATCH(F266,医療機関マスタ!$B:$B,0),1)","v":"AH0000001"},{"$f":"INDEX(医療機関マスタ!$B:$B,MATCH(\"*\"&MID(注文書!$D$17,IFERROR(FIND(\" \",注文書!$D$17),IFERROR(FIND(\"　\",注文書!$D$17),0))+1,10)&\"*\",医療機関マスタ!$C:$C,0),1)","v":"医療法人社団斗南堂　八王子クリニック"},{"$f":"配送情報書!X268","v":""},{"$f":"配送情報書!Z268","v":"00:00:00"},{"$f":"配送情報書!$V268","v":""},"転記不要",null,null,null,{"$f":"配送情報書!T268","v":0},{"$f":"COUNTIF($A$3:A266,A266)","v":264}]
[{"$f":"配送情報書!A269","v":0},{"$f":"配送情報書!AB269","v":0},{"$f":"配送情報書!AA269","v":0},{"$f":"配送情報書!AC269","v":0},{"$f":"INDEX(医療機関マスタ!$A:$A,MATCH(F267,医療機関マスタ!$B:$B,0),1)","v":"AH0000001"},{"$f":"INDEX(医療機関マスタ!$B:$B,MATCH(\"*\"&MID(注文書!$D$17,IFERROR(FIND(\" \",注文書!$D$17),IFERROR(FIND(\"　\",注文書!$D$17),0))+1,10)&\"*\",医療機関マスタ!$C:$C,0),1)","v":"医療法人社団斗南堂　八王子クリニック"},{"$f":"配送情報書!X269","v":""},{"$f":"配送情報書!Z269","v":"00:00:00"},{"$f":"配送情報書!$V269","v":""},"転記不要",null,null,null,{"$f":"配送情報書!T269","v":0},{"$f":"COUNTIF($A$3:A267,A267)","v":265}]
[{"$f":"配送情報書!A270","v":0},{"$f":"配送情報書!AB270","v":0},{"$f":"配送情報書!AA270","v":0},{"$f":"配送情報書!AC270","v":0},{"$f":"INDEX(医療機関マスタ!$A:$A,MATCH(F268,医療機関マスタ!$B:$B,0),1)","v":"AH0000001"},{"$f":"INDEX(医療機関マスタ!$B:$B,MATCH(\"*\"&MID(注文書!$D$17,IFERROR(FIND(\" \",注文書!$D$17),IFERROR(FIND(\"　\",注文書!$D$17),0))+1,10)&\"*\",医療機関マスタ!$C:$C,0),1)","v":"医療法人社団斗南堂　八王子クリニック"},{"$f":"配送情報書!X270","v":""},{"$f":"配送情報書!Z270","v":"00:00:00"},{"$f":"配送情報書!$V270","v":""},"転記不要",null,null,null,{"$f":"配送情報書!T270","v":0},{"$f":"COUNTIF($A$3:A268,A268)","v":266}]
[{"$f":"配送情報書!A271","v":0},{"$f":"配送情報書!AB271","v":0},{"$f":"配送情報書!AA271","v":0},{"$f":"配送情報書!AC271","v":0},{"$f":"INDEX(医療機関マスタ!$A:$A,MATCH(F269,医療機関マスタ!$B:$B,0),1)","v":"AH0000001"},{"$f":"INDEX(医療機関マスタ!$B:$B,MATCH(\"*\"&MID(注文書!$D$17,IFERROR(FIND(\" \",注文書!$D$17),IFERROR(FIND(\"　\",注文書!$D$17),0))+1,10)&\"*\",医療機関マスタ!$C:$C,0),1)","v":"医療法人社団斗南堂　八王子クリニック"},{"$f":"配送情報書!X271","v":""},{"$f":"配送情報書!Z271","v":"00:00:00"},{"$f":"配送情報書!$V271","v":""},"転記不要",null,null,null,{"$f":"配送情報書!T271","v":0},{"$f":"COUNTIF($A$3:A269,A269)","v":267}]
[{"$f":"配送情報書!A272","v":0},{"$f":"配送情報書!AB272","v":0},{"$f":"配送情報書!AA272","v":0},{"$f":"配送情報書!AC272","v":0},{"$f":"INDEX(医療機関マスタ!$A:$A,MATCH(F270,医療機関マスタ!$B:$B,0),1)","v":"AH0000001"},{"$f":"INDEX(医療機関マスタ!$B:$B,MATCH(\"*\"&MID(注文書!$D$17,IFERROR(FIND(\" \",注文書!$D$17),IFERROR(FIND(\"　\",注文書!$D$17),0))+1,10)&\"*\",医療機関マスタ!$C:$C,0),1)","v":"医療法人社団斗南堂　八王子クリニック"},{"$f":"配送情報書!X272","v":""},{"$f":"配送情報書!Z272","v":"00:00:00"},{"$f":"配送情報書!$V272","v":""},"転記不要",null,null,null,{"$f":"配送情報書!T272","v":0},{"$f":"COUNTIF($A$3:A270,A270)","v":268}]
[{"$f":"配送情報書!A273","v":0},{"$f":"配送情報書!AB273","v":0},{"$f":"配送情報書!AA273","v":0},{"$f":"配送情報書!AC273","v":0},{"$f":"INDEX(医療機関マスタ!$A:$A,MATCH(F271,医療機関マスタ!$B:$B,0),1)","v":"AH0000001"},{"$f":"INDEX(医療機関マスタ!$B:$B,MATCH(\"*\"&MID(注文書!$D$17,IFERROR(FIND(\" \",注文書!$D$17),IFERROR(FIND(\"　\",注文書!$D$17),0))+1,10)&\"*\",医療機関マスタ!$C:$C,0),1)","v":"医療法人社団斗南堂　八王子クリニック"},{"$f":"配送情報書!X273","v":""},{"$f":"配送情報書!Z273","v":"00:00:00"},{"$f":"配送情報書!$V273","v":""},"転記不要",null,null,null,{"$f":"配送情報書!T273","v":0},{"$f":"COUNTIF($A$3:A271,A271)","v":269}]
[{"$f":"配送情報書!A274","v":0},{"$f":"配送情報書!AB274","v":0},{"$f":"配送情報書!AA274","v":0},{"$f":"配送情報書!AC274","v":0},{"$f":"INDEX(医療機関マスタ!$A:$A,MATCH(F272,医療機関マスタ!$B:$B,0),1)","v":"AH0000001"},{"$f":"INDEX(医療機関マスタ!$B:$B,MATCH(\"*\"&MID(注文書!$D$17,IFERROR(FIND(\" \",注文書!$D$17),IFERROR(FIND(\"　\",注文書!$D$17),0))+1,10)&\"*\",医療機関マスタ!$C:$C,0),1)","v":"医療法人社団斗南堂　八王子クリニック"},{"$f":"配送情報書!X274","v":""},{"$f":"配送情報書!Z274","v":"00:00:00"},{"$f":"配送情報書!$V274","v":""},"転記不要",null,null,null,{"$f":"配送情報書!T274","v":0},{"$f":"COUNTIF($A$3:A272,A272)","v":270}]
[{"$f":"配送情報書!A275","v":0},{"$f":"配送情報書!AB275","v":0},{"$f":"配送情報書!AA275","v":0},{"$f":"配送情報書!AC275","v":0},{"$f":"INDEX(医療機関マスタ!$A:$A,MATCH(F273,医療機関マスタ!$B:$B,0),1)","v":"AH0000001"},{"$f":"INDEX(医療機関マスタ!$B:$B,MATCH(\"*\"&MID(注文書!$D$17,IFERROR(FIND(\" \",注文書!$D$17),IFERROR(FIND(\"　\",注文書!$D$17),0))+1,10)&\"*\",医療機関マスタ!$C:$C,0),1)","v":"医療法人社団斗南堂　八王子クリニック"},{"$f":"配送情報書!X275","v":""},{"$f":"配送情報書!Z275","v":"00:00:00"},{"$f":"配送情報書!$V275","v":""},"転記不要",null,null,null,{"$f":"配送情報書!T275","v":0},{"$f":"COUNTIF($A$3:A273,A273)","v":271}]
[{"$f":"配送情報書!A276","v":0},{"$f":"配送情報書!AB276","v":0},{"$f":"配送情報書!AA276","v":0},{"$f":"配送情報書!AC276","v":0},{"$f":"INDEX(医療機関マスタ!$A:$A,MATCH(F274,医療機関マスタ!$B:$B,0),1)","v":"AH0000001"},{"$f":"INDEX(医療機関マスタ!$B:$B,MATCH(\"*\"&MID(注文書!$D$17,IFERROR(FIND(\" \",注文書!$D$17),IFERROR(FIND(\"　\",注文書!$D$17),0))+1,10)&\"*\",医療機関マスタ!$C:$C,0),1)","v":"医療法人社団斗南堂　八王子クリニック"},{"$f":"配送情報書!X276","v":""},{"$f":"配送情報書!Z276","v":"00:00:00"},{"$f":"配送情報書!$V276","v":""},"転記不要",null,null,null,{"$f":"配送情報書!T276","v":0},{"$f":"COUNTIF($A$3:A274,A274)","v":272}]
[{"$f":"配送情報書!A277","v":0},{"$f":"配送情報書!AB277","v":0},{"$f":"配送情報書!AA277","v":0},{"$f":"配送情報書!AC277","v":0},{"$f":"INDEX(医療機関マスタ!$A:$A,MATCH(F275,医療機関マスタ!$B:$B,0),1)","v":"AH0000001"},{"$f":"INDEX(医療機関マスタ!$B:$B,MATCH(\"*\"&MID(注文書!$D$17,IFERROR(FIND(\" \",注文書!$D$17),IFERROR(FIND(\"　\",注文書!$D$17),0))+1,10)&\"*\",医療機関マスタ!$C:$C,0),1)","v":"医療法人社団斗南堂　八王子クリニック"},{"$f":"配送情報書!X277","v":""},{"$f":"配送情報書!Z277","v":"00:00:00"},{"$f":"配送情報書!$V277","v":""},"転記不要",null,null,null,{"$f":"配送情報書!T277","v":0},{"$f":"COUNTIF($A$3:A275,A275)","v":273}]
[{"$f":"配送情報書!A278","v":0},{"$f":"配送情報書!AB278","v":0},{"$f":"配送情報書!AA278","v":0},{"$f":"配送情報書!AC278","v":0},{"$f":"INDEX(医療機関マスタ!$A:$A,MATCH(F276,医療機関マスタ!$B:$B,0),1)","v":"AH0000001"},{"$f":"INDEX(医療機関マスタ!$B:$B,MATCH(\"*\"&MID(注文書!$D$17,IFERROR(FIND(\" \",注文書!$D$17),IFERROR(FIND(\"　\",注文書!$D$17),0))+1,10)&\"*\",医療機関マスタ!$C:$C,0),1)","v":"医療法人社団斗南堂　八王子クリニック"},{"$f":"配送情報書!X278","v":""},{"$f":"配送情報書!Z278","v":"00:00:00"},{"$f":"配送情報書!$V278","v":""},"転記不要",null,null,null,{"$f":"配送情報書!T278","v":0},{"$f":"COUNTIF($A$3:A276,A276)","v":274}]
[{"$f":"配送情報書!A279","v":0},{"$f":"配送情報書!AB279","v":0},{"$f":"配送情報書!AA279","v":0},{"$f":"配送情報書!AC279","v":0},{"$f":"INDEX(医療機関マスタ!$A:$A,MATCH(F277,医療機関マスタ!$B:$B,0),1)","v":"AH0000001"},{"$f":"INDEX(医療機関マスタ!$B:$B,MATCH(\"*\"&MID(注文書!$D$17,IFERROR(FIND(\" \",注文書!$D$17),IFERROR(FIND(\"　\",注文書!$D$17),0))+1,10)&\"*\",医療機関マスタ!$C:$C,0),1)","v":"医療法人社団斗南堂　八王子クリニック"},{"$f":"配送情報書!X279","v":""},{"$f":"配送情報書!Z279","v":"00:00:00"},{"$f":"配送情報書!$V279","v":""},"転記不要",null,null,null,{"$f":"配送情報書!T279","v":0},{"$f":"COUNTIF($A$3:A277,A277)","v":275}]
[{"$f":"配送情報書!A280","v":0},{"$f":"配送情報書!AB280","v":0},{"$f":"配送情報書!AA280","v":0},{"$f":"配送情報書!AC280","v":0},{"$f":"INDEX(医療機関マスタ!$A:$A,MATCH(F278,医療機関マスタ!$B:$B,0),1)","v":"AH0000001"},{"$f":"INDEX(医療機関マスタ!$B:$B,MATCH(\"*\"&MID(注文書!$D$17,IFERROR(FIND(\" \",注文書!$D$17),IFERROR(FIND(\"　\",注文書!$D$17),0))+1,10)&\"*\",医療機関マスタ!$C:$C,0),1)","v":"医療法人社団斗南堂　八王子クリニック"},{"$f":"配送情報書!X280","v":""},{"$f":"配送情報書!Z280","v":"00:00:00"},{"$f":"配送情報書!$V280","v":""},"転記不要",null,null,null,{"$f":"配送情報書!T280","v":0},{"$f":"COUNTIF($A$3:A278,A278)","v":276}]
[{"$f":"配送情報書!A281","v":0},{"$f":"配送情報書!AB281","v":0},{"$f":"配送情報書!AA281","v":0},{"$f":"配送情報書!AC281","v":0},{"$f":"INDEX(医療機関マスタ!$A:$A,MATCH(F279,医療機関マスタ!$B:$B,0),1)","v":"AH0000001"},{"$f":"INDEX(医療機関マスタ!$B:$B,MATCH(\"*\"&MID(注文書!$D$17,IFERROR(FIND(\" \",注文書!$D$17),IFERROR(FIND(\"　\",注文書!$D$17),0))+1,10)&\"*\",医療機関マスタ!$C:$C,0),1)","v":"医療法人社団斗南堂　八王子クリニック"},{"$f":"配送情報書!X281","v":""},{"$f":"配送情報書!Z281","v":"00:00:00"},{"$f":"配送情報書!$V281","v":""},"転記不要",null,null,null,{"$f":"配送情報書!T281","v":0},{"$f":"COUNTIF($A$3:A279,A279)","v":277}]
[{"$f":"配送情報書!A282","v":0},{"$f":"配送情報書!AB282","v":0},{"$f":"配送情報書!AA282","v":0},{"$f":"配送情報書!AC282","v":0},{"$f":"INDEX(医療機関マスタ!$A:$A,MATCH(F280,医療機関マスタ!$B:$B,0),1)","v":"AH0000001"},{"$f":"INDEX(医療機関マスタ!$B:$B,MATCH(\"*\"&MID(注文書!$D$17,IFERROR(FIND(\" \",注文書!$D$17),IFERROR(FIND(\"　\",注文書!$D$17),0))+1,10)&\"*\",医療機関マスタ!$C:$C,0),1)","v":"医療法人社団斗南堂　八王子クリニック"},{"$f":"配送情報書!X282","v":""},{"$f":"配送情報書!Z282","v":"00:00:00"},{"$f":"配送情報書!$V282","v":""},"転記不要",null,null,null,{"$f":"配送情報書!T282","v":0},{"$f":"COUNTIF($A$3:A280,A280)","v":278}]
[{"$f":"配送情報書!A283","v":0},{"$f":"配送情報書!AB283","v":0},{"$f":"配送情報書!AA283","v":0},{"$f":"配送情報書!AC283","v":0},{"$f":"INDEX(医療機関マスタ!$A:$A,MATCH(F281,医療機関マスタ!$B:$B,0),1)","v":"AH0000001"},{"$f":"INDEX(医療機関マスタ!$B:$B,MATCH(\"*\"&MID(注文書!$D$17,IFERROR(FIND(\" \",注文書!$D$17),IFERROR(FIND(\"　\",注文書!$D$17),0))+1,10)&\"*\",医療機関マスタ!$C:$C,0),1)","v":"医療法人社団斗南堂　八王子クリニック"},{"$f":"配送情報書!X283","v":""},{"$f":"配送情報書!Z283","v":"00:00:00"},{"$f":"配送情報書!$V283","v":""},"転記不要",null,null,null,{"$f":"配送情報書!T283","v":0},{"$f":"COUNTIF($A$3:A281,A281)","v":279}]
[{"$f":"配送情報書!A284","v":0},{"$f":"配送情報書!AB284","v":0},{"$f":"配送情報書!AA284","v":0},{"$f":"配送情報書!AC284","v":0},{"$f":"INDEX(医療機関マスタ!$A:$A,MATCH(F282,医療機関マスタ!$B:$B,0),1)","v":"AH0000001"},{"$f":"INDEX(医療機関マスタ!$B:$B,MATCH(\"*\"&MID(注文書!$D$17,IFERROR(FIND(\" \",注文書!$D$17),IFERROR(FIND(\"　\",注文書!$D$17),0))+1,10)&\"*\",医療機関マスタ!$C:$C,0),1)","v":"医療法人社団斗南堂　八王子クリニック"},{"$f":"配送情報書!X284","v":""},{"$f":"配送情報書!Z284","v":"00:00:00"},{"$f":"配送情報書!$V284","v":""},"転記不要",null,null,null,{"$f":"配送情報書!T284","v":0},{"$f":"COUNTIF($A$3:A282,A282)","v":280}]
[{"$f":"配送情報書!A285","v":0},{"$f":"配送情報書!AB285","v":0},{"$f":"配送情報書!AA285","v":0},{"$f":"配送情報書!AC285","v":0},{"$f":"INDEX(医療機関マスタ!$A:$A,MATCH(F283,医療機関マスタ!$B:$B,0),1)","v":"AH0000001"},{"$f":"INDEX(医療機関マスタ!$B:$B,MATCH(\"*\"&MID(注文書!$D$17,IFERROR(FIND(\" \",注文書!$D$17),IFERROR(FIND(\"　\",注文書!$D$17),0))+1,10)&\"*\",医療機関マスタ!$C:$C,0),1)","v":"医療法人社団斗南堂　八王子クリニック"},{"$f":"配送情報書!X285","v":""},{"$f":"配送情報書!Z285","v":"00:00:00"},{"$f":"配送情報書!$V285","v":""},"転記不要",null,null,null,{"$f":"配送情報書!T285","v":0},{"$f":"COUNTIF($A$3:A283,A283)","v":281}]
[{"$f":"配送情報書!A286","v":0},{"$f":"配送情報書!AB286","v":0},{"$f":"配送情報書!AA286","v":0},{"$f":"配送情報書!AC286","v":0},{"$f":"INDEX(医療機関マスタ!$A:$A,MATCH(F284,医療機関マスタ!$B:$B,0),1)","v":"AH0000001"},{"$f":"INDEX(医療機関マスタ!$B:$B,MATCH(\"*\"&MID(注文書!$D$17,IFERROR(FIND(\" \",注文書!$D$17),IFERROR(FIND(\"　\",注文書!$D$17),0))+1,10)&\"*\",医療機関マスタ!$C:$C,0),1)","v":"医療法人社団斗南堂　八王子クリニック"},{"$f":"配送情報書!X286","v":""},{"$f":"配送情報書!Z286","v":"00:00:00"},{"$f":"配送情報書!$V286","v":""},"転記不要",null,null,null,{"$f":"配送情報書!T286","v":0},{"$f":"COUNTIF($A$3:A284,A284)","v":282}]
[{"$f":"配送情報書!A287","v":0},{"$f":"配送情報書!AB287","v":0},{"$f":"配送情報書!AA287","v":0},{"$f":"配送情報書!AC287","v":0},{"$f":"INDEX(医療機関マスタ!$A:$A,MATCH(F285,医療機関マスタ!$B:$B,0),1)","v":"AH0000001"},{"$f":"INDEX(医療機関マスタ!$B:$B,MATCH(\"*\"&MID(注文書!$D$17,IFERROR(FIND(\" \",注文書!$D$17),IFERROR(FIND(\"　\",注文書!$D$17),0))+1,10)&\"*\",医療機関マスタ!$C:$C,0),1)","v":"医療法人社団斗南堂　八王子クリニック"},{"$f":"配送情報書!X287","v":""},{"$f":"配送情報書!Z287","v":"00:00:00"},{"$f":"配送情報書!$V287","v":""},"転記不要",null,null,null,{"$f":"配送情報書!T287","v":0},{"$f":"COUNTIF($A$3:A285,A285)","v":283}]
[{"$f":"配送情報書!A288","v":0},{"$f":"配送情報書!AB288","v":0},{"$f":"配送情報書!AA288","v":0},{"$f":"配送情報書!AC288","v":0},{"$f":"INDEX(医療機関マスタ!$A:$A,MATCH(F286,医療機関マスタ!$B:$B,0),1)","v":"AH0000001"},{"$f":"INDEX(医療機関マスタ!$B:$B,MATCH(\"*\"&MID(注文書!$D$17,IFERROR(FIND(\" \",注文書!$D$17),IFERROR(FIND(\"　\",注文書!$D$17),0))+1,10)&\"*\",医療機関マスタ!$C:$C,0),1)","v":"医療法人社団斗南堂　八王子クリニック"},{"$f":"配送情報書!X288","v":""},{"$f":"配送情報書!Z288","v":"00:00:00"},{"$f":"配送情報書!$V288","v":""},"転記不要",null,null,null,{"$f":"配送情報書!T288","v":0},{"$f":"COUNTIF($A$3:A286,A286)","v":284}]
[{"$f":"配送情報書!A289","v":0},{"$f":"配送情報書!AB289","v":0},{"$f":"配送情報書!AA289","v":0},{"$f":"配送情報書!AC289","v":0},{"$f":"INDEX(医療機関マスタ!$A:$A,MATCH(F287,医療機関マスタ!$B:$B,0),1)","v":"AH0000001"},{"$f":"INDEX(医療機関マスタ!$B:$B,MATCH(\"*\"&MID(注文書!$D$17,IFERROR(FIND(\" \",注文書!$D$17),IFERROR(FIND(\"　\",注文書!$D$17),0))+1,10)&\"*\",医療機関マスタ!$C:$C,0),1)","v":"医療法人社団斗南堂　八王子クリニック"},{"$f":"配送情報書!X289","v":""},{"$f":"配送情報書!Z289","v":"00:00:00"},{"$f":"配送情報書!$V289","v":""},"転記不要",null,null,null,{"$f":"配送情報書!T289","v":0},{"$f":"COUNTIF($A$3:A287,A287)","v":285}]
[{"$f":"配送情報書!A290","v":0},{"$f":"配送情報書!AB290","v":0},{"$f":"配送情報書!AA290","v":0},{"$f":"配送情報書!AC290","v":0},{"$f":"INDEX(医療機関マスタ!$A:$A,MATCH(F288,医療機関マスタ!$B:$B,0),1)","v":"AH0000001"},{"$f":"INDEX(医療機関マスタ!$B:$B,MATCH(\"*\"&MID(注文書!$D$17,IFERROR(FIND(\" \",注文書!$D$17),IFERROR(FIND(\"　\",注文書!$D$17),0))+1,10)&\"*\",医療機関マスタ!$C:$C,0),1)","v":"医療法人社団斗南堂　八王子クリニック"},{"$f":"配送情報書!X290","v":""},{"$f":"配送情報書!Z290","v":"00:00:00"},{"$f":"配送情報書!$V290","v":""},"転記不要",null,null,null,{"$f":"配送情報書!T290","v":0},{"$f":"COUNTIF($A$3:A288,A288)","v":286}]
[{"$f":"配送情報書!A291","v":0},{"$f":"配送情報書!AB291","v":0},{"$f":"配送情報書!AA291","v":0},{"$f":"配送情報書!AC291","v":0},{"$f":"INDEX(医療機関マスタ!$A:$A,MATCH(F289,医療機関マスタ!$B:$B,0),1)","v":"AH0000001"},{"$f":"INDEX(医療機関マスタ!$B:$B,MATCH(\"*\"&MID(注文書!$D$17,IFERROR(FIND(\" \",注文書!$D$17),IFERROR(FIND(\"　\",注文書!$D$17),0))+1,10)&\"*\",医療機関マスタ!$C:$C,0),1)","v":"医療法人社団斗南堂　八王子クリニック"},{"$f":"配送情報書!X291","v":""},{"$f":"配送情報書!Z291","v":"00:00:00"},{"$f":"配送情報書!$V291","v":""},"転記不要",null,null,null,{"$f":"配送情報書!T291","v":0},{"$f":"COUNTIF($A$3:A289,A289)","v":287}]
[{"$f":"配送情報書!A292","v":0},{"$f":"配送情報書!AB292","v":0},{"$f":"配送情報書!AA292","v":0},{"$f":"配送情報書!AC292","v":0},{"$f":"INDEX(医療機関マスタ!$A:$A,MATCH(F290,医療機関マスタ!$B:$B,0),1)","v":"AH0000001"},{"$f":"INDEX(医療機関マスタ!$B:$B,MATCH(\"*\"&MID(注文書!$D$17,IFERROR(FIND(\" \",注文書!$D$17),IFERROR(FIND(\"　\",注文書!$D$17),0))+1,10)&\"*\",医療機関マスタ!$C:$C,0),1)","v":"医療法人社団斗南堂　八王子クリニック"},{"$f":"配送情報書!X292","v":""},{"$f":"配送情報書!Z292","v":"00:00:00"},{"$f":"配送情報書!$V292","v":""},"転記不要",null,null,null,{"$f":"配送情報書!T292","v":0},{"$f":"COUNTIF($A$3:A290,A290)","v":288}]
[{"$f":"配送情報書!A293","v":0},{"$f":"配送情報書!AB293","v":0},{"$f":"配送情報書!AA293","v":0},{"$f":"配送情報書!AC293","v":0},{"$f":"INDEX(医療機関マスタ!$A:$A,MATCH(F291,医療機関マスタ!$B:$B,0),1)","v":"AH0000001"},{"$f":"INDEX(医療機関マスタ!$B:$B,MATCH(\"*\"&MID(注文書!$D$17,IFERROR(FIND(\" \",注文書!$D$17),IFERROR(FIND(\"　\",注文書!$D$17),0))+1,10)&\"*\",医療機関マスタ!$C:$C,0),1)","v":"医療法人社団斗南堂　八王子クリニック"},{"$f":"配送情報書!X293","v":""},{"$f":"配送情報書!Z293","v":"00:00:00"},{"$f":"配送情報書!$V293","v":""},"転記不要",null,null,null,{"$f":"配送情報書!T293","v":0},{"$f":"COUNTIF($A$3:A291,A291)","v":289}]
[{"$f":"配送情報書!A294","v":0},{"$f":"配送情報書!AB294","v":0},{"$f":"配送情報書!AA294","v":0},{"$f":"配送情報書!AC294","v":0},{"$f":"INDEX(医療機関マスタ!$A:$A,MATCH(F292,医療機関マスタ!$B:$B,0),1)","v":"AH0000001"},{"$f":"INDEX(医療機関マスタ!$B:$B,MATCH(\"*\"&MID(注文書!$D$17,IFERROR(FIND(\" \",注文書!$D$17),IFERROR(FIND(\"　\",注文書!$D$17),0))+1,10)&\"*\",医療機関マスタ!$C:$C,0),1)","v":"医療法人社団斗南堂　八王子クリニック"},{"$f":"配送情報書!X294","v":""},{"$f":"配送情報書!Z294","v":"00:00:00"},{"$f":"配送情報書!$V294","v":""},"転記不要",null,null,null,{"$f":"配送情報書!T294","v":0},{"$f":"COUNTIF($A$3:A292,A292)","v":290}]
[{"$f":"配送情報書!A295","v":0},{"$f":"配送情報書!AB295","v":0},{"$f":"配送情報書!AA295","v":0},{"$f":"配送情報書!AC295","v":0},{"$f":"INDEX(医療機関マスタ!$A:$A,MATCH(F293,医療機関マスタ!$B:$B,0),1)","v":"AH0000001"},{"$f":"INDEX(医療機関マスタ!$B:$B,MATCH(\"*\"&MID(注文書!$D$17,IFERROR(FIND(\" \",注文書!$D$17),IFERROR(FIND(\"　\",注文書!$D$17),0))+1,10)&\"*\",医療機関マスタ!$C:$C,0),1)","v":"医療法人社団斗南堂　八王子クリニック"},{"$f":"配送情報書!X295","v":""},{"$f":"配送情報書!Z295","v":"00:00:00"},{"$f":"配送情報書!$V295","v":""},"転記不要",null,null,null,{"$f":"配送情報書!T295","v":0},{"$f":"COUNTIF($A$3:A293,A293)","v":291}]
[{"$f":"配送情報書!A296","v":0},{"$f":"配送情報書!AB296","v":0},{"$f":"配送情報書!AA296","v":0},{"$f":"配送情報書!AC296","v":0},{"$f":"INDEX(医療機関マスタ!$A:$A,MATCH(F294,医療機関マスタ!$B:$B,0),1)","v":"AH0000001"},{"$f":"INDEX(医療機関マスタ!$B:$B,MATCH(\"*\"&MID(注文書!$D$17,IFERROR(FIND(\" \",注文書!$D$17),IFERROR(FIND(\"　\",注文書!$D$17),0))+1,10)&\"*\",医療機関マスタ!$C:$C,0),1)","v":"医療法人社団斗南堂　八王子クリニック"},{"$f":"配送情報書!X296","v":""},{"$f":"配送情報書!Z296","v":"00:00:00"},{"$f":"配送情報書!$V296","v":""},"転記不要",null,null,null,{"$f":"配送情報書!T296","v":0},{"$f":"COUNTIF($A$3:A294,A294)","v":292}]
[{"$f":"配送情報書!A297","v":0},{"$f":"配送情報書!AB297","v":0},{"$f":"配送情報書!AA297","v":0},{"$f":"配送情報書!AC297","v":0},{"$f":"INDEX(医療機関マスタ!$A:$A,MATCH(F295,医療機関マスタ!$B:$B,0),1)","v":"AH0000001"},{"$f":"INDEX(医療機関マスタ!$B:$B,MATCH(\"*\"&MID(注文書!$D$17,IFERROR(FIND(\" \",注文書!$D$17),IFERROR(FIND(\"　\",注文書!$D$17),0))+1,10)&\"*\",医療機関マスタ!$C:$C,0),1)","v":"医療法人社団斗南堂　八王子クリニック"},{"$f":"配送情報書!X297","v":""},{"$f":"配送情報書!Z297","v":"00:00:00"},{"$f":"配送情報書!$V297","v":""},"転記不要",null,null,null,{"$f":"配送情報書!T297","v":0},{"$f":"COUNTIF($A$3:A295,A295)","v":293}]
[{"$f":"配送情報書!A298","v":0},{"$f":"配送情報書!AB298","v":0},{"$f":"配送情報書!AA298","v":0},{"$f":"配送情報書!AC298","v":0},{"$f":"INDEX(医療機関マスタ!$A:$A,MATCH(F296,医療機関マスタ!$B:$B,0),1)","v":"AH0000001"},{"$f":"INDEX(医療機関マスタ!$B:$B,MATCH(\"*\"&MID(注文書!$D$17,IFERROR(FIND(\" \",注文書!$D$17),IFERROR(FIND(\"　\",注文書!$D$17),0))+1,10)&\"*\",医療機関マスタ!$C:$C,0),1)","v":"医療法人社団斗南堂　八王子クリニック"},{"$f":"配送情報書!X298","v":""},{"$f":"配送情報書!Z298","v":"00:00:00"},{"$f":"配送情報書!$V298","v":""},"転記不要",null,null,null,{"$f":"配送情報書!T298","v":0},{"$f":"COUNTIF($A$3:A296,A296)","v":294}]
[{"$f":"配送情報書!A299","v":0},{"$f":"配送情報書!AB299","v":0},{"$f":"配送情報書!AA299","v":0},{"$f":"配送情報書!AC299","v":0},{"$f":"INDEX(医療機関マスタ!$A:$A,MATCH(F297,医療機関マスタ!$B:$B,0),1)","v":"AH0000001"},{"$f":"INDEX(医療機関マスタ!$B:$B,MATCH(\"*\"&MID(注文書!$D$17,IFERROR(FIND(\" \",注文書!$D$17),IFERROR(FIND(\"　\",注文書!$D$17),0))+1,10)&\"*\",医療機関マスタ!$C:$C,0),1)","v":"医療法人社団斗南堂　八王子クリニック"},{"$f":"配送情報書!X299","v":""},{"$f":"配送情報書!Z299","v":"00:00:00"},{"$f":"配送情報書!$V299","v":""},"転記不要",null,null,null,{"$f":"配送情報書!T299","v":0},{"$f":"COUNTIF($A$3:A297,A297)","v":295}]
[{"$f":"配送情報書!A300","v":0},{"$f":"配送情報書!AB300","v":0},{"$f":"配送情報書!AA300","v":0},{"$f":"配送情報書!AC300","v":0},{"$f":"INDEX(医療機関マスタ!$A:$A,MATCH(F298,医療機関マスタ!$B:$B,0),1)","v":"AH0000001"},{"$f":"INDEX(医療機関マスタ!$B:$B,MATCH(\"*\"&MID(注文書!$D$17,IFERROR(FIND(\" \",注文書!$D$17),IFERROR(FIND(\"　\",注文書!$D$17),0))+1,10)&\"*\",医療機関マスタ!$C:$C,0),1)","v":"医療法人社団斗南堂　八王子クリニック"},{"$f":"配送情報書!X300","v":""},{"$f":"配送情報書!Z300","v":"00:00:00"},{"$f":"配送情報書!$V300","v":""},"転記不要",null,null,null,{"$f":"配送情報書!T300","v":0},{"$f":"COUNTIF($A$3:A298,A298)","v":296}]
[{"$f":"配送情報書!A301","v":0},{"$f":"配送情報書!AB301","v":0},{"$f":"配送情報書!AA301","v":0},{"$f":"配送情報書!AC301","v":0},{"$f":"INDEX(医療機関マスタ!$A:$A,MATCH(F299,医療機関マスタ!$B:$B,0),1)","v":"AH0000001"},{"$f":"INDEX(医療機関マスタ!$B:$B,MATCH(\"*\"&MID(注文書!$D$17,IFERROR(FIND(\" \",注文書!$D$17),IFERROR(FIND(\"　\",注文書!$D$17),0))+1,10)&\"*\",医療機関マスタ!$C:$C,0),1)","v":"医療法人社団斗南堂　八王子クリニック"},{"$f":"配送情報書!X301","v":""},{"$f":"配送情報書!Z301","v":"00:00:00"},{"$f":"配送情報書!$V301","v":""},"転記不要",null,null,null,{"$f":"配送情報書!T301","v":0},{"$f":"COUNTIF($A$3:A299,A299)","v":297}]
[{"$f":"配送情報書!A302","v":0},{"$f":"配送情報書!AB302","v":0},{"$f":"配送情報書!AA302","v":0},{"$f":"配送情報書!AC302","v":0},{"$f":"INDEX(医療機関マスタ!$A:$A,MATCH(F300,医療機関マスタ!$B:$B,0),1)","v":"AH0000001"},{"$f":"INDEX(医療機関マスタ!$B:$B,MATCH(\"*\"&MID(注文書!$D$17,IFERROR(FIND(\" \",注文書!$D$17),IFERROR(FIND(\"　\",注文書!$D$17),0))+1,10)&\"*\",医療機関マスタ!$C:$C,0),1)","v":"医療法人社団斗南堂　八王子クリニック"},{"$f":"配送情報書!X302","v":""},{"$f":"配送情報書!Z302","v":"00:00:00"},{"$f":"配送情報書!$V302","v":""},"転記不要",null,null,null,{"$f":"配送情報書!T302","v":0},{"$f":"COUNTIF($A$3:A300,A300)","v":298}]
[{"$f":"配送情報書!A303","v":0},{"$f":"配送情報書!AB303","v":0},{"$f":"配送情報書!AA303","v":0},{"$f":"配送情報書!AC303","v":0},{"$f":"INDEX(医療機関マスタ!$A:$A,MATCH(F301,医療機関マスタ!$B:$B,0),1)","v":"AH0000001"},{"$f":"INDEX(医療機関マスタ!$B:$B,MATCH(\"*\"&MID(注文書!$D$17,IFERROR(FIND(\" \",注文書!$D$17),IFERROR(FIND(\"　\",注文書!$D$17),0))+1,10)&\"*\",医療機関マスタ!$C:$C,0),1)","v":"医療法人社団斗南堂　八王子クリニック"},{"$f":"配送情報書!X303","v":""},{"$f":"配送情報書!Z303","v":"00:00:00"},{"$f":"配送情報書!$V303","v":""},"転記不要",null,null,null,{"$f":"配送情報書!T303","v":0},{"$f":"COUNTIF($A$3:A301,A301)","v":299}]
[{"$f":"配送情報書!A304","v":0},{"$f":"配送情報書!AB304","v":0},{"$f":"配送情報書!AA304","v":0},{"$f":"配送情報書!AC304","v":0},{"$f":"INDEX(医療機関マスタ!$A:$A,MATCH(F302,医療機関マスタ!$B:$B,0),1)","v":"AH0000001"},{"$f":"INDEX(医療機関マスタ!$B:$B,MATCH(\"*\"&MID(注文書!$D$17,IFERROR(FIND(\" \",注文書!$D$17),IFERROR(FIND(\"　\",注文書!$D$17),0))+1,10)&\"*\",医療機関マスタ!$C:$C,0),1)","v":"医療法人社団斗南堂　八王子クリニック"},{"$f":"配送情報書!X304","v":""},{"$f":"配送情報書!Z304","v":"00:00:00"},{"$f":"配送情報書!$V304","v":""},"転記不要",null,null,null,{"$f":"配送情報書!T304","v":0},{"$f":"COUNTIF($A$3:A302,A302)","v":300}]
[{"$f":"配送情報書!A305","v":0},{"$f":"配送情報書!AB305","v":0},{"$f":"配送情報書!AA305","v":0},{"$f":"配送情報書!AC305","v":0},{"$f":"INDEX(医療機関マスタ!$A:$A,MATCH(F303,医療機関マスタ!$B:$B,0),1)","v":"AH0000001"},{"$f":"INDEX(医療機関マスタ!$B:$B,MATCH(\"*\"&MID(注文書!$D$17,IFERROR(FIND(\" \",注文書!$D$17),IFERROR(FIND(\"　\",注文書!$D$17),0))+1,10)&\"*\",医療機関マスタ!$C:$C,0),1)","v":"医療法人社団斗南堂　八王子クリニック"},{"$f":"配送情報書!X305","v":""},{"$f":"配送情報書!Z305","v":"00:00:00"},{"$f":"配送情報書!$V305","v":""},"転記不要",null,null,null,{"$f":"配送情報書!T305","v":0},{"$f":"COUNTIF($A$3:A303,A303)","v":301}]
[{"$f":"配送情報書!A306","v":0},{"$f":"配送情報書!AB306","v":0},{"$f":"配送情報書!AA306","v":0},{"$f":"配送情報書!AC306","v":0},{"$f":"INDEX(医療機関マスタ!$A:$A,MATCH(F304,医療機関マスタ!$B:$B,0),1)","v":"AH0000001"},{"$f":"INDEX(医療機関マスタ!$B:$B,MATCH(\"*\"&MID(注文書!$D$17,IFERROR(FIND(\" \",注文書!$D$17),IFERROR(FIND(\"　\",注文書!$D$17),0))+1,10)&\"*\",医療機関マスタ!$C:$C,0),1)","v":"医療法人社団斗南堂　八王子クリニック"},{"$f":"配送情報書!X306","v":""},{"$f":"配送情報書!Z306","v":"00:00:00"},{"$f":"配送情報書!$V306","v":""},"転記不要",null,null,null,{"$f":"配送情報書!T306","v":0},{"$f":"COUNTIF($A$3:A304,A304)","v":302}]
[{"$f":"配送情報書!A307","v":0},{"$f":"配送情報書!AB307","v":0},{"$f":"配送情報書!AA307","v":0},{"$f":"配送情報書!AC307","v":0},{"$f":"INDEX(医療機関マスタ!$A:$A,MATCH(F305,医療機関マスタ!$B:$B,0),1)","v":"AH0000001"},{"$f":"INDEX(医療機関マスタ!$B:$B,MATCH(\"*\"&MID(注文書!$D$17,IFERROR(FIND(\" \",注文書!$D$17),IFERROR(FIND(\"　\",注文書!$D$17),0))+1,10)&\"*\",医療機関マスタ!$C:$C,0),1)","v":"医療法人社団斗南堂　八王子クリニック"},{"$f":"配送情報書!X307","v":""},{"$f":"配送情報書!Z307","v":"00:00:00"},{"$f":"配送情報書!$V307","v":""},"転記不要",null,null,null,{"$f":"配送情報書!T307","v":0},{"$f":"COUNTIF($A$3:A305,A305)","v":303}]
[{"$f":"配送情報書!A308","v":0},{"$f":"配送情報書!AB308","v":0},{"$f":"配送情報書!AA308","v":0},{"$f":"配送情報書!AC308","v":0},{"$f":"INDEX(医療機関マスタ!$A:$A,MATCH(F306,医療機関マスタ!$B:$B,0),1)","v":"AH0000001"},{"$f":"INDEX(医療機関マスタ!$B:$B,MATCH(\"*\"&MID(注文書!$D$17,IFERROR(FIND(\" \",注文書!$D$17),IFERROR(FIND(\"　\",注文書!$D$17),0))+1,10)&\"*\",医療機関マスタ!$C:$C,0),1)","v":"医療法人社団斗南堂　八王子クリニック"},{"$f":"配送情報書!X308","v":""},{"$f":"配送情報書!Z308","v":"00:00:00"},{"$f":"配送情報書!$V308","v":""},"転記不要",null,null,null,{"$f":"配送情報書!T308","v":0},{"$f":"COUNTIF($A$3:A306,A306)","v":304}]
[{"$f":"配送情報書!A309","v":0},{"$f":"配送情報書!AB309","v":0},{"$f":"配送情報書!AA309","v":0},{"$f":"配送情報書!AC309","v":0},{"$f":"INDEX(医療機関マスタ!$A:$A,MATCH(F307,医療機関マスタ!$B:$B,0),1)","v":"AH0000001"},{"$f":"INDEX(医療機関マスタ!$B:$B,MATCH(\"*\"&MID(注文書!$D$17,IFERROR(FIND(\" \",注文書!$D$17),IFERROR(FIND(\"　\",注文書!$D$17),0))+1,10)&\"*\",医療機関マスタ!$C:$C,0),1)","v":"医療法人社団斗南堂　八王子クリニック"},{"$f":"配送情報書!X309","v":""},{"$f":"配送情報書!Z309","v":"00:00:00"},{"$f":"配送情報書!$V309","v":""},"転記不要",null,null,null,{"$f":"配送情報書!T309","v":0},{"$f":"COUNTIF($A$3:A307,A307)","v":305}]
[{"$f":"配送情報書!A310","v":0},{"$f":"配送情報書!AB310","v":0},{"$f":"配送情報書!AA310","v":0},{"$f":"配送情報書!AC310","v":0},{"$f":"INDEX(医療機関マスタ!$A:$A,MATCH(F308,医療機関マスタ!$B:$B,0),1)","v":"AH0000001"},{"$f":"INDEX(医療機関マスタ!$B:$B,MATCH(\"*\"&MID(注文書!$D$17,IFERROR(FIND(\" \",注文書!$D$17),IFERROR(FIND(\"　\",注文書!$D$17),0))+1,10)&\"*\",医療機関マスタ!$C:$C,0),1)","v":"医療法人社団斗南堂　八王子クリニック"},{"$f":"配送情報書!X310","v":""},{"$f":"配送情報書!Z310","v":"00:00:00"},{"$f":"配送情報書!$V310","v":""},"転記不要",null,null,null,{"$f":"配送情報書!T310","v":0},{"$f":"COUNTIF($A$3:A308,A308)","v":306}]
[{"$f":"配送情報書!A311","v":0},{"$f":"配送情報書!AB311","v":0},{"$f":"配送情報書!AA311","v":0},{"$f":"配送情報書!AC311","v":0},{"$f":"INDEX(医療機関マスタ!$A:$A,MATCH(F309,医療機関マスタ!$B:$B,0),1)","v":"AH0000001"},{"$f":"INDEX(医療機関マスタ!$B:$B,MATCH(\"*\"&MID(注文書!$D$17,IFERROR(FIND(\" \",注文書!$D$17),IFERROR(FIND(\"　\",注文書!$D$17),0))+1,10)&\"*\",医療機関マスタ!$C:$C,0),1)","v":"医療法人社団斗南堂　八王子クリニック"},{"$f":"配送情報書!X311","v":""},{"$f":"配送情報書!Z311","v":"00:00:00"},{"$f":"配送情報書!$V311","v":""},"転記不要",null,null,null,{"$f":"配送情報書!T311","v":0},{"$f":"COUNTIF($A$3:A309,A309)","v":307}]
[{"$f":"配送情報書!A312","v":0},{"$f":"配送情報書!AB312","v":0},{"$f":"配送情報書!AA312","v":0},{"$f":"配送情報書!AC312","v":0},{"$f":"INDEX(医療機関マスタ!$A:$A,MATCH(F310,医療機関マスタ!$B:$B,0),1)","v":"AH0000001"},{"$f":"INDEX(医療機関マスタ!$B:$B,MATCH(\"*\"&MID(注文書!$D$17,IFERROR(FIND(\" \",注文書!$D$17),IFERROR(FIND(\"　\",注文書!$D$17),0))+1,10)&\"*\",医療機関マスタ!$C:$C,0),1)","v":"医療法人社団斗南堂　八王子クリニック"},{"$f":"配送情報書!X312","v":""},{"$f":"配送情報書!Z312","v":"00:00:00"},{"$f":"配送情報書!$V312","v":""},"転記不要",null,null,null,{"$f":"配送情報書!T312","v":0},{"$f":"COUNTIF($A$3:A310,A310)","v":308}]
[{"$f":"配送情報書!A313","v":0},{"$f":"配送情報書!AB313","v":0},{"$f":"配送情報書!AA313","v":0},{"$f":"配送情報書!AC313","v":0},{"$f":"INDEX(医療機関マスタ!$A:$A,MATCH(F311,医療機関マスタ!$B:$B,0),1)","v":"AH0000001"},{"$f":"INDEX(医療機関マスタ!$B:$B,MATCH(\"*\"&MID(注文書!$D$17,IFERROR(FIND(\" \",注文書!$D$17),IFERROR(FIND(\"　\",注文書!$D$17),0))+1,10)&\"*\",医療機関マスタ!$C:$C,0),1)","v":"医療法人社団斗南堂　八王子クリニック"},{"$f":"配送情報書!X313","v":""},{"$f":"配送情報書!Z313","v":"00:00:00"},{"$f":"配送情報書!$V313","v":""},"転記不要",null,null,null,{"$f":"配送情報書!T313","v":0},{"$f":"COUNTIF($A$3:A311,A311)","v":309}]
[{"$f":"配送情報書!A314","v":0},{"$f":"配送情報書!AB314","v":0},{"$f":"配送情報書!AA314","v":0},{"$f":"配送情報書!AC314","v":0},{"$f":"INDEX(医療機関マスタ!$A:$A,MATCH(F312,医療機関マスタ!$B:$B,0),1)","v":"AH0000001"},{"$f":"INDEX(医療機関マスタ!$B:$B,MATCH(\"*\"&MID(注文書!$D$17,IFERROR(FIND(\" \",注文書!$D$17),IFERROR(FIND(\"　\",注文書!$D$17),0))+1,10)&\"*\",医療機関マスタ!$C:$C,0),1)","v":"医療法人社団斗南堂　八王子クリニック"},{"$f":"配送情報書!X314","v":""},{"$f":"配送情報書!Z314","v":"00:00:00"},{"$f":"配送情報書!$V314","v":""},"転記不要",null,null,null,{"$f":"配送情報書!T314","v":0},{"$f":"COUNTIF($A$3:A312,A312)","v":310}]
[{"$f":"配送情報書!A315","v":0},{"$f":"配送情報書!AB315","v":0},{"$f":"配送情報書!AA315","v":0},{"$f":"配送情報書!AC315","v":0},{"$f":"INDEX(医療機関マスタ!$A:$A,MATCH(F313,医療機関マスタ!$B:$B,0),1)","v":"AH0000001"},{"$f":"INDEX(医療機関マスタ!$B:$B,MATCH(\"*\"&MID(注文書!$D$17,IFERROR(FIND(\" \",注文書!$D$17),IFERROR(FIND(\"　\",注文書!$D$17),0))+1,10)&\"*\",医療機関マスタ!$C:$C,0),1)","v":"医療法人社団斗南堂　八王子クリニック"},{"$f":"配送情報書!X315","v":""},{"$f":"配送情報書!Z315","v":"00:00:00"},{"$f":"配送情報書!$V315","v":""},"転記不要",null,null,null,{"$f":"配送情報書!T315","v":0},{"$f":"COUNTIF($A$3:A313,A313)","v":311}]
[{"$f":"配送情報書!A316","v":0},{"$f":"配送情報書!AB316","v":0},{"$f":"配送情報書!AA316","v":0},{"$f":"配送情報書!AC316","v":0},{"$f":"INDEX(医療機関マスタ!$A:$A,MATCH(F314,医療機関マスタ!$B:$B,0),1)","v":"AH0000001"},{"$f":"INDEX(医療機関マスタ!$B:$B,MATCH(\"*\"&MID(注文書!$D$17,IFERROR(FIND(\" \",注文書!$D$17),IFERROR(FIND(\"　\",注文書!$D$17),0))+1,10)&\"*\",医療機関マスタ!$C:$C,0),1)","v":"医療法人社団斗南堂　八王子クリニック"},{"$f":"配送情報書!X316","v":""},{"$f":"配送情報書!Z316","v":"00:00:00"},{"$f":"配送情報書!$V316","v":""},"転記不要",null,null,null,{"$f":"配送情報書!T316","v":0},{"$f":"COUNTIF($A$3:A314,A314)","v":312}]
[{"$f":"配送情報書!A317","v":0},{"$f":"配送情報書!AB317","v":0},{"$f":"配送情報書!AA317","v":0},{"$f":"配送情報書!AC317","v":0},{"$f":"INDEX(医療機関マスタ!$A:$A,MATCH(F315,医療機関マスタ!$B:$B,0),1)","v":"AH0000001"},{"$f":"INDEX(医療機関マスタ!$B:$B,MATCH(\"*\"&MID(注文書!$D$17,IFERROR(FIND(\" \",注文書!$D$17),IFERROR(FIND(\"　\",注文書!$D$17),0))+1,10)&\"*\",医療機関マスタ!$C:$C,0),1)","v":"医療法人社団斗南堂　八王子クリニック"},{"$f":"配送情報書!X317","v":""},{"$f":"配送情報書!Z317","v":"00:00:00"},{"$f":"配送情報書!$V317","v":""},"転記不要",null,null,null,{"$f":"配送情報書!T317","v":0},{"$f":"COUNTIF($A$3:A315,A315)","v":313}]
[{"$f":"配送情報書!A318","v":0},{"$f":"配送情報書!AB318","v":0},{"$f":"配送情報書!AA318","v":0},{"$f":"配送情報書!AC318","v":0},{"$f":"INDEX(医療機関マスタ!$A:$A,MATCH(F316,医療機関マスタ!$B:$B,0),1)","v":"AH0000001"},{"$f":"INDEX(医療機関マスタ!$B:$B,MATCH(\"*\"&MID(注文書!$D$17,IFERROR(FIND(\" \",注文書!$D$17),IFERROR(FIND(\"　\",注文書!$D$17),0))+1,10)&\"*\",医療機関マスタ!$C:$C,0),1)","v":"医療法人社団斗南堂　八王子クリニック"},{"$f":"配送情報書!X318","v":""},{"$f":"配送情報書!Z318","v":"00:00:00"},{"$f":"配送情報書!$V318","v":""},"転記不要",null,null,null,{"$f":"配送情報書!T318","v":0},{"$f":"COUNTIF($A$3:A316,A316)","v":314}]
[{"$f":"配送情報書!A319","v":0},{"$f":"配送情報書!AB319","v":0},{"$f":"配送情報書!AA319","v":0},{"$f":"配送情報書!AC319","v":0},{"$f":"INDEX(医療機関マスタ!$A:$A,MATCH(F317,医療機関マスタ!$B:$B,0),1)","v":"AH0000001"},{"$f":"INDEX(医療機関マスタ!$B:$B,MATCH(\"*\"&MID(注文書!$D$17,IFERROR(FIND(\" \",注文書!$D$17),IFERROR(FIND(\"　\",注文書!$D$17),0))+1,10)&\"*\",医療機関マスタ!$C:$C,0),1)","v":"医療法人社団斗南堂　八王子クリニック"},{"$f":"配送情報書!X319","v":""},{"$f":"配送情報書!Z319","v":"00:00:00"},{"$f":"配送情報書!$V319","v":""},"転記不要",null,null,null,{"$f":"配送情報書!T319","v":0},{"$f":"COUNTIF($A$3:A317,A317)","v":315}]
[{"$f":"配送情報書!A320","v":0},{"$f":"配送情報書!AB320","v":0},{"$f":"配送情報書!AA320","v":0},{"$f":"配送情報書!AC320","v":0},{"$f":"INDEX(医療機関マスタ!$A:$A,MATCH(F318,医療機関マスタ!$B:$B,0),1)","v":"AH0000001"},{"$f":"INDEX(医療機関マスタ!$B:$B,MATCH(\"*\"&MID(注文書!$D$17,IFERROR(FIND(\" \",注文書!$D$17),IFERROR(FIND(\"　\",注文書!$D$17),0))+1,10)&\"*\",医療機関マスタ!$C:$C,0),1)","v":"医療法人社団斗南堂　八王子クリニック"},{"$f":"配送情報書!X320","v":""},{"$f":"配送情報書!Z320","v":"00:00:00"},{"$f":"配送情報書!$V320","v":""},"転記不要",null,null,null,{"$f":"配送情報書!T320","v":0},{"$f":"COUNTIF($A$3:A318,A318)","v":316}]
[{"$f":"配送情報書!A321","v":0},{"$f":"配送情報書!AB321","v":0},{"$f":"配送情報書!AA321","v":0},{"$f":"配送情報書!AC321","v":0},{"$f":"INDEX(医療機関マスタ!$A:$A,MATCH(F319,医療機関マスタ!$B:$B,0),1)","v":"AH0000001"},{"$f":"INDEX(医療機関マスタ!$B:$B,MATCH(\"*\"&MID(注文書!$D$17,IFERROR(FIND(\" \",注文書!$D$17),IFERROR(FIND(\"　\",注文書!$D$17),0))+1,10)&\"*\",医療機関マスタ!$C:$C,0),1)","v":"医療法人社団斗南堂　八王子クリニック"},{"$f":"配送情報書!X321","v":""},{"$f":"配送情報書!Z321","v":"00:00:00"},{"$f":"配送情報書!$V321","v":""},"転記不要",null,null,null,{"$f":"配送情報書!T321","v":0},{"$f":"COUNTIF($A$3:A319,A319)","v":317}]
[{"$f":"配送情報書!A322","v":0},{"$f":"配送情報書!AB322","v":0},{"$f":"配送情報書!AA322","v":0},{"$f":"配送情報書!AC322","v":0},{"$f":"INDEX(医療機関マスタ!$A:$A,MATCH(F320,医療機関マスタ!$B:$B,0),1)","v":"AH0000001"},{"$f":"INDEX(医療機関マスタ!$B:$B,MATCH(\"*\"&MID(注文書!$D$17,IFERROR(FIND(\" \",注文書!$D$17),IFERROR(FIND(\"　\",注文書!$D$17),0))+1,10)&\"*\",医療機関マスタ!$C:$C,0),1)","v":"医療法人社団斗南堂　八王子クリニック"},{"$f":"配送情報書!X322","v":""},{"$f":"配送情報書!Z322","v":"00:00:00"},{"$f":"配送情報書!$V322","v":""},"転記不要",null,null,null,{"$f":"配送情報書!T322","v":0},{"$f":"COUNTIF($A$3:A320,A320)","v":318}]
[{"$f":"配送情報書!A323","v":0},{"$f":"配送情報書!AB323","v":0},{"$f":"配送情報書!AA323","v":0},{"$f":"配送情報書!AC323","v":0},{"$f":"INDEX(医療機関マスタ!$A:$A,MATCH(F321,医療機関マスタ!$B:$B,0),1)","v":"AH0000001"},{"$f":"INDEX(医療機関マスタ!$B:$B,MATCH(\"*\"&MID(注文書!$D$17,IFERROR(FIND(\" \",注文書!$D$17),IFERROR(FIND(\"　\",注文書!$D$17),0))+1,10)&\"*\",医療機関マスタ!$C:$C,0),1)","v":"医療法人社団斗南堂　八王子クリニック"},{"$f":"配送情報書!X323","v":""},{"$f":"配送情報書!Z323","v":"00:00:00"},{"$f":"配送情報書!$V323","v":""},"転記不要",null,null,null,{"$f":"配送情報書!T323","v":0},{"$f":"COUNTIF($A$3:A321,A321)","v":319}]
[{"$f":"配送情報書!A324","v":0},{"$f":"配送情報書!AB324","v":0},{"$f":"配送情報書!AA324","v":0},{"$f":"配送情報書!AC324","v":0},{"$f":"INDEX(医療機関マスタ!$A:$A,MATCH(F322,医療機関マスタ!$B:$B,0),1)","v":"AH0000001"},{"$f":"INDEX(医療機関マスタ!$B:$B,MATCH(\"*\"&MID(注文書!$D$17,IFERROR(FIND(\" \",注文書!$D$17),IFERROR(FIND(\"　\",注文書!$D$17),0))+1,10)&\"*\",医療機関マスタ!$C:$C,0),1)","v":"医療法人社団斗南堂　八王子クリニック"},{"$f":"配送情報書!X324","v":""},{"$f":"配送情報書!Z324","v":"00:00:00"},{"$f":"配送情報書!$V324","v":""},"転記不要",null,null,null,{"$f":"配送情報書!T324","v":0},{"$f":"COUNTIF($A$3:A322,A322)","v":320}]
[{"$f":"配送情報書!A325","v":0},{"$f":"配送情報書!AB325","v":0},{"$f":"配送情報書!AA325","v":0},{"$f":"配送情報書!AC325","v":0},{"$f":"INDEX(医療機関マスタ!$A:$A,MATCH(F323,医療機関マスタ!$B:$B,0),1)","v":"AH0000001"},{"$f":"INDEX(医療機関マスタ!$B:$B,MATCH(\"*\"&MID(注文書!$D$17,IFERROR(FIND(\" \",注文書!$D$17),IFERROR(FIND(\"　\",注文書!$D$17),0))+1,10)&\"*\",医療機関マスタ!$C:$C,0),1)","v":"医療法人社団斗南堂　八王子クリニック"},{"$f":"配送情報書!X325","v":""},{"$f":"配送情報書!Z325","v":"00:00:00"},{"$f":"配送情報書!$V325","v":""},"転記不要",null,null,null,{"$f":"配送情報書!T325","v":0},{"$f":"COUNTIF($A$3:A323,A323)","v":321}]
[{"$f":"配送情報書!A326","v":0},{"$f":"配送情報書!AB326","v":0},{"$f":"配送情報書!AA326","v":0},{"$f":"配送情報書!AC326","v":0},{"$f":"INDEX(医療機関マスタ!$A:$A,MATCH(F324,医療機関マスタ!$B:$B,0),1)","v":"AH0000001"},{"$f":"INDEX(医療機関マスタ!$B:$B,MATCH(\"*\"&MID(注文書!$D$17,IFERROR(FIND(\" \",注文書!$D$17),IFERROR(FIND(\"　\",注文書!$D$17),0))+1,10)&\"*\",医療機関マスタ!$C:$C,0),1)","v":"医療法人社団斗南堂　八王子クリニック"},{"$f":"配送情報書!X326","v":""},{"$f":"配送情報書!Z326","v":"00:00:00"},{"$f":"配送情報書!$V326","v":""},{"$f":"IF(AND(N324>0,O324=1),SUMIFS($N:$N,$A:$A,A324),\"転記不要\")","v":"転記不要"},null,null,null,{"$f":"配送情報書!T326","v":0},{"$f":"COUNTIF($A$3:A324,A324)","v":322}]
[{"$f":"配送情報書!A327","v":0},{"$f":"配送情報書!AB327","v":0},{"$f":"配送情報書!AA327","v":0},{"$f":"配送情報書!AC327","v":0},{"$f":"INDEX(医療機関マスタ!$A:$A,MATCH(F325,医療機関マスタ!$B:$B,0),1)","v":"AH0000001"},{"$f":"INDEX(医療機関マスタ!$B:$B,MATCH(\"*\"&MID(注文書!$D$17,IFERROR(FIND(\" \",注文書!$D$17),IFERROR(FIND(\"　\",注文書!$D$17),0))+1,10)&\"*\",医療機関マスタ!$C:$C,0),1)","v":"医療法人社団斗南堂　八王子クリニック"},{"$f":"配送情報書!X327","v":""},{"$f":"配送情報書!Z327","v":"00:00:00"},{"$f":"配送情報書!$V327","v":""},"転記不要",null,null,null,{"$f":"配送情報書!T327","v":0},{"$f":"COUNTIF($A$3:A325,A325)","v":323}]
[{"$f":"配送情報書!A328","v":0},{"$f":"配送情報書!AB328","v":0},{"$f":"配送情報書!AA328","v":0},{"$f":"配送情報書!AC328","v":0},{"$f":"INDEX(医療機関マスタ!$A:$A,MATCH(F326,医療機関マスタ!$B:$B,0),1)","v":"AH0000001"},{"$f":"INDEX(医療機関マスタ!$B:$B,MATCH(\"*\"&MID(注文書!$D$17,IFERROR(FIND(\" \",注文書!$D$17),IFERROR(FIND(\"　\",注文書!$D$17),0))+1,10)&\"*\",医療機関マスタ!$C:$C,0),1)","v":"医療法人社団斗南堂　八王子クリニック"},{"$f":"配送情報書!X328","v":""},{"$f":"配送情報書!Z328","v":"00:00:00"},{"$f":"配送情報書!$V328","v":""},"転記不要",null,null,null,{"$f":"配送情報書!T328","v":0},{"$f":"COUNTIF($A$3:A326,A326)","v":324}]
[{"$f":"配送情報書!A329","v":0},{"$f":"配送情報書!AB329","v":0},{"$f":"配送情報書!AA329","v":0},{"$f":"配送情報書!AC329","v":0},{"$f":"INDEX(医療機関マスタ!$A:$A,MATCH(F327,医療機関マスタ!$B:$B,0),1)","v":"AH0000001"},{"$f":"INDEX(医療機関マスタ!$B:$B,MATCH(\"*\"&MID(注文書!$D$17,IFERROR(FIND(\" \",注文書!$D$17),IFERROR(FIND(\"　\",注文書!$D$17),0))+1,10)&\"*\",医療機関マスタ!$C:$C,0),1)","v":"医療法人社団斗南堂　八王子クリニック"},{"$f":"配送情報書!X329","v":""},{"$f":"配送情報書!Z329","v":"00:00:00"},{"$f":"配送情報書!$V329","v":""},"転記不要",null,null,null,{"$f":"配送情報書!T329","v":0},{"$f":"COUNTIF($A$3:A327,A327)","v":325}]
[{"$f":"配送情報書!A330","v":0},{"$f":"配送情報書!AB330","v":0},{"$f":"配送情報書!AA330","v":0},{"$f":"配送情報書!AC330","v":0},{"$f":"INDEX(医療機関マスタ!$A:$A,MATCH(F328,医療機関マスタ!$B:$B,0),1)","v":"AH0000001"},{"$f":"INDEX(医療機関マスタ!$B:$B,MATCH(\"*\"&MID(注文書!$D$17,IFERROR(FIND(\" \",注文書!$D$17),IFERROR(FIND(\"　\",注文書!$D$17),0))+1,10)&\"*\",医療機関マスタ!$C:$C,0),1)","v":"医療法人社団斗南堂　八王子クリニック"},{"$f":"配送情報書!X330","v":""},{"$f":"配送情報書!Z330","v":"00:00:00"},{"$f":"配送情報書!$V330","v":""},"転記不要",null,null,null,{"$f":"配送情報書!T330","v":0},{"$f":"COUNTIF($A$3:A328,A328)","v":326}]
[{"$f":"配送情報書!A331","v":0},{"$f":"配送情報書!AB331","v":0},{"$f":"配送情報書!AA331","v":0},{"$f":"配送情報書!AC331","v":0},{"$f":"INDEX(医療機関マスタ!$A:$A,MATCH(F329,医療機関マスタ!$B:$B,0),1)","v":"AH0000001"},{"$f":"INDEX(医療機関マスタ!$B:$B,MATCH(\"*\"&MID(注文書!$D$17,IFERROR(FIND(\" \",注文書!$D$17),IFERROR(FIND(\"　\",注文書!$D$17),0))+1,10)&\"*\",医療機関マスタ!$C:$C,0),1)","v":"医療法人社団斗南堂　八王子クリニック"},{"$f":"配送情報書!X331","v":""},{"$f":"配送情報書!Z331","v":"00:00:00"},{"$f":"配送情報書!$V331","v":""},"転記不要",null,null,null,{"$f":"配送情報書!T331","v":0},{"$f":"COUNTIF($A$3:A329,A329)","v":327}]
[{"$f":"配送情報書!A332","v":0},{"$f":"配送情報書!AB332","v":0},{"$f":"配送情報書!AA332","v":0},{"$f":"配送情報書!AC332","v":0},{"$f":"INDEX(医療機関マスタ!$A:$A,MATCH(F330,医療機関マスタ!$B:$B,0),1)","v":"AH0000001"},{"$f":"INDEX(医療機関マスタ!$B:$B,MATCH(\"*\"&MID(注文書!$D$17,IFERROR(FIND(\" \",注文書!$D$17),IFERROR(FIND(\"　\",注文書!$D$17),0))+1,10)&\"*\",医療機関マスタ!$C:$C,0),1)","v":"医療法人社団斗南堂　八王子クリニック"},{"$f":"配送情報書!X332","v":""},{"$f":"配送情報書!Z332","v":"00:00:00"},{"$f":"配送情報書!$V332","v":""},"転記不要",null,null,null,{"$f":"配送情報書!T332","v":0},{"$f":"COUNTIF($A$3:A330,A330)","v":328}]
[{"$f":"配送情報書!A333","v":0},{"$f":"配送情報書!AB333","v":0},{"$f":"配送情報書!AA333","v":0},{"$f":"配送情報書!AC333","v":0},{"$f":"INDEX(医療機関マスタ!$A:$A,MATCH(F331,医療機関マスタ!$B:$B,0),1)","v":"AH0000001"},{"$f":"INDEX(医療機関マスタ!$B:$B,MATCH(\"*\"&MID(注文書!$D$17,IFERROR(FIND(\" \",注文書!$D$17),IFERROR(FIND(\"　\",注文書!$D$17),0))+1,10)&\"*\",医療機関マスタ!$C:$C,0),1)","v":"医療法人社団斗南堂　八王子クリニック"},{"$f":"配送情報書!X333","v":""},{"$f":"配送情報書!Z333","v":"00:00:00"},{"$f":"配送情報書!$V333","v":""},"転記不要",null,null,null,{"$f":"配送情報書!T333","v":0},{"$f":"COUNTIF($A$3:A331,A331)","v":329}]
[{"$f":"配送情報書!A334","v":0},{"$f":"配送情報書!AB334","v":0},{"$f":"配送情報書!AA334","v":0},{"$f":"配送情報書!AC334","v":0},{"$f":"INDEX(医療機関マスタ!$A:$A,MATCH(F332,医療機関マスタ!$B:$B,0),1)","v":"AH0000001"},{"$f":"INDEX(医療機関マスタ!$B:$B,MATCH(\"*\"&MID(注文書!$D$17,IFERROR(FIND(\" \",注文書!$D$17),IFERROR(FIND(\"　\",注文書!$D$17),0))+1,10)&\"*\",医療機関マスタ!$C:$C,0),1)","v":"医療法人社団斗南堂　八王子クリニック"},{"$f":"配送情報書!X334","v":""},{"$f":"配送情報書!Z334","v":"00:00:00"},{"$f":"配送情報書!$V334","v":""},"転記不要",null,null,null,{"$f":"配送情報書!T334","v":0},{"$f":"COUNTIF($A$3:A332,A332)","v":330}]
[{"$f":"配送情報書!A335","v":0},{"$f":"配送情報書!AB335","v":0},{"$f":"配送情報書!AA335","v":0},{"$f":"配送情報書!AC335","v":0},{"$f":"INDEX(医療機関マスタ!$A:$A,MATCH(F333,医療機関マスタ!$B:$B,0),1)","v":"AH0000001"},{"$f":"INDEX(医療機関マスタ!$B:$B,MATCH(\"*\"&MID(注文書!$D$17,IFERROR(FIND(\" \",注文書!$D$17),IFERROR(FIND(\"　\",注文書!$D$17),0))+1,10)&\"*\",医療機関マスタ!$C:$C,0),1)","v":"医療法人社団斗南堂　八王子クリニック"},{"$f":"配送情報書!X335","v":""},{"$f":"配送情報書!Z335","v":"00:00:00"},{"$f":"配送情報書!$V335","v":""},"転記不要",null,null,null,{"$f":"配送情報書!T335","v":0},{"$f":"COUNTIF($A$3:A333,A333)","v":331}]
[{"$f":"配送情報書!A336","v":0},{"$f":"配送情報書!AB336","v":0},{"$f":"配送情報書!AA336","v":0},{"$f":"配送情報書!AC336","v":0},{"$f":"INDEX(医療機関マスタ!$A:$A,MATCH(F334,医療機関マスタ!$B:$B,0),1)","v":"AH0000001"},{"$f":"INDEX(医療機関マスタ!$B:$B,MATCH(\"*\"&MID(注文書!$D$17,IFERROR(FIND(\" \",注文書!$D$17),IFERROR(FIND(\"　\",注文書!$D$17),0))+1,10)&\"*\",医療機関マスタ!$C:$C,0),1)","v":"医療法人社団斗南堂　八王子クリニック"},{"$f":"配送情報書!X336","v":""},{"$f":"配送情報書!Z336","v":"00:00:00"},{"$f":"配送情報書!$V336","v":""},"転記不要",null,null,null,{"$f":"配送情報書!T336","v":0},{"$f":"COUNTIF($A$3:A334,A334)","v":332}]
[{"$f":"配送情報書!A337","v":0},{"$f":"配送情報書!AB337","v":0},{"$f":"配送情報書!AA337","v":0},{"$f":"配送情報書!AC337","v":0},{"$f":"INDEX(医療機関マスタ!$A:$A,MATCH(F335,医療機関マスタ!$B:$B,0),1)","v":"AH0000001"},{"$f":"INDEX(医療機関マスタ!$B:$B,MATCH(\"*\"&MID(注文書!$D$17,IFERROR(FIND(\" \",注文書!$D$17),IFERROR(FIND(\"　\",注文書!$D$17),0))+1,10)&\"*\",医療機関マスタ!$C:$C,0),1)","v":"医療法人社団斗南堂　八王子クリニック"},{"$f":"配送情報書!X337","v":""},{"$f":"配送情報書!Z337","v":"00:00:00"},{"$f":"配送情報書!$V337","v":""},"転記不要",null,null,null,{"$f":"配送情報書!T337","v":0},{"$f":"COUNTIF($A$3:A335,A335)","v":333}]
[{"$f":"配送情報書!A338","v":0},{"$f":"配送情報書!AB338","v":0},{"$f":"配送情報書!AA338","v":0},{"$f":"配送情報書!AC338","v":0},{"$f":"INDEX(医療機関マスタ!$A:$A,MATCH(F336,医療機関マスタ!$B:$B,0),1)","v":"AH0000001"},{"$f":"INDEX(医療機関マスタ!$B:$B,MATCH(\"*\"&MID(注文書!$D$17,IFERROR(FIND(\" \",注文書!$D$17),IFERROR(FIND(\"　\",注文書!$D$17),0))+1,10)&\"*\",医療機関マスタ!$C:$C,0),1)","v":"医療法人社団斗南堂　八王子クリニック"},{"$f":"配送情報書!X338","v":""},{"$f":"配送情報書!Z338","v":"00:00:00"},{"$f":"配送情報書!$V338","v":""},"転記不要",null,null,null,{"$f":"配送情報書!T338","v":0},{"$f":"COUNTIF($A$3:A336,A336)","v":334}]
[{"$f":"配送情報書!A339","v":0},{"$f":"配送情報書!AB339","v":0},{"$f":"配送情報書!AA339","v":0},{"$f":"配送情報書!AC339","v":0},{"$f":"INDEX(医療機関マスタ!$A:$A,MATCH(F337,医療機関マスタ!$B:$B,0),1)","v":"AH0000001"},{"$f":"INDEX(医療機関マスタ!$B:$B,MATCH(\"*\"&MID(注文書!$D$17,IFERROR(FIND(\" \",注文書!$D$17),IFERROR(FIND(\"　\",注文書!$D$17),0))+1,10)&\"*\",医療機関マスタ!$C:$C,0),1)","v":"医療法人社団斗南堂　八王子クリニック"},{"$f":"配送情報書!X339","v":""},{"$f":"配送情報書!Z339","v":"00:00:00"},{"$f":"配送情報書!$V339","v":""},"転記不要",null,null,null,{"$f":"配送情報書!T339","v":0},{"$f":"COUNTIF($A$3:A337,A337)","v":335}]
[{"$f":"配送情報書!A340","v":0},{"$f":"配送情報書!AB340","v":0},{"$f":"配送情報書!AA340","v":0},{"$f":"配送情報書!AC340","v":0},{"$f":"INDEX(医療機関マスタ!$A:$A,MATCH(F338,医療機関マスタ!$B:$B,0),1)","v":"AH0000001"},{"$f":"INDEX(医療機関マスタ!$B:$B,MATCH(\"*\"&MID(注文書!$D$17,IFERROR(FIND(\" \",注文書!$D$17),IFERROR(FIND(\"　\",注文書!$D$17),0))+1,10)&\"*\",医療機関マスタ!$C:$C,0),1)","v":"医療法人社団斗南堂　八王子クリニック"},{"$f":"配送情報書!X340","v":""},{"$f":"配送情報書!Z340","v":"00:00:00"},{"$f":"配送情報書!$V340","v":""},"転記不要",null,null,null,{"$f":"配送情報書!T340","v":0},{"$f":"COUNTIF($A$3:A338,A338)","v":336}]
[{"$f":"配送情報書!A341","v":0},{"$f":"配送情報書!AB341","v":0},{"$f":"配送情報書!AA341","v":0},{"$f":"配送情報書!AC341","v":0},{"$f":"INDEX(医療機関マスタ!$A:$A,MATCH(F339,医療機関マスタ!$B:$B,0),1)","v":"AH0000001"},{"$f":"INDEX(医療機関マスタ!$B:$B,MATCH(\"*\"&MID(注文書!$D$17,IFERROR(FIND(\" \",注文書!$D$17),IFERROR(FIND(\"　\",注文書!$D$17),0))+1,10)&\"*\",医療機関マスタ!$C:$C,0),1)","v":"医療法人社団斗南堂　八王子クリニック"},{"$f":"配送情報書!X341","v":""},{"$f":"配送情報書!Z341","v":"00:00:00"},{"$f":"配送情報書!$V341","v":""},"転記不要",null,null,null,{"$f":"配送情報書!T341","v":0},{"$f":"COUNTIF($A$3:A339,A339)","v":337}]
[{"$f":"配送情報書!A342","v":0},{"$f":"配送情報書!AB342","v":0},{"$f":"配送情報書!AA342","v":0},{"$f":"配送情報書!AC342","v":0},{"$f":"INDEX(医療機関マスタ!$A:$A,MATCH(F340,医療機関マスタ!$B:$B,0),1)","v":"AH0000001"},{"$f":"INDEX(医療機関マスタ!$B:$B,MATCH(\"*\"&MID(注文書!$D$17,IFERROR(FIND(\" \",注文書!$D$17),IFERROR(FIND(\"　\",注文書!$D$17),0))+1,10)&\"*\",医療機関マスタ!$C:$C,0),1)","v":"医療法人社団斗南堂　八王子クリニック"},{"$f":"配送情報書!X342","v":""},{"$f":"配送情報書!Z342","v":"00:00:00"},{"$f":"配送情報書!$V342","v":""},"転記不要",null,null,null,{"$f":"配送情報書!T342","v":0},{"$f":"COUNTIF($A$3:A340,A340)","v":338}]
[{"$f":"配送情報書!A343","v":0},{"$f":"配送情報書!AB343","v":0},{"$f":"配送情報書!AA343","v":0},{"$f":"配送情報書!AC343","v":0},{"$f":"INDEX(医療機関マスタ!$A:$A,MATCH(F341,医療機関マスタ!$B:$B,0),1)","v":"AH0000001"},{"$f":"INDEX(医療機関マスタ!$B:$B,MATCH(\"*\"&MID(注文書!$D$17,IFERROR(FIND(\" \",注文書!$D$17),IFERROR(FIND(\"　\",注文書!$D$17),0))+1,10)&\"*\",医療機関マスタ!$C:$C,0),1)","v":"医療法人社団斗南堂　八王子クリニック"},{"$f":"配送情報書!X343","v":""},{"$f":"配送情報書!Z343","v":"00:00:00"},{"$f":"配送情報書!$V343","v":""},"転記不要",null,null,null,{"$f":"配送情報書!T343","v":0},{"$f":"COUNTIF($A$3:A341,A341)","v":339}]
[{"$f":"配送情報書!A344","v":0},{"$f":"配送情報書!AB344","v":0},{"$f":"配送情報書!AA344","v":0},{"$f":"配送情報書!AC344","v":0},{"$f":"INDEX(医療機関マスタ!$A:$A,MATCH(F342,医療機関マスタ!$B:$B,0),1)","v":"AH0000001"},{"$f":"INDEX(医療機関マスタ!$B:$B,MATCH(\"*\"&MID(注文書!$D$17,IFERROR(FIND(\" \",注文書!$D$17),IFERROR(FIND(\"　\",注文書!$D$17),0))+1,10)&\"*\",医療機関マスタ!$C:$C,0),1)","v":"医療法人社団斗南堂　八王子クリニック"},{"$f":"配送情報書!X344","v":""},{"$f":"配送情報書!Z344","v":"00:00:00"},{"$f":"配送情報書!$V344","v":""},"転記不要",null,null,null,{"$f":"配送情報書!T344","v":0},{"$f":"COUNTIF($A$3:A342,A342)","v":340}]
[{"$f":"配送情報書!A345","v":0},{"$f":"配送情報書!AB345","v":0},{"$f":"配送情報書!AA345","v":0},{"$f":"配送情報書!AC345","v":0},{"$f":"INDEX(医療機関マスタ!$A:$A,MATCH(F343,医療機関マスタ!$B:$B,0),1)","v":"AH0000001"},{"$f":"INDEX(医療機関マスタ!$B:$B,MATCH(\"*\"&MID(注文書!$D$17,IFERROR(FIND(\" \",注文書!$D$17),IFERROR(FIND(\"　\",注文書!$D$17),0))+1,10)&\"*\",医療機関マスタ!$C:$C,0),1)","v":"医療法人社団斗南堂　八王子クリニック"},{"$f":"配送情報書!X345","v":""},{"$f":"配送情報書!Z345","v":"00:00:00"},{"$f":"配送情報書!$V345","v":""},"転記不要",null,null,null,{"$f":"配送情報書!T345","v":0},{"$f":"COUNTIF($A$3:A343,A343)","v":341}]
[{"$f":"配送情報書!A346","v":0},{"$f":"配送情報書!AB346","v":0},{"$f":"配送情報書!AA346","v":0},{"$f":"配送情報書!AC346","v":0},{"$f":"INDEX(医療機関マスタ!$A:$A,MATCH(F344,医療機関マスタ!$B:$B,0),1)","v":"AH0000001"},{"$f":"INDEX(医療機関マスタ!$B:$B,MATCH(\"*\"&MID(注文書!$D$17,IFERROR(FIND(\" \",注文書!$D$17),IFERROR(FIND(\"　\",注文書!$D$17),0))+1,10)&\"*\",医療機関マスタ!$C:$C,0),1)","v":"医療法人社団斗南堂　八王子クリニック"},{"$f":"配送情報書!X346","v":""},{"$f":"配送情報書!Z346","v":"00:00:00"},{"$f":"配送情報書!$V346","v":""},"転記不要",null,null,null,{"$f":"配送情報書!T346","v":0},{"$f":"COUNTIF($A$3:A344,A344)","v":342}]
[{"$f":"配送情報書!A347","v":0},{"$f":"配送情報書!AB347","v":0},{"$f":"配送情報書!AA347","v":0},{"$f":"配送情報書!AC347","v":0},{"$f":"INDEX(医療機関マスタ!$A:$A,MATCH(F345,医療機関マスタ!$B:$B,0),1)","v":"AH0000001"},{"$f":"INDEX(医療機関マスタ!$B:$B,MATCH(\"*\"&MID(注文書!$D$17,IFERROR(FIND(\" \",注文書!$D$17),IFERROR(FIND(\"　\",注文書!$D$17),0))+1,10)&\"*\",医療機関マスタ!$C:$C,0),1)","v":"医療法人社団斗南堂　八王子クリニック"},{"$f":"配送情報書!X347","v":""},{"$f":"配送情報書!Z347","v":"00:00:00"},{"$f":"配送情報書!$V347","v":""},"転記不要",null,null,null,{"$f":"配送情報書!T347","v":0},{"$f":"COUNTIF($A$3:A345,A345)","v":343}]
[{"$f":"配送情報書!A348","v":0},{"$f":"配送情報書!AB348","v":0},{"$f":"配送情報書!AA348","v":0},{"$f":"配送情報書!AC348","v":0},{"$f":"INDEX(医療機関マスタ!$A:$A,MATCH(F346,医療機関マスタ!$B:$B,0),1)","v":"AH0000001"},{"$f":"INDEX(医療機関マスタ!$B:$B,MATCH(\"*\"&MID(注文書!$D$17,IFERROR(FIND(\" \",注文書!$D$17),IFERROR(FIND(\"　\",注文書!$D$17),0))+1,10)&\"*\",医療機関マスタ!$C:$C,0),1)","v":"医療法人社団斗南堂　八王子クリニック"},{"$f":"配送情報書!X348","v":""},{"$f":"配送情報書!Z348","v":"00:00:00"},{"$f":"配送情報書!$V348","v":""},"転記不要",null,null,null,{"$f":"配送情報書!T348","v":0},{"$f":"COUNTIF($A$3:A346,A346)","v":344}]
[{"$f":"配送情報書!A349","v":0},{"$f":"配送情報書!AB349","v":0},{"$f":"配送情報書!AA349","v":0},{"$f":"配送情報書!AC349","v":0},{"$f":"INDEX(医療機関マスタ!$A:$A,MATCH(F347,医療機関マスタ!$B:$B,0),1)","v":"AH0000001"},{"$f":"INDEX(医療機関マスタ!$B:$B,MATCH(\"*\"&MID(注文書!$D$17,IFERROR(FIND(\" \",注文書!$D$17),IFERROR(FIND(\"　\",注文書!$D$17),0))+1,10)&\"*\",医療機関マスタ!$C:$C,0),1)","v":"医療法人社団斗南堂　八王子クリニック"},{"$f":"配送情報書!X349","v":""},{"$f":"配送情報書!Z349","v":"00:00:00"},{"$f":"配送情報書!$V349","v":""},"転記不要",null,null,null,{"$f":"配送情報書!T349","v":0},{"$f":"COUNTIF($A$3:A347,A347)","v":345}]
[{"$f":"配送情報書!A350","v":0},{"$f":"配送情報書!AB350","v":0},{"$f":"配送情報書!AA350","v":0},{"$f":"配送情報書!AC350","v":0},{"$f":"INDEX(医療機関マスタ!$A:$A,MATCH(F348,医療機関マスタ!$B:$B,0),1)","v":"AH0000001"},{"$f":"INDEX(医療機関マスタ!$B:$B,MATCH(\"*\"&MID(注文書!$D$17,IFERROR(FIND(\" \",注文書!$D$17),IFERROR(FIND(\"　\",注文書!$D$17),0))+1,10)&\"*\",医療機関マスタ!$C:$C,0),1)","v":"医療法人社団斗南堂　八王子クリニック"},{"$f":"配送情報書!X350","v":""},{"$f":"配送情報書!Z350","v":"00:00:00"},{"$f":"配送情報書!$V350","v":""},"転記不要",null,null,null,{"$f":"配送情報書!T350","v":0},{"$f":"COUNTIF($A$3:A348,A348)","v":346}]
[{"$f":"配送情報書!A351","v":0},{"$f":"配送情報書!AB351","v":0},{"$f":"配送情報書!AA351","v":0},{"$f":"配送情報書!AC351","v":0},{"$f":"INDEX(医療機関マスタ!$A:$A,MATCH(F349,医療機関マスタ!$B:$B,0),1)","v":"AH0000001"},{"$f":"INDEX(医療機関マスタ!$B:$B,MATCH(\"*\"&MID(注文書!$D$17,IFERROR(FIND(\" \",注文書!$D$17),IFERROR(FIND(\"　\",注文書!$D$17),0))+1,10)&\"*\",医療機関マスタ!$C:$C,0),1)","v":"医療法人社団斗南堂　八王子クリニック"},{"$f":"配送情報書!X351","v":""},{"$f":"配送情報書!Z351","v":"00:00:00"},{"$f":"配送情報書!$V351","v":""},"転記不要",null,null,null,{"$f":"配送情報書!T351","v":0},{"$f":"COUNTIF($A$3:A349,A349)","v":347}]
[{"$f":"配送情報書!A352","v":0},{"$f":"配送情報書!AB352","v":0},{"$f":"配送情報書!AA352","v":0},{"$f":"配送情報書!AC352","v":0},{"$f":"INDEX(医療機関マスタ!$A:$A,MATCH(F350,医療機関マスタ!$B:$B,0),1)","v":"AH0000001"},{"$f":"INDEX(医療機関マスタ!$B:$B,MATCH(\"*\"&MID(注文書!$D$17,IFERROR(FIND(\" \",注文書!$D$17),IFERROR(FIND(\"　\",注文書!$D$17),0))+1,10)&\"*\",医療機関マスタ!$C:$C,0),1)","v":"医療法人社団斗南堂　八王子クリニック"},{"$f":"配送情報書!X352","v":""},{"$f":"配送情報書!Z352","v":"00:00:00"},{"$f":"配送情報書!$V352","v":""},"転記不要",null,null,null,{"$f":"配送情報書!T352","v":0},{"$f":"COUNTIF($A$3:A350,A350)","v":348}]
[{"$f":"配送情報書!A353","v":0},{"$f":"配送情報書!AB353","v":0},{"$f":"配送情報書!AA353","v":0},{"$f":"配送情報書!AC353","v":0},{"$f":"INDEX(医療機関マスタ!$A:$A,MATCH(F351,医療機関マスタ!$B:$B,0),1)","v":"AH0000001"},{"$f":"INDEX(医療機関マスタ!$B:$B,MATCH(\"*\"&MID(注文書!$D$17,IFERROR(FIND(\" \",注文書!$D$17),IFERROR(FIND(\"　\",注文書!$D$17),0))+1,10)&\"*\",医療機関マスタ!$C:$C,0),1)","v":"医療法人社団斗南堂　八王子クリニック"},{"$f":"配送情報書!X353","v":""},{"$f":"配送情報書!Z353","v":"00:00:00"},{"$f":"配送情報書!$V353","v":""},"転記不要",null,null,null,{"$f":"配送情報書!T353","v":0},{"$f":"COUNTIF($A$3:A351,A351)","v":349}]
[{"$f":"配送情報書!A354","v":0},{"$f":"配送情報書!AB354","v":0},{"$f":"配送情報書!AA354","v":0},{"$f":"配送情報書!AC354","v":0},{"$f":"INDEX(医療機関マスタ!$A:$A,MATCH(F352,医療機関マスタ!$B:$B,0),1)","v":"AH0000001"},{"$f":"INDEX(医療機関マスタ!$B:$B,MATCH(\"*\"&MID(注文書!$D$17,IFERROR(FIND(\" \",注文書!$D$17),IFERROR(FIND(\"　\",注文書!$D$17),0))+1,10)&\"*\",医療機関マスタ!$C:$C,0),1)","v":"医療法人社団斗南堂　八王子クリニック"},{"$f":"配送情報書!X354","v":""},{"$f":"配送情報書!Z354","v":"00:00:00"},{"$f":"配送情報書!$V354","v":""},"転記不要",null,null,null,{"$f":"配送情報書!T354","v":0},{"$f":"COUNTIF($A$3:A352,A352)","v":350}]
[{"$f":"配送情報書!A355","v":0},{"$f":"配送情報書!AB355","v":0},{"$f":"配送情報書!AA355","v":0},{"$f":"配送情報書!AC355","v":0},{"$f":"INDEX(医療機関マスタ!$A:$A,MATCH(F353,医療機関マスタ!$B:$B,0),1)","v":"AH0000001"},{"$f":"INDEX(医療機関マスタ!$B:$B,MATCH(\"*\"&MID(注文書!$D$17,IFERROR(FIND(\" \",注文書!$D$17),IFERROR(FIND(\"　\",注文書!$D$17),0))+1,10)&\"*\",医療機関マスタ!$C:$C,0),1)","v":"医療法人社団斗南堂　八王子クリニック"},{"$f":"配送情報書!X355","v":""},{"$f":"配送情報書!Z355","v":"00:00:00"},{"$f":"配送情報書!$V355","v":""},"転記不要",null,null,null,{"$f":"配送情報書!T355","v":0},{"$f":"COUNTIF($A$3:A353,A353)","v":351}]
[{"$f":"配送情報書!A356","v":0},{"$f":"配送情報書!AB356","v":0},{"$f":"配送情報書!AA356","v":0},{"$f":"配送情報書!AC356","v":0},{"$f":"INDEX(医療機関マスタ!$A:$A,MATCH(F354,医療機関マスタ!$B:$B,0),1)","v":"AH0000001"},{"$f":"INDEX(医療機関マスタ!$B:$B,MATCH(\"*\"&MID(注文書!$D$17,IFERROR(FIND(\" \",注文書!$D$17),IFERROR(FIND(\"　\",注文書!$D$17),0))+1,10)&\"*\",医療機関マスタ!$C:$C,0),1)","v":"医療法人社団斗南堂　八王子クリニック"},{"$f":"配送情報書!X356","v":""},{"$f":"配送情報書!Z356","v":"00:00:00"},{"$f":"配送情報書!$V356","v":""},"転記不要",null,null,null,{"$f":"配送情報書!T356","v":0},{"$f":"COUNTIF($A$3:A354,A354)","v":352}]
[{"$f":"配送情報書!A357","v":0},{"$f":"配送情報書!AB357","v":0},{"$f":"配送情報書!AA357","v":0},{"$f":"配送情報書!AC357","v":0},{"$f":"INDEX(医療機関マスタ!$A:$A,MATCH(F355,医療機関マスタ!$B:$B,0),1)","v":"AH0000001"},{"$f":"INDEX(医療機関マスタ!$B:$B,MATCH(\"*\"&MID(注文書!$D$17,IFERROR(FIND(\" \",注文書!$D$17),IFERROR(FIND(\"　\",注文書!$D$17),0))+1,10)&\"*\",医療機関マスタ!$C:$C,0),1)","v":"医療法人社団斗南堂　八王子クリニック"},{"$f":"配送情報書!X357","v":""},{"$f":"配送情報書!Z357","v":"00:00:00"},{"$f":"配送情報書!$V357","v":""},"転記不要",null,null,null,{"$f":"配送情報書!T357","v":0},{"$f":"COUNTIF($A$3:A355,A355)","v":353}]
[{"$f":"配送情報書!A358","v":0},{"$f":"配送情報書!AB358","v":0},{"$f":"配送情報書!AA358","v":0},{"$f":"配送情報書!AC358","v":0},{"$f":"INDEX(医療機関マスタ!$A:$A,MATCH(F356,医療機関マスタ!$B:$B,0),1)","v":"AH0000001"},{"$f":"INDEX(医療機関マスタ!$B:$B,MATCH(\"*\"&MID(注文書!$D$17,IFERROR(FIND(\" \",注文書!$D$17),IFERROR(FIND(\"　\",注文書!$D$17),0))+1,10)&\"*\",医療機関マスタ!$C:$C,0),1)","v":"医療法人社団斗南堂　八王子クリニック"},{"$f":"配送情報書!X358","v":""},{"$f":"配送情報書!Z358","v":"00:00:00"},{"$f":"配送情報書!$V358","v":""},"転記不要",null,null,null,{"$f":"配送情報書!T358","v":0},{"$f":"COUNTIF($A$3:A356,A356)","v":354}]
[{"$f":"配送情報書!A359","v":0},{"$f":"配送情報書!AB359","v":0},{"$f":"配送情報書!AA359","v":0},{"$f":"配送情報書!AC359","v":0},{"$f":"INDEX(医療機関マスタ!$A:$A,MATCH(F357,医療機関マスタ!$B:$B,0),1)","v":"AH0000001"},{"$f":"INDEX(医療機関マスタ!$B:$B,MATCH(\"*\"&MID(注文書!$D$17,IFERROR(FIND(\" \",注文書!$D$17),IFERROR(FIND(\"　\",注文書!$D$17),0))+1,10)&\"*\",医療機関マスタ!$C:$C,0),1)","v":"医療法人社団斗南堂　八王子クリニック"},{"$f":"配送情報書!X359","v":""},{"$f":"配送情報書!Z359","v":"00:00:00"},{"$f":"配送情報書!$V359","v":""},"転記不要",null,null,null,{"$f":"配送情報書!T359","v":0},{"$f":"COUNTIF($A$3:A357,A357)","v":355}]
[{"$f":"配送情報書!A360","v":0},{"$f":"配送情報書!AB360","v":0},{"$f":"配送情報書!AA360","v":0},{"$f":"配送情報書!AC360","v":0},{"$f":"INDEX(医療機関マスタ!$A:$A,MATCH(F358,医療機関マスタ!$B:$B,0),1)","v":"AH0000001"},{"$f":"INDEX(医療機関マスタ!$B:$B,MATCH(\"*\"&MID(注文書!$D$17,IFERROR(FIND(\" \",注文書!$D$17),IFERROR(FIND(\"　\",注文書!$D$17),0))+1,10)&\"*\",医療機関マスタ!$C:$C,0),1)","v":"医療法人社団斗南堂　八王子クリニック"},{"$f":"配送情報書!X360","v":""},{"$f":"配送情報書!Z360","v":"00:00:00"},{"$f":"配送情報書!$V360","v":""},"転記不要",null,null,null,{"$f":"配送情報書!T360","v":0},{"$f":"COUNTIF($A$3:A358,A358)","v":356}]
[{"$f":"配送情報書!A361","v":0},{"$f":"配送情報書!AB361","v":0},{"$f":"配送情報書!AA361","v":0},{"$f":"配送情報書!AC361","v":0},{"$f":"INDEX(医療機関マスタ!$A:$A,MATCH(F359,医療機関マスタ!$B:$B,0),1)","v":"AH0000001"},{"$f":"INDEX(医療機関マスタ!$B:$B,MATCH(\"*\"&MID(注文書!$D$17,IFERROR(FIND(\" \",注文書!$D$17),IFERROR(FIND(\"　\",注文書!$D$17),0))+1,10)&\"*\",医療機関マスタ!$C:$C,0),1)","v":"医療法人社団斗南堂　八王子クリニック"},{"$f":"配送情報書!X361","v":""},{"$f":"配送情報書!Z361","v":"00:00:00"},{"$f":"配送情報書!$V361","v":""},"転記不要",null,null,null,{"$f":"配送情報書!T361","v":0},{"$f":"COUNTIF($A$3:A359,A359)","v":357}]
[{"$f":"配送情報書!A362","v":0},{"$f":"配送情報書!AB362","v":0},{"$f":"配送情報書!AA362","v":0},{"$f":"配送情報書!AC362","v":0},{"$f":"INDEX(医療機関マスタ!$A:$A,MATCH(F360,医療機関マスタ!$B:$B,0),1)","v":"AH0000001"},{"$f":"INDEX(医療機関マスタ!$B:$B,MATCH(\"*\"&MID(注文書!$D$17,IFERROR(FIND(\" \",注文書!$D$17),IFERROR(FIND(\"　\",注文書!$D$17),0))+1,10)&\"*\",医療機関マスタ!$C:$C,0),1)","v":"医療法人社団斗南堂　八王子クリニック"},{"$f":"配送情報書!X362","v":""},{"$f":"配送情報書!Z362","v":"00:00:00"},{"$f":"配送情報書!$V362","v":""},"転記不要",null,null,null,{"$f":"配送情報書!T362","v":0},{"$f":"COUNTIF($A$3:A360,A360)","v":358}]
[{"$f":"配送情報書!A363","v":0},{"$f":"配送情報書!AB363","v":0},{"$f":"配送情報書!AA363","v":0},{"$f":"配送情報書!AC363","v":0},{"$f":"INDEX(医療機関マスタ!$A:$A,MATCH(F361,医療機関マスタ!$B:$B,0),1)","v":"AH0000001"},{"$f":"INDEX(医療機関マスタ!$B:$B,MATCH(\"*\"&MID(注文書!$D$17,IFERROR(FIND(\" \",注文書!$D$17),IFERROR(FIND(\"　\",注文書!$D$17),0))+1,10)&\"*\",医療機関マスタ!$C:$C,0),1)","v":"医療法人社団斗南堂　八王子クリニック"},{"$f":"配送情報書!X363","v":""},{"$f":"配送情報書!Z363","v":"00:00:00"},{"$f":"配送情報書!$V363","v":""},"転記不要",null,null,null,{"$f":"配送情報書!T363","v":0},{"$f":"COUNTIF($A$3:A361,A361)","v":359}]
[{"$f":"配送情報書!A364","v":0},{"$f":"配送情報書!AB364","v":0},{"$f":"配送情報書!AA364","v":0},{"$f":"配送情報書!AC364","v":0},{"$f":"INDEX(医療機関マスタ!$A:$A,MATCH(F362,医療機関マスタ!$B:$B,0),1)","v":"AH0000001"},{"$f":"INDEX(医療機関マスタ!$B:$B,MATCH(\"*\"&MID(注文書!$D$17,IFERROR(FIND(\" \",注文書!$D$17),IFERROR(FIND(\"　\",注文書!$D$17),0))+1,10)&\"*\",医療機関マスタ!$C:$C,0),1)","v":"医療法人社団斗南堂　八王子クリニック"},{"$f":"配送情報書!X364","v":""},{"$f":"配送情報書!Z364","v":"00:00:00"},{"$f":"配送情報書!$V364","v":""},"転記不要",null,null,null,{"$f":"配送情報書!T364","v":0},{"$f":"COUNTIF($A$3:A362,A362)","v":360}]
[{"$f":"配送情報書!A365","v":0},{"$f":"配送情報書!AB365","v":0},{"$f":"配送情報書!AA365","v":0},{"$f":"配送情報書!AC365","v":0},{"$f":"INDEX(医療機関マスタ!$A:$A,MATCH(F363,医療機関マスタ!$B:$B,0),1)","v":"AH0000001"},{"$f":"INDEX(医療機関マスタ!$B:$B,MATCH(\"*\"&MID(注文書!$D$17,IFERROR(FIND(\" \",注文書!$D$17),IFERROR(FIND(\"　\",注文書!$D$17),0))+1,10)&\"*\",医療機関マスタ!$C:$C,0),1)","v":"医療法人社団斗南堂　八王子クリニック"},{"$f":"配送情報書!X365","v":""},{"$f":"配送情報書!Z365","v":"00:00:00"},{"$f":"配送情報書!$V365","v":""},"転記不要",null,null,null,{"$f":"配送情報書!T365","v":0},{"$f":"COUNTIF($A$3:A363,A363)","v":361}]
[{"$f":"配送情報書!A366","v":0},{"$f":"配送情報書!AB366","v":0},{"$f":"配送情報書!AA366","v":0},{"$f":"配送情報書!AC366","v":0},{"$f":"INDEX(医療機関マスタ!$A:$A,MATCH(F364,医療機関マスタ!$B:$B,0),1)","v":"AH0000001"},{"$f":"INDEX(医療機関マスタ!$B:$B,MATCH(\"*\"&MID(注文書!$D$17,IFERROR(FIND(\" \",注文書!$D$17),IFERROR(FIND(\"　\",注文書!$D$17),0))+1,10)&\"*\",医療機関マスタ!$C:$C,0),1)","v":"医療法人社団斗南堂　八王子クリニック"},{"$f":"配送情報書!X366","v":""},{"$f":"配送情報書!Z366","v":"00:00:00"},{"$f":"配送情報書!$V366","v":""},"転記不要",null,null,null,{"$f":"配送情報書!T366","v":0},{"$f":"COUNTIF($A$3:A364,A364)","v":362}]
[{"$f":"配送情報書!A367","v":0},{"$f":"配送情報書!AB367","v":0},{"$f":"配送情報書!AA367","v":0},{"$f":"配送情報書!AC367","v":0},{"$f":"INDEX(医療機関マスタ!$A:$A,MATCH(F365,医療機関マスタ!$B:$B,0),1)","v":"AH0000001"},{"$f":"INDEX(医療機関マスタ!$B:$B,MATCH(\"*\"&MID(注文書!$D$17,IFERROR(FIND(\" \",注文書!$D$17),IFERROR(FIND(\"　\",注文書!$D$17),0))+1,10)&\"*\",医療機関マスタ!$C:$C,0),1)","v":"医療法人社団斗南堂　八王子クリニック"},{"$f":"配送情報書!X367","v":""},{"$f":"配送情報書!Z367","v":"00:00:00"},{"$f":"配送情報書!$V367","v":""},"転記不要",null,null,null,{"$f":"配送情報書!T367","v":0},{"$f":"COUNTIF($A$3:A365,A365)","v":363}]
[{"$f":"配送情報書!A368","v":0},{"$f":"配送情報書!AB368","v":0},{"$f":"配送情報書!AA368","v":0},{"$f":"配送情報書!AC368","v":0},{"$f":"INDEX(医療機関マスタ!$A:$A,MATCH(F366,医療機関マスタ!$B:$B,0),1)","v":"AH0000001"},{"$f":"INDEX(医療機関マスタ!$B:$B,MATCH(\"*\"&MID(注文書!$D$17,IFERROR(FIND(\" \",注文書!$D$17),IFERROR(FIND(\"　\",注文書!$D$17),0))+1,10)&\"*\",医療機関マスタ!$C:$C,0),1)","v":"医療法人社団斗南堂　八王子クリニック"},{"$f":"配送情報書!X368","v":""},{"$f":"配送情報書!Z368","v":"00:00:00"},{"$f":"配送情報書!$V368","v":""},"転記不要",null,null,null,{"$f":"配送情報書!T368","v":0},{"$f":"COUNTIF($A$3:A366,A366)","v":364}]
[{"$f":"配送情報書!A369","v":0},{"$f":"配送情報書!AB369","v":0},{"$f":"配送情報書!AA369","v":0},{"$f":"配送情報書!AC369","v":0},{"$f":"INDEX(医療機関マスタ!$A:$A,MATCH(F367,医療機関マスタ!$B:$B,0),1)","v":"AH0000001"},{"$f":"INDEX(医療機関マスタ!$B:$B,MATCH(\"*\"&MID(注文書!$D$17,IFERROR(FIND(\" \",注文書!$D$17),IFERROR(FIND(\"　\",注文書!$D$17),0))+1,10)&\"*\",医療機関マスタ!$C:$C,0),1)","v":"医療法人社団斗南堂　八王子クリニック"},{"$f":"配送情報書!X369","v":""},{"$f":"配送情報書!Z369","v":"00:00:00"},{"$f":"配送情報書!$V369","v":""},"転記不要",null,null,null,{"$f":"配送情報書!T369","v":0},{"$f":"COUNTIF($A$3:A367,A367)","v":365}]
[{"$f":"配送情報書!A370","v":0},{"$f":"配送情報書!AB370","v":0},{"$f":"配送情報書!AA370","v":0},{"$f":"配送情報書!AC370","v":0},{"$f":"INDEX(医療機関マスタ!$A:$A,MATCH(F368,医療機関マスタ!$B:$B,0),1)","v":"AH0000001"},{"$f":"INDEX(医療機関マスタ!$B:$B,MATCH(\"*\"&MID(注文書!$D$17,IFERROR(FIND(\" \",注文書!$D$17),IFERROR(FIND(\"　\",注文書!$D$17),0))+1,10)&\"*\",医療機関マスタ!$C:$C,0),1)","v":"医療法人社団斗南堂　八王子クリニック"},{"$f":"配送情報書!X370","v":""},{"$f":"配送情報書!Z370","v":"00:00:00"},{"$f":"配送情報書!$V370","v":""},"転記不要",null,null,null,{"$f":"配送情報書!T370","v":0},{"$f":"COUNTIF($A$3:A368,A368)","v":366}]
[{"$f":"配送情報書!A371","v":0},{"$f":"配送情報書!AB371","v":0},{"$f":"配送情報書!AA371","v":0},{"$f":"配送情報書!AC371","v":0},{"$f":"INDEX(医療機関マスタ!$A:$A,MATCH(F369,医療機関マスタ!$B:$B,0),1)","v":"AH0000001"},{"$f":"INDEX(医療機関マスタ!$B:$B,MATCH(\"*\"&MID(注文書!$D$17,IFERROR(FIND(\" \",注文書!$D$17),IFERROR(FIND(\"　\",注文書!$D$17),0))+1,10)&\"*\",医療機関マスタ!$C:$C,0),1)","v":"医療法人社団斗南堂　八王子クリニック"},{"$f":"配送情報書!X371","v":""},{"$f":"配送情報書!Z371","v":"00:00:00"},{"$f":"配送情報書!$V371","v":""},"転記不要",null,null,null,{"$f":"配送情報書!T371","v":0},{"$f":"COUNTIF($A$3:A369,A369)","v":367}]
[{"$f":"配送情報書!A372","v":0},{"$f":"配送情報書!AB372","v":0},{"$f":"配送情報書!AA372","v":0},{"$f":"配送情報書!AC372","v":0},{"$f":"INDEX(医療機関マスタ!$A:$A,MATCH(F370,医療機関マスタ!$B:$B,0),1)","v":"AH0000001"},{"$f":"INDEX(医療機関マスタ!$B:$B,MATCH(\"*\"&MID(注文書!$D$17,IFERROR(FIND(\" \",注文書!$D$17),IFERROR(FIND(\"　\",注文書!$D$17),0))+1,10)&\"*\",医療機関マスタ!$C:$C,0),1)","v":"医療法人社団斗南堂　八王子クリニック"},{"$f":"配送情報書!X372","v":""},{"$f":"配送情報書!Z372","v":"00:00:00"},{"$f":"配送情報書!$V372","v":""},"転記不要",null,null,null,{"$f":"配送情報書!T372","v":0},{"$f":"COUNTIF($A$3:A370,A370)","v":368}]
[{"$f":"配送情報書!A373","v":0},{"$f":"配送情報書!AB373","v":0},{"$f":"配送情報書!AA373","v":0},{"$f":"配送情報書!AC373","v":0},{"$f":"INDEX(医療機関マスタ!$A:$A,MATCH(F371,医療機関マスタ!$B:$B,0),1)","v":"AH0000001"},{"$f":"INDEX(医療機関マスタ!$B:$B,MATCH(\"*\"&MID(注文書!$D$17,IFERROR(FIND(\" \",注文書!$D$17),IFERROR(FIND(\"　\",注文書!$D$17),0))+1,10)&\"*\",医療機関マスタ!$C:$C,0),1)","v":"医療法人社団斗南堂　八王子クリニック"},{"$f":"配送情報書!X373","v":""},{"$f":"配送情報書!Z373","v":"00:00:00"},{"$f":"配送情報書!$V373","v":""},"転記不要",null,null,null,{"$f":"配送情報書!T373","v":0},{"$f":"COUNTIF($A$3:A371,A371)","v":369}]
[{"$f":"配送情報書!A374","v":0},{"$f":"配送情報書!AB374","v":0},{"$f":"配送情報書!AA374","v":0},{"$f":"配送情報書!AC374","v":0},{"$f":"INDEX(医療機関マスタ!$A:$A,MATCH(F372,医療機関マスタ!$B:$B,0),1)","v":"AH0000001"},{"$f":"INDEX(医療機関マスタ!$B:$B,MATCH(\"*\"&MID(注文書!$D$17,IFERROR(FIND(\" \",注文書!$D$17),IFERROR(FIND(\"　\",注文書!$D$17),0))+1,10)&\"*\",医療機関マスタ!$C:$C,0),1)","v":"医療法人社団斗南堂　八王子クリニック"},{"$f":"配送情報書!X374","v":""},{"$f":"配送情報書!Z374","v":"00:00:00"},{"$f":"配送情報書!$V374","v":""},"転記不要",null,null,null,{"$f":"配送情報書!T374","v":0},{"$f":"COUNTIF($A$3:A372,A372)","v":370}]
[{"$f":"配送情報書!A375","v":0},{"$f":"配送情報書!AB375","v":0},{"$f":"配送情報書!AA375","v":0},{"$f":"配送情報書!AC375","v":0},{"$f":"INDEX(医療機関マスタ!$A:$A,MATCH(F373,医療機関マスタ!$B:$B,0),1)","v":"AH0000001"},{"$f":"INDEX(医療機関マスタ!$B:$B,MATCH(\"*\"&MID(注文書!$D$17,IFERROR(FIND(\" \",注文書!$D$17),IFERROR(FIND(\"　\",注文書!$D$17),0))+1,10)&\"*\",医療機関マスタ!$C:$C,0),1)","v":"医療法人社団斗南堂　八王子クリニック"},{"$f":"配送情報書!X375","v":""},{"$f":"配送情報書!Z375","v":"00:00:00"},{"$f":"配送情報書!$V375","v":""},"転記不要",null,null,null,{"$f":"配送情報書!T375","v":0},{"$f":"COUNTIF($A$3:A373,A373)","v":371}]
[{"$f":"配送情報書!A376","v":0},{"$f":"配送情報書!AB376","v":0},{"$f":"配送情報書!AA376","v":0},{"$f":"配送情報書!AC376","v":0},{"$f":"INDEX(医療機関マスタ!$A:$A,MATCH(F374,医療機関マスタ!$B:$B,0),1)","v":"AH0000001"},{"$f":"INDEX(医療機関マスタ!$B:$B,MATCH(\"*\"&MID(注文書!$D$17,IFERROR(FIND(\" \",注文書!$D$17),IFERROR(FIND(\"　\",注文書!$D$17),0))+1,10)&\"*\",医療機関マスタ!$C:$C,0),1)","v":"医療法人社団斗南堂　八王子クリニック"},{"$f":"配送情報書!X376","v":""},{"$f":"配送情報書!Z376","v":"00:00:00"},{"$f":"配送情報書!$V376","v":""},"転記不要",null,null,null,{"$f":"配送情報書!T376","v":0},{"$f":"COUNTIF($A$3:A374,A374)","v":372}]
[{"$f":"配送情報書!A377","v":0},{"$f":"配送情報書!AB377","v":0},{"$f":"配送情報書!AA377","v":0},{"$f":"配送情報書!AC377","v":0},{"$f":"INDEX(医療機関マスタ!$A:$A,MATCH(F375,医療機関マスタ!$B:$B,0),1)","v":"AH0000001"},{"$f":"INDEX(医療機関マスタ!$B:$B,MATCH(\"*\"&MID(注文書!$D$17,IFERROR(FIND(\" \",注文書!$D$17),IFERROR(FIND(\"　\",注文書!$D$17),0))+1,10)&\"*\",医療機関マスタ!$C:$C,0),1)","v":"医療法人社団斗南堂　八王子クリニック"},{"$f":"配送情報書!X377","v":""},{"$f":"配送情報書!Z377","v":"00:00:00"},{"$f":"配送情報書!$V377","v":""},"転記不要",null,null,null,{"$f":"配送情報書!T377","v":0},{"$f":"COUNTIF($A$3:A375,A375)","v":373}]
[{"$f":"配送情報書!A378","v":0},{"$f":"配送情報書!AB378","v":0},{"$f":"配送情報書!AA378","v":0},{"$f":"配送情報書!AC378","v":0},{"$f":"INDEX(医療機関マスタ!$A:$A,MATCH(F376,医療機関マスタ!$B:$B,0),1)","v":"AH0000001"},{"$f":"INDEX(医療機関マスタ!$B:$B,MATCH(\"*\"&MID(注文書!$D$17,IFERROR(FIND(\" \",注文書!$D$17),IFERROR(FIND(\"　\",注文書!$D$17),0))+1,10)&\"*\",医療機関マスタ!$C:$C,0),1)","v":"医療法人社団斗南堂　八王子クリニック"},{"$f":"配送情報書!X378","v":""},{"$f":"配送情報書!Z378","v":"00:00:00"},{"$f":"配送情報書!$V378","v":""},"転記不要",null,null,null,{"$f":"配送情報書!T378","v":0},{"$f":"COUNTIF($A$3:A376,A376)","v":374}]
[{"$f":"配送情報書!A379","v":0},{"$f":"配送情報書!AB379","v":0},{"$f":"配送情報書!AA379","v":0},{"$f":"配送情報書!AC379","v":0},{"$f":"INDEX(医療機関マスタ!$A:$A,MATCH(F377,医療機関マスタ!$B:$B,0),1)","v":"AH0000001"},{"$f":"INDEX(医療機関マスタ!$B:$B,MATCH(\"*\"&MID(注文書!$D$17,IFERROR(FIND(\" \",注文書!$D$17),IFERROR(FIND(\"　\",注文書!$D$17),0))+1,10)&\"*\",医療機関マスタ!$C:$C,0),1)","v":"医療法人社団斗南堂　八王子クリニック"},{"$f":"配送情報書!X379","v":""},{"$f":"配送情報書!Z379","v":"00:00:00"},{"$f":"配送情報書!$V379","v":""},"転記不要",null,null,null,{"$f":"配送情報書!T379","v":0},{"$f":"COUNTIF($A$3:A377,A377)","v":375}]
[{"$f":"配送情報書!A380","v":0},{"$f":"配送情報書!AB380","v":0},{"$f":"配送情報書!AA380","v":0},{"$f":"配送情報書!AC380","v":0},{"$f":"INDEX(医療機関マスタ!$A:$A,MATCH(F378,医療機関マスタ!$B:$B,0),1)","v":"AH0000001"},{"$f":"INDEX(医療機関マスタ!$B:$B,MATCH(\"*\"&MID(注文書!$D$17,IFERROR(FIND(\" \",注文書!$D$17),IFERROR(FIND(\"　\",注文書!$D$17),0))+1,10)&\"*\",医療機関マスタ!$C:$C,0),1)","v":"医療法人社団斗南堂　八王子クリニック"},{"$f":"配送情報書!X380","v":""},{"$f":"配送情報書!Z380","v":"00:00:00"},{"$f":"配送情報書!$V380","v":""},"転記不要",null,null,null,{"$f":"配送情報書!T380","v":0},{"$f":"COUNTIF($A$3:A378,A378)","v":376}]
[{"$f":"配送情報書!A381","v":0},{"$f":"配送情報書!AB381","v":0},{"$f":"配送情報書!AA381","v":0},{"$f":"配送情報書!AC381","v":0},{"$f":"INDEX(医療機関マスタ!$A:$A,MATCH(F379,医療機関マスタ!$B:$B,0),1)","v":"AH0000001"},{"$f":"INDEX(医療機関マスタ!$B:$B,MATCH(\"*\"&MID(注文書!$D$17,IFERROR(FIND(\" \",注文書!$D$17),IFERROR(FIND(\"　\",注文書!$D$17),0))+1,10)&\"*\",医療機関マスタ!$C:$C,0),1)","v":"医療法人社団斗南堂　八王子クリニック"},{"$f":"配送情報書!X381","v":""},{"$f":"配送情報書!Z381","v":"00:00:00"},{"$f":"配送情報書!$V381","v":""},"転記不要",null,null,null,{"$f":"配送情報書!T381","v":0},{"$f":"COUNTIF($A$3:A379,A379)","v":377}]
[{"$f":"配送情報書!A382","v":0},{"$f":"配送情報書!AB382","v":0},{"$f":"配送情報書!AA382","v":0},{"$f":"配送情報書!AC382","v":0},{"$f":"INDEX(医療機関マスタ!$A:$A,MATCH(F380,医療機関マスタ!$B:$B,0),1)","v":"AH0000001"},{"$f":"INDEX(医療機関マスタ!$B:$B,MATCH(\"*\"&MID(注文書!$D$17,IFERROR(FIND(\" \",注文書!$D$17),IFERROR(FIND(\"　\",注文書!$D$17),0))+1,10)&\"*\",医療機関マスタ!$C:$C,0),1)","v":"医療法人社団斗南堂　八王子クリニック"},{"$f":"配送情報書!X382","v":""},{"$f":"配送情報書!Z382","v":"00:00:00"},{"$f":"配送情報書!$V382","v":""},"転記不要",null,null,null,{"$f":"配送情報書!T382","v":0},{"$f":"COUNTIF($A$3:A380,A380)","v":378}]
[{"$f":"配送情報書!A383","v":0},{"$f":"配送情報書!AB383","v":0},{"$f":"配送情報書!AA383","v":0},{"$f":"配送情報書!AC383","v":0},{"$f":"INDEX(医療機関マスタ!$A:$A,MATCH(F381,医療機関マスタ!$B:$B,0),1)","v":"AH0000001"},{"$f":"INDEX(医療機関マスタ!$B:$B,MATCH(\"*\"&MID(注文書!$D$17,IFERROR(FIND(\" \",注文書!$D$17),IFERROR(FIND(\"　\",注文書!$D$17),0))+1,10)&\"*\",医療機関マスタ!$C:$C,0),1)","v":"医療法人社団斗南堂　八王子クリニック"},{"$f":"配送情報書!X383","v":""},{"$f":"配送情報書!Z383","v":"00:00:00"},{"$f":"配送情報書!$V383","v":""},"転記不要",null,null,null,{"$f":"配送情報書!T383","v":0},{"$f":"COUNTIF($A$3:A381,A381)","v":379}]
[{"$f":"配送情報書!A384","v":0},{"$f":"配送情報書!AB384","v":0},{"$f":"配送情報書!AA384","v":0},{"$f":"配送情報書!AC384","v":0},{"$f":"INDEX(医療機関マスタ!$A:$A,MATCH(F382,医療機関マスタ!$B:$B,0),1)","v":"AH0000001"},{"$f":"INDEX(医療機関マスタ!$B:$B,MATCH(\"*\"&MID(注文書!$D$17,IFERROR(FIND(\" \",注文書!$D$17),IFERROR(FIND(\"　\",注文書!$D$17),0))+1,10)&\"*\",医療機関マスタ!$C:$C,0),1)","v":"医療法人社団斗南堂　八王子クリニック"},{"$f":"配送情報書!X384","v":""},{"$f":"配送情報書!Z384","v":"00:00:00"},{"$f":"配送情報書!$V384","v":""},"転記不要",null,null,null,{"$f":"配送情報書!T384","v":0},{"$f":"COUNTIF($A$3:A382,A382)","v":380}]
[{"$f":"配送情報書!A385","v":0},{"$f":"配送情報書!AB385","v":0},{"$f":"配送情報書!AA385","v":0},{"$f":"配送情報書!AC385","v":0},{"$f":"INDEX(医療機関マスタ!$A:$A,MATCH(F383,医療機関マスタ!$B:$B,0),1)","v":"AH0000001"},{"$f":"INDEX(医療機関マスタ!$B:$B,MATCH(\"*\"&MID(注文書!$D$17,IFERROR(FIND(\" \",注文書!$D$17),IFERROR(FIND(\"　\",注文書!$D$17),0))+1,10)&\"*\",医療機関マスタ!$C:$C,0),1)","v":"医療法人社団斗南堂　八王子クリニック"},{"$f":"配送情報書!X385","v":""},{"$f":"配送情報書!Z385","v":"00:00:00"},{"$f":"配送情報書!$V385","v":""},"転記不要",null,null,null,{"$f":"配送情報書!T385","v":0},{"$f":"COUNTIF($A$3:A383,A383)","v":381}]
[{"$f":"配送情報書!A386","v":0},{"$f":"配送情報書!AB386","v":0},{"$f":"配送情報書!AA386","v":0},{"$f":"配送情報書!AC386","v":0},{"$f":"INDEX(医療機関マスタ!$A:$A,MATCH(F384,医療機関マスタ!$B:$B,0),1)","v":"AH0000001"},{"$f":"INDEX(医療機関マスタ!$B:$B,MATCH(\"*\"&MID(注文書!$D$17,IFERROR(FIND(\" \",注文書!$D$17),IFERROR(FIND(\"　\",注文書!$D$17),0))+1,10)&\"*\",医療機関マスタ!$C:$C,0),1)","v":"医療法人社団斗南堂　八王子クリニック"},{"$f":"配送情報書!X386","v":""},{"$f":"配送情報書!Z386","v":"00:00:00"},{"$f":"配送情報書!$V386","v":""},"転記不要",null,null,null,{"$f":"配送情報書!T386","v":0},{"$f":"COUNTIF($A$3:A384,A384)","v":382}]
[{"$f":"配送情報書!A387","v":0},{"$f":"配送情報書!AB387","v":0},{"$f":"配送情報書!AA387","v":0},{"$f":"配送情報書!AC387","v":0},{"$f":"INDEX(医療機関マスタ!$A:$A,MATCH(F385,医療機関マスタ!$B:$B,0),1)","v":"AH0000001"},{"$f":"INDEX(医療機関マスタ!$B:$B,MATCH(\"*\"&MID(注文書!$D$17,IFERROR(FIND(\" \",注文書!$D$17),IFERROR(FIND(\"　\",注文書!$D$17),0))+1,10)&\"*\",医療機関マスタ!$C:$C,0),1)","v":"医療法人社団斗南堂　八王子クリニック"},{"$f":"配送情報書!X387","v":""},{"$f":"配送情報書!Z387","v":"00:00:00"},{"$f":"配送情報書!$V387","v":""},"転記不要",null,null,null,{"$f":"配送情報書!T387","v":0},{"$f":"COUNTIF($A$3:A385,A385)","v":383}]
[{"$f":"配送情報書!A388","v":0},{"$f":"配送情報書!AB388","v":0},{"$f":"配送情報書!AA388","v":0},{"$f":"配送情報書!AC388","v":0},{"$f":"INDEX(医療機関マスタ!$A:$A,MATCH(F386,医療機関マスタ!$B:$B,0),1)","v":"AH0000001"},{"$f":"INDEX(医療機関マスタ!$B:$B,MATCH(\"*\"&MID(注文書!$D$17,IFERROR(FIND(\" \",注文書!$D$17),IFERROR(FIND(\"　\",注文書!$D$17),0))+1,10)&\"*\",医療機関マスタ!$C:$C,0),1)","v":"医療法人社団斗南堂　八王子クリニック"},{"$f":"配送情報書!X388","v":""},{"$f":"配送情報書!Z388","v":"00:00:00"},{"$f":"配送情報書!$V388","v":""},"転記不要",null,null,null,{"$f":"配送情報書!T388","v":0},{"$f":"COUNTIF($A$3:A386,A386)","v":384}]
[{"$f":"配送情報書!A389","v":0},{"$f":"配送情報書!AB389","v":0},{"$f":"配送情報書!AA389","v":0},{"$f":"配送情報書!AC389","v":0},{"$f":"INDEX(医療機関マスタ!$A:$A,MATCH(F387,医療機関マスタ!$B:$B,0),1)","v":"AH0000001"},{"$f":"INDEX(医療機関マスタ!$B:$B,MATCH(\"*\"&MID(注文書!$D$17,IFERROR(FIND(\" \",注文書!$D$17),IFERROR(FIND(\"　\",注文書!$D$17),0))+1,10)&\"*\",医療機関マスタ!$C:$C,0),1)","v":"医療法人社団斗南堂　八王子クリニック"},{"$f":"配送情報書!X389","v":""},{"$f":"配送情報書!Z389","v":"00:00:00"},{"$f":"配送情報書!$V389","v":""},"転記不要",null,null,null,{"$f":"配送情報書!T389","v":0},{"$f":"COUNTIF($A$3:A387,A387)","v":385}]
[{"$f":"配送情報書!A390","v":0},{"$f":"配送情報書!AB390","v":0},{"$f":"配送情報書!AA390","v":0},{"$f":"配送情報書!AC390","v":0},{"$f":"INDEX(医療機関マスタ!$A:$A,MATCH(F388,医療機関マスタ!$B:$B,0),1)","v":"AH0000001"},{"$f":"INDEX(医療機関マスタ!$B:$B,MATCH(\"*\"&MID(注文書!$D$17,IFERROR(FIND(\" \",注文書!$D$17),IFERROR(FIND(\"　\",注文書!$D$17),0))+1,10)&\"*\",医療機関マスタ!$C:$C,0),1)","v":"医療法人社団斗南堂　八王子クリニック"},{"$f":"配送情報書!X390","v":""},{"$f":"配送情報書!Z390","v":"00:00:00"},{"$f":"配送情報書!$V390","v":""},{"$f":"IF(AND(N388>0,O388=1),SUMIFS($N:$N,$A:$A,A388),\"転記不要\")","v":"転記不要"},null,null,null,{"$f":"配送情報書!T390","v":0},{"$f":"COUNTIF($A$3:A388,A388)","v":386}]
[{"$f":"配送情報書!A391","v":0},{"$f":"配送情報書!AB391","v":0},{"$f":"配送情報書!AA391","v":0},{"$f":"配送情報書!AC391","v":0},{"$f":"INDEX(医療機関マスタ!$A:$A,MATCH(F389,医療機関マスタ!$B:$B,0),1)","v":"AH0000001"},{"$f":"INDEX(医療機関マスタ!$B:$B,MATCH(\"*\"&MID(注文書!$D$17,IFERROR(FIND(\" \",注文書!$D$17),IFERROR(FIND(\"　\",注文書!$D$17),0))+1,10)&\"*\",医療機関マスタ!$C:$C,0),1)","v":"医療法人社団斗南堂　八王子クリニック"},{"$f":"配送情報書!X391","v":""},{"$f":"配送情報書!Z391","v":"00:00:00"},{"$f":"配送情報書!$V391","v":""},"転記不要",null,null,null,{"$f":"配送情報書!T391","v":0},{"$f":"COUNTIF($A$3:A389,A389)","v":387}]
[{"$f":"配送情報書!A392","v":0},{"$f":"配送情報書!AB392","v":0},{"$f":"配送情報書!AA392","v":0},{"$f":"配送情報書!AC392","v":0},{"$f":"INDEX(医療機関マスタ!$A:$A,MATCH(F390,医療機関マスタ!$B:$B,0),1)","v":"AH0000001"},{"$f":"INDEX(医療機関マスタ!$B:$B,MATCH(\"*\"&MID(注文書!$D$17,IFERROR(FIND(\" \",注文書!$D$17),IFERROR(FIND(\"　\",注文書!$D$17),0))+1,10)&\"*\",医療機関マスタ!$C:$C,0),1)","v":"医療法人社団斗南堂　八王子クリニック"},{"$f":"配送情報書!X392","v":""},{"$f":"配送情報書!Z392","v":"00:00:00"},{"$f":"配送情報書!$V392","v":""},"転記不要",null,null,null,{"$f":"配送情報書!T392","v":0},{"$f":"COUNTIF($A$3:A390,A390)","v":388}]
[{"$f":"配送情報書!A393","v":0},{"$f":"配送情報書!AB393","v":0},{"$f":"配送情報書!AA393","v":0},{"$f":"配送情報書!AC393","v":0},{"$f":"INDEX(医療機関マスタ!$A:$A,MATCH(F391,医療機関マスタ!$B:$B,0),1)","v":"AH0000001"},{"$f":"INDEX(医療機関マスタ!$B:$B,MATCH(\"*\"&MID(注文書!$D$17,IFERROR(FIND(\" \",注文書!$D$17),IFERROR(FIND(\"　\",注文書!$D$17),0))+1,10)&\"*\",医療機関マスタ!$C:$C,0),1)","v":"医療法人社団斗南堂　八王子クリニック"},{"$f":"配送情報書!X393","v":""},{"$f":"配送情報書!Z393","v":"00:00:00"},{"$f":"配送情報書!$V393","v":""},"転記不要",null,null,null,{"$f":"配送情報書!T393","v":0},{"$f":"COUNTIF($A$3:A391,A391)","v":389}]
[{"$f":"配送情報書!A394","v":0},{"$f":"配送情報書!AB394","v":0},{"$f":"配送情報書!AA394","v":0},{"$f":"配送情報書!AC394","v":0},{"$f":"INDEX(医療機関マスタ!$A:$A,MATCH(F392,医療機関マスタ!$B:$B,0),1)","v":"AH0000001"},{"$f":"INDEX(医療機関マスタ!$B:$B,MATCH(\"*\"&MID(注文書!$D$17,IFERROR(FIND(\" \",注文書!$D$17),IFERROR(FIND(\"　\",注文書!$D$17),0))+1,10)&\"*\",医療機関マスタ!$C:$C,0),1)","v":"医療法人社団斗南堂　八王子クリニック"},{"$f":"配送情報書!X394","v":""},{"$f":"配送情報書!Z394","v":"00:00:00"},{"$f":"配送情報書!$V394","v":""},"転記不要",null,null,null,{"$f":"配送情報書!T394","v":0},{"$f":"COUNTIF($A$3:A392,A392)","v":390}]
[{"$f":"配送情報書!A395","v":0},{"$f":"配送情報書!AB395","v":0},{"$f":"配送情報書!AA395","v":0},{"$f":"配送情報書!AC395","v":0},{"$f":"INDEX(医療機関マスタ!$A:$A,MATCH(F393,医療機関マスタ!$B:$B,0),1)","v":"AH0000001"},{"$f":"INDEX(医療機関マスタ!$B:$B,MATCH(\"*\"&MID(注文書!$D$17,IFERROR(FIND(\" \",注文書!$D$17),IFERROR(FIND(\"　\",注文書!$D$17),0))+1,10)&\"*\",医療機関マスタ!$C:$C,0),1)","v":"医療法人社団斗南堂　八王子クリニック"},{"$f":"配送情報書!X395","v":""},{"$f":"配送情報書!Z395","v":"00:00:00"},{"$f":"配送情報書!$V395","v":""},"転記不要",null,null,null,{"$f":"配送情報書!T395","v":0},{"$f":"COUNTIF($A$3:A393,A393)","v":391}]
[{"$f":"配送情報書!A396","v":0},{"$f":"配送情報書!AB396","v":0},{"$f":"配送情報書!AA396","v":0},{"$f":"配送情報書!AC396","v":0},{"$f":"INDEX(医療機関マスタ!$A:$A,MATCH(F394,医療機関マスタ!$B:$B,0),1)","v":"AH0000001"},{"$f":"INDEX(医療機関マスタ!$B:$B,MATCH(\"*\"&MID(注文書!$D$17,IFERROR(FIND(\" \",注文書!$D$17),IFERROR(FIND(\"　\",注文書!$D$17),0))+1,10)&\"*\",医療機関マスタ!$C:$C,0),1)","v":"医療法人社団斗南堂　八王子クリニック"},{"$f":"配送情報書!X396","v":""},{"$f":"配送情報書!Z396","v":"00:00:00"},{"$f":"配送情報書!$V396","v":""},"転記不要",null,null,null,{"$f":"配送情報書!T396","v":0},{"$f":"COUNTIF($A$3:A394,A394)","v":392}]
[{"$f":"配送情報書!A397","v":0},{"$f":"配送情報書!AB397","v":0},{"$f":"配送情報書!AA397","v":0},{"$f":"配送情報書!AC397","v":0},{"$f":"INDEX(医療機関マスタ!$A:$A,MATCH(F395,医療機関マスタ!$B:$B,0),1)","v":"AH0000001"},{"$f":"INDEX(医療機関マスタ!$B:$B,MATCH(\"*\"&MID(注文書!$D$17,IFERROR(FIND(\" \",注文書!$D$17),IFERROR(FIND(\"　\",注文書!$D$17),0))+1,10)&\"*\",医療機関マスタ!$C:$C,0),1)","v":"医療法人社団斗南堂　八王子クリニック"},{"$f":"配送情報書!X397","v":""},{"$f":"配送情報書!Z397","v":"00:00:00"},{"$f":"配送情報書!$V397","v":""},"転記不要",null,null,null,{"$f":"配送情報書!T397","v":0},{"$f":"COUNTIF($A$3:A395,A395)","v":393}]
[{"$f":"配送情報書!A398","v":0},{"$f":"配送情報書!AB398","v":0},{"$f":"配送情報書!AA398","v":0},{"$f":"配送情報書!AC398","v":0},{"$f":"INDEX(医療機関マスタ!$A:$A,MATCH(F396,医療機関マスタ!$B:$B,0),1)","v":"AH0000001"},{"$f":"INDEX(医療機関マスタ!$B:$B,MATCH(\"*\"&MID(注文書!$D$17,IFERROR(FIND(\" \",注文書!$D$17),IFERROR(FIND(\"　\",注文書!$D$17),0))+1,10)&\"*\",医療機関マスタ!$C:$C,0),1)","v":"医療法人社団斗南堂　八王子クリニック"},{"$f":"配送情報書!X398","v":""},{"$f":"配送情報書!Z398","v":"00:00:00"},{"$f":"配送情報書!$V398","v":""},"転記不要",null,null,null,{"$f":"配送情報書!T398","v":0},{"$f":"COUNTIF($A$3:A396,A396)","v":394}]
[{"$f":"配送情報書!A399","v":0},{"$f":"配送情報書!AB399","v":0},{"$f":"配送情報書!AA399","v":0},{"$f":"配送情報書!AC399","v":0},{"$f":"INDEX(医療機関マスタ!$A:$A,MATCH(F397,医療機関マスタ!$B:$B,0),1)","v":"AH0000001"},{"$f":"INDEX(医療機関マスタ!$B:$B,MATCH(\"*\"&MID(注文書!$D$17,IFERROR(FIND(\" \",注文書!$D$17),IFERROR(FIND(\"　\",注文書!$D$17),0))+1,10)&\"*\",医療機関マスタ!$C:$C,0),1)","v":"医療法人社団斗南堂　八王子クリニック"},{"$f":"配送情報書!X399","v":""},{"$f":"配送情報書!Z399","v":"00:00:00"},{"$f":"配送情報書!$V399","v":""},"転記不要",null,null,null,{"$f":"配送情報書!T399","v":0},{"$f":"COUNTIF($A$3:A397,A397)","v":395}]
[{"$f":"配送情報書!A400","v":0},{"$f":"配送情報書!AB400","v":0},{"$f":"配送情報書!AA400","v":0},{"$f":"配送情報書!AC400","v":0},{"$f":"INDEX(医療機関マスタ!$A:$A,MATCH(F398,医療機関マスタ!$B:$B,0),1)","v":"AH0000001"},{"$f":"INDEX(医療機関マスタ!$B:$B,MATCH(\"*\"&MID(注文書!$D$17,IFERROR(FIND(\" \",注文書!$D$17),IFERROR(FIND(\"　\",注文書!$D$17),0))+1,10)&\"*\",医療機関マスタ!$C:$C,0),1)","v":"医療法人社団斗南堂　八王子クリニック"},{"$f":"配送情報書!X400","v":""},{"$f":"配送情報書!Z400","v":"00:00:00"},{"$f":"配送情報書!$V400","v":""},"転記不要",null,null,null,{"$f":"配送情報書!T400","v":0},{"$f":"COUNTIF($A$3:A398,A398)","v":396}]
[{"$f":"配送情報書!A401","v":0},{"$f":"配送情報書!AB401","v":0},{"$f":"配送情報書!AA401","v":0},{"$f":"配送情報書!AC401","v":0},{"$f":"INDEX(医療機関マスタ!$A:$A,MATCH(F399,医療機関マスタ!$B:$B,0),1)","v":"AH0000001"},{"$f":"INDEX(医療機関マスタ!$B:$B,MATCH(\"*\"&MID(注文書!$D$17,IFERROR(FIND(\" \",注文書!$D$17),IFERROR(FIND(\"　\",注文書!$D$17),0))+1,10)&\"*\",医療機関マスタ!$C:$C,0),1)","v":"医療法人社団斗南堂　八王子クリニック"},{"$f":"配送情報書!X401","v":""},{"$f":"配送情報書!Z401","v":"00:00:00"},{"$f":"配送情報書!$V401","v":""},"転記不要",null,null,null,{"$f":"配送情報書!T401","v":0},{"$f":"COUNTIF($A$3:A399,A399)","v":397}]
[{"$f":"配送情報書!A402","v":0},{"$f":"配送情報書!AB402","v":0},{"$f":"配送情報書!AA402","v":0},{"$f":"配送情報書!AC402","v":0},{"$f":"INDEX(医療機関マスタ!$A:$A,MATCH(F400,医療機関マスタ!$B:$B,0),1)","v":"AH0000001"},{"$f":"INDEX(医療機関マスタ!$B:$B,MATCH(\"*\"&MID(注文書!$D$17,IFERROR(FIND(\" \",注文書!$D$17),IFERROR(FIND(\"　\",注文書!$D$17),0))+1,10)&\"*\",医療機関マスタ!$C:$C,0),1)","v":"医療法人社団斗南堂　八王子クリニック"},{"$f":"配送情報書!X402","v":""},{"$f":"配送情報書!Z402","v":"00:00:00"},{"$f":"配送情報書!$V402","v":""},"転記不要",null,null,null,{"$f":"配送情報書!T402","v":0},{"$f":"COUNTIF($A$3:A400,A400)","v":398}]
[{"$f":"配送情報書!A403","v":0},{"$f":"配送情報書!AB403","v":0},{"$f":"配送情報書!AA403","v":0},{"$f":"配送情報書!AC403","v":0},{"$f":"INDEX(医療機関マスタ!$A:$A,MATCH(F401,医療機関マスタ!$B:$B,0),1)","v":"AH0000001"},{"$f":"INDEX(医療機関マスタ!$B:$B,MATCH(\"*\"&MID(注文書!$D$17,IFERROR(FIND(\" \",注文書!$D$17),IFERROR(FIND(\"　\",注文書!$D$17),0))+1,10)&\"*\",医療機関マスタ!$C:$C,0),1)","v":"医療法人社団斗南堂　八王子クリニック"},{"$f":"配送情報書!X403","v":""},{"$f":"配送情報書!Z403","v":"00:00:00"},{"$f":"配送情報書!$V403","v":""},"転記不要",null,null,null,{"$f":"配送情報書!T403","v":0},{"$f":"COUNTIF($A$3:A401,A401)","v":399}]
[{"$f":"配送情報書!A404","v":0},{"$f":"配送情報書!AB404","v":0},{"$f":"配送情報書!AA404","v":0},{"$f":"配送情報書!AC404","v":0},{"$f":"INDEX(医療機関マスタ!$A:$A,MATCH(F402,医療機関マスタ!$B:$B,0),1)","v":"AH0000001"},{"$f":"INDEX(医療機関マスタ!$B:$B,MATCH(\"*\"&MID(注文書!$D$17,IFERROR(FIND(\" \",注文書!$D$17),IFERROR(FIND(\"　\",注文書!$D$17),0))+1,10)&\"*\",医療機関マスタ!$C:$C,0),1)","v":"医療法人社団斗南堂　八王子クリニック"},{"$f":"配送情報書!X404","v":""},{"$f":"配送情報書!Z404","v":"00:00:00"},{"$f":"配送情報書!$V404","v":""},"転記不要",null,null,null,{"$f":"配送情報書!T404","v":0},{"$f":"COUNTIF($A$3:A402,A402)","v":400}]
[{"$f":"配送情報書!A405","v":0},{"$f":"配送情報書!AB405","v":0},{"$f":"配送情報書!AA405","v":0},{"$f":"配送情報書!AC405","v":0},{"$f":"INDEX(医療機関マスタ!$A:$A,MATCH(F403,医療機関マスタ!$B:$B,0),1)","v":"AH0000001"},{"$f":"INDEX(医療機関マスタ!$B:$B,MATCH(\"*\"&MID(注文書!$D$17,IFERROR(FIND(\" \",注文書!$D$17),IFERROR(FIND(\"　\",注文書!$D$17),0))+1,10)&\"*\",医療機関マスタ!$C:$C,0),1)","v":"医療法人社団斗南堂　八王子クリニック"},{"$f":"配送情報書!X405","v":""},{"$f":"配送情報書!Z405","v":"00:00:00"},{"$f":"配送情報書!$V405","v":""},"転記不要",null,null,null,{"$f":"配送情報書!T405","v":0},{"$f":"COUNTIF($A$3:A403,A403)","v":401}]
[{"$f":"配送情報書!A406","v":0},{"$f":"配送情報書!AB406","v":0},{"$f":"配送情報書!AA406","v":0},{"$f":"配送情報書!AC406","v":0},{"$f":"INDEX(医療機関マスタ!$A:$A,MATCH(F404,医療機関マスタ!$B:$B,0),1)","v":"AH0000001"},{"$f":"INDEX(医療機関マスタ!$B:$B,MATCH(\"*\"&MID(注文書!$D$17,IFERROR(FIND(\" \",注文書!$D$17),IFERROR(FIND(\"　\",注文書!$D$17),0))+1,10)&\"*\",医療機関マスタ!$C:$C,0),1)","v":"医療法人社団斗南堂　八王子クリニック"},{"$f":"配送情報書!X406","v":""},{"$f":"配送情報書!Z406","v":"00:00:00"},{"$f":"配送情報書!$V406","v":""},"転記不要",null,null,null,{"$f":"配送情報書!T406","v":0},{"$f":"COUNTIF($A$3:A404,A404)","v":402}]
[{"$f":"配送情報書!A407","v":0},{"$f":"配送情報書!AB407","v":0},{"$f":"配送情報書!AA407","v":0},{"$f":"配送情報書!AC407","v":0},{"$f":"INDEX(医療機関マスタ!$A:$A,MATCH(F405,医療機関マスタ!$B:$B,0),1)","v":"AH0000001"},{"$f":"INDEX(医療機関マスタ!$B:$B,MATCH(\"*\"&MID(注文書!$D$17,IFERROR(FIND(\" \",注文書!$D$17),IFERROR(FIND(\"　\",注文書!$D$17),0))+1,10)&\"*\",医療機関マスタ!$C:$C,0),1)","v":"医療法人社団斗南堂　八王子クリニック"},{"$f":"配送情報書!X407","v":""},{"$f":"配送情報書!Z407","v":"00:00:00"},{"$f":"配送情報書!$V407","v":""},"転記不要",null,null,null,{"$f":"配送情報書!T407","v":0},{"$f":"COUNTIF($A$3:A405,A405)","v":403}]
[{"$f":"配送情報書!A408","v":0},{"$f":"配送情報書!AB408","v":0},{"$f":"配送情報書!AA408","v":0},{"$f":"配送情報書!AC408","v":0},{"$f":"INDEX(医療機関マスタ!$A:$A,MATCH(F406,医療機関マスタ!$B:$B,0),1)","v":"AH0000001"},{"$f":"INDEX(医療機関マスタ!$B:$B,MATCH(\"*\"&MID(注文書!$D$17,IFERROR(FIND(\" \",注文書!$D$17),IFERROR(FIND(\"　\",注文書!$D$17),0))+1,10)&\"*\",医療機関マスタ!$C:$C,0),1)","v":"医療法人社団斗南堂　八王子クリニック"},{"$f":"配送情報書!X408","v":""},{"$f":"配送情報書!Z408","v":"00:00:00"},{"$f":"配送情報書!$V408","v":""},"転記不要",null,null,null,{"$f":"配送情報書!T408","v":0},{"$f":"COUNTIF($A$3:A406,A406)","v":404}]
[{"$f":"配送情報書!A409","v":0},{"$f":"配送情報書!AB409","v":0},{"$f":"配送情報書!AA409","v":0},{"$f":"配送情報書!AC409","v":0},{"$f":"INDEX(医療機関マスタ!$A:$A,MATCH(F407,医療機関マスタ!$B:$B,0),1)","v":"AH0000001"},{"$f":"INDEX(医療機関マスタ!$B:$B,MATCH(\"*\"&MID(注文書!$D$17,IFERROR(FIND(\" \",注文書!$D$17),IFERROR(FIND(\"　\",注文書!$D$17),0))+1,10)&\"*\",医療機関マスタ!$C:$C,0),1)","v":"医療法人社団斗南堂　八王子クリニック"},{"$f":"配送情報書!X409","v":""},{"$f":"配送情報書!Z409","v":"00:00:00"},{"$f":"配送情報書!$V409","v":""},"転記不要",null,null,null,{"$f":"配送情報書!T409","v":0},{"$f":"COUNTIF($A$3:A407,A407)","v":405}]
[{"$f":"配送情報書!A410","v":0},{"$f":"配送情報書!AB410","v":0},{"$f":"配送情報書!AA410","v":0},{"$f":"配送情報書!AC410","v":0},{"$f":"INDEX(医療機関マスタ!$A:$A,MATCH(F408,医療機関マスタ!$B:$B,0),1)","v":"AH0000001"},{"$f":"INDEX(医療機関マスタ!$B:$B,MATCH(\"*\"&MID(注文書!$D$17,IFERROR(FIND(\" \",注文書!$D$17),IFERROR(FIND(\"　\",注文書!$D$17),0))+1,10)&\"*\",医療機関マスタ!$C:$C,0),1)","v":"医療法人社団斗南堂　八王子クリニック"},{"$f":"配送情報書!X410","v":""},{"$f":"配送情報書!Z410","v":"00:00:00"},{"$f":"配送情報書!$V410","v":""},"転記不要",null,null,null,{"$f":"配送情報書!T410","v":0},{"$f":"COUNTIF($A$3:A408,A408)","v":406}]
[{"$f":"配送情報書!A411","v":0},{"$f":"配送情報書!AB411","v":0},{"$f":"配送情報書!AA411","v":0},{"$f":"配送情報書!AC411","v":0},{"$f":"INDEX(医療機関マスタ!$A:$A,MATCH(F409,医療機関マスタ!$B:$B,0),1)","v":"AH0000001"},{"$f":"INDEX(医療機関マスタ!$B:$B,MATCH(\"*\"&MID(注文書!$D$17,IFERROR(FIND(\" \",注文書!$D$17),IFERROR(FIND(\"　\",注文書!$D$17),0))+1,10)&\"*\",医療機関マスタ!$C:$C,0),1)","v":"医療法人社団斗南堂　八王子クリニック"},{"$f":"配送情報書!X411","v":""},{"$f":"配送情報書!Z411","v":"00:00:00"},{"$f":"配送情報書!$V411","v":""},"転記不要",null,null,null,{"$f":"配送情報書!T411","v":0},{"$f":"COUNTIF($A$3:A409,A409)","v":407}]
[{"$f":"配送情報書!A412","v":0},{"$f":"配送情報書!AB412","v":0},{"$f":"配送情報書!AA412","v":0},{"$f":"配送情報書!AC412","v":0},{"$f":"INDEX(医療機関マスタ!$A:$A,MATCH(F410,医療機関マスタ!$B:$B,0),1)","v":"AH0000001"},{"$f":"INDEX(医療機関マスタ!$B:$B,MATCH(\"*\"&MID(注文書!$D$17,IFERROR(FIND(\" \",注文書!$D$17),IFERROR(FIND(\"　\",注文書!$D$17),0))+1,10)&\"*\",医療機関マスタ!$C:$C,0),1)","v":"医療法人社団斗南堂　八王子クリニック"},{"$f":"配送情報書!X412","v":""},{"$f":"配送情報書!Z412","v":"00:00:00"},{"$f":"配送情報書!$V412","v":""},"転記不要",null,null,null,{"$f":"配送情報書!T412","v":0},{"$f":"COUNTIF($A$3:A410,A410)","v":408}]
[{"$f":"配送情報書!A413","v":0},{"$f":"配送情報書!AB413","v":0},{"$f":"配送情報書!AA413","v":0},{"$f":"配送情報書!AC413","v":0},{"$f":"INDEX(医療機関マスタ!$A:$A,MATCH(F411,医療機関マスタ!$B:$B,0),1)","v":"AH0000001"},{"$f":"INDEX(医療機関マスタ!$B:$B,MATCH(\"*\"&MID(注文書!$D$17,IFERROR(FIND(\" \",注文書!$D$17),IFERROR(FIND(\"　\",注文書!$D$17),0))+1,10)&\"*\",医療機関マスタ!$C:$C,0),1)","v":"医療法人社団斗南堂　八王子クリニック"},{"$f":"配送情報書!X413","v":""},{"$f":"配送情報書!Z413","v":"00:00:00"},{"$f":"配送情報書!$V413","v":""},"転記不要",null,null,null,{"$f":"配送情報書!T413","v":0},{"$f":"COUNTIF($A$3:A411,A411)","v":409}]
[{"$f":"配送情報書!A414","v":0},{"$f":"配送情報書!AB414","v":0},{"$f":"配送情報書!AA414","v":0},{"$f":"配送情報書!AC414","v":0},{"$f":"INDEX(医療機関マスタ!$A:$A,MATCH(F412,医療機関マスタ!$B:$B,0),1)","v":"AH0000001"},{"$f":"INDEX(医療機関マスタ!$B:$B,MATCH(\"*\"&MID(注文書!$D$17,IFERROR(FIND(\" \",注文書!$D$17),IFERROR(FIND(\"　\",注文書!$D$17),0))+1,10)&\"*\",医療機関マスタ!$C:$C,0),1)","v":"医療法人社団斗南堂　八王子クリニック"},{"$f":"配送情報書!X414","v":""},{"$f":"配送情報書!Z414","v":"00:00:00"},{"$f":"配送情報書!$V414","v":""},"転記不要",null,null,null,{"$f":"配送情報書!T414","v":0},{"$f":"COUNTIF($A$3:A412,A412)","v":410}]
[{"$f":"配送情報書!A415","v":0},{"$f":"配送情報書!AB415","v":0},{"$f":"配送情報書!AA415","v":0},{"$f":"配送情報書!AC415","v":0},{"$f":"INDEX(医療機関マスタ!$A:$A,MATCH(F413,医療機関マスタ!$B:$B,0),1)","v":"AH0000001"},{"$f":"INDEX(医療機関マスタ!$B:$B,MATCH(\"*\"&MID(注文書!$D$17,IFERROR(FIND(\" \",注文書!$D$17),IFERROR(FIND(\"　\",注文書!$D$17),0))+1,10)&\"*\",医療機関マスタ!$C:$C,0),1)","v":"医療法人社団斗南堂　八王子クリニック"},{"$f":"配送情報書!X415","v":""},{"$f":"配送情報書!Z415","v":"00:00:00"},{"$f":"配送情報書!$V415","v":""},"転記不要",null,null,null,{"$f":"配送情報書!T415","v":0},{"$f":"COUNTIF($A$3:A413,A413)","v":411}]
[{"$f":"配送情報書!A416","v":0},{"$f":"配送情報書!AB416","v":0},{"$f":"配送情報書!AA416","v":0},{"$f":"配送情報書!AC416","v":0},{"$f":"INDEX(医療機関マスタ!$A:$A,MATCH(F414,医療機関マスタ!$B:$B,0),1)","v":"AH0000001"},{"$f":"INDEX(医療機関マスタ!$B:$B,MATCH(\"*\"&MID(注文書!$D$17,IFERROR(FIND(\" \",注文書!$D$17),IFERROR(FIND(\"　\",注文書!$D$17),0))+1,10)&\"*\",医療機関マスタ!$C:$C,0),1)","v":"医療法人社団斗南堂　八王子クリニック"},{"$f":"配送情報書!X416","v":""},{"$f":"配送情報書!Z416","v":"00:00:00"},{"$f":"配送情報書!$V416","v":""},"転記不要",null,null,null,{"$f":"配送情報書!T416","v":0},{"$f":"COUNTIF($A$3:A414,A414)","v":412}]
[{"$f":"配送情報書!A417","v":0},{"$f":"配送情報書!AB417","v":0},{"$f":"配送情報書!AA417","v":0},{"$f":"配送情報書!AC417","v":0},{"$f":"INDEX(医療機関マスタ!$A:$A,MATCH(F415,医療機関マスタ!$B:$B,0),1)","v":"AH0000001"},{"$f":"INDEX(医療機関マスタ!$B:$B,MATCH(\"*\"&MID(注文書!$D$17,IFERROR(FIND(\" \",注文書!$D$17),IFERROR(FIND(\"　\",注文書!$D$17),0))+1,10)&\"*\",医療機関マスタ!$C:$C,0),1)","v":"医療法人社団斗南堂　八王子クリニック"},{"$f":"配送情報書!X417","v":""},{"$f":"配送情報書!Z417","v":"00:00:00"},{"$f":"配送情報書!$V417","v":""},"転記不要",null,null,null,{"$f":"配送情報書!T417","v":0},{"$f":"COUNTIF($A$3:A415,A415)","v":413}]
[{"$f":"配送情報書!A418","v":0},{"$f":"配送情報書!AB418","v":0},{"$f":"配送情報書!AA418","v":0},{"$f":"配送情報書!AC418","v":0},{"$f":"INDEX(医療機関マスタ!$A:$A,MATCH(F416,医療機関マスタ!$B:$B,0),1)","v":"AH0000001"},{"$f":"INDEX(医療機関マスタ!$B:$B,MATCH(\"*\"&MID(注文書!$D$17,IFERROR(FIND(\" \",注文書!$D$17),IFERROR(FIND(\"　\",注文書!$D$17),0))+1,10)&\"*\",医療機関マスタ!$C:$C,0),1)","v":"医療法人社団斗南堂　八王子クリニック"},{"$f":"配送情報書!X418","v":""},{"$f":"配送情報書!Z418","v":"00:00:00"},{"$f":"配送情報書!$V418","v":""},"転記不要",null,null,null,{"$f":"配送情報書!T418","v":0},{"$f":"COUNTIF($A$3:A416,A416)","v":414}]
[{"$f":"配送情報書!A419","v":0},{"$f":"配送情報書!AB419","v":0},{"$f":"配送情報書!AA419","v":0},{"$f":"配送情報書!AC419","v":0},{"$f":"INDEX(医療機関マスタ!$A:$A,MATCH(F417,医療機関マスタ!$B:$B,0),1)","v":"AH0000001"},{"$f":"INDEX(医療機関マスタ!$B:$B,MATCH(\"*\"&MID(注文書!$D$17,IFERROR(FIND(\" \",注文書!$D$17),IFERROR(FIND(\"　\",注文書!$D$17),0))+1,10)&\"*\",医療機関マスタ!$C:$C,0),1)","v":"医療法人社団斗南堂　八王子クリニック"},{"$f":"配送情報書!X419","v":""},{"$f":"配送情報書!Z419","v":"00:00:00"},{"$f":"配送情報書!$V419","v":""},"転記不要",null,null,null,{"$f":"配送情報書!T419","v":0},{"$f":"COUNTIF($A$3:A417,A417)","v":415}]
[{"$f":"配送情報書!A420","v":0},{"$f":"配送情報書!AB420","v":0},{"$f":"配送情報書!AA420","v":0},{"$f":"配送情報書!AC420","v":0},{"$f":"INDEX(医療機関マスタ!$A:$A,MATCH(F418,医療機関マスタ!$B:$B,0),1)","v":"AH0000001"},{"$f":"INDEX(医療機関マスタ!$B:$B,MATCH(\"*\"&MID(注文書!$D$17,IFERROR(FIND(\" \",注文書!$D$17),IFERROR(FIND(\"　\",注文書!$D$17),0))+1,10)&\"*\",医療機関マスタ!$C:$C,0),1)","v":"医療法人社団斗南堂　八王子クリニック"},{"$f":"配送情報書!X420","v":""},{"$f":"配送情報書!Z420","v":"00:00:00"},{"$f":"配送情報書!$V420","v":""},"転記不要",null,null,null,{"$f":"配送情報書!T420","v":0},{"$f":"COUNTIF($A$3:A418,A418)","v":416}]
[{"$f":"配送情報書!A421","v":0},{"$f":"配送情報書!AB421","v":0},{"$f":"配送情報書!AA421","v":0},{"$f":"配送情報書!AC421","v":0},{"$f":"INDEX(医療機関マスタ!$A:$A,MATCH(F419,医療機関マスタ!$B:$B,0),1)","v":"AH0000001"},{"$f":"INDEX(医療機関マスタ!$B:$B,MATCH(\"*\"&MID(注文書!$D$17,IFERROR(FIND(\" \",注文書!$D$17),IFERROR(FIND(\"　\",注文書!$D$17),0))+1,10)&\"*\",医療機関マスタ!$C:$C,0),1)","v":"医療法人社団斗南堂　八王子クリニック"},{"$f":"配送情報書!X421","v":""},{"$f":"配送情報書!Z421","v":"00:00:00"},{"$f":"配送情報書!$V421","v":""},"転記不要",null,null,null,{"$f":"配送情報書!T421","v":0},{"$f":"COUNTIF($A$3:A419,A419)","v":417}]
[{"$f":"配送情報書!A422","v":0},{"$f":"配送情報書!AB422","v":0},{"$f":"配送情報書!AA422","v":0},{"$f":"配送情報書!AC422","v":0},{"$f":"INDEX(医療機関マスタ!$A:$A,MATCH(F420,医療機関マスタ!$B:$B,0),1)","v":"AH0000001"},{"$f":"INDEX(医療機関マスタ!$B:$B,MATCH(\"*\"&MID(注文書!$D$17,IFERROR(FIND(\" \",注文書!$D$17),IFERROR(FIND(\"　\",注文書!$D$17),0))+1,10)&\"*\",医療機関マスタ!$C:$C,0),1)","v":"医療法人社団斗南堂　八王子クリニック"},{"$f":"配送情報書!X422","v":""},{"$f":"配送情報書!Z422","v":"00:00:00"},{"$f":"配送情報書!$V422","v":""},"転記不要",null,null,null,{"$f":"配送情報書!T422","v":0},{"$f":"COUNTIF($A$3:A420,A420)","v":418}]
[{"$f":"配送情報書!A423","v":0},{"$f":"配送情報書!AB423","v":0},{"$f":"配送情報書!AA423","v":0},{"$f":"配送情報書!AC423","v":0},{"$f":"INDEX(医療機関マスタ!$A:$A,MATCH(F421,医療機関マスタ!$B:$B,0),1)","v":"AH0000001"},{"$f":"INDEX(医療機関マスタ!$B:$B,MATCH(\"*\"&MID(注文書!$D$17,IFERROR(FIND(\" \",注文書!$D$17),IFERROR(FIND(\"　\",注文書!$D$17),0))+1,10)&\"*\",医療機関マスタ!$C:$C,0),1)","v":"医療法人社団斗南堂　八王子クリニック"},{"$f":"配送情報書!X423","v":""},{"$f":"配送情報書!Z423","v":"00:00:00"},{"$f":"配送情報書!$V423","v":""},"転記不要",null,null,null,{"$f":"配送情報書!T423","v":0},{"$f":"COUNTIF($A$3:A421,A421)","v":419}]
[{"$f":"配送情報書!A424","v":0},{"$f":"配送情報書!AB424","v":0},{"$f":"配送情報書!AA424","v":0},{"$f":"配送情報書!AC424","v":0},{"$f":"INDEX(医療機関マスタ!$A:$A,MATCH(F422,医療機関マスタ!$B:$B,0),1)","v":"AH0000001"},{"$f":"INDEX(医療機関マスタ!$B:$B,MATCH(\"*\"&MID(注文書!$D$17,IFERROR(FIND(\" \",注文書!$D$17),IFERROR(FIND(\"　\",注文書!$D$17),0))+1,10)&\"*\",医療機関マスタ!$C:$C,0),1)","v":"医療法人社団斗南堂　八王子クリニック"},{"$f":"配送情報書!X424","v":""},{"$f":"配送情報書!Z424","v":"00:00:00"},{"$f":"配送情報書!$V424","v":""},"転記不要",null,null,null,{"$f":"配送情報書!T424","v":0},{"$f":"COUNTIF($A$3:A422,A422)","v":420}]
[{"$f":"配送情報書!A425","v":0},{"$f":"配送情報書!AB425","v":0},{"$f":"配送情報書!AA425","v":0},{"$f":"配送情報書!AC425","v":0},{"$f":"INDEX(医療機関マスタ!$A:$A,MATCH(F423,医療機関マスタ!$B:$B,0),1)","v":"AH0000001"},{"$f":"INDEX(医療機関マスタ!$B:$B,MATCH(\"*\"&MID(注文書!$D$17,IFERROR(FIND(\" \",注文書!$D$17),IFERROR(FIND(\"　\",注文書!$D$17),0))+1,10)&\"*\",医療機関マスタ!$C:$C,0),1)","v":"医療法人社団斗南堂　八王子クリニック"},{"$f":"配送情報書!X425","v":""},{"$f":"配送情報書!Z425","v":"00:00:00"},{"$f":"配送情報書!$V425","v":""},"転記不要",null,null,null,{"$f":"配送情報書!T425","v":0},{"$f":"COUNTIF($A$3:A423,A423)","v":421}]
[{"$f":"配送情報書!A426","v":0},{"$f":"配送情報書!AB426","v":0},{"$f":"配送情報書!AA426","v":0},{"$f":"配送情報書!AC426","v":0},{"$f":"INDEX(医療機関マスタ!$A:$A,MATCH(F424,医療機関マスタ!$B:$B,0),1)","v":"AH0000001"},{"$f":"INDEX(医療機関マスタ!$B:$B,MATCH(\"*\"&MID(注文書!$D$17,IFERROR(FIND(\" \",注文書!$D$17),IFERROR(FIND(\"　\",注文書!$D$17),0))+1,10)&\"*\",医療機関マスタ!$C:$C,0),1)","v":"医療法人社団斗南堂　八王子クリニック"},{"$f":"配送情報書!X426","v":""},{"$f":"配送情報書!Z426","v":"00:00:00"},{"$f":"配送情報書!$V426","v":""},"転記不要",null,null,null,{"$f":"配送情報書!T426","v":0},{"$f":"COUNTIF($A$3:A424,A424)","v":422}]
[{"$f":"配送情報書!A427","v":0},{"$f":"配送情報書!AB427","v":0},{"$f":"配送情報書!AA427","v":0},{"$f":"配送情報書!AC427","v":0},{"$f":"INDEX(医療機関マスタ!$A:$A,MATCH(F425,医療機関マスタ!$B:$B,0),1)","v":"AH0000001"},{"$f":"INDEX(医療機関マスタ!$B:$B,MATCH(\"*\"&MID(注文書!$D$17,IFERROR(FIND(\" \",注文書!$D$17),IFERROR(FIND(\"　\",注文書!$D$17),0))+1,10)&\"*\",医療機関マスタ!$C:$C,0),1)","v":"医療法人社団斗南堂　八王子クリニック"},{"$f":"配送情報書!X427","v":""},{"$f":"配送情報書!Z427","v":"00:00:00"},{"$f":"配送情報書!$V427","v":""},"転記不要",null,null,null,{"$f":"配送情報書!T427","v":0},{"$f":"COUNTIF($A$3:A425,A425)","v":423}]
[{"$f":"配送情報書!A428","v":0},{"$f":"配送情報書!AB428","v":0},{"$f":"配送情報書!AA428","v":0},{"$f":"配送情報書!AC428","v":0},{"$f":"INDEX(医療機関マスタ!$A:$A,MATCH(F426,医療機関マスタ!$B:$B,0),1)","v":"AH0000001"},{"$f":"INDEX(医療機関マスタ!$B:$B,MATCH(\"*\"&MID(注文書!$D$17,IFERROR(FIND(\" \",注文書!$D$17),IFERROR(FIND(\"　\",注文書!$D$17),0))+1,10)&\"*\",医療機関マスタ!$C:$C,0),1)","v":"医療法人社団斗南堂　八王子クリニック"},{"$f":"配送情報書!X428","v":""},{"$f":"配送情報書!Z428","v":"00:00:00"},{"$f":"配送情報書!$V428","v":""},"転記不要",null,null,null,{"$f":"配送情報書!T428","v":0},{"$f":"COUNTIF($A$3:A426,A426)","v":424}]
[{"$f":"配送情報書!A429","v":0},{"$f":"配送情報書!AB429","v":0},{"$f":"配送情報書!AA429","v":0},{"$f":"配送情報書!AC429","v":0},{"$f":"INDEX(医療機関マスタ!$A:$A,MATCH(F427,医療機関マスタ!$B:$B,0),1)","v":"AH0000001"},{"$f":"INDEX(医療機関マスタ!$B:$B,MATCH(\"*\"&MID(注文書!$D$17,IFERROR(FIND(\" \",注文書!$D$17),IFERROR(FIND(\"　\",注文書!$D$17),0))+1,10)&\"*\",医療機関マスタ!$C:$C,0),1)","v":"医療法人社団斗南堂　八王子クリニック"},{"$f":"配送情報書!X429","v":""},{"$f":"配送情報書!Z429","v":"00:00:00"},{"$f":"配送情報書!$V429","v":""},"転記不要",null,null,null,{"$f":"配送情報書!T429","v":0},{"$f":"COUNTIF($A$3:A427,A427)","v":425}]
[{"$f":"配送情報書!A430","v":0},{"$f":"配送情報書!AB430","v":0},{"$f":"配送情報書!AA430","v":0},{"$f":"配送情報書!AC430","v":0},{"$f":"INDEX(医療機関マスタ!$A:$A,MATCH(F428,医療機関マスタ!$B:$B,0),1)","v":"AH0000001"},{"$f":"INDEX(医療機関マスタ!$B:$B,MATCH(\"*\"&MID(注文書!$D$17,IFERROR(FIND(\" \",注文書!$D$17),IFERROR(FIND(\"　\",注文書!$D$17),0))+1,10)&\"*\",医療機関マスタ!$C:$C,0),1)","v":"医療法人社団斗南堂　八王子クリニック"},{"$f":"配送情報書!X430","v":""},{"$f":"配送情報書!Z430","v":"00:00:00"},{"$f":"配送情報書!$V430","v":""},"転記不要",null,null,null,{"$f":"配送情報書!T430","v":0},{"$f":"COUNTIF($A$3:A428,A428)","v":426}]
[{"$f":"配送情報書!A431","v":0},{"$f":"配送情報書!AB431","v":0},{"$f":"配送情報書!AA431","v":0},{"$f":"配送情報書!AC431","v":0},{"$f":"INDEX(医療機関マスタ!$A:$A,MATCH(F429,医療機関マスタ!$B:$B,0),1)","v":"AH0000001"},{"$f":"INDEX(医療機関マスタ!$B:$B,MATCH(\"*\"&MID(注文書!$D$17,IFERROR(FIND(\" \",注文書!$D$17),IFERROR(FIND(\"　\",注文書!$D$17),0))+1,10)&\"*\",医療機関マスタ!$C:$C,0),1)","v":"医療法人社団斗南堂　八王子クリニック"},{"$f":"配送情報書!X431","v":""},{"$f":"配送情報書!Z431","v":"00:00:00"},{"$f":"配送情報書!$V431","v":""},"転記不要",null,null,null,{"$f":"配送情報書!T431","v":0},{"$f":"COUNTIF($A$3:A429,A429)","v":427}]
[{"$f":"配送情報書!A432","v":0},{"$f":"配送情報書!AB432","v":0},{"$f":"配送情報書!AA432","v":0},{"$f":"配送情報書!AC432","v":0},{"$f":"INDEX(医療機関マスタ!$A:$A,MATCH(F430,医療機関マスタ!$B:$B,0),1)","v":"AH0000001"},{"$f":"INDEX(医療機関マスタ!$B:$B,MATCH(\"*\"&MID(注文書!$D$17,IFERROR(FIND(\" \",注文書!$D$17),IFERROR(FIND(\"　\",注文書!$D$17),0))+1,10)&\"*\",医療機関マスタ!$C:$C,0),1)","v":"医療法人社団斗南堂　八王子クリニック"},{"$f":"配送情報書!X432","v":""},{"$f":"配送情報書!Z432","v":"00:00:00"},{"$f":"配送情報書!$V432","v":""},"転記不要",null,null,null,{"$f":"配送情報書!T432","v":0},{"$f":"COUNTIF($A$3:A430,A430)","v":428}]
[{"$f":"配送情報書!A433","v":0},{"$f":"配送情報書!AB433","v":0},{"$f":"配送情報書!AA433","v":0},{"$f":"配送情報書!AC433","v":0},{"$f":"INDEX(医療機関マスタ!$A:$A,MATCH(F431,医療機関マスタ!$B:$B,0),1)","v":"AH0000001"},{"$f":"INDEX(医療機関マスタ!$B:$B,MATCH(\"*\"&MID(注文書!$D$17,IFERROR(FIND(\" \",注文書!$D$17),IFERROR(FIND(\"　\",注文書!$D$17),0))+1,10)&\"*\",医療機関マスタ!$C:$C,0),1)","v":"医療法人社団斗南堂　八王子クリニック"},{"$f":"配送情報書!X433","v":""},{"$f":"配送情報書!Z433","v":"00:00:00"},{"$f":"配送情報書!$V433","v":""},"転記不要",null,null,null,{"$f":"配送情報書!T433","v":0},{"$f":"COUNTIF($A$3:A431,A431)","v":429}]
[{"$f":"配送情報書!A434","v":0},{"$f":"配送情報書!AB434","v":0},{"$f":"配送情報書!AA434","v":0},{"$f":"配送情報書!AC434","v":0},{"$f":"INDEX(医療機関マスタ!$A:$A,MATCH(F432,医療機関マスタ!$B:$B,0),1)","v":"AH0000001"},{"$f":"INDEX(医療機関マスタ!$B:$B,MATCH(\"*\"&MID(注文書!$D$17,IFERROR(FIND(\" \",注文書!$D$17),IFERROR(FIND(\"　\",注文書!$D$17),0))+1,10)&\"*\",医療機関マスタ!$C:$C,0),1)","v":"医療法人社団斗南堂　八王子クリニック"},{"$f":"配送情報書!X434","v":""},{"$f":"配送情報書!Z434","v":"00:00:00"},{"$f":"配送情報書!$V434","v":""},"転記不要",null,null,null,{"$f":"配送情報書!T434","v":0},{"$f":"COUNTIF($A$3:A432,A432)","v":430}]
[{"$f":"配送情報書!A435","v":0},{"$f":"配送情報書!AB435","v":0},{"$f":"配送情報書!AA435","v":0},{"$f":"配送情報書!AC435","v":0},{"$f":"INDEX(医療機関マスタ!$A:$A,MATCH(F433,医療機関マスタ!$B:$B,0),1)","v":"AH0000001"},{"$f":"INDEX(医療機関マスタ!$B:$B,MATCH(\"*\"&MID(注文書!$D$17,IFERROR(FIND(\" \",注文書!$D$17),IFERROR(FIND(\"　\",注文書!$D$17),0))+1,10)&\"*\",医療機関マスタ!$C:$C,0),1)","v":"医療法人社団斗南堂　八王子クリニック"},{"$f":"配送情報書!X435","v":""},{"$f":"配送情報書!Z435","v":"00:00:00"},{"$f":"配送情報書!$V435","v":""},"転記不要",null,null,null,{"$f":"配送情報書!T435","v":0},{"$f":"COUNTIF($A$3:A433,A433)","v":431}]
[{"$f":"配送情報書!A436","v":0},{"$f":"配送情報書!AB436","v":0},{"$f":"配送情報書!AA436","v":0},{"$f":"配送情報書!AC436","v":0},{"$f":"INDEX(医療機関マスタ!$A:$A,MATCH(F434,医療機関マスタ!$B:$B,0),1)","v":"AH0000001"},{"$f":"INDEX(医療機関マスタ!$B:$B,MATCH(\"*\"&MID(注文書!$D$17,IFERROR(FIND(\" \",注文書!$D$17),IFERROR(FIND(\"　\",注文書!$D$17),0))+1,10)&\"*\",医療機関マスタ!$C:$C,0),1)","v":"医療法人社団斗南堂　八王子クリニック"},{"$f":"配送情報書!X436","v":""},{"$f":"配送情報書!Z436","v":"00:00:00"},{"$f":"配送情報書!$V436","v":""},"転記不要",null,null,null,{"$f":"配送情報書!T436","v":0},{"$f":"COUNTIF($A$3:A434,A434)","v":432}]
[{"$f":"配送情報書!A437","v":0},{"$f":"配送情報書!AB437","v":0},{"$f":"配送情報書!AA437","v":0},{"$f":"配送情報書!AC437","v":0},{"$f":"INDEX(医療機関マスタ!$A:$A,MATCH(F435,医療機関マスタ!$B:$B,0),1)","v":"AH0000001"},{"$f":"INDEX(医療機関マスタ!$B:$B,MATCH(\"*\"&MID(注文書!$D$17,IFERROR(FIND(\" \",注文書!$D$17),IFERROR(FIND(\"　\",注文書!$D$17),0))+1,10)&\"*\",医療機関マスタ!$C:$C,0),1)","v":"医療法人社団斗南堂　八王子クリニック"},{"$f":"配送情報書!X437","v":""},{"$f":"配送情報書!Z437","v":"00:00:00"},{"$f":"配送情報書!$V437","v":""},"転記不要",null,null,null,{"$f":"配送情報書!T437","v":0},{"$f":"COUNTIF($A$3:A435,A435)","v":433}]
[{"$f":"配送情報書!A438","v":0},{"$f":"配送情報書!AB438","v":0},{"$f":"配送情報書!AA438","v":0},{"$f":"配送情報書!AC438","v":0},{"$f":"INDEX(医療機関マスタ!$A:$A,MATCH(F436,医療機関マスタ!$B:$B,0),1)","v":"AH0000001"},{"$f":"INDEX(医療機関マスタ!$B:$B,MATCH(\"*\"&MID(注文書!$D$17,IFERROR(FIND(\" \",注文書!$D$17),IFERROR(FIND(\"　\",注文書!$D$17),0))+1,10)&\"*\",医療機関マスタ!$C:$C,0),1)","v":"医療法人社団斗南堂　八王子クリニック"},{"$f":"配送情報書!X438","v":""},{"$f":"配送情報書!Z438","v":"00:00:00"},{"$f":"配送情報書!$V438","v":""},"転記不要",null,null,null,{"$f":"配送情報書!T438","v":0},{"$f":"COUNTIF($A$3:A436,A436)","v":434}]
[{"$f":"配送情報書!A439","v":0},{"$f":"配送情報書!AB439","v":0},{"$f":"配送情報書!AA439","v":0},{"$f":"配送情報書!AC439","v":0},{"$f":"INDEX(医療機関マスタ!$A:$A,MATCH(F437,医療機関マスタ!$B:$B,0),1)","v":"AH0000001"},{"$f":"INDEX(医療機関マスタ!$B:$B,MATCH(\"*\"&MID(注文書!$D$17,IFERROR(FIND(\" \",注文書!$D$17),IFERROR(FIND(\"　\",注文書!$D$17),0))+1,10)&\"*\",医療機関マスタ!$C:$C,0),1)","v":"医療法人社団斗南堂　八王子クリニック"},{"$f":"配送情報書!X439","v":""},{"$f":"配送情報書!Z439","v":"00:00:00"},{"$f":"配送情報書!$V439","v":""},"転記不要",null,null,null,{"$f":"配送情報書!T439","v":0},{"$f":"COUNTIF($A$3:A437,A437)","v":435}]
[{"$f":"配送情報書!A440","v":0},{"$f":"配送情報書!AB440","v":0},{"$f":"配送情報書!AA440","v":0},{"$f":"配送情報書!AC440","v":0},{"$f":"INDEX(医療機関マスタ!$A:$A,MATCH(F438,医療機関マスタ!$B:$B,0),1)","v":"AH0000001"},{"$f":"INDEX(医療機関マスタ!$B:$B,MATCH(\"*\"&MID(注文書!$D$17,IFERROR(FIND(\" \",注文書!$D$17),IFERROR(FIND(\"　\",注文書!$D$17),0))+1,10)&\"*\",医療機関マスタ!$C:$C,0),1)","v":"医療法人社団斗南堂　八王子クリニック"},{"$f":"配送情報書!X440","v":""},{"$f":"配送情報書!Z440","v":"00:00:00"},{"$f":"配送情報書!$V440","v":""},"転記不要",null,null,null,{"$f":"配送情報書!T440","v":0},{"$f":"COUNTIF($A$3:A438,A438)","v":436}]
[{"$f":"配送情報書!A441","v":0},{"$f":"配送情報書!AB441","v":0},{"$f":"配送情報書!AA441","v":0},{"$f":"配送情報書!AC441","v":0},{"$f":"INDEX(医療機関マスタ!$A:$A,MATCH(F439,医療機関マスタ!$B:$B,0),1)","v":"AH0000001"},{"$f":"INDEX(医療機関マスタ!$B:$B,MATCH(\"*\"&MID(注文書!$D$17,IFERROR(FIND(\" \",注文書!$D$17),IFERROR(FIND(\"　\",注文書!$D$17),0))+1,10)&\"*\",医療機関マスタ!$C:$C,0),1)","v":"医療法人社団斗南堂　八王子クリニック"},{"$f":"配送情報書!X441","v":""},{"$f":"配送情報書!Z441","v":"00:00:00"},{"$f":"配送情報書!$V441","v":""},"転記不要",null,null,null,{"$f":"配送情報書!T441","v":0},{"$f":"COUNTIF($A$3:A439,A439)","v":437}]
[{"$f":"配送情報書!A442","v":0},{"$f":"配送情報書!AB442","v":0},{"$f":"配送情報書!AA442","v":0},{"$f":"配送情報書!AC442","v":0},{"$f":"INDEX(医療機関マスタ!$A:$A,MATCH(F440,医療機関マスタ!$B:$B,0),1)","v":"AH0000001"},{"$f":"INDEX(医療機関マスタ!$B:$B,MATCH(\"*\"&MID(注文書!$D$17,IFERROR(FIND(\" \",注文書!$D$17),IFERROR(FIND(\"　\",注文書!$D$17),0))+1,10)&\"*\",医療機関マスタ!$C:$C,0),1)","v":"医療法人社団斗南堂　八王子クリニック"},{"$f":"配送情報書!X442","v":""},{"$f":"配送情報書!Z442","v":"00:00:00"},{"$f":"配送情報書!$V442","v":""},"転記不要",null,null,null,{"$f":"配送情報書!T442","v":0},{"$f":"COUNTIF($A$3:A440,A440)","v":438}]
[{"$f":"配送情報書!A443","v":0},{"$f":"配送情報書!AB443","v":0},{"$f":"配送情報書!AA443","v":0},{"$f":"配送情報書!AC443","v":0},{"$f":"INDEX(医療機関マスタ!$A:$A,MATCH(F441,医療機関マスタ!$B:$B,0),1)","v":"AH0000001"},{"$f":"INDEX(医療機関マスタ!$B:$B,MATCH(\"*\"&MID(注文書!$D$17,IFERROR(FIND(\" \",注文書!$D$17),IFERROR(FIND(\"　\",注文書!$D$17),0))+1,10)&\"*\",医療機関マスタ!$C:$C,0),1)","v":"医療法人社団斗南堂　八王子クリニック"},{"$f":"配送情報書!X443","v":""},{"$f":"配送情報書!Z443","v":"00:00:00"},{"$f":"配送情報書!$V443","v":""},"転記不要",null,null,null,{"$f":"配送情報書!T443","v":0},{"$f":"COUNTIF($A$3:A441,A441)","v":439}]
[{"$f":"配送情報書!A444","v":0},{"$f":"配送情報書!AB444","v":0},{"$f":"配送情報書!AA444","v":0},{"$f":"配送情報書!AC444","v":0},{"$f":"INDEX(医療機関マスタ!$A:$A,MATCH(F442,医療機関マスタ!$B:$B,0),1)","v":"AH0000001"},{"$f":"INDEX(医療機関マスタ!$B:$B,MATCH(\"*\"&MID(注文書!$D$17,IFERROR(FIND(\" \",注文書!$D$17),IFERROR(FIND(\"　\",注文書!$D$17),0))+1,10)&\"*\",医療機関マスタ!$C:$C,0),1)","v":"医療法人社団斗南堂　八王子クリニック"},{"$f":"配送情報書!X444","v":""},{"$f":"配送情報書!Z444","v":"00:00:00"},{"$f":"配送情報書!$V444","v":""},"転記不要",null,null,null,{"$f":"配送情報書!T444","v":0},{"$f":"COUNTIF($A$3:A442,A442)","v":440}]
[{"$f":"配送情報書!A445","v":0},{"$f":"配送情報書!AB445","v":0},{"$f":"配送情報書!AA445","v":0},{"$f":"配送情報書!AC445","v":0},{"$f":"INDEX(医療機関マスタ!$A:$A,MATCH(F443,医療機関マスタ!$B:$B,0),1)","v":"AH0000001"},{"$f":"INDEX(医療機関マスタ!$B:$B,MATCH(\"*\"&MID(注文書!$D$17,IFERROR(FIND(\" \",注文書!$D$17),IFERROR(FIND(\"　\",注文書!$D$17),0))+1,10)&\"*\",医療機関マスタ!$C:$C,0),1)","v":"医療法人社団斗南堂　八王子クリニック"},{"$f":"配送情報書!X445","v":""},{"$f":"配送情報書!Z445","v":"00:00:00"},{"$f":"配送情報書!$V445","v":""},"転記不要",null,null,null,{"$f":"配送情報書!T445","v":0},{"$f":"COUNTIF($A$3:A443,A443)","v":441}]
[{"$f":"配送情報書!A446","v":0},{"$f":"配送情報書!AB446","v":0},{"$f":"配送情報書!AA446","v":0},{"$f":"配送情報書!AC446","v":0},{"$f":"INDEX(医療機関マスタ!$A:$A,MATCH(F444,医療機関マスタ!$B:$B,0),1)","v":"AH0000001"},{"$f":"INDEX(医療機関マスタ!$B:$B,MATCH(\"*\"&MID(注文書!$D$17,IFERROR(FIND(\" \",注文書!$D$17),IFERROR(FIND(\"　\",注文書!$D$17),0))+1,10)&\"*\",医療機関マスタ!$C:$C,0),1)","v":"医療法人社団斗南堂　八王子クリニック"},{"$f":"配送情報書!X446","v":""},{"$f":"配送情報書!Z446","v":"00:00:00"},{"$f":"配送情報書!$V446","v":""},"転記不要",null,null,null,{"$f":"配送情報書!T446","v":0},{"$f":"COUNTIF($A$3:A444,A444)","v":442}]
[{"$f":"配送情報書!A447","v":0},{"$f":"配送情報書!AB447","v":0},{"$f":"配送情報書!AA447","v":0},{"$f":"配送情報書!AC447","v":0},{"$f":"INDEX(医療機関マスタ!$A:$A,MATCH(F445,医療機関マスタ!$B:$B,0),1)","v":"AH0000001"},{"$f":"INDEX(医療機関マスタ!$B:$B,MATCH(\"*\"&MID(注文書!$D$17,IFERROR(FIND(\" \",注文書!$D$17),IFERROR(FIND(\"　\",注文書!$D$17),0))+1,10)&\"*\",医療機関マスタ!$C:$C,0),1)","v":"医療法人社団斗南堂　八王子クリニック"},{"$f":"配送情報書!X447","v":""},{"$f":"配送情報書!Z447","v":"00:00:00"},{"$f":"配送情報書!$V447","v":""},"転記不要",null,null,null,{"$f":"配送情報書!T447","v":0},{"$f":"COUNTIF($A$3:A445,A445)","v":443}]
[{"$f":"配送情報書!A448","v":0},{"$f":"配送情報書!AB448","v":0},{"$f":"配送情報書!AA448","v":0},{"$f":"配送情報書!AC448","v":0},{"$f":"INDEX(医療機関マスタ!$A:$A,MATCH(F446,医療機関マスタ!$B:$B,0),1)","v":"AH0000001"},{"$f":"INDEX(医療機関マスタ!$B:$B,MATCH(\"*\"&MID(注文書!$D$17,IFERROR(FIND(\" \",注文書!$D$17),IFERROR(FIND(\"　\",注文書!$D$17),0))+1,10)&\"*\",医療機関マスタ!$C:$C,0),1)","v":"医療法人社団斗南堂　八王子クリニック"},{"$f":"配送情報書!X448","v":""},{"$f":"配送情報書!Z448","v":"00:00:00"},{"$f":"配送情報書!$V448","v":""},"転記不要",null,null,null,{"$f":"配送情報書!T448","v":0},{"$f":"COUNTIF($A$3:A446,A446)","v":444}]
[{"$f":"配送情報書!A449","v":0},{"$f":"配送情報書!AB449","v":0},{"$f":"配送情報書!AA449","v":0},{"$f":"配送情報書!AC449","v":0},{"$f":"INDEX(医療機関マスタ!$A:$A,MATCH(F447,医療機関マスタ!$B:$B,0),1)","v":"AH0000001"},{"$f":"INDEX(医療機関マスタ!$B:$B,MATCH(\"*\"&MID(注文書!$D$17,IFERROR(FIND(\" \",注文書!$D$17),IFERROR(FIND(\"　\",注文書!$D$17),0))+1,10)&\"*\",医療機関マスタ!$C:$C,0),1)","v":"医療法人社団斗南堂　八王子クリニック"},{"$f":"配送情報書!X449","v":""},{"$f":"配送情報書!Z449","v":"00:00:00"},{"$f":"配送情報書!$V449","v":""},"転記不要",null,null,null,{"$f":"配送情報書!T449","v":0},{"$f":"COUNTIF($A$3:A447,A447)","v":445}]
[{"$f":"配送情報書!A450","v":0},{"$f":"配送情報書!AB450","v":0},{"$f":"配送情報書!AA450","v":0},{"$f":"配送情報書!AC450","v":0},{"$f":"INDEX(医療機関マスタ!$A:$A,MATCH(F448,医療機関マスタ!$B:$B,0),1)","v":"AH0000001"},{"$f":"INDEX(医療機関マスタ!$B:$B,MATCH(\"*\"&MID(注文書!$D$17,IFERROR(FIND(\" \",注文書!$D$17),IFERROR(FIND(\"　\",注文書!$D$17),0))+1,10)&\"*\",医療機関マスタ!$C:$C,0),1)","v":"医療法人社団斗南堂　八王子クリニック"},{"$f":"配送情報書!X450","v":""},{"$f":"配送情報書!Z450","v":"00:00:00"},{"$f":"配送情報書!$V450","v":""},"転記不要",null,null,null,{"$f":"配送情報書!T450","v":0},{"$f":"COUNTIF($A$3:A448,A448)","v":446}]
[{"$f":"配送情報書!A451","v":0},{"$f":"配送情報書!AB451","v":0},{"$f":"配送情報書!AA451","v":0},{"$f":"配送情報書!AC451","v":0},{"$f":"INDEX(医療機関マスタ!$A:$A,MATCH(F449,医療機関マスタ!$B:$B,0),1)","v":"AH0000001"},{"$f":"INDEX(医療機関マスタ!$B:$B,MATCH(\"*\"&MID(注文書!$D$17,IFERROR(FIND(\" \",注文書!$D$17),IFERROR(FIND(\"　\",注文書!$D$17),0))+1,10)&\"*\",医療機関マスタ!$C:$C,0),1)","v":"医療法人社団斗南堂　八王子クリニック"},{"$f":"配送情報書!X451","v":""},{"$f":"配送情報書!Z451","v":"00:00:00"},{"$f":"配送情報書!$V451","v":""},"転記不要",null,null,null,{"$f":"配送情報書!T451","v":0},{"$f":"COUNTIF($A$3:A449,A449)","v":447}]
[{"$f":"配送情報書!A452","v":0},{"$f":"配送情報書!AB452","v":0},{"$f":"配送情報書!AA452","v":0},{"$f":"配送情報書!AC452","v":0},{"$f":"INDEX(医療機関マスタ!$A:$A,MATCH(F450,医療機関マスタ!$B:$B,0),1)","v":"AH0000001"},{"$f":"INDEX(医療機関マスタ!$B:$B,MATCH(\"*\"&MID(注文書!$D$17,IFERROR(FIND(\" \",注文書!$D$17),IFERROR(FIND(\"　\",注文書!$D$17),0))+1,10)&\"*\",医療機関マスタ!$C:$C,0),1)","v":"医療法人社団斗南堂　八王子クリニック"},{"$f":"配送情報書!X452","v":""},{"$f":"配送情報書!Z452","v":"00:00:00"},{"$f":"配送情報書!$V452","v":""},"転記不要",null,null,null,{"$f":"配送情報書!T452","v":0},{"$f":"COUNTIF($A$3:A450,A450)","v":448}]
[{"$f":"配送情報書!A453","v":0},{"$f":"配送情報書!AB453","v":0},{"$f":"配送情報書!AA453","v":0},{"$f":"配送情報書!AC453","v":0},{"$f":"INDEX(医療機関マスタ!$A:$A,MATCH(F451,医療機関マスタ!$B:$B,0),1)","v":"AH0000001"},{"$f":"INDEX(医療機関マスタ!$B:$B,MATCH(\"*\"&MID(注文書!$D$17,IFERROR(FIND(\" \",注文書!$D$17),IFERROR(FIND(\"　\",注文書!$D$17),0))+1,10)&\"*\",医療機関マスタ!$C:$C,0),1)","v":"医療法人社団斗南堂　八王子クリニック"},{"$f":"配送情報書!X453","v":""},{"$f":"配送情報書!Z453","v":"00:00:00"},{"$f":"配送情報書!$V453","v":""},"転記不要",null,null,null,{"$f":"配送情報書!T453","v":0},{"$f":"COUNTIF($A$3:A451,A451)","v":449}]
[{"$f":"配送情報書!A454","v":0},{"$f":"配送情報書!AB454","v":0},{"$f":"配送情報書!AA454","v":0},{"$f":"配送情報書!AC454","v":0},{"$f":"INDEX(医療機関マスタ!$A:$A,MATCH(F452,医療機関マスタ!$B:$B,0),1)","v":"AH0000001"},{"$f":"INDEX(医療機関マスタ!$B:$B,MATCH(\"*\"&MID(注文書!$D$17,IFERROR(FIND(\" \",注文書!$D$17),IFERROR(FIND(\"　\",注文書!$D$17),0))+1,10)&\"*\",医療機関マスタ!$C:$C,0),1)","v":"医療法人社団斗南堂　八王子クリニック"},{"$f":"配送情報書!X454","v":""},{"$f":"配送情報書!Z454","v":"00:00:00"},{"$f":"配送情報書!$V454","v":""},{"$f":"IF(AND(N452>0,O452=1),SUMIFS($N:$N,$A:$A,A452),\"転記不要\")","v":"転記不要"},null,null,null,{"$f":"配送情報書!T454","v":0},{"$f":"COUNTIF($A$3:A452,A452)","v":450}]
[{"$f":"配送情報書!A455","v":0},{"$f":"配送情報書!AB455","v":0},{"$f":"配送情報書!AA455","v":0},{"$f":"配送情報書!AC455","v":0},{"$f":"INDEX(医療機関マスタ!$A:$A,MATCH(F453,医療機関マスタ!$B:$B,0),1)","v":"AH0000001"},{"$f":"INDEX(医療機関マスタ!$B:$B,MATCH(\"*\"&MID(注文書!$D$17,IFERROR(FIND(\" \",注文書!$D$17),IFERROR(FIND(\"　\",注文書!$D$17),0))+1,10)&\"*\",医療機関マスタ!$C:$C,0),1)","v":"医療法人社団斗南堂　八王子クリニック"},{"$f":"配送情報書!X455","v":""},{"$f":"配送情報書!Z455","v":"00:00:00"},{"$f":"配送情報書!$V455","v":""},"転記不要",null,null,null,{"$f":"配送情報書!T455","v":0},{"$f":"COUNTIF($A$3:A453,A453)","v":451}]
[{"$f":"配送情報書!A456","v":0},{"$f":"配送情報書!AB456","v":0},{"$f":"配送情報書!AA456","v":0},{"$f":"配送情報書!AC456","v":0},{"$f":"INDEX(医療機関マスタ!$A:$A,MATCH(F454,医療機関マスタ!$B:$B,0),1)","v":"AH0000001"},{"$f":"INDEX(医療機関マスタ!$B:$B,MATCH(\"*\"&MID(注文書!$D$17,IFERROR(FIND(\" \",注文書!$D$17),IFERROR(FIND(\"　\",注文書!$D$17),0))+1,10)&\"*\",医療機関マスタ!$C:$C,0),1)","v":"医療法人社団斗南堂　八王子クリニック"},{"$f":"配送情報書!X456","v":""},{"$f":"配送情報書!Z456","v":"00:00:00"},{"$f":"配送情報書!$V456","v":""},"転記不要",null,null,null,{"$f":"配送情報書!T456","v":0},{"$f":"COUNTIF($A$3:A454,A454)","v":452}]
[{"$f":"配送情報書!A457","v":0},{"$f":"配送情報書!AB457","v":0},{"$f":"配送情報書!AA457","v":0},{"$f":"配送情報書!AC457","v":0},{"$f":"INDEX(医療機関マスタ!$A:$A,MATCH(F455,医療機関マスタ!$B:$B,0),1)","v":"AH0000001"},{"$f":"INDEX(医療機関マスタ!$B:$B,MATCH(\"*\"&MID(注文書!$D$17,IFERROR(FIND(\" \",注文書!$D$17),IFERROR(FIND(\"　\",注文書!$D$17),0))+1,10)&\"*\",医療機関マスタ!$C:$C,0),1)","v":"医療法人社団斗南堂　八王子クリニック"},{"$f":"配送情報書!X457","v":""},{"$f":"配送情報書!Z457","v":"00:00:00"},{"$f":"配送情報書!$V457","v":""},"転記不要",null,null,null,{"$f":"配送情報書!T457","v":0},{"$f":"COUNTIF($A$3:A455,A455)","v":453}]
[{"$f":"配送情報書!A458","v":0},{"$f":"配送情報書!AB458","v":0},{"$f":"配送情報書!AA458","v":0},{"$f":"配送情報書!AC458","v":0},{"$f":"INDEX(医療機関マスタ!$A:$A,MATCH(F456,医療機関マスタ!$B:$B,0),1)","v":"AH0000001"},{"$f":"INDEX(医療機関マスタ!$B:$B,MATCH(\"*\"&MID(注文書!$D$17,IFERROR(FIND(\" \",注文書!$D$17),IFERROR(FIND(\"　\",注文書!$D$17),0))+1,10)&\"*\",医療機関マスタ!$C:$C,0),1)","v":"医療法人社団斗南堂　八王子クリニック"},{"$f":"配送情報書!X458","v":""},{"$f":"配送情報書!Z458","v":"00:00:00"},{"$f":"配送情報書!$V458","v":""},"転記不要",null,null,null,{"$f":"配送情報書!T458","v":0},{"$f":"COUNTIF($A$3:A456,A456)","v":454}]
[{"$f":"配送情報書!A459","v":0},{"$f":"配送情報書!AB459","v":0},{"$f":"配送情報書!AA459","v":0},{"$f":"配送情報書!AC459","v":0},{"$f":"INDEX(医療機関マスタ!$A:$A,MATCH(F457,医療機関マスタ!$B:$B,0),1)","v":"AH0000001"},{"$f":"INDEX(医療機関マスタ!$B:$B,MATCH(\"*\"&MID(注文書!$D$17,IFERROR(FIND(\" \",注文書!$D$17),IFERROR(FIND(\"　\",注文書!$D$17),0))+1,10)&\"*\",医療機関マスタ!$C:$C,0),1)","v":"医療法人社団斗南堂　八王子クリニック"},{"$f":"配送情報書!X459","v":""},{"$f":"配送情報書!Z459","v":"00:00:00"},{"$f":"配送情報書!$V459","v":""},"転記不要",null,null,null,{"$f":"配送情報書!T459","v":0},{"$f":"COUNTIF($A$3:A457,A457)","v":455}]
[{"$f":"配送情報書!A460","v":0},{"$f":"配送情報書!AB460","v":0},{"$f":"配送情報書!AA460","v":0},{"$f":"配送情報書!AC460","v":0},{"$f":"INDEX(医療機関マスタ!$A:$A,MATCH(F458,医療機関マスタ!$B:$B,0),1)","v":"AH0000001"},{"$f":"INDEX(医療機関マスタ!$B:$B,MATCH(\"*\"&MID(注文書!$D$17,IFERROR(FIND(\" \",注文書!$D$17),IFERROR(FIND(\"　\",注文書!$D$17),0))+1,10)&\"*\",医療機関マスタ!$C:$C,0),1)","v":"医療法人社団斗南堂　八王子クリニック"},{"$f":"配送情報書!X460","v":""},{"$f":"配送情報書!Z460","v":"00:00:00"},{"$f":"配送情報書!$V460","v":""},"転記不要",null,null,null,{"$f":"配送情報書!T460","v":0},{"$f":"COUNTIF($A$3:A458,A458)","v":456}]
[{"$f":"配送情報書!A461","v":0},{"$f":"配送情報書!AB461","v":0},{"$f":"配送情報書!AA461","v":0},{"$f":"配送情報書!AC461","v":0},{"$f":"INDEX(医療機関マスタ!$A:$A,MATCH(F459,医療機関マスタ!$B:$B,0),1)","v":"AH0000001"},{"$f":"INDEX(医療機関マスタ!$B:$B,MATCH(\"*\"&MID(注文書!$D$17,IFERROR(FIND(\" \",注文書!$D$17),IFERROR(FIND(\"　\",注文書!$D$17),0))+1,10)&\"*\",医療機関マスタ!$C:$C,0),1)","v":"医療法人社団斗南堂　八王子クリニック"},{"$f":"配送情報書!X461","v":""},{"$f":"配送情報書!Z461","v":"00:00:00"},{"$f":"配送情報書!$V461","v":""},"転記不要",null,null,null,{"$f":"配送情報書!T461","v":0},{"$f":"COUNTIF($A$3:A459,A459)","v":457}]
[{"$f":"配送情報書!A462","v":0},{"$f":"配送情報書!AB462","v":0},{"$f":"配送情報書!AA462","v":0},{"$f":"配送情報書!AC462","v":0},{"$f":"INDEX(医療機関マスタ!$A:$A,MATCH(F460,医療機関マスタ!$B:$B,0),1)","v":"AH0000001"},{"$f":"INDEX(医療機関マスタ!$B:$B,MATCH(\"*\"&MID(注文書!$D$17,IFERROR(FIND(\" \",注文書!$D$17),IFERROR(FIND(\"　\",注文書!$D$17),0))+1,10)&\"*\",医療機関マスタ!$C:$C,0),1)","v":"医療法人社団斗南堂　八王子クリニック"},{"$f":"配送情報書!X462","v":""},{"$f":"配送情報書!Z462","v":"00:00:00"},{"$f":"配送情報書!$V462","v":""},"転記不要",null,null,null,{"$f":"配送情報書!T462","v":0},{"$f":"COUNTIF($A$3:A460,A460)","v":458}]
[{"$f":"配送情報書!A463","v":0},{"$f":"配送情報書!AB463","v":0},{"$f":"配送情報書!AA463","v":0},{"$f":"配送情報書!AC463","v":0},{"$f":"INDEX(医療機関マスタ!$A:$A,MATCH(F461,医療機関マスタ!$B:$B,0),1)","v":"AH0000001"},{"$f":"INDEX(医療機関マスタ!$B:$B,MATCH(\"*\"&MID(注文書!$D$17,IFERROR(FIND(\" \",注文書!$D$17),IFERROR(FIND(\"　\",注文書!$D$17),0))+1,10)&\"*\",医療機関マスタ!$C:$C,0),1)","v":"医療法人社団斗南堂　八王子クリニック"},{"$f":"配送情報書!X463","v":""},{"$f":"配送情報書!Z463","v":"00:00:00"},{"$f":"配送情報書!$V463","v":""},"転記不要",null,null,null,{"$f":"配送情報書!T463","v":0},{"$f":"COUNTIF($A$3:A461,A461)","v":459}]
[{"$f":"配送情報書!A464","v":0},{"$f":"配送情報書!AB464","v":0},{"$f":"配送情報書!AA464","v":0},{"$f":"配送情報書!AC464","v":0},{"$f":"INDEX(医療機関マスタ!$A:$A,MATCH(F462,医療機関マスタ!$B:$B,0),1)","v":"AH0000001"},{"$f":"INDEX(医療機関マスタ!$B:$B,MATCH(\"*\"&MID(注文書!$D$17,IFERROR(FIND(\" \",注文書!$D$17),IFERROR(FIND(\"　\",注文書!$D$17),0))+1,10)&\"*\",医療機関マスタ!$C:$C,0),1)","v":"医療法人社団斗南堂　八王子クリニック"},{"$f":"配送情報書!X464","v":""},{"$f":"配送情報書!Z464","v":"00:00:00"},{"$f":"配送情報書!$V464","v":""},"転記不要",null,null,null,{"$f":"配送情報書!T464","v":0},{"$f":"COUNTIF($A$3:A462,A462)","v":460}]
[{"$f":"配送情報書!A465","v":0},{"$f":"配送情報書!AB465","v":0},{"$f":"配送情報書!AA465","v":0},{"$f":"配送情報書!AC465","v":0},{"$f":"INDEX(医療機関マスタ!$A:$A,MATCH(F463,医療機関マスタ!$B:$B,0),1)","v":"AH0000001"},{"$f":"INDEX(医療機関マスタ!$B:$B,MATCH(\"*\"&MID(注文書!$D$17,IFERROR(FIND(\" \",注文書!$D$17),IFERROR(FIND(\"　\",注文書!$D$17),0))+1,10)&\"*\",医療機関マスタ!$C:$C,0),1)","v":"医療法人社団斗南堂　八王子クリニック"},{"$f":"配送情報書!X465","v":""},{"$f":"配送情報書!Z465","v":"00:00:00"},{"$f":"配送情報書!$V465","v":""},"転記不要",null,null,null,{"$f":"配送情報書!T465","v":0},{"$f":"COUNTIF($A$3:A463,A463)","v":461}]
[{"$f":"配送情報書!A466","v":0},{"$f":"配送情報書!AB466","v":0},{"$f":"配送情報書!AA466","v":0},{"$f":"配送情報書!AC466","v":0},{"$f":"INDEX(医療機関マスタ!$A:$A,MATCH(F464,医療機関マスタ!$B:$B,0),1)","v":"AH0000001"},{"$f":"INDEX(医療機関マスタ!$B:$B,MATCH(\"*\"&MID(注文書!$D$17,IFERROR(FIND(\" \",注文書!$D$17),IFERROR(FIND(\"　\",注文書!$D$17),0))+1,10)&\"*\",医療機関マスタ!$C:$C,0),1)","v":"医療法人社団斗南堂　八王子クリニック"},{"$f":"配送情報書!X466","v":""},{"$f":"配送情報書!Z466","v":"00:00:00"},{"$f":"配送情報書!$V466","v":""},"転記不要",null,null,null,{"$f":"配送情報書!T466","v":0},{"$f":"COUNTIF($A$3:A464,A464)","v":462}]
[{"$f":"配送情報書!A467","v":0},{"$f":"配送情報書!AB467","v":0},{"$f":"配送情報書!AA467","v":0},{"$f":"配送情報書!AC467","v":0},{"$f":"INDEX(医療機関マスタ!$A:$A,MATCH(F465,医療機関マスタ!$B:$B,0),1)","v":"AH0000001"},{"$f":"INDEX(医療機関マスタ!$B:$B,MATCH(\"*\"&MID(注文書!$D$17,IFERROR(FIND(\" \",注文書!$D$17),IFERROR(FIND(\"　\",注文書!$D$17),0))+1,10)&\"*\",医療機関マスタ!$C:$C,0),1)","v":"医療法人社団斗南堂　八王子クリニック"},{"$f":"配送情報書!X467","v":""},{"$f":"配送情報書!Z467","v":"00:00:00"},{"$f":"配送情報書!$V467","v":""},"転記不要",null,null,null,{"$f":"配送情報書!T467","v":0},{"$f":"COUNTIF($A$3:A465,A465)","v":463}]
[{"$f":"配送情報書!A468","v":0},{"$f":"配送情報書!AB468","v":0},{"$f":"配送情報書!AA468","v":0},{"$f":"配送情報書!AC468","v":0},{"$f":"INDEX(医療機関マスタ!$A:$A,MATCH(F466,医療機関マスタ!$B:$B,0),1)","v":"AH0000001"},{"$f":"INDEX(医療機関マスタ!$B:$B,MATCH(\"*\"&MID(注文書!$D$17,IFERROR(FIND(\" \",注文書!$D$17),IFERROR(FIND(\"　\",注文書!$D$17),0))+1,10)&\"*\",医療機関マスタ!$C:$C,0),1)","v":"医療法人社団斗南堂　八王子クリニック"},{"$f":"配送情報書!X468","v":""},{"$f":"配送情報書!Z468","v":"00:00:00"},{"$f":"配送情報書!$V468","v":""},"転記不要",null,null,null,{"$f":"配送情報書!T468","v":0},{"$f":"COUNTIF($A$3:A466,A466)","v":464}]
[{"$f":"配送情報書!A469","v":0},{"$f":"配送情報書!AB469","v":0},{"$f":"配送情報書!AA469","v":0},{"$f":"配送情報書!AC469","v":0},{"$f":"INDEX(医療機関マスタ!$A:$A,MATCH(F467,医療機関マスタ!$B:$B,0),1)","v":"AH0000001"},{"$f":"INDEX(医療機関マスタ!$B:$B,MATCH(\"*\"&MID(注文書!$D$17,IFERROR(FIND(\" \",注文書!$D$17),IFERROR(FIND(\"　\",注文書!$D$17),0))+1,10)&\"*\",医療機関マスタ!$C:$C,0),1)","v":"医療法人社団斗南堂　八王子クリニック"},{"$f":"配送情報書!X469","v":""},{"$f":"配送情報書!Z469","v":"00:00:00"},{"$f":"配送情報書!$V469","v":""},"転記不要",null,null,null,{"$f":"配送情報書!T469","v":0},{"$f":"COUNTIF($A$3:A467,A467)","v":465}]
[{"$f":"配送情報書!A470","v":0},{"$f":"配送情報書!AB470","v":0},{"$f":"配送情報書!AA470","v":0},{"$f":"配送情報書!AC470","v":0},{"$f":"INDEX(医療機関マスタ!$A:$A,MATCH(F468,医療機関マスタ!$B:$B,0),1)","v":"AH0000001"},{"$f":"INDEX(医療機関マスタ!$B:$B,MATCH(\"*\"&MID(注文書!$D$17,IFERROR(FIND(\" \",注文書!$D$17),IFERROR(FIND(\"　\",注文書!$D$17),0))+1,10)&\"*\",医療機関マスタ!$C:$C,0),1)","v":"医療法人社団斗南堂　八王子クリニック"},{"$f":"配送情報書!X470","v":""},{"$f":"配送情報書!Z470","v":"00:00:00"},{"$f":"配送情報書!$V470","v":""},"転記不要",null,null,null,{"$f":"配送情報書!T470","v":0},{"$f":"COUNTIF($A$3:A468,A468)","v":466}]
[{"$f":"配送情報書!A471","v":0},{"$f":"配送情報書!AB471","v":0},{"$f":"配送情報書!AA471","v":0},{"$f":"配送情報書!AC471","v":0},{"$f":"INDEX(医療機関マスタ!$A:$A,MATCH(F469,医療機関マスタ!$B:$B,0),1)","v":"AH0000001"},{"$f":"INDEX(医療機関マスタ!$B:$B,MATCH(\"*\"&MID(注文書!$D$17,IFERROR(FIND(\" \",注文書!$D$17),IFERROR(FIND(\"　\",注文書!$D$17),0))+1,10)&\"*\",医療機関マスタ!$C:$C,0),1)","v":"医療法人社団斗南堂　八王子クリニック"},{"$f":"配送情報書!X471","v":""},{"$f":"配送情報書!Z471","v":"00:00:00"},{"$f":"配送情報書!$V471","v":""},"転記不要",null,null,null,{"$f":"配送情報書!T471","v":0},{"$f":"COUNTIF($A$3:A469,A469)","v":467}]
[{"$f":"配送情報書!A472","v":0},{"$f":"配送情報書!AB472","v":0},{"$f":"配送情報書!AA472","v":0},{"$f":"配送情報書!AC472","v":0},{"$f":"INDEX(医療機関マスタ!$A:$A,MATCH(F470,医療機関マスタ!$B:$B,0),1)","v":"AH0000001"},{"$f":"INDEX(医療機関マスタ!$B:$B,MATCH(\"*\"&MID(注文書!$D$17,IFERROR(FIND(\" \",注文書!$D$17),IFERROR(FIND(\"　\",注文書!$D$17),0))+1,10)&\"*\",医療機関マスタ!$C:$C,0),1)","v":"医療法人社団斗南堂　八王子クリニック"},{"$f":"配送情報書!X472","v":""},{"$f":"配送情報書!Z472","v":"00:00:00"},{"$f":"配送情報書!$V472","v":""},"転記不要",null,null,null,{"$f":"配送情報書!T472","v":0},{"$f":"COUNTIF($A$3:A470,A470)","v":468}]
[{"$f":"配送情報書!A473","v":0},{"$f":"配送情報書!AB473","v":0},{"$f":"配送情報書!AA473","v":0},{"$f":"配送情報書!AC473","v":0},{"$f":"INDEX(医療機関マスタ!$A:$A,MATCH(F471,医療機関マスタ!$B:$B,0),1)","v":"AH0000001"},{"$f":"INDEX(医療機関マスタ!$B:$B,MATCH(\"*\"&MID(注文書!$D$17,IFERROR(FIND(\" \",注文書!$D$17),IFERROR(FIND(\"　\",注文書!$D$17),0))+1,10)&\"*\",医療機関マスタ!$C:$C,0),1)","v":"医療法人社団斗南堂　八王子クリニック"},{"$f":"配送情報書!X473","v":""},{"$f":"配送情報書!Z473","v":"00:00:00"},{"$f":"配送情報書!$V473","v":""},"転記不要",null,null,null,{"$f":"配送情報書!T473","v":0},{"$f":"COUNTIF($A$3:A471,A471)","v":469}]
[{"$f":"配送情報書!A474","v":0},{"$f":"配送情報書!AB474","v":0},{"$f":"配送情報書!AA474","v":0},{"$f":"配送情報書!AC474","v":0},{"$f":"INDEX(医療機関マスタ!$A:$A,MATCH(F472,医療機関マスタ!$B:$B,0),1)","v":"AH0000001"},{"$f":"INDEX(医療機関マスタ!$B:$B,MATCH(\"*\"&MID(注文書!$D$17,IFERROR(FIND(\" \",注文書!$D$17),IFERROR(FIND(\"　\",注文書!$D$17),0))+1,10)&\"*\",医療機関マスタ!$C:$C,0),1)","v":"医療法人社団斗南堂　八王子クリニック"},{"$f":"配送情報書!X474","v":""},{"$f":"配送情報書!Z474","v":"00:00:00"},{"$f":"配送情報書!$V474","v":""},"転記不要",null,null,null,{"$f":"配送情報書!T474","v":0},{"$f":"COUNTIF($A$3:A472,A472)","v":470}]
[{"$f":"配送情報書!A475","v":0},{"$f":"配送情報書!AB475","v":0},{"$f":"配送情報書!AA475","v":0},{"$f":"配送情報書!AC475","v":0},{"$f":"INDEX(医療機関マスタ!$A:$A,MATCH(F473,医療機関マスタ!$B:$B,0),1)","v":"AH0000001"},{"$f":"INDEX(医療機関マスタ!$B:$B,MATCH(\"*\"&MID(注文書!$D$17,IFERROR(FIND(\" \",注文書!$D$17),IFERROR(FIND(\"　\",注文書!$D$17),0))+1,10)&\"*\",医療機関マスタ!$C:$C,0),1)","v":"医療法人社団斗南堂　八王子クリニック"},{"$f":"配送情報書!X475","v":""},{"$f":"配送情報書!Z475","v":"00:00:00"},{"$f":"配送情報書!$V475","v":""},"転記不要",null,null,null,{"$f":"配送情報書!T475","v":0},{"$f":"COUNTIF($A$3:A473,A473)","v":471}]
[{"$f":"配送情報書!A476","v":0},{"$f":"配送情報書!AB476","v":0},{"$f":"配送情報書!AA476","v":0},{"$f":"配送情報書!AC476","v":0},{"$f":"INDEX(医療機関マスタ!$A:$A,MATCH(F474,医療機関マスタ!$B:$B,0),1)","v":"AH0000001"},{"$f":"INDEX(医療機関マスタ!$B:$B,MATCH(\"*\"&MID(注文書!$D$17,IFERROR(FIND(\" \",注文書!$D$17),IFERROR(FIND(\"　\",注文書!$D$17),0))+1,10)&\"*\",医療機関マスタ!$C:$C,0),1)","v":"医療法人社団斗南堂　八王子クリニック"},{"$f":"配送情報書!X476","v":""},{"$f":"配送情報書!Z476","v":"00:00:00"},{"$f":"配送情報書!$V476","v":""},"転記不要",null,null,null,{"$f":"配送情報書!T476","v":0},{"$f":"COUNTIF($A$3:A474,A474)","v":472}]
[{"$f":"配送情報書!A477","v":0},{"$f":"配送情報書!AB477","v":0},{"$f":"配送情報書!AA477","v":0},{"$f":"配送情報書!AC477","v":0},{"$f":"INDEX(医療機関マスタ!$A:$A,MATCH(F475,医療機関マスタ!$B:$B,0),1)","v":"AH0000001"},{"$f":"INDEX(医療機関マスタ!$B:$B,MATCH(\"*\"&MID(注文書!$D$17,IFERROR(FIND(\" \",注文書!$D$17),IFERROR(FIND(\"　\",注文書!$D$17),0))+1,10)&\"*\",医療機関マスタ!$C:$C,0),1)","v":"医療法人社団斗南堂　八王子クリニック"},{"$f":"配送情報書!X477","v":""},{"$f":"配送情報書!Z477","v":"00:00:00"},{"$f":"配送情報書!$V477","v":""},"転記不要",null,null,null,{"$f":"配送情報書!T477","v":0},{"$f":"COUNTIF($A$3:A475,A475)","v":473}]
[{"$f":"配送情報書!A478","v":0},{"$f":"配送情報書!AB478","v":0},{"$f":"配送情報書!AA478","v":0},{"$f":"配送情報書!AC478","v":0},{"$f":"INDEX(医療機関マスタ!$A:$A,MATCH(F476,医療機関マスタ!$B:$B,0),1)","v":"AH0000001"},{"$f":"INDEX(医療機関マスタ!$B:$B,MATCH(\"*\"&MID(注文書!$D$17,IFERROR(FIND(\" \",注文書!$D$17),IFERROR(FIND(\"　\",注文書!$D$17),0))+1,10)&\"*\",医療機関マスタ!$C:$C,0),1)","v":"医療法人社団斗南堂　八王子クリニック"},{"$f":"配送情報書!X478","v":""},{"$f":"配送情報書!Z478","v":"00:00:00"},{"$f":"配送情報書!$V478","v":""},"転記不要",null,null,null,{"$f":"配送情報書!T478","v":0},{"$f":"COUNTIF($A$3:A476,A476)","v":474}]
[{"$f":"配送情報書!A479","v":0},{"$f":"配送情報書!AB479","v":0},{"$f":"配送情報書!AA479","v":0},{"$f":"配送情報書!AC479","v":0},{"$f":"INDEX(医療機関マスタ!$A:$A,MATCH(F477,医療機関マスタ!$B:$B,0),1)","v":"AH0000001"},{"$f":"INDEX(医療機関マスタ!$B:$B,MATCH(\"*\"&MID(注文書!$D$17,IFERROR(FIND(\" \",注文書!$D$17),IFERROR(FIND(\"　\",注文書!$D$17),0))+1,10)&\"*\",医療機関マスタ!$C:$C,0),1)","v":"医療法人社団斗南堂　八王子クリニック"},{"$f":"配送情報書!X479","v":""},{"$f":"配送情報書!Z479","v":"00:00:00"},{"$f":"配送情報書!$V479","v":""},"転記不要",null,null,null,{"$f":"配送情報書!T479","v":0},{"$f":"COUNTIF($A$3:A477,A477)","v":475}]
[{"$f":"配送情報書!A480","v":0},{"$f":"配送情報書!AB480","v":0},{"$f":"配送情報書!AA480","v":0},{"$f":"配送情報書!AC480","v":0},{"$f":"INDEX(医療機関マスタ!$A:$A,MATCH(F478,医療機関マスタ!$B:$B,0),1)","v":"AH0000001"},{"$f":"INDEX(医療機関マスタ!$B:$B,MATCH(\"*\"&MID(注文書!$D$17,IFERROR(FIND(\" \",注文書!$D$17),IFERROR(FIND(\"　\",注文書!$D$17),0))+1,10)&\"*\",医療機関マスタ!$C:$C,0),1)","v":"医療法人社団斗南堂　八王子クリニック"},{"$f":"配送情報書!X480","v":""},{"$f":"配送情報書!Z480","v":"00:00:00"},{"$f":"配送情報書!$V480","v":""},"転記不要",null,null,null,{"$f":"配送情報書!T480","v":0},{"$f":"COUNTIF($A$3:A478,A478)","v":476}]
[{"$f":"配送情報書!A481","v":0},{"$f":"配送情報書!AB481","v":0},{"$f":"配送情報書!AA481","v":0},{"$f":"配送情報書!AC481","v":0},{"$f":"INDEX(医療機関マスタ!$A:$A,MATCH(F479,医療機関マスタ!$B:$B,0),1)","v":"AH0000001"},{"$f":"INDEX(医療機関マスタ!$B:$B,MATCH(\"*\"&MID(注文書!$D$17,IFERROR(FIND(\" \",注文書!$D$17),IFERROR(FIND(\"　\",注文書!$D$17),0))+1,10)&\"*\",医療機関マスタ!$C:$C,0),1)","v":"医療法人社団斗南堂　八王子クリニック"},{"$f":"配送情報書!X481","v":""},{"$f":"配送情報書!Z481","v":"00:00:00"},{"$f":"配送情報書!$V481","v":""},"転記不要",null,null,null,{"$f":"配送情報書!T481","v":0},{"$f":"COUNTIF($A$3:A479,A479)","v":477}]
[{"$f":"配送情報書!A482","v":0},{"$f":"配送情報書!AB482","v":0},{"$f":"配送情報書!AA482","v":0},{"$f":"配送情報書!AC482","v":0},{"$f":"INDEX(医療機関マスタ!$A:$A,MATCH(F480,医療機関マスタ!$B:$B,0),1)","v":"AH0000001"},{"$f":"INDEX(医療機関マスタ!$B:$B,MATCH(\"*\"&MID(注文書!$D$17,IFERROR(FIND(\" \",注文書!$D$17),IFERROR(FIND(\"　\",注文書!$D$17),0))+1,10)&\"*\",医療機関マスタ!$C:$C,0),1)","v":"医療法人社団斗南堂　八王子クリニック"},{"$f":"配送情報書!X482","v":""},{"$f":"配送情報書!Z482","v":"00:00:00"},{"$f":"配送情報書!$V482","v":""},"転記不要",null,null,null,{"$f":"配送情報書!T482","v":0},{"$f":"COUNTIF($A$3:A480,A480)","v":478}]
[{"$f":"配送情報書!A483","v":0},{"$f":"配送情報書!AB483","v":0},{"$f":"配送情報書!AA483","v":0},{"$f":"配送情報書!AC483","v":0},{"$f":"INDEX(医療機関マスタ!$A:$A,MATCH(F481,医療機関マスタ!$B:$B,0),1)","v":"AH0000001"},{"$f":"INDEX(医療機関マスタ!$B:$B,MATCH(\"*\"&MID(注文書!$D$17,IFERROR(FIND(\" \",注文書!$D$17),IFERROR(FIND(\"　\",注文書!$D$17),0))+1,10)&\"*\",医療機関マスタ!$C:$C,0),1)","v":"医療法人社団斗南堂　八王子クリニック"},{"$f":"配送情報書!X483","v":""},{"$f":"配送情報書!Z483","v":"00:00:00"},{"$f":"配送情報書!$V483","v":""},"転記不要",null,null,null,{"$f":"配送情報書!T483","v":0},{"$f":"COUNTIF($A$3:A481,A481)","v":479}]
[{"$f":"配送情報書!A484","v":0},{"$f":"配送情報書!AB484","v":0},{"$f":"配送情報書!AA484","v":0},{"$f":"配送情報書!AC484","v":0},{"$f":"INDEX(医療機関マスタ!$A:$A,MATCH(F482,医療機関マスタ!$B:$B,0),1)","v":"AH0000001"},{"$f":"INDEX(医療機関マスタ!$B:$B,MATCH(\"*\"&MID(注文書!$D$17,IFERROR(FIND(\" \",注文書!$D$17),IFERROR(FIND(\"　\",注文書!$D$17),0))+1,10)&\"*\",医療機関マスタ!$C:$C,0),1)","v":"医療法人社団斗南堂　八王子クリニック"},{"$f":"配送情報書!X484","v":""},{"$f":"配送情報書!Z484","v":"00:00:00"},{"$f":"配送情報書!$V484","v":""},"転記不要",null,null,null,{"$f":"配送情報書!T484","v":0},{"$f":"COUNTIF($A$3:A482,A482)","v":480}]
[{"$f":"配送情報書!A485","v":0},{"$f":"配送情報書!AB485","v":0},{"$f":"配送情報書!AA485","v":0},{"$f":"配送情報書!AC485","v":0},{"$f":"INDEX(医療機関マスタ!$A:$A,MATCH(F483,医療機関マスタ!$B:$B,0),1)","v":"AH0000001"},{"$f":"INDEX(医療機関マスタ!$B:$B,MATCH(\"*\"&MID(注文書!$D$17,IFERROR(FIND(\" \",注文書!$D$17),IFERROR(FIND(\"　\",注文書!$D$17),0))+1,10)&\"*\",医療機関マスタ!$C:$C,0),1)","v":"医療法人社団斗南堂　八王子クリニック"},{"$f":"配送情報書!X485","v":""},{"$f":"配送情報書!Z485","v":"00:00:00"},{"$f":"配送情報書!$V485","v":""},"転記不要",null,null,null,{"$f":"配送情報書!T485","v":0},{"$f":"COUNTIF($A$3:A483,A483)","v":481}]
[{"$f":"配送情報書!A486","v":0},{"$f":"配送情報書!AB486","v":0},{"$f":"配送情報書!AA486","v":0},{"$f":"配送情報書!AC486","v":0},{"$f":"INDEX(医療機関マスタ!$A:$A,MATCH(F484,医療機関マスタ!$B:$B,0),1)","v":"AH0000001"},{"$f":"INDEX(医療機関マスタ!$B:$B,MATCH(\"*\"&MID(注文書!$D$17,IFERROR(FIND(\" \",注文書!$D$17),IFERROR(FIND(\"　\",注文書!$D$17),0))+1,10)&\"*\",医療機関マスタ!$C:$C,0),1)","v":"医療法人社団斗南堂　八王子クリニック"},{"$f":"配送情報書!X486","v":""},{"$f":"配送情報書!Z486","v":"00:00:00"},{"$f":"配送情報書!$V486","v":""},"転記不要",null,null,null,{"$f":"配送情報書!T486","v":0},{"$f":"COUNTIF($A$3:A484,A484)","v":482}]
[{"$f":"配送情報書!A487","v":0},{"$f":"配送情報書!AB487","v":0},{"$f":"配送情報書!AA487","v":0},{"$f":"配送情報書!AC487","v":0},{"$f":"INDEX(医療機関マスタ!$A:$A,MATCH(F485,医療機関マスタ!$B:$B,0),1)","v":"AH0000001"},{"$f":"INDEX(医療機関マスタ!$B:$B,MATCH(\"*\"&MID(注文書!$D$17,IFERROR(FIND(\" \",注文書!$D$17),IFERROR(FIND(\"　\",注文書!$D$17),0))+1,10)&\"*\",医療機関マスタ!$C:$C,0),1)","v":"医療法人社団斗南堂　八王子クリニック"},{"$f":"配送情報書!X487","v":""},{"$f":"配送情報書!Z487","v":"00:00:00"},{"$f":"配送情報書!$V487","v":""},"転記不要",null,null,null,{"$f":"配送情報書!T487","v":0},{"$f":"COUNTIF($A$3:A485,A485)","v":483}]
[{"$f":"配送情報書!A488","v":0},{"$f":"配送情報書!AB488","v":0},{"$f":"配送情報書!AA488","v":0},{"$f":"配送情報書!AC488","v":0},{"$f":"INDEX(医療機関マスタ!$A:$A,MATCH(F486,医療機関マスタ!$B:$B,0),1)","v":"AH0000001"},{"$f":"INDEX(医療機関マスタ!$B:$B,MATCH(\"*\"&MID(注文書!$D$17,IFERROR(FIND(\" \",注文書!$D$17),IFERROR(FIND(\"　\",注文書!$D$17),0))+1,10)&\"*\",医療機関マスタ!$C:$C,0),1)","v":"医療法人社団斗南堂　八王子クリニック"},{"$f":"配送情報書!X488","v":""},{"$f":"配送情報書!Z488","v":"00:00:00"},{"$f":"配送情報書!$V488","v":""},"転記不要",null,null,null,{"$f":"配送情報書!T488","v":0},{"$f":"COUNTIF($A$3:A486,A486)","v":484}]
[{"$f":"配送情報書!A489","v":0},{"$f":"配送情報書!AB489","v":0},{"$f":"配送情報書!AA489","v":0},{"$f":"配送情報書!AC489","v":0},{"$f":"INDEX(医療機関マスタ!$A:$A,MATCH(F487,医療機関マスタ!$B:$B,0),1)","v":"AH0000001"},{"$f":"INDEX(医療機関マスタ!$B:$B,MATCH(\"*\"&MID(注文書!$D$17,IFERROR(FIND(\" \",注文書!$D$17),IFERROR(FIND(\"　\",注文書!$D$17),0))+1,10)&\"*\",医療機関マスタ!$C:$C,0),1)","v":"医療法人社団斗南堂　八王子クリニック"},{"$f":"配送情報書!X489","v":""},{"$f":"配送情報書!Z489","v":"00:00:00"},{"$f":"配送情報書!$V489","v":""},"転記不要",null,null,null,{"$f":"配送情報書!T489","v":0},{"$f":"COUNTIF($A$3:A487,A487)","v":485}]
[{"$f":"配送情報書!A490","v":0},{"$f":"配送情報書!AB490","v":0},{"$f":"配送情報書!AA490","v":0},{"$f":"配送情報書!AC490","v":0},{"$f":"INDEX(医療機関マスタ!$A:$A,MATCH(F488,医療機関マスタ!$B:$B,0),1)","v":"AH0000001"},{"$f":"INDEX(医療機関マスタ!$B:$B,MATCH(\"*\"&MID(注文書!$D$17,IFERROR(FIND(\" \",注文書!$D$17),IFERROR(FIND(\"　\",注文書!$D$17),0))+1,10)&\"*\",医療機関マスタ!$C:$C,0),1)","v":"医療法人社団斗南堂　八王子クリニック"},{"$f":"配送情報書!X490","v":""},{"$f":"配送情報書!Z490","v":"00:00:00"},{"$f":"配送情報書!$V490","v":""},"転記不要",null,null,null,{"$f":"配送情報書!T490","v":0},{"$f":"COUNTIF($A$3:A488,A488)","v":486}]
[{"$f":"配送情報書!A491","v":0},{"$f":"配送情報書!AB491","v":0},{"$f":"配送情報書!AA491","v":0},{"$f":"配送情報書!AC491","v":0},{"$f":"INDEX(医療機関マスタ!$A:$A,MATCH(F489,医療機関マスタ!$B:$B,0),1)","v":"AH0000001"},{"$f":"INDEX(医療機関マスタ!$B:$B,MATCH(\"*\"&MID(注文書!$D$17,IFERROR(FIND(\" \",注文書!$D$17),IFERROR(FIND(\"　\",注文書!$D$17),0))+1,10)&\"*\",医療機関マスタ!$C:$C,0),1)","v":"医療法人社団斗南堂　八王子クリニック"},{"$f":"配送情報書!X491","v":""},{"$f":"配送情報書!Z491","v":"00:00:00"},{"$f":"配送情報書!$V491","v":""},"転記不要",null,null,null,{"$f":"配送情報書!T491","v":0},{"$f":"COUNTIF($A$3:A489,A489)","v":487}]
[{"$f":"配送情報書!A492","v":0},{"$f":"配送情報書!AB492","v":0},{"$f":"配送情報書!AA492","v":0},{"$f":"配送情報書!AC492","v":0},{"$f":"INDEX(医療機関マスタ!$A:$A,MATCH(F490,医療機関マスタ!$B:$B,0),1)","v":"AH0000001"},{"$f":"INDEX(医療機関マスタ!$B:$B,MATCH(\"*\"&MID(注文書!$D$17,IFERROR(FIND(\" \",注文書!$D$17),IFERROR(FIND(\"　\",注文書!$D$17),0))+1,10)&\"*\",医療機関マスタ!$C:$C,0),1)","v":"医療法人社団斗南堂　八王子クリニック"},{"$f":"配送情報書!X492","v":""},{"$f":"配送情報書!Z492","v":"00:00:00"},{"$f":"配送情報書!$V492","v":""},"転記不要",null,null,null,{"$f":"配送情報書!T492","v":0},{"$f":"COUNTIF($A$3:A490,A490)","v":488}]
[{"$f":"配送情報書!A493","v":0},{"$f":"配送情報書!AB493","v":0},{"$f":"配送情報書!AA493","v":0},{"$f":"配送情報書!AC493","v":0},{"$f":"INDEX(医療機関マスタ!$A:$A,MATCH(F491,医療機関マスタ!$B:$B,0),1)","v":"AH0000001"},{"$f":"INDEX(医療機関マスタ!$B:$B,MATCH(\"*\"&MID(注文書!$D$17,IFERROR(FIND(\" \",注文書!$D$17),IFERROR(FIND(\"　\",注文書!$D$17),0))+1,10)&\"*\",医療機関マスタ!$C:$C,0),1)","v":"医療法人社団斗南堂　八王子クリニック"},{"$f":"配送情報書!X493","v":""},{"$f":"配送情報書!Z493","v":"00:00:00"},{"$f":"配送情報書!$V493","v":""},"転記不要",null,null,null,{"$f":"配送情報書!T493","v":0},{"$f":"COUNTIF($A$3:A491,A491)","v":489}]
[{"$f":"配送情報書!A494","v":0},{"$f":"配送情報書!AB494","v":0},{"$f":"配送情報書!AA494","v":0},{"$f":"配送情報書!AC494","v":0},{"$f":"INDEX(医療機関マスタ!$A:$A,MATCH(F492,医療機関マスタ!$B:$B,0),1)","v":"AH0000001"},{"$f":"INDEX(医療機関マスタ!$B:$B,MATCH(\"*\"&MID(注文書!$D$17,IFERROR(FIND(\" \",注文書!$D$17),IFERROR(FIND(\"　\",注文書!$D$17),0))+1,10)&\"*\",医療機関マスタ!$C:$C,0),1)","v":"医療法人社団斗南堂　八王子クリニック"},{"$f":"配送情報書!X494","v":""},{"$f":"配送情報書!Z494","v":"00:00:00"},{"$f":"配送情報書!$V494","v":""},"転記不要",null,null,null,{"$f":"配送情報書!T494","v":0},{"$f":"COUNTIF($A$3:A492,A492)","v":490}]
[{"$f":"配送情報書!A495","v":0},{"$f":"配送情報書!AB495","v":0},{"$f":"配送情報書!AA495","v":0},{"$f":"配送情報書!AC495","v":0},{"$f":"INDEX(医療機関マスタ!$A:$A,MATCH(F493,医療機関マスタ!$B:$B,0),1)","v":"AH0000001"},{"$f":"INDEX(医療機関マスタ!$B:$B,MATCH(\"*\"&MID(注文書!$D$17,IFERROR(FIND(\" \",注文書!$D$17),IFERROR(FIND(\"　\",注文書!$D$17),0))+1,10)&\"*\",医療機関マスタ!$C:$C,0),1)","v":"医療法人社団斗南堂　八王子クリニック"},{"$f":"配送情報書!X495","v":""},{"$f":"配送情報書!Z495","v":"00:00:00"},{"$f":"配送情報書!$V495","v":""},"転記不要",null,null,null,{"$f":"配送情報書!T495","v":0},{"$f":"COUNTIF($A$3:A493,A493)","v":491}]
[{"$f":"配送情報書!A496","v":0},{"$f":"配送情報書!AB496","v":0},{"$f":"配送情報書!AA496","v":0},{"$f":"配送情報書!AC496","v":0},{"$f":"INDEX(医療機関マスタ!$A:$A,MATCH(F494,医療機関マスタ!$B:$B,0),1)","v":"AH0000001"},{"$f":"INDEX(医療機関マスタ!$B:$B,MATCH(\"*\"&MID(注文書!$D$17,IFERROR(FIND(\" \",注文書!$D$17),IFERROR(FIND(\"　\",注文書!$D$17),0))+1,10)&\"*\",医療機関マスタ!$C:$C,0),1)","v":"医療法人社団斗南堂　八王子クリニック"},{"$f":"配送情報書!X496","v":""},{"$f":"配送情報書!Z496","v":"00:00:00"},{"$f":"配送情報書!$V496","v":""},"転記不要",null,null,null,{"$f":"配送情報書!T496","v":0},{"$f":"COUNTIF($A$3:A494,A494)","v":492}]
[{"$f":"配送情報書!A497","v":0},{"$f":"配送情報書!AB497","v":0},{"$f":"配送情報書!AA497","v":0},{"$f":"配送情報書!AC497","v":0},{"$f":"INDEX(医療機関マスタ!$A:$A,MATCH(F495,医療機関マスタ!$B:$B,0),1)","v":"AH0000001"},{"$f":"INDEX(医療機関マスタ!$B:$B,MATCH(\"*\"&MID(注文書!$D$17,IFERROR(FIND(\" \",注文書!$D$17),IFERROR(FIND(\"　\",注文書!$D$17),0))+1,10)&\"*\",医療機関マスタ!$C:$C,0),1)","v":"医療法人社団斗南堂　八王子クリニック"},{"$f":"配送情報書!X497","v":""},{"$f":"配送情報書!Z497","v":"00:00:00"},{"$f":"配送情報書!$V497","v":""},"転記不要",null,null,null,{"$f":"配送情報書!T497","v":0},{"$f":"COUNTIF($A$3:A495,A495)","v":493}]
[{"$f":"配送情報書!A498","v":0},{"$f":"配送情報書!AB498","v":0},{"$f":"配送情報書!AA498","v":0},{"$f":"配送情報書!AC498","v":0},{"$f":"INDEX(医療機関マスタ!$A:$A,MATCH(F496,医療機関マスタ!$B:$B,0),1)","v":"AH0000001"},{"$f":"INDEX(医療機関マスタ!$B:$B,MATCH(\"*\"&MID(注文書!$D$17,IFERROR(FIND(\" \",注文書!$D$17),IFERROR(FIND(\"　\",注文書!$D$17),0))+1,10)&\"*\",医療機関マスタ!$C:$C,0),1)","v":"医療法人社団斗南堂　八王子クリニック"},{"$f":"配送情報書!X498","v":""},{"$f":"配送情報書!Z498","v":"00:00:00"},{"$f":"配送情報書!$V498","v":""},"転記不要",null,null,null,{"$f":"配送情報書!T498","v":0},{"$f":"COUNTIF($A$3:A496,A496)","v":494}]
[{"$f":"配送情報書!A499","v":0},{"$f":"配送情報書!AB499","v":0},{"$f":"配送情報書!AA499","v":0},{"$f":"配送情報書!AC499","v":0},{"$f":"INDEX(医療機関マスタ!$A:$A,MATCH(F497,医療機関マスタ!$B:$B,0),1)","v":"AH0000001"},{"$f":"INDEX(医療機関マスタ!$B:$B,MATCH(\"*\"&MID(注文書!$D$17,IFERROR(FIND(\" \",注文書!$D$17),IFERROR(FIND(\"　\",注文書!$D$17),0))+1,10)&\"*\",医療機関マスタ!$C:$C,0),1)","v":"医療法人社団斗南堂　八王子クリニック"},{"$f":"配送情報書!X499","v":""},{"$f":"配送情報書!Z499","v":"00:00:00"},{"$f":"配送情報書!$V499","v":""},"転記不要",null,null,null,{"$f":"配送情報書!T499","v":0},{"$f":"COUNTIF($A$3:A497,A497)","v":495}]
[{"$f":"配送情報書!A500","v":0},{"$f":"配送情報書!AB500","v":0},{"$f":"配送情報書!AA500","v":0},{"$f":"配送情報書!AC500","v":0},{"$f":"INDEX(医療機関マスタ!$A:$A,MATCH(F498,医療機関マスタ!$B:$B,0),1)","v":"AH0000001"},{"$f":"INDEX(医療機関マスタ!$B:$B,MATCH(\"*\"&MID(注文書!$D$17,IFERROR(FIND(\" \",注文書!$D$17),IFERROR(FIND(\"　\",注文書!$D$17),0))+1,10)&\"*\",医療機関マスタ!$C:$C,0),1)","v":"医療法人社団斗南堂　八王子クリニック"},{"$f":"配送情報書!X500","v":""},{"$f":"配送情報書!Z500","v":"00:00:00"},{"$f":"配送情報書!$V500","v":""},"転記不要",null,null,null,{"$f":"配送情報書!T500","v":0},{"$f":"COUNTIF($A$3:A498,A498)","v":496}]
[{"$f":"配送情報書!A501","v":0},{"$f":"配送情報書!AB501","v":0},{"$f":"配送情報書!AA501","v":0},{"$f":"配送情報書!AC501","v":0},{"$f":"INDEX(医療機関マスタ!$A:$A,MATCH(F499,医療機関マスタ!$B:$B,0),1)","v":"AH0000001"},{"$f":"INDEX(医療機関マスタ!$B:$B,MATCH(\"*\"&MID(注文書!$D$17,IFERROR(FIND(\" \",注文書!$D$17),IFERROR(FIND(\"　\",注文書!$D$17),0))+1,10)&\"*\",医療機関マスタ!$C:$C,0),1)","v":"医療法人社団斗南堂　八王子クリニック"},{"$f":"配送情報書!X501","v":""},{"$f":"配送情報書!Z501","v":"00:00:00"},{"$f":"配送情報書!$V501","v":""},"転記不要",null,null,null,{"$f":"配送情報書!T501","v":0},{"$f":"COUNTIF($A$3:A499,A499)","v":497}]
[{"$f":"配送情報書!A502","v":0},{"$f":"配送情報書!AB502","v":0},{"$f":"配送情報書!AA502","v":0},{"$f":"配送情報書!AC502","v":0},{"$f":"INDEX(医療機関マスタ!$A:$A,MATCH(F500,医療機関マスタ!$B:$B,0),1)","v":"AH0000001"},{"$f":"INDEX(医療機関マスタ!$B:$B,MATCH(\"*\"&MID(注文書!$D$17,IFERROR(FIND(\" \",注文書!$D$17),IFERROR(FIND(\"　\",注文書!$D$17),0))+1,10)&\"*\",医療機関マスタ!$C:$C,0),1)","v":"医療法人社団斗南堂　八王子クリニック"},{"$f":"配送情報書!X502","v":""},{"$f":"配送情報書!Z502","v":"00:00:00"},{"$f":"配送情報書!$V502","v":""},"転記不要",null,null,null,{"$f":"配送情報書!T502","v":0},{"$f":"COUNTIF($A$3:A500,A500)","v":498}]
[{"$f":"配送情報書!A503","v":0},{"$f":"配送情報書!AB503","v":0},{"$f":"配送情報書!AA503","v":0},{"$f":"配送情報書!AC503","v":0},{"$f":"INDEX(医療機関マスタ!$A:$A,MATCH(F501,医療機関マスタ!$B:$B,0),1)","v":"AH0000001"},{"$f":"INDEX(医療機関マスタ!$B:$B,MATCH(\"*\"&MID(注文書!$D$17,IFERROR(FIND(\" \",注文書!$D$17),IFERROR(FIND(\"　\",注文書!$D$17),0))+1,10)&\"*\",医療機関マスタ!$C:$C,0),1)","v":"医療法人社団斗南堂　八王子クリニック"},{"$f":"配送情報書!X503","v":""},{"$f":"配送情報書!Z503","v":"00:00:00"},{"$f":"配送情報書!$V503","v":""},"転記不要",null,null,null,{"$f":"配送情報書!T503","v":0},{"$f":"COUNTIF($A$3:A501,A501)","v":499}]
[{"$f":"配送情報書!A504","v":0},{"$f":"配送情報書!AB504","v":0},{"$f":"配送情報書!AA504","v":0},{"$f":"配送情報書!AC504","v":0},{"$f":"INDEX(医療機関マスタ!$A:$A,MATCH(F502,医療機関マスタ!$B:$B,0),1)","v":"AH0000001"},{"$f":"INDEX(医療機関マスタ!$B:$B,MATCH(\"*\"&MID(注文書!$D$17,IFERROR(FIND(\" \",注文書!$D$17),IFERROR(FIND(\"　\",注文書!$D$17),0))+1,10)&\"*\",医療機関マスタ!$C:$C,0),1)","v":"医療法人社団斗南堂　八王子クリニック"},{"$f":"配送情報書!X504","v":""},{"$f":"配送情報書!Z504","v":"00:00:00"},{"$f":"配送情報書!$V504","v":""},"転記不要",null,null,null,{"$f":"配送情報書!T504","v":0},{"$f":"COUNTIF($A$3:A502,A502)","v":500}]
[{"$f":"配送情報書!A505","v":0},{"$f":"配送情報書!AB505","v":0},{"$f":"配送情報書!AA505","v":0},{"$f":"配送情報書!AC505","v":0},{"$f":"INDEX(医療機関マスタ!$A:$A,MATCH(F503,医療機関マスタ!$B:$B,0),1)","v":"AH0000001"},{"$f":"INDEX(医療機関マスタ!$B:$B,MATCH(\"*\"&MID(注文書!$D$17,IFERROR(FIND(\" \",注文書!$D$17),IFERROR(FIND(\"　\",注文書!$D$17),0))+1,10)&\"*\",医療機関マスタ!$C:$C,0),1)","v":"医療法人社団斗南堂　八王子クリニック"},{"$f":"配送情報書!X505","v":""},{"$f":"配送情報書!Z505","v":"00:00:00"},{"$f":"配送情報書!$V505","v":""},"転記不要",null,null,null,{"$f":"配送情報書!T505","v":0},{"$f":"COUNTIF($A$3:A503,A503)","v":501}]
[{"$f":"配送情報書!A506","v":0},{"$f":"配送情報書!AB506","v":0},{"$f":"配送情報書!AA506","v":0},{"$f":"配送情報書!AC506","v":0},{"$f":"INDEX(医療機関マスタ!$A:$A,MATCH(F504,医療機関マスタ!$B:$B,0),1)","v":"AH0000001"},{"$f":"INDEX(医療機関マスタ!$B:$B,MATCH(\"*\"&MID(注文書!$D$17,IFERROR(FIND(\" \",注文書!$D$17),IFERROR(FIND(\"　\",注文書!$D$17),0))+1,10)&\"*\",医療機関マスタ!$C:$C,0),1)","v":"医療法人社団斗南堂　八王子クリニック"},{"$f":"配送情報書!X506","v":""},{"$f":"配送情報書!Z506","v":"00:00:00"},{"$f":"配送情報書!$V506","v":""},"転記不要",null,null,null,{"$f":"配送情報書!T506","v":0},{"$f":"COUNTIF($A$3:A504,A504)","v":502}]
[{"$f":"配送情報書!A507","v":0},{"$f":"配送情報書!AB507","v":0},{"$f":"配送情報書!AA507","v":0},{"$f":"配送情報書!AC507","v":0},{"$f":"INDEX(医療機関マスタ!$A:$A,MATCH(F505,医療機関マスタ!$B:$B,0),1)","v":"AH0000001"},{"$f":"INDEX(医療機関マスタ!$B:$B,MATCH(\"*\"&MID(注文書!$D$17,IFERROR(FIND(\" \",注文書!$D$17),IFERROR(FIND(\"　\",注文書!$D$17),0))+1,10)&\"*\",医療機関マスタ!$C:$C,0),1)","v":"医療法人社団斗南堂　八王子クリニック"},{"$f":"配送情報書!X507","v":""},{"$f":"配送情報書!Z507","v":"00:00:00"},{"$f":"配送情報書!$V507","v":""},"転記不要",null,null,null,{"$f":"配送情報書!T507","v":0},{"$f":"COUNTIF($A$3:A505,A505)","v":503}]
[{"$f":"配送情報書!A508","v":0},{"$f":"配送情報書!AB508","v":0},{"$f":"配送情報書!AA508","v":0},{"$f":"配送情報書!AC508","v":0},{"$f":"INDEX(医療機関マスタ!$A:$A,MATCH(F506,医療機関マスタ!$B:$B,0),1)","v":"AH0000001"},{"$f":"INDEX(医療機関マスタ!$B:$B,MATCH(\"*\"&MID(注文書!$D$17,IFERROR(FIND(\" \",注文書!$D$17),IFERROR(FIND(\"　\",注文書!$D$17),0))+1,10)&\"*\",医療機関マスタ!$C:$C,0),1)","v":"医療法人社団斗南堂　八王子クリニック"},{"$f":"配送情報書!X508","v":""},{"$f":"配送情報書!Z508","v":"00:00:00"},{"$f":"配送情報書!$V508","v":""},"転記不要",null,null,null,{"$f":"配送情報書!T508","v":0},{"$f":"COUNTIF($A$3:A506,A506)","v":504}]
[{"$f":"配送情報書!A509","v":0},{"$f":"配送情報書!AB509","v":0},{"$f":"配送情報書!AA509","v":0},{"$f":"配送情報書!AC509","v":0},{"$f":"INDEX(医療機関マスタ!$A:$A,MATCH(F507,医療機関マスタ!$B:$B,0),1)","v":"AH0000001"},{"$f":"INDEX(医療機関マスタ!$B:$B,MATCH(\"*\"&MID(注文書!$D$17,IFERROR(FIND(\" \",注文書!$D$17),IFERROR(FIND(\"　\",注文書!$D$17),0))+1,10)&\"*\",医療機関マスタ!$C:$C,0),1)","v":"医療法人社団斗南堂　八王子クリニック"},{"$f":"配送情報書!X509","v":""},{"$f":"配送情報書!Z509","v":"00:00:00"},{"$f":"配送情報書!$V509","v":""},"転記不要",null,null,null,{"$f":"配送情報書!T509","v":0},{"$f":"COUNTIF($A$3:A507,A507)","v":505}]
[{"$f":"配送情報書!A510","v":0},{"$f":"配送情報書!AB510","v":0},{"$f":"配送情報書!AA510","v":0},{"$f":"配送情報書!AC510","v":0},{"$f":"INDEX(医療機関マスタ!$A:$A,MATCH(F508,医療機関マスタ!$B:$B,0),1)","v":"AH0000001"},{"$f":"INDEX(医療機関マスタ!$B:$B,MATCH(\"*\"&MID(注文書!$D$17,IFERROR(FIND(\" \",注文書!$D$17),IFERROR(FIND(\"　\",注文書!$D$17),0))+1,10)&\"*\",医療機関マスタ!$C:$C,0),1)","v":"医療法人社団斗南堂　八王子クリニック"},{"$f":"配送情報書!X510","v":""},{"$f":"配送情報書!Z510","v":"00:00:00"},{"$f":"配送情報書!$V510","v":""},"転記不要",null,null,null,{"$f":"配送情報書!T510","v":0},{"$f":"COUNTIF($A$3:A508,A508)","v":506}]
[{"$f":"配送情報書!A511","v":0},{"$f":"配送情報書!AB511","v":0},{"$f":"配送情報書!AA511","v":0},{"$f":"配送情報書!AC511","v":0},{"$f":"INDEX(医療機関マスタ!$A:$A,MATCH(F509,医療機関マスタ!$B:$B,0),1)","v":"AH0000001"},{"$f":"INDEX(医療機関マスタ!$B:$B,MATCH(\"*\"&MID(注文書!$D$17,IFERROR(FIND(\" \",注文書!$D$17),IFERROR(FIND(\"　\",注文書!$D$17),0))+1,10)&\"*\",医療機関マスタ!$C:$C,0),1)","v":"医療法人社団斗南堂　八王子クリニック"},{"$f":"配送情報書!X511","v":""},{"$f":"配送情報書!Z511","v":"00:00:00"},{"$f":"配送情報書!$V511","v":""},"転記不要",null,null,null,{"$f":"配送情報書!T511","v":0},{"$f":"COUNTIF($A$3:A509,A509)","v":507}]
[{"$f":"配送情報書!A512","v":0},{"$f":"配送情報書!AB512","v":0},{"$f":"配送情報書!AA512","v":0},{"$f":"配送情報書!AC512","v":0},{"$f":"INDEX(医療機関マスタ!$A:$A,MATCH(F510,医療機関マスタ!$B:$B,0),1)","v":"AH0000001"},{"$f":"INDEX(医療機関マスタ!$B:$B,MATCH(\"*\"&MID(注文書!$D$17,IFERROR(FIND(\" \",注文書!$D$17),IFERROR(FIND(\"　\",注文書!$D$17),0))+1,10)&\"*\",医療機関マスタ!$C:$C,0),1)","v":"医療法人社団斗南堂　八王子クリニック"},{"$f":"配送情報書!X512","v":""},{"$f":"配送情報書!Z512","v":"00:00:00"},{"$f":"配送情報書!$V512","v":""},"転記不要",null,null,null,{"$f":"配送情報書!T512","v":0},{"$f":"COUNTIF($A$3:A510,A510)","v":508}]
[{"$f":"配送情報書!A513","v":0},{"$f":"配送情報書!AB513","v":0},{"$f":"配送情報書!AA513","v":0},{"$f":"配送情報書!AC513","v":0},{"$f":"INDEX(医療機関マスタ!$A:$A,MATCH(F511,医療機関マスタ!$B:$B,0),1)","v":"AH0000001"},{"$f":"INDEX(医療機関マスタ!$B:$B,MATCH(\"*\"&MID(注文書!$D$17,IFERROR(FIND(\" \",注文書!$D$17),IFERROR(FIND(\"　\",注文書!$D$17),0))+1,10)&\"*\",医療機関マスタ!$C:$C,0),1)","v":"医療法人社団斗南堂　八王子クリニック"},{"$f":"配送情報書!X513","v":""},{"$f":"配送情報書!Z513","v":"00:00:00"},{"$f":"配送情報書!$V513","v":""},"転記不要",null,null,null,{"$f":"配送情報書!T513","v":0},{"$f":"COUNTIF($A$3:A511,A511)","v":509}]
[{"$f":"配送情報書!A514","v":0},{"$f":"配送情報書!AB514","v":0},{"$f":"配送情報書!AA514","v":0},{"$f":"配送情報書!AC514","v":0},{"$f":"INDEX(医療機関マスタ!$A:$A,MATCH(F512,医療機関マスタ!$B:$B,0),1)","v":"AH0000001"},{"$f":"INDEX(医療機関マスタ!$B:$B,MATCH(\"*\"&MID(注文書!$D$17,IFERROR(FIND(\" \",注文書!$D$17),IFERROR(FIND(\"　\",注文書!$D$17),0))+1,10)&\"*\",医療機関マスタ!$C:$C,0),1)","v":"医療法人社団斗南堂　八王子クリニック"},{"$f":"配送情報書!X514","v":""},{"$f":"配送情報書!Z514","v":"00:00:00"},{"$f":"配送情報書!$V514","v":""},"転記不要",null,null,null,{"$f":"配送情報書!T514","v":0},{"$f":"COUNTIF($A$3:A512,A512)","v":510}]
[{"$f":"配送情報書!A515","v":0},{"$f":"配送情報書!AB515","v":0},{"$f":"配送情報書!AA515","v":0},{"$f":"配送情報書!AC515","v":0},{"$f":"INDEX(医療機関マスタ!$A:$A,MATCH(F513,医療機関マスタ!$B:$B,0),1)","v":"AH0000001"},{"$f":"INDEX(医療機関マスタ!$B:$B,MATCH(\"*\"&MID(注文書!$D$17,IFERROR(FIND(\" \",注文書!$D$17),IFERROR(FIND(\"　\",注文書!$D$17),0))+1,10)&\"*\",医療機関マスタ!$C:$C,0),1)","v":"医療法人社団斗南堂　八王子クリニック"},{"$f":"配送情報書!X515","v":""},{"$f":"配送情報書!Z515","v":"00:00:00"},{"$f":"配送情報書!$V515","v":""},"転記不要",null,null,null,{"$f":"配送情報書!T515","v":0},{"$f":"COUNTIF($A$3:A513,A513)","v":511}]
[{"$f":"配送情報書!A516","v":0},{"$f":"配送情報書!AB516","v":0},{"$f":"配送情報書!AA516","v":0},{"$f":"配送情報書!AC516","v":0},{"$f":"INDEX(医療機関マスタ!$A:$A,MATCH(F514,医療機関マスタ!$B:$B,0),1)","v":"AH0000001"},{"$f":"INDEX(医療機関マスタ!$B:$B,MATCH(\"*\"&MID(注文書!$D$17,IFERROR(FIND(\" \",注文書!$D$17),IFERROR(FIND(\"　\",注文書!$D$17),0))+1,10)&\"*\",医療機関マスタ!$C:$C,0),1)","v":"医療法人社団斗南堂　八王子クリニック"},{"$f":"配送情報書!X516","v":""},{"$f":"配送情報書!Z516","v":"00:00:00"},{"$f":"配送情報書!$V516","v":""},"転記不要",null,null,null,{"$f":"配送情報書!T516","v":0},{"$f":"COUNTIF($A$3:A514,A514)","v":512}]
[{"$f":"配送情報書!A517","v":0},{"$f":"配送情報書!AB517","v":0},{"$f":"配送情報書!AA517","v":0},{"$f":"配送情報書!AC517","v":0},{"$f":"INDEX(医療機関マスタ!$A:$A,MATCH(F515,医療機関マスタ!$B:$B,0),1)","v":"AH0000001"},{"$f":"INDEX(医療機関マスタ!$B:$B,MATCH(\"*\"&MID(注文書!$D$17,IFERROR(FIND(\" \",注文書!$D$17),IFERROR(FIND(\"　\",注文書!$D$17),0))+1,10)&\"*\",医療機関マスタ!$C:$C,0),1)","v":"医療法人社団斗南堂　八王子クリニック"},{"$f":"配送情報書!X517","v":""},{"$f":"配送情報書!Z517","v":"00:00:00"},{"$f":"配送情報書!$V517","v":""},"転記不要",null,null,null,{"$f":"配送情報書!T517","v":0},{"$f":"COUNTIF($A$3:A515,A515)","v":513}]
[{"$f":"配送情報書!A518","v":0},{"$f":"配送情報書!AB518","v":0},{"$f":"配送情報書!AA518","v":0},{"$f":"配送情報書!AC518","v":0},{"$f":"INDEX(医療機関マスタ!$A:$A,MATCH(F516,医療機関マスタ!$B:$B,0),1)","v":"AH0000001"},{"$f":"INDEX(医療機関マスタ!$B:$B,MATCH(\"*\"&MID(注文書!$D$17,IFERROR(FIND(\" \",注文書!$D$17),IFERROR(FIND(\"　\",注文書!$D$17),0))+1,10)&\"*\",医療機関マスタ!$C:$C,0),1)","v":"医療法人社団斗南堂　八王子クリニック"},{"$f":"配送情報書!X518","v":""},{"$f":"配送情報書!Z518","v":"00:00:00"},{"$f":"配送情報書!$V518","v":""},{"$f":"IF(AND(N516>0,O516=1),SUMIFS($N:$N,$A:$A,A516),\"転記不要\")","v":"転記不要"},null,null,null,{"$f":"配送情報書!T518","v":0},{"$f":"COUNTIF($A$3:A516,A516)","v":514}]
[{"$f":"配送情報書!A519","v":0},{"$f":"配送情報書!AB519","v":0},{"$f":"配送情報書!AA519","v":0},{"$f":"配送情報書!AC519","v":0},{"$f":"INDEX(医療機関マスタ!$A:$A,MATCH(F517,医療機関マスタ!$B:$B,0),1)","v":"AH0000001"},{"$f":"INDEX(医療機関マスタ!$B:$B,MATCH(\"*\"&MID(注文書!$D$17,IFERROR(FIND(\" \",注文書!$D$17),IFERROR(FIND(\"　\",注文書!$D$17),0))+1,10)&\"*\",医療機関マスタ!$C:$C,0),1)","v":"医療法人社団斗南堂　八王子クリニック"},{"$f":"配送情報書!X519","v":""},{"$f":"配送情報書!Z519","v":"00:00:00"},{"$f":"配送情報書!$V519","v":""},"転記不要",null,null,null,{"$f":"配送情報書!T519","v":0},{"$f":"COUNTIF($A$3:A517,A517)","v":515}]
[{"$f":"配送情報書!A520","v":0},{"$f":"配送情報書!AB520","v":0},{"$f":"配送情報書!AA520","v":0},{"$f":"配送情報書!AC520","v":0},{"$f":"INDEX(医療機関マスタ!$A:$A,MATCH(F518,医療機関マスタ!$B:$B,0),1)","v":"AH0000001"},{"$f":"INDEX(医療機関マスタ!$B:$B,MATCH(\"*\"&MID(注文書!$D$17,IFERROR(FIND(\" \",注文書!$D$17),IFERROR(FIND(\"　\",注文書!$D$17),0))+1,10)&\"*\",医療機関マスタ!$C:$C,0),1)","v":"医療法人社団斗南堂　八王子クリニック"},{"$f":"配送情報書!X520","v":""},{"$f":"配送情報書!Z520","v":"00:00:00"},{"$f":"配送情報書!$V520","v":""},"転記不要",null,null,null,{"$f":"配送情報書!T520","v":0},{"$f":"COUNTIF($A$3:A518,A518)","v":516}]
[{"$f":"配送情報書!A521","v":0},{"$f":"配送情報書!AB521","v":0},{"$f":"配送情報書!AA521","v":0},{"$f":"配送情報書!AC521","v":0},{"$f":"INDEX(医療機関マスタ!$A:$A,MATCH(F519,医療機関マスタ!$B:$B,0),1)","v":"AH0000001"},{"$f":"INDEX(医療機関マスタ!$B:$B,MATCH(\"*\"&MID(注文書!$D$17,IFERROR(FIND(\" \",注文書!$D$17),IFERROR(FIND(\"　\",注文書!$D$17),0))+1,10)&\"*\",医療機関マスタ!$C:$C,0),1)","v":"医療法人社団斗南堂　八王子クリニック"},{"$f":"配送情報書!X521","v":""},{"$f":"配送情報書!Z521","v":"00:00:00"},{"$f":"配送情報書!$V521","v":""},"転記不要",null,null,null,{"$f":"配送情報書!T521","v":0},{"$f":"COUNTIF($A$3:A519,A519)","v":517}]
[{"$f":"配送情報書!A522","v":0},{"$f":"配送情報書!AB522","v":0},{"$f":"配送情報書!AA522","v":0},{"$f":"配送情報書!AC522","v":0},{"$f":"INDEX(医療機関マスタ!$A:$A,MATCH(F520,医療機関マスタ!$B:$B,0),1)","v":"AH0000001"},{"$f":"INDEX(医療機関マスタ!$B:$B,MATCH(\"*\"&MID(注文書!$D$17,IFERROR(FIND(\" \",注文書!$D$17),IFERROR(FIND(\"　\",注文書!$D$17),0))+1,10)&\"*\",医療機関マスタ!$C:$C,0),1)","v":"医療法人社団斗南堂　八王子クリニック"},{"$f":"配送情報書!X522","v":""},{"$f":"配送情報書!Z522","v":"00:00:00"},{"$f":"配送情報書!$V522","v":""},"転記不要",null,null,null,{"$f":"配送情報書!T522","v":0},{"$f":"COUNTIF($A$3:A520,A520)","v":518}]
[{"$f":"配送情報書!A523","v":0},{"$f":"配送情報書!AB523","v":0},{"$f":"配送情報書!AA523","v":0},{"$f":"配送情報書!AC523","v":0},{"$f":"INDEX(医療機関マスタ!$A:$A,MATCH(F521,医療機関マスタ!$B:$B,0),1)","v":"AH0000001"},{"$f":"INDEX(医療機関マスタ!$B:$B,MATCH(\"*\"&MID(注文書!$D$17,IFERROR(FIND(\" \",注文書!$D$17),IFERROR(FIND(\"　\",注文書!$D$17),0))+1,10)&\"*\",医療機関マスタ!$C:$C,0),1)","v":"医療法人社団斗南堂　八王子クリニック"},{"$f":"配送情報書!X523","v":""},{"$f":"配送情報書!Z523","v":"00:00:00"},{"$f":"配送情報書!$V523","v":""},"転記不要",null,null,null,{"$f":"配送情報書!T523","v":0},{"$f":"COUNTIF($A$3:A521,A521)","v":519}]
[{"$f":"配送情報書!A524","v":0},{"$f":"配送情報書!AB524","v":0},{"$f":"配送情報書!AA524","v":0},{"$f":"配送情報書!AC524","v":0},{"$f":"INDEX(医療機関マスタ!$A:$A,MATCH(F522,医療機関マスタ!$B:$B,0),1)","v":"AH0000001"},{"$f":"INDEX(医療機関マスタ!$B:$B,MATCH(\"*\"&MID(注文書!$D$17,IFERROR(FIND(\" \",注文書!$D$17),IFERROR(FIND(\"　\",注文書!$D$17),0))+1,10)&\"*\",医療機関マスタ!$C:$C,0),1)","v":"医療法人社団斗南堂　八王子クリニック"},{"$f":"配送情報書!X524","v":""},{"$f":"配送情報書!Z524","v":"00:00:00"},{"$f":"配送情報書!$V524","v":""},"転記不要",null,null,null,{"$f":"配送情報書!T524","v":0},{"$f":"COUNTIF($A$3:A522,A522)","v":520}]
[{"$f":"配送情報書!A525","v":0},{"$f":"配送情報書!AB525","v":0},{"$f":"配送情報書!AA525","v":0},{"$f":"配送情報書!AC525","v":0},{"$f":"INDEX(医療機関マスタ!$A:$A,MATCH(F523,医療機関マスタ!$B:$B,0),1)","v":"AH0000001"},{"$f":"INDEX(医療機関マスタ!$B:$B,MATCH(\"*\"&MID(注文書!$D$17,IFERROR(FIND(\" \",注文書!$D$17),IFERROR(FIND(\"　\",注文書!$D$17),0))+1,10)&\"*\",医療機関マスタ!$C:$C,0),1)","v":"医療法人社団斗南堂　八王子クリニック"},{"$f":"配送情報書!X525","v":""},{"$f":"配送情報書!Z525","v":"00:00:00"},{"$f":"配送情報書!$V525","v":""},"転記不要",null,null,null,{"$f":"配送情報書!T525","v":0},{"$f":"COUNTIF($A$3:A523,A523)","v":521}]
[{"$f":"配送情報書!A526","v":0},{"$f":"配送情報書!AB526","v":0},{"$f":"配送情報書!AA526","v":0},{"$f":"配送情報書!AC526","v":0},{"$f":"INDEX(医療機関マスタ!$A:$A,MATCH(F524,医療機関マスタ!$B:$B,0),1)","v":"AH0000001"},{"$f":"INDEX(医療機関マスタ!$B:$B,MATCH(\"*\"&MID(注文書!$D$17,IFERROR(FIND(\" \",注文書!$D$17),IFERROR(FIND(\"　\",注文書!$D$17),0))+1,10)&\"*\",医療機関マスタ!$C:$C,0),1)","v":"医療法人社団斗南堂　八王子クリニック"},{"$f":"配送情報書!X526","v":""},{"$f":"配送情報書!Z526","v":"00:00:00"},{"$f":"配送情報書!$V526","v":""},"転記不要",null,null,null,{"$f":"配送情報書!T526","v":0},{"$f":"COUNTIF($A$3:A524,A524)","v":522}]
[{"$f":"配送情報書!A527","v":0},{"$f":"配送情報書!AB527","v":0},{"$f":"配送情報書!AA527","v":0},{"$f":"配送情報書!AC527","v":0},{"$f":"INDEX(医療機関マスタ!$A:$A,MATCH(F525,医療機関マスタ!$B:$B,0),1)","v":"AH0000001"},{"$f":"INDEX(医療機関マスタ!$B:$B,MATCH(\"*\"&MID(注文書!$D$17,IFERROR(FIND(\" \",注文書!$D$17),IFERROR(FIND(\"　\",注文書!$D$17),0))+1,10)&\"*\",医療機関マスタ!$C:$C,0),1)","v":"医療法人社団斗南堂　八王子クリニック"},{"$f":"配送情報書!X527","v":""},{"$f":"配送情報書!Z527","v":"00:00:00"},{"$f":"配送情報書!$V527","v":""},"転記不要",null,null,null,{"$f":"配送情報書!T527","v":0},{"$f":"COUNTIF($A$3:A525,A525)","v":523}]
[{"$f":"配送情報書!A528","v":0},{"$f":"配送情報書!AB528","v":0},{"$f":"配送情報書!AA528","v":0},{"$f":"配送情報書!AC528","v":0},{"$f":"INDEX(医療機関マスタ!$A:$A,MATCH(F526,医療機関マスタ!$B:$B,0),1)","v":"AH0000001"},{"$f":"INDEX(医療機関マスタ!$B:$B,MATCH(\"*\"&MID(注文書!$D$17,IFERROR(FIND(\" \",注文書!$D$17),IFERROR(FIND(\"　\",注文書!$D$17),0))+1,10)&\"*\",医療機関マスタ!$C:$C,0),1)","v":"医療法人社団斗南堂　八王子クリニック"},{"$f":"配送情報書!X528","v":""},{"$f":"配送情報書!Z528","v":"00:00:00"},{"$f":"配送情報書!$V528","v":""},"転記不要",null,null,null,{"$f":"配送情報書!T528","v":0},{"$f":"COUNTIF($A$3:A526,A526)","v":524}]
[{"$f":"配送情報書!A529","v":0},{"$f":"配送情報書!AB529","v":0},{"$f":"配送情報書!AA529","v":0},{"$f":"配送情報書!AC529","v":0},{"$f":"INDEX(医療機関マスタ!$A:$A,MATCH(F527,医療機関マスタ!$B:$B,0),1)","v":"AH0000001"},{"$f":"INDEX(医療機関マスタ!$B:$B,MATCH(\"*\"&MID(注文書!$D$17,IFERROR(FIND(\" \",注文書!$D$17),IFERROR(FIND(\"　\",注文書!$D$17),0))+1,10)&\"*\",医療機関マスタ!$C:$C,0),1)","v":"医療法人社団斗南堂　八王子クリニック"},{"$f":"配送情報書!X529","v":""},{"$f":"配送情報書!Z529","v":"00:00:00"},{"$f":"配送情報書!$V529","v":""},"転記不要",null,null,null,{"$f":"配送情報書!T529","v":0},{"$f":"COUNTIF($A$3:A527,A527)","v":525}]
[{"$f":"配送情報書!A530","v":0},{"$f":"配送情報書!AB530","v":0},{"$f":"配送情報書!AA530","v":0},{"$f":"配送情報書!AC530","v":0},{"$f":"INDEX(医療機関マスタ!$A:$A,MATCH(F528,医療機関マスタ!$B:$B,0),1)","v":"AH0000001"},{"$f":"INDEX(医療機関マスタ!$B:$B,MATCH(\"*\"&MID(注文書!$D$17,IFERROR(FIND(\" \",注文書!$D$17),IFERROR(FIND(\"　\",注文書!$D$17),0))+1,10)&\"*\",医療機関マスタ!$C:$C,0),1)","v":"医療法人社団斗南堂　八王子クリニック"},{"$f":"配送情報書!X530","v":""},{"$f":"配送情報書!Z530","v":"00:00:00"},{"$f":"配送情報書!$V530","v":""},"転記不要",null,null,null,{"$f":"配送情報書!T530","v":0},{"$f":"COUNTIF($A$3:A528,A528)","v":526}]
[{"$f":"配送情報書!A531","v":0},{"$f":"配送情報書!AB531","v":0},{"$f":"配送情報書!AA531","v":0},{"$f":"配送情報書!AC531","v":0},{"$f":"INDEX(医療機関マスタ!$A:$A,MATCH(F529,医療機関マスタ!$B:$B,0),1)","v":"AH0000001"},{"$f":"INDEX(医療機関マスタ!$B:$B,MATCH(\"*\"&MID(注文書!$D$17,IFERROR(FIND(\" \",注文書!$D$17),IFERROR(FIND(\"　\",注文書!$D$17),0))+1,10)&\"*\",医療機関マスタ!$C:$C,0),1)","v":"医療法人社団斗南堂　八王子クリニック"},{"$f":"配送情報書!X531","v":""},{"$f":"配送情報書!Z531","v":"00:00:00"},{"$f":"配送情報書!$V531","v":""},"転記不要",null,null,null,{"$f":"配送情報書!T531","v":0},{"$f":"COUNTIF($A$3:A529,A529)","v":527}]
[{"$f":"配送情報書!A532","v":0},{"$f":"配送情報書!AB532","v":0},{"$f":"配送情報書!AA532","v":0},{"$f":"配送情報書!AC532","v":0},{"$f":"INDEX(医療機関マスタ!$A:$A,MATCH(F530,医療機関マスタ!$B:$B,0),1)","v":"AH0000001"},{"$f":"INDEX(医療機関マスタ!$B:$B,MATCH(\"*\"&MID(注文書!$D$17,IFERROR(FIND(\" \",注文書!$D$17),IFERROR(FIND(\"　\",注文書!$D$17),0))+1,10)&\"*\",医療機関マスタ!$C:$C,0),1)","v":"医療法人社団斗南堂　八王子クリニック"},{"$f":"配送情報書!X532","v":""},{"$f":"配送情報書!Z532","v":"00:00:00"},{"$f":"配送情報書!$V532","v":""},"転記不要",null,null,null,{"$f":"配送情報書!T532","v":0},{"$f":"COUNTIF($A$3:A530,A530)","v":528}]
[{"$f":"配送情報書!A533","v":0},{"$f":"配送情報書!AB533","v":0},{"$f":"配送情報書!AA533","v":0},{"$f":"配送情報書!AC533","v":0},{"$f":"INDEX(医療機関マスタ!$A:$A,MATCH(F531,医療機関マスタ!$B:$B,0),1)","v":"AH0000001"},{"$f":"INDEX(医療機関マスタ!$B:$B,MATCH(\"*\"&MID(注文書!$D$17,IFERROR(FIND(\" \",注文書!$D$17),IFERROR(FIND(\"　\",注文書!$D$17),0))+1,10)&\"*\",医療機関マスタ!$C:$C,0),1)","v":"医療法人社団斗南堂　八王子クリニック"},{"$f":"配送情報書!X533","v":""},{"$f":"配送情報書!Z533","v":"00:00:00"},{"$f":"配送情報書!$V533","v":""},"転記不要",null,null,null,{"$f":"配送情報書!T533","v":0},{"$f":"COUNTIF($A$3:A531,A531)","v":529}]
[{"$f":"配送情報書!A534","v":0},{"$f":"配送情報書!AB534","v":0},{"$f":"配送情報書!AA534","v":0},{"$f":"配送情報書!AC534","v":0},{"$f":"INDEX(医療機関マスタ!$A:$A,MATCH(F532,医療機関マスタ!$B:$B,0),1)","v":"AH0000001"},{"$f":"INDEX(医療機関マスタ!$B:$B,MATCH(\"*\"&MID(注文書!$D$17,IFERROR(FIND(\" \",注文書!$D$17),IFERROR(FIND(\"　\",注文書!$D$17),0))+1,10)&\"*\",医療機関マスタ!$C:$C,0),1)","v":"医療法人社団斗南堂　八王子クリニック"},{"$f":"配送情報書!X534","v":""},{"$f":"配送情報書!Z534","v":"00:00:00"},{"$f":"配送情報書!$V534","v":""},"転記不要",null,null,null,{"$f":"配送情報書!T534","v":0},{"$f":"COUNTIF($A$3:A532,A532)","v":530}]
[{"$f":"配送情報書!A535","v":0},{"$f":"配送情報書!AB535","v":0},{"$f":"配送情報書!AA535","v":0},{"$f":"配送情報書!AC535","v":0},{"$f":"INDEX(医療機関マスタ!$A:$A,MATCH(F533,医療機関マスタ!$B:$B,0),1)","v":"AH0000001"},{"$f":"INDEX(医療機関マスタ!$B:$B,MATCH(\"*\"&MID(注文書!$D$17,IFERROR(FIND(\" \",注文書!$D$17),IFERROR(FIND(\"　\",注文書!$D$17),0))+1,10)&\"*\",医療機関マスタ!$C:$C,0),1)","v":"医療法人社団斗南堂　八王子クリニック"},{"$f":"配送情報書!X535","v":""},{"$f":"配送情報書!Z535","v":"00:00:00"},{"$f":"配送情報書!$V535","v":""},"転記不要",null,null,null,{"$f":"配送情報書!T535","v":0},{"$f":"COUNTIF($A$3:A533,A533)","v":531}]
[{"$f":"配送情報書!A536","v":0},{"$f":"配送情報書!AB536","v":0},{"$f":"配送情報書!AA536","v":0},{"$f":"配送情報書!AC536","v":0},{"$f":"INDEX(医療機関マスタ!$A:$A,MATCH(F534,医療機関マスタ!$B:$B,0),1)","v":"AH0000001"},{"$f":"INDEX(医療機関マスタ!$B:$B,MATCH(\"*\"&MID(注文書!$D$17,IFERROR(FIND(\" \",注文書!$D$17),IFERROR(FIND(\"　\",注文書!$D$17),0))+1,10)&\"*\",医療機関マスタ!$C:$C,0),1)","v":"医療法人社団斗南堂　八王子クリニック"},{"$f":"配送情報書!X536","v":""},{"$f":"配送情報書!Z536","v":"00:00:00"},{"$f":"配送情報書!$V536","v":""},"転記不要",null,null,null,{"$f":"配送情報書!T536","v":0},{"$f":"COUNTIF($A$3:A534,A534)","v":532}]
[{"$f":"配送情報書!A537","v":0},{"$f":"配送情報書!AB537","v":0},{"$f":"配送情報書!AA537","v":0},{"$f":"配送情報書!AC537","v":0},{"$f":"INDEX(医療機関マスタ!$A:$A,MATCH(F535,医療機関マスタ!$B:$B,0),1)","v":"AH0000001"},{"$f":"INDEX(医療機関マスタ!$B:$B,MATCH(\"*\"&MID(注文書!$D$17,IFERROR(FIND(\" \",注文書!$D$17),IFERROR(FIND(\"　\",注文書!$D$17),0))+1,10)&\"*\",医療機関マスタ!$C:$C,0),1)","v":"医療法人社団斗南堂　八王子クリニック"},{"$f":"配送情報書!X537","v":""},{"$f":"配送情報書!Z537","v":"00:00:00"},{"$f":"配送情報書!$V537","v":""},"転記不要",null,null,null,{"$f":"配送情報書!T537","v":0},{"$f":"COUNTIF($A$3:A535,A535)","v":533}]
[{"$f":"配送情報書!A538","v":0},{"$f":"配送情報書!AB538","v":0},{"$f":"配送情報書!AA538","v":0},{"$f":"配送情報書!AC538","v":0},{"$f":"INDEX(医療機関マスタ!$A:$A,MATCH(F536,医療機関マスタ!$B:$B,0),1)","v":"AH0000001"},{"$f":"INDEX(医療機関マスタ!$B:$B,MATCH(\"*\"&MID(注文書!$D$17,IFERROR(FIND(\" \",注文書!$D$17),IFERROR(FIND(\"　\",注文書!$D$17),0))+1,10)&\"*\",医療機関マスタ!$C:$C,0),1)","v":"医療法人社団斗南堂　八王子クリニック"},{"$f":"配送情報書!X538","v":""},{"$f":"配送情報書!Z538","v":"00:00:00"},{"$f":"配送情報書!$V538","v":""},"転記不要",null,null,null,{"$f":"配送情報書!T538","v":0},{"$f":"COUNTIF($A$3:A536,A536)","v":534}]
[{"$f":"配送情報書!A539","v":0},{"$f":"配送情報書!AB539","v":0},{"$f":"配送情報書!AA539","v":0},{"$f":"配送情報書!AC539","v":0},{"$f":"INDEX(医療機関マスタ!$A:$A,MATCH(F537,医療機関マスタ!$B:$B,0),1)","v":"AH0000001"},{"$f":"INDEX(医療機関マスタ!$B:$B,MATCH(\"*\"&MID(注文書!$D$17,IFERROR(FIND(\" \",注文書!$D$17),IFERROR(FIND(\"　\",注文書!$D$17),0))+1,10)&\"*\",医療機関マスタ!$C:$C,0),1)","v":"医療法人社団斗南堂　八王子クリニック"},{"$f":"配送情報書!X539","v":""},{"$f":"配送情報書!Z539","v":"00:00:00"},{"$f":"配送情報書!$V539","v":""},"転記不要",null,null,null,{"$f":"配送情報書!T539","v":0},{"$f":"COUNTIF($A$3:A537,A537)","v":535}]
[{"$f":"配送情報書!A540","v":0},{"$f":"配送情報書!AB540","v":0},{"$f":"配送情報書!AA540","v":0},{"$f":"配送情報書!AC540","v":0},{"$f":"INDEX(医療機関マスタ!$A:$A,MATCH(F538,医療機関マスタ!$B:$B,0),1)","v":"AH0000001"},{"$f":"INDEX(医療機関マスタ!$B:$B,MATCH(\"*\"&MID(注文書!$D$17,IFERROR(FIND(\" \",注文書!$D$17),IFERROR(FIND(\"　\",注文書!$D$17),0))+1,10)&\"*\",医療機関マスタ!$C:$C,0),1)","v":"医療法人社団斗南堂　八王子クリニック"},{"$f":"配送情報書!X540","v":""},{"$f":"配送情報書!Z540","v":"00:00:00"},{"$f":"配送情報書!$V540","v":""},"転記不要",null,null,null,{"$f":"配送情報書!T540","v":0},{"$f":"COUNTIF($A$3:A538,A538)","v":536}]
[{"$f":"配送情報書!A541","v":0},{"$f":"配送情報書!AB541","v":0},{"$f":"配送情報書!AA541","v":0},{"$f":"配送情報書!AC541","v":0},{"$f":"INDEX(医療機関マスタ!$A:$A,MATCH(F539,医療機関マスタ!$B:$B,0),1)","v":"AH0000001"},{"$f":"INDEX(医療機関マスタ!$B:$B,MATCH(\"*\"&MID(注文書!$D$17,IFERROR(FIND(\" \",注文書!$D$17),IFERROR(FIND(\"　\",注文書!$D$17),0))+1,10)&\"*\",医療機関マスタ!$C:$C,0),1)","v":"医療法人社団斗南堂　八王子クリニック"},{"$f":"配送情報書!X541","v":""},{"$f":"配送情報書!Z541","v":"00:00:00"},{"$f":"配送情報書!$V541","v":""},"転記不要",null,null,null,{"$f":"配送情報書!T541","v":0},{"$f":"COUNTIF($A$3:A539,A539)","v":537}]
[{"$f":"配送情報書!A542","v":0},{"$f":"配送情報書!AB542","v":0},{"$f":"配送情報書!AA542","v":0},{"$f":"配送情報書!AC542","v":0},{"$f":"INDEX(医療機関マスタ!$A:$A,MATCH(F540,医療機関マスタ!$B:$B,0),1)","v":"AH0000001"},{"$f":"INDEX(医療機関マスタ!$B:$B,MATCH(\"*\"&MID(注文書!$D$17,IFERROR(FIND(\" \",注文書!$D$17),IFERROR(FIND(\"　\",注文書!$D$17),0))+1,10)&\"*\",医療機関マスタ!$C:$C,0),1)","v":"医療法人社団斗南堂　八王子クリニック"},{"$f":"配送情報書!X542","v":""},{"$f":"配送情報書!Z542","v":"00:00:00"},{"$f":"配送情報書!$V542","v":""},"転記不要",null,null,null,{"$f":"配送情報書!T542","v":0},{"$f":"COUNTIF($A$3:A540,A540)","v":538}]
[{"$f":"配送情報書!A543","v":0},{"$f":"配送情報書!AB543","v":0},{"$f":"配送情報書!AA543","v":0},{"$f":"配送情報書!AC543","v":0},{"$f":"INDEX(医療機関マスタ!$A:$A,MATCH(F541,医療機関マスタ!$B:$B,0),1)","v":"AH0000001"},{"$f":"INDEX(医療機関マスタ!$B:$B,MATCH(\"*\"&MID(注文書!$D$17,IFERROR(FIND(\" \",注文書!$D$17),IFERROR(FIND(\"　\",注文書!$D$17),0))+1,10)&\"*\",医療機関マスタ!$C:$C,0),1)","v":"医療法人社団斗南堂　八王子クリニック"},{"$f":"配送情報書!X543","v":""},{"$f":"配送情報書!Z543","v":"00:00:00"},{"$f":"配送情報書!$V543","v":""},"転記不要",null,null,null,{"$f":"配送情報書!T543","v":0},{"$f":"COUNTIF($A$3:A541,A541)","v":539}]
[{"$f":"配送情報書!A544","v":0},{"$f":"配送情報書!AB544","v":0},{"$f":"配送情報書!AA544","v":0},{"$f":"配送情報書!AC544","v":0},{"$f":"INDEX(医療機関マスタ!$A:$A,MATCH(F542,医療機関マスタ!$B:$B,0),1)","v":"AH0000001"},{"$f":"INDEX(医療機関マスタ!$B:$B,MATCH(\"*\"&MID(注文書!$D$17,IFERROR(FIND(\" \",注文書!$D$17),IFERROR(FIND(\"　\",注文書!$D$17),0))+1,10)&\"*\",医療機関マスタ!$C:$C,0),1)","v":"医療法人社団斗南堂　八王子クリニック"},{"$f":"配送情報書!X544","v":""},{"$f":"配送情報書!Z544","v":"00:00:00"},{"$f":"配送情報書!$V544","v":""},"転記不要",null,null,null,{"$f":"配送情報書!T544","v":0},{"$f":"COUNTIF($A$3:A542,A542)","v":540}]
[{"$f":"配送情報書!A545","v":0},{"$f":"配送情報書!AB545","v":0},{"$f":"配送情報書!AA545","v":0},{"$f":"配送情報書!AC545","v":0},{"$f":"INDEX(医療機関マスタ!$A:$A,MATCH(F543,医療機関マスタ!$B:$B,0),1)","v":"AH0000001"},{"$f":"INDEX(医療機関マスタ!$B:$B,MATCH(\"*\"&MID(注文書!$D$17,IFERROR(FIND(\" \",注文書!$D$17),IFERROR(FIND(\"　\",注文書!$D$17),0))+1,10)&\"*\",医療機関マスタ!$C:$C,0),1)","v":"医療法人社団斗南堂　八王子クリニック"},{"$f":"配送情報書!X545","v":""},{"$f":"配送情報書!Z545","v":"00:00:00"},{"$f":"配送情報書!$V545","v":""},"転記不要",null,null,null,{"$f":"配送情報書!T545","v":0},{"$f":"COUNTIF($A$3:A543,A543)","v":541}]
[{"$f":"配送情報書!A546","v":0},{"$f":"配送情報書!AB546","v":0},{"$f":"配送情報書!AA546","v":0},{"$f":"配送情報書!AC546","v":0},{"$f":"INDEX(医療機関マスタ!$A:$A,MATCH(F544,医療機関マスタ!$B:$B,0),1)","v":"AH0000001"},{"$f":"INDEX(医療機関マスタ!$B:$B,MATCH(\"*\"&MID(注文書!$D$17,IFERROR(FIND(\" \",注文書!$D$17),IFERROR(FIND(\"　\",注文書!$D$17),0))+1,10)&\"*\",医療機関マスタ!$C:$C,0),1)","v":"医療法人社団斗南堂　八王子クリニック"},{"$f":"配送情報書!X546","v":""},{"$f":"配送情報書!Z546","v":"00:00:00"},{"$f":"配送情報書!$V546","v":""},"転記不要",null,null,null,{"$f":"配送情報書!T546","v":0},{"$f":"COUNTIF($A$3:A544,A544)","v":542}]
[{"$f":"配送情報書!A547","v":0},{"$f":"配送情報書!AB547","v":0},{"$f":"配送情報書!AA547","v":0},{"$f":"配送情報書!AC547","v":0},{"$f":"INDEX(医療機関マスタ!$A:$A,MATCH(F545,医療機関マスタ!$B:$B,0),1)","v":"AH0000001"},{"$f":"INDEX(医療機関マスタ!$B:$B,MATCH(\"*\"&MID(注文書!$D$17,IFERROR(FIND(\" \",注文書!$D$17),IFERROR(FIND(\"　\",注文書!$D$17),0))+1,10)&\"*\",医療機関マスタ!$C:$C,0),1)","v":"医療法人社団斗南堂　八王子クリニック"},{"$f":"配送情報書!X547","v":""},{"$f":"配送情報書!Z547","v":"00:00:00"},{"$f":"配送情報書!$V547","v":""},"転記不要",null,null,null,{"$f":"配送情報書!T547","v":0},{"$f":"COUNTIF($A$3:A545,A545)","v":543}]
[{"$f":"配送情報書!A548","v":0},{"$f":"配送情報書!AB548","v":0},{"$f":"配送情報書!AA548","v":0},{"$f":"配送情報書!AC548","v":0},{"$f":"INDEX(医療機関マスタ!$A:$A,MATCH(F546,医療機関マスタ!$B:$B,0),1)","v":"AH0000001"},{"$f":"INDEX(医療機関マスタ!$B:$B,MATCH(\"*\"&MID(注文書!$D$17,IFERROR(FIND(\" \",注文書!$D$17),IFERROR(FIND(\"　\",注文書!$D$17),0))+1,10)&\"*\",医療機関マスタ!$C:$C,0),1)","v":"医療法人社団斗南堂　八王子クリニック"},{"$f":"配送情報書!X548","v":""},{"$f":"配送情報書!Z548","v":"00:00:00"},{"$f":"配送情報書!$V548","v":""},"転記不要",null,null,null,{"$f":"配送情報書!T548","v":0},{"$f":"COUNTIF($A$3:A546,A546)","v":544}]
[{"$f":"配送情報書!A549","v":0},{"$f":"配送情報書!AB549","v":0},{"$f":"配送情報書!AA549","v":0},{"$f":"配送情報書!AC549","v":0},{"$f":"INDEX(医療機関マスタ!$A:$A,MATCH(F547,医療機関マスタ!$B:$B,0),1)","v":"AH0000001"},{"$f":"INDEX(医療機関マスタ!$B:$B,MATCH(\"*\"&MID(注文書!$D$17,IFERROR(FIND(\" \",注文書!$D$17),IFERROR(FIND(\"　\",注文書!$D$17),0))+1,10)&\"*\",医療機関マスタ!$C:$C,0),1)","v":"医療法人社団斗南堂　八王子クリニック"},{"$f":"配送情報書!X549","v":""},{"$f":"配送情報書!Z549","v":"00:00:00"},{"$f":"配送情報書!$V549","v":""},"転記不要",null,null,null,{"$f":"配送情報書!T549","v":0},{"$f":"COUNTIF($A$3:A547,A547)","v":545}]
[{"$f":"配送情報書!A550","v":0},{"$f":"配送情報書!AB550","v":0},{"$f":"配送情報書!AA550","v":0},{"$f":"配送情報書!AC550","v":0},{"$f":"INDEX(医療機関マスタ!$A:$A,MATCH(F548,医療機関マスタ!$B:$B,0),1)","v":"AH0000001"},{"$f":"INDEX(医療機関マスタ!$B:$B,MATCH(\"*\"&MID(注文書!$D$17,IFERROR(FIND(\" \",注文書!$D$17),IFERROR(FIND(\"　\",注文書!$D$17),0))+1,10)&\"*\",医療機関マスタ!$C:$C,0),1)","v":"医療法人社団斗南堂　八王子クリニック"},{"$f":"配送情報書!X550","v":""},{"$f":"配送情報書!Z550","v":"00:00:00"},{"$f":"配送情報書!$V550","v":""},"転記不要",null,null,null,{"$f":"配送情報書!T550","v":0},{"$f":"COUNTIF($A$3:A548,A548)","v":546}]
[{"$f":"配送情報書!A551","v":0},{"$f":"配送情報書!AB551","v":0},{"$f":"配送情報書!AA551","v":0},{"$f":"配送情報書!AC551","v":0},{"$f":"INDEX(医療機関マスタ!$A:$A,MATCH(F549,医療機関マスタ!$B:$B,0),1)","v":"AH0000001"},{"$f":"INDEX(医療機関マスタ!$B:$B,MATCH(\"*\"&MID(注文書!$D$17,IFERROR(FIND(\" \",注文書!$D$17),IFERROR(FIND(\"　\",注文書!$D$17),0))+1,10)&\"*\",医療機関マスタ!$C:$C,0),1)","v":"医療法人社団斗南堂　八王子クリニック"},{"$f":"配送情報書!X551","v":""},{"$f":"配送情報書!Z551","v":"00:00:00"},{"$f":"配送情報書!$V551","v":""},"転記不要",null,null,null,{"$f":"配送情報書!T551","v":0},{"$f":"COUNTIF($A$3:A549,A549)","v":547}]
[{"$f":"配送情報書!A552","v":0},{"$f":"配送情報書!AB552","v":0},{"$f":"配送情報書!AA552","v":0},{"$f":"配送情報書!AC552","v":0},{"$f":"INDEX(医療機関マスタ!$A:$A,MATCH(F550,医療機関マスタ!$B:$B,0),1)","v":"AH0000001"},{"$f":"INDEX(医療機関マスタ!$B:$B,MATCH(\"*\"&MID(注文書!$D$17,IFERROR(FIND(\" \",注文書!$D$17),IFERROR(FIND(\"　\",注文書!$D$17),0))+1,10)&\"*\",医療機関マスタ!$C:$C,0),1)","v":"医療法人社団斗南堂　八王子クリニック"},{"$f":"配送情報書!X552","v":""},{"$f":"配送情報書!Z552","v":"00:00:00"},{"$f":"配送情報書!$V552","v":""},"転記不要",null,null,null,{"$f":"配送情報書!T552","v":0},{"$f":"COUNTIF($A$3:A550,A550)","v":548}]
[{"$f":"配送情報書!A553","v":0},{"$f":"配送情報書!AB553","v":0},{"$f":"配送情報書!AA553","v":0},{"$f":"配送情報書!AC553","v":0},{"$f":"INDEX(医療機関マスタ!$A:$A,MATCH(F551,医療機関マスタ!$B:$B,0),1)","v":"AH0000001"},{"$f":"INDEX(医療機関マスタ!$B:$B,MATCH(\"*\"&MID(注文書!$D$17,IFERROR(FIND(\" \",注文書!$D$17),IFERROR(FIND(\"　\",注文書!$D$17),0))+1,10)&\"*\",医療機関マスタ!$C:$C,0),1)","v":"医療法人社団斗南堂　八王子クリニック"},{"$f":"配送情報書!X553","v":""},{"$f":"配送情報書!Z553","v":"00:00:00"},{"$f":"配送情報書!$V553","v":""},"転記不要",null,null,null,{"$f":"配送情報書!T553","v":0},{"$f":"COUNTIF($A$3:A551,A551)","v":549}]
[{"$f":"配送情報書!A554","v":0},{"$f":"配送情報書!AB554","v":0},{"$f":"配送情報書!AA554","v":0},{"$f":"配送情報書!AC554","v":0},{"$f":"INDEX(医療機関マスタ!$A:$A,MATCH(F552,医療機関マスタ!$B:$B,0),1)","v":"AH0000001"},{"$f":"INDEX(医療機関マスタ!$B:$B,MATCH(\"*\"&MID(注文書!$D$17,IFERROR(FIND(\" \",注文書!$D$17),IFERROR(FIND(\"　\",注文書!$D$17),0))+1,10)&\"*\",医療機関マスタ!$C:$C,0),1)","v":"医療法人社団斗南堂　八王子クリニック"},{"$f":"配送情報書!X554","v":""},{"$f":"配送情報書!Z554","v":"00:00:00"},{"$f":"配送情報書!$V554","v":""},"転記不要",null,null,null,{"$f":"配送情報書!T554","v":0},{"$f":"COUNTIF($A$3:A552,A552)","v":550}]
[{"$f":"配送情報書!A555","v":0},{"$f":"配送情報書!AB555","v":0},{"$f":"配送情報書!AA555","v":0},{"$f":"配送情報書!AC555","v":0},{"$f":"INDEX(医療機関マスタ!$A:$A,MATCH(F553,医療機関マスタ!$B:$B,0),1)","v":"AH0000001"},{"$f":"INDEX(医療機関マスタ!$B:$B,MATCH(\"*\"&MID(注文書!$D$17,IFERROR(FIND(\" \",注文書!$D$17),IFERROR(FIND(\"　\",注文書!$D$17),0))+1,10)&\"*\",医療機関マスタ!$C:$C,0),1)","v":"医療法人社団斗南堂　八王子クリニック"},{"$f":"配送情報書!X555","v":""},{"$f":"配送情報書!Z555","v":"00:00:00"},{"$f":"配送情報書!$V555","v":""},"転記不要",null,null,null,{"$f":"配送情報書!T555","v":0},{"$f":"COUNTIF($A$3:A553,A553)","v":551}]
[{"$f":"配送情報書!A556","v":0},{"$f":"配送情報書!AB556","v":0},{"$f":"配送情報書!AA556","v":0},{"$f":"配送情報書!AC556","v":0},{"$f":"INDEX(医療機関マスタ!$A:$A,MATCH(F554,医療機関マスタ!$B:$B,0),1)","v":"AH0000001"},{"$f":"INDEX(医療機関マスタ!$B:$B,MATCH(\"*\"&MID(注文書!$D$17,IFERROR(FIND(\" \",注文書!$D$17),IFERROR(FIND(\"　\",注文書!$D$17),0))+1,10)&\"*\",医療機関マスタ!$C:$C,0),1)","v":"医療法人社団斗南堂　八王子クリニック"},{"$f":"配送情報書!X556","v":""},{"$f":"配送情報書!Z556","v":"00:00:00"},{"$f":"配送情報書!$V556","v":""},"転記不要",null,null,null,{"$f":"配送情報書!T556","v":0},{"$f":"COUNTIF($A$3:A554,A554)","v":552}]
[{"$f":"配送情報書!A557","v":0},{"$f":"配送情報書!AB557","v":0},{"$f":"配送情報書!AA557","v":0},{"$f":"配送情報書!AC557","v":0},{"$f":"INDEX(医療機関マスタ!$A:$A,MATCH(F555,医療機関マスタ!$B:$B,0),1)","v":"AH0000001"},{"$f":"INDEX(医療機関マスタ!$B:$B,MATCH(\"*\"&MID(注文書!$D$17,IFERROR(FIND(\" \",注文書!$D$17),IFERROR(FIND(\"　\",注文書!$D$17),0))+1,10)&\"*\",医療機関マスタ!$C:$C,0),1)","v":"医療法人社団斗南堂　八王子クリニック"},{"$f":"配送情報書!X557","v":""},{"$f":"配送情報書!Z557","v":"00:00:00"},{"$f":"配送情報書!$V557","v":""},"転記不要",null,null,null,{"$f":"配送情報書!T557","v":0},{"$f":"COUNTIF($A$3:A555,A555)","v":553}]
[{"$f":"配送情報書!A558","v":0},{"$f":"配送情報書!AB558","v":0},{"$f":"配送情報書!AA558","v":0},{"$f":"配送情報書!AC558","v":0},{"$f":"INDEX(医療機関マスタ!$A:$A,MATCH(F556,医療機関マスタ!$B:$B,0),1)","v":"AH0000001"},{"$f":"INDEX(医療機関マスタ!$B:$B,MATCH(\"*\"&MID(注文書!$D$17,IFERROR(FIND(\" \",注文書!$D$17),IFERROR(FIND(\"　\",注文書!$D$17),0))+1,10)&\"*\",医療機関マスタ!$C:$C,0),1)","v":"医療法人社団斗南堂　八王子クリニック"},{"$f":"配送情報書!X558","v":""},{"$f":"配送情報書!Z558","v":"00:00:00"},{"$f":"配送情報書!$V558","v":""},"転記不要",null,null,null,{"$f":"配送情報書!T558","v":0},{"$f":"COUNTIF($A$3:A556,A556)","v":554}]
[{"$f":"配送情報書!A559","v":0},{"$f":"配送情報書!AB559","v":0},{"$f":"配送情報書!AA559","v":0},{"$f":"配送情報書!AC559","v":0},{"$f":"INDEX(医療機関マスタ!$A:$A,MATCH(F557,医療機関マスタ!$B:$B,0),1)","v":"AH0000001"},{"$f":"INDEX(医療機関マスタ!$B:$B,MATCH(\"*\"&MID(注文書!$D$17,IFERROR(FIND(\" \",注文書!$D$17),IFERROR(FIND(\"　\",注文書!$D$17),0))+1,10)&\"*\",医療機関マスタ!$C:$C,0),1)","v":"医療法人社団斗南堂　八王子クリニック"},{"$f":"配送情報書!X559","v":""},{"$f":"配送情報書!Z559","v":"00:00:00"},{"$f":"配送情報書!$V559","v":""},"転記不要",null,null,null,{"$f":"配送情報書!T559","v":0},{"$f":"COUNTIF($A$3:A557,A557)","v":555}]
[{"$f":"配送情報書!A560","v":0},{"$f":"配送情報書!AB560","v":0},{"$f":"配送情報書!AA560","v":0},{"$f":"配送情報書!AC560","v":0},{"$f":"INDEX(医療機関マスタ!$A:$A,MATCH(F558,医療機関マスタ!$B:$B,0),1)","v":"AH0000001"},{"$f":"INDEX(医療機関マスタ!$B:$B,MATCH(\"*\"&MID(注文書!$D$17,IFERROR(FIND(\" \",注文書!$D$17),IFERROR(FIND(\"　\",注文書!$D$17),0))+1,10)&\"*\",医療機関マスタ!$C:$C,0),1)","v":"医療法人社団斗南堂　八王子クリニック"},{"$f":"配送情報書!X560","v":""},{"$f":"配送情報書!Z560","v":"00:00:00"},{"$f":"配送情報書!$V560","v":""},"転記不要",null,null,null,{"$f":"配送情報書!T560","v":0},{"$f":"COUNTIF($A$3:A558,A558)","v":556}]
[{"$f":"配送情報書!A561","v":0},{"$f":"配送情報書!AB561","v":0},{"$f":"配送情報書!AA561","v":0},{"$f":"配送情報書!AC561","v":0},{"$f":"INDEX(医療機関マスタ!$A:$A,MATCH(F559,医療機関マスタ!$B:$B,0),1)","v":"AH0000001"},{"$f":"INDEX(医療機関マスタ!$B:$B,MATCH(\"*\"&MID(注文書!$D$17,IFERROR(FIND(\" \",注文書!$D$17),IFERROR(FIND(\"　\",注文書!$D$17),0))+1,10)&\"*\",医療機関マスタ!$C:$C,0),1)","v":"医療法人社団斗南堂　八王子クリニック"},{"$f":"配送情報書!X561","v":""},{"$f":"配送情報書!Z561","v":"00:00:00"},{"$f":"配送情報書!$V561","v":""},"転記不要",null,null,null,{"$f":"配送情報書!T561","v":0},{"$f":"COUNTIF($A$3:A559,A559)","v":557}]
[{"$f":"配送情報書!A562","v":0},{"$f":"配送情報書!AB562","v":0},{"$f":"配送情報書!AA562","v":0},{"$f":"配送情報書!AC562","v":0},{"$f":"INDEX(医療機関マスタ!$A:$A,MATCH(F560,医療機関マスタ!$B:$B,0),1)","v":"AH0000001"},{"$f":"INDEX(医療機関マスタ!$B:$B,MATCH(\"*\"&MID(注文書!$D$17,IFERROR(FIND(\" \",注文書!$D$17),IFERROR(FIND(\"　\",注文書!$D$17),0))+1,10)&\"*\",医療機関マスタ!$C:$C,0),1)","v":"医療法人社団斗南堂　八王子クリニック"},{"$f":"配送情報書!X562","v":""},{"$f":"配送情報書!Z562","v":"00:00:00"},{"$f":"配送情報書!$V562","v":""},"転記不要",null,null,null,{"$f":"配送情報書!T562","v":0},{"$f":"COUNTIF($A$3:A560,A560)","v":558}]
[{"$f":"配送情報書!A563","v":0},{"$f":"配送情報書!AB563","v":0},{"$f":"配送情報書!AA563","v":0},{"$f":"配送情報書!AC563","v":0},{"$f":"INDEX(医療機関マスタ!$A:$A,MATCH(F561,医療機関マスタ!$B:$B,0),1)","v":"AH0000001"},{"$f":"INDEX(医療機関マスタ!$B:$B,MATCH(\"*\"&MID(注文書!$D$17,IFERROR(FIND(\" \",注文書!$D$17),IFERROR(FIND(\"　\",注文書!$D$17),0))+1,10)&\"*\",医療機関マスタ!$C:$C,0),1)","v":"医療法人社団斗南堂　八王子クリニック"},{"$f":"配送情報書!X563","v":""},{"$f":"配送情報書!Z563","v":"00:00:00"},{"$f":"配送情報書!$V563","v":""},"転記不要",null,null,null,{"$f":"配送情報書!T563","v":0},{"$f":"COUNTIF($A$3:A561,A561)","v":559}]
[{"$f":"配送情報書!A564","v":0},{"$f":"配送情報書!AB564","v":0},{"$f":"配送情報書!AA564","v":0},{"$f":"配送情報書!AC564","v":0},{"$f":"INDEX(医療機関マスタ!$A:$A,MATCH(F562,医療機関マスタ!$B:$B,0),1)","v":"AH0000001"},{"$f":"INDEX(医療機関マスタ!$B:$B,MATCH(\"*\"&MID(注文書!$D$17,IFERROR(FIND(\" \",注文書!$D$17),IFERROR(FIND(\"　\",注文書!$D$17),0))+1,10)&\"*\",医療機関マスタ!$C:$C,0),1)","v":"医療法人社団斗南堂　八王子クリニック"},{"$f":"配送情報書!X564","v":""},{"$f":"配送情報書!Z564","v":"00:00:00"},{"$f":"配送情報書!$V564","v":""},"転記不要",null,null,null,{"$f":"配送情報書!T564","v":0},{"$f":"COUNTIF($A$3:A562,A562)","v":560}]
[{"$f":"配送情報書!A565","v":0},{"$f":"配送情報書!AB565","v":0},{"$f":"配送情報書!AA565","v":0},{"$f":"配送情報書!AC565","v":0},{"$f":"INDEX(医療機関マスタ!$A:$A,MATCH(F563,医療機関マスタ!$B:$B,0),1)","v":"AH0000001"},{"$f":"INDEX(医療機関マスタ!$B:$B,MATCH(\"*\"&MID(注文書!$D$17,IFERROR(FIND(\" \",注文書!$D$17),IFERROR(FIND(\"　\",注文書!$D$17),0))+1,10)&\"*\",医療機関マスタ!$C:$C,0),1)","v":"医療法人社団斗南堂　八王子クリニック"},{"$f":"配送情報書!X565","v":""},{"$f":"配送情報書!Z565","v":"00:00:00"},{"$f":"配送情報書!$V565","v":""},"転記不要",null,null,null,{"$f":"配送情報書!T565","v":0},{"$f":"COUNTIF($A$3:A563,A563)","v":561}]
[{"$f":"配送情報書!A566","v":0},{"$f":"配送情報書!AB566","v":0},{"$f":"配送情報書!AA566","v":0},{"$f":"配送情報書!AC566","v":0},{"$f":"INDEX(医療機関マスタ!$A:$A,MATCH(F564,医療機関マスタ!$B:$B,0),1)","v":"AH0000001"},{"$f":"INDEX(医療機関マスタ!$B:$B,MATCH(\"*\"&MID(注文書!$D$17,IFERROR(FIND(\" \",注文書!$D$17),IFERROR(FIND(\"　\",注文書!$D$17),0))+1,10)&\"*\",医療機関マスタ!$C:$C,0),1)","v":"医療法人社団斗南堂　八王子クリニック"},{"$f":"配送情報書!X566","v":""},{"$f":"配送情報書!Z566","v":"00:00:00"},{"$f":"配送情報書!$V566","v":""},"転記不要",null,null,null,{"$f":"配送情報書!T566","v":0},{"$f":"COUNTIF($A$3:A564,A564)","v":562}]
[{"$f":"配送情報書!A567","v":0},{"$f":"配送情報書!AB567","v":0},{"$f":"配送情報書!AA567","v":0},{"$f":"配送情報書!AC567","v":0},{"$f":"INDEX(医療機関マスタ!$A:$A,MATCH(F565,医療機関マスタ!$B:$B,0),1)","v":"AH0000001"},{"$f":"INDEX(医療機関マスタ!$B:$B,MATCH(\"*\"&MID(注文書!$D$17,IFERROR(FIND(\" \",注文書!$D$17),IFERROR(FIND(\"　\",注文書!$D$17),0))+1,10)&\"*\",医療機関マスタ!$C:$C,0),1)","v":"医療法人社団斗南堂　八王子クリニック"},{"$f":"配送情報書!X567","v":""},{"$f":"配送情報書!Z567","v":"00:00:00"},{"$f":"配送情報書!$V567","v":""},"転記不要",null,null,null,{"$f":"配送情報書!T567","v":0},{"$f":"COUNTIF($A$3:A565,A565)","v":563}]
[{"$f":"配送情報書!A568","v":0},{"$f":"配送情報書!AB568","v":0},{"$f":"配送情報書!AA568","v":0},{"$f":"配送情報書!AC568","v":0},{"$f":"INDEX(医療機関マスタ!$A:$A,MATCH(F566,医療機関マスタ!$B:$B,0),1)","v":"AH0000001"},{"$f":"INDEX(医療機関マスタ!$B:$B,MATCH(\"*\"&MID(注文書!$D$17,IFERROR(FIND(\" \",注文書!$D$17),IFERROR(FIND(\"　\",注文書!$D$17),0))+1,10)&\"*\",医療機関マスタ!$C:$C,0),1)","v":"医療法人社団斗南堂　八王子クリニック"},{"$f":"配送情報書!X568","v":""},{"$f":"配送情報書!Z568","v":"00:00:00"},{"$f":"配送情報書!$V568","v":""},"転記不要",null,null,null,{"$f":"配送情報書!T568","v":0},{"$f":"COUNTIF($A$3:A566,A566)","v":564}]
[{"$f":"配送情報書!A569","v":0},{"$f":"配送情報書!AB569","v":0},{"$f":"配送情報書!AA569","v":0},{"$f":"配送情報書!AC569","v":0},{"$f":"INDEX(医療機関マスタ!$A:$A,MATCH(F567,医療機関マスタ!$B:$B,0),1)","v":"AH0000001"},{"$f":"INDEX(医療機関マスタ!$B:$B,MATCH(\"*\"&MID(注文書!$D$17,IFERROR(FIND(\" \",注文書!$D$17),IFERROR(FIND(\"　\",注文書!$D$17),0))+1,10)&\"*\",医療機関マスタ!$C:$C,0),1)","v":"医療法人社団斗南堂　八王子クリニック"},{"$f":"配送情報書!X569","v":""},{"$f":"配送情報書!Z569","v":"00:00:00"},{"$f":"配送情報書!$V569","v":""},"転記不要",null,null,null,{"$f":"配送情報書!T569","v":0},{"$f":"COUNTIF($A$3:A567,A567)","v":565}]
[{"$f":"配送情報書!A570","v":0},{"$f":"配送情報書!AB570","v":0},{"$f":"配送情報書!AA570","v":0},{"$f":"配送情報書!AC570","v":0},{"$f":"INDEX(医療機関マスタ!$A:$A,MATCH(F568,医療機関マスタ!$B:$B,0),1)","v":"AH0000001"},{"$f":"INDEX(医療機関マスタ!$B:$B,MATCH(\"*\"&MID(注文書!$D$17,IFERROR(FIND(\" \",注文書!$D$17),IFERROR(FIND(\"　\",注文書!$D$17),0))+1,10)&\"*\",医療機関マスタ!$C:$C,0),1)","v":"医療法人社団斗南堂　八王子クリニック"},{"$f":"配送情報書!X570","v":""},{"$f":"配送情報書!Z570","v":"00:00:00"},{"$f":"配送情報書!$V570","v":""},"転記不要",null,null,null,{"$f":"配送情報書!T570","v":0},{"$f":"COUNTIF($A$3:A568,A568)","v":566}]
[{"$f":"配送情報書!A571","v":0},{"$f":"配送情報書!AB571","v":0},{"$f":"配送情報書!AA571","v":0},{"$f":"配送情報書!AC571","v":0},{"$f":"INDEX(医療機関マスタ!$A:$A,MATCH(F569,医療機関マスタ!$B:$B,0),1)","v":"AH0000001"},{"$f":"INDEX(医療機関マスタ!$B:$B,MATCH(\"*\"&MID(注文書!$D$17,IFERROR(FIND(\" \",注文書!$D$17),IFERROR(FIND(\"　\",注文書!$D$17),0))+1,10)&\"*\",医療機関マスタ!$C:$C,0),1)","v":"医療法人社団斗南堂　八王子クリニック"},{"$f":"配送情報書!X571","v":""},{"$f":"配送情報書!Z571","v":"00:00:00"},{"$f":"配送情報書!$V571","v":""},"転記不要",null,null,null,{"$f":"配送情報書!T571","v":0},{"$f":"COUNTIF($A$3:A569,A569)","v":567}]
[{"$f":"配送情報書!A572","v":0},{"$f":"配送情報書!AB572","v":0},{"$f":"配送情報書!AA572","v":0},{"$f":"配送情報書!AC572","v":0},{"$f":"INDEX(医療機関マスタ!$A:$A,MATCH(F570,医療機関マスタ!$B:$B,0),1)","v":"AH0000001"},{"$f":"INDEX(医療機関マスタ!$B:$B,MATCH(\"*\"&MID(注文書!$D$17,IFERROR(FIND(\" \",注文書!$D$17),IFERROR(FIND(\"　\",注文書!$D$17),0))+1,10)&\"*\",医療機関マスタ!$C:$C,0),1)","v":"医療法人社団斗南堂　八王子クリニック"},{"$f":"配送情報書!X572","v":""},{"$f":"配送情報書!Z572","v":"00:00:00"},{"$f":"配送情報書!$V572","v":""},"転記不要",null,null,null,{"$f":"配送情報書!T572","v":0},{"$f":"COUNTIF($A$3:A570,A570)","v":568}]
[{"$f":"配送情報書!A573","v":0},{"$f":"配送情報書!AB573","v":0},{"$f":"配送情報書!AA573","v":0},{"$f":"配送情報書!AC573","v":0},{"$f":"INDEX(医療機関マスタ!$A:$A,MATCH(F571,医療機関マスタ!$B:$B,0),1)","v":"AH0000001"},{"$f":"INDEX(医療機関マスタ!$B:$B,MATCH(\"*\"&MID(注文書!$D$17,IFERROR(FIND(\" \",注文書!$D$17),IFERROR(FIND(\"　\",注文書!$D$17),0))+1,10)&\"*\",医療機関マスタ!$C:$C,0),1)","v":"医療法人社団斗南堂　八王子クリニック"},{"$f":"配送情報書!X573","v":""},{"$f":"配送情報書!Z573","v":"00:00:00"},{"$f":"配送情報書!$V573","v":""},"転記不要",null,null,null,{"$f":"配送情報書!T573","v":0},{"$f":"COUNTIF($A$3:A571,A571)","v":569}]
[{"$f":"配送情報書!A574","v":0},{"$f":"配送情報書!AB574","v":0},{"$f":"配送情報書!AA574","v":0},{"$f":"配送情報書!AC574","v":0},{"$f":"INDEX(医療機関マスタ!$A:$A,MATCH(F572,医療機関マスタ!$B:$B,0),1)","v":"AH0000001"},{"$f":"INDEX(医療機関マスタ!$B:$B,MATCH(\"*\"&MID(注文書!$D$17,IFERROR(FIND(\" \",注文書!$D$17),IFERROR(FIND(\"　\",注文書!$D$17),0))+1,10)&\"*\",医療機関マスタ!$C:$C,0),1)","v":"医療法人社団斗南堂　八王子クリニック"},{"$f":"配送情報書!X574","v":""},{"$f":"配送情報書!Z574","v":"00:00:00"},{"$f":"配送情報書!$V574","v":""},"転記不要",null,null,null,{"$f":"配送情報書!T574","v":0},{"$f":"COUNTIF($A$3:A572,A572)","v":570}]
[{"$f":"配送情報書!A575","v":0},{"$f":"配送情報書!AB575","v":0},{"$f":"配送情報書!AA575","v":0},{"$f":"配送情報書!AC575","v":0},{"$f":"INDEX(医療機関マスタ!$A:$A,MATCH(F573,医療機関マスタ!$B:$B,0),1)","v":"AH0000001"},{"$f":"INDEX(医療機関マスタ!$B:$B,MATCH(\"*\"&MID(注文書!$D$17,IFERROR(FIND(\" \",注文書!$D$17),IFERROR(FIND(\"　\",注文書!$D$17),0))+1,10)&\"*\",医療機関マスタ!$C:$C,0),1)","v":"医療法人社団斗南堂　八王子クリニック"},{"$f":"配送情報書!X575","v":""},{"$f":"配送情報書!Z575","v":"00:00:00"},{"$f":"配送情報書!$V575","v":""},"転記不要",null,null,null,{"$f":"配送情報書!T575","v":0},{"$f":"COUNTIF($A$3:A573,A573)","v":571}]
[{"$f":"配送情報書!A576","v":0},{"$f":"配送情報書!AB576","v":0},{"$f":"配送情報書!AA576","v":0},{"$f":"配送情報書!AC576","v":0},{"$f":"INDEX(医療機関マスタ!$A:$A,MATCH(F574,医療機関マスタ!$B:$B,0),1)","v":"AH0000001"},{"$f":"INDEX(医療機関マスタ!$B:$B,MATCH(\"*\"&MID(注文書!$D$17,IFERROR(FIND(\" \",注文書!$D$17),IFERROR(FIND(\"　\",注文書!$D$17),0))+1,10)&\"*\",医療機関マスタ!$C:$C,0),1)","v":"医療法人社団斗南堂　八王子クリニック"},{"$f":"配送情報書!X576","v":""},{"$f":"配送情報書!Z576","v":"00:00:00"},{"$f":"配送情報書!$V576","v":""},"転記不要",null,null,null,{"$f":"配送情報書!T576","v":0},{"$f":"COUNTIF($A$3:A574,A574)","v":572}]
[{"$f":"配送情報書!A577","v":0},{"$f":"配送情報書!AB577","v":0},{"$f":"配送情報書!AA577","v":0},{"$f":"配送情報書!AC577","v":0},{"$f":"INDEX(医療機関マスタ!$A:$A,MATCH(F575,医療機関マスタ!$B:$B,0),1)","v":"AH0000001"},{"$f":"INDEX(医療機関マスタ!$B:$B,MATCH(\"*\"&MID(注文書!$D$17,IFERROR(FIND(\" \",注文書!$D$17),IFERROR(FIND(\"　\",注文書!$D$17),0))+1,10)&\"*\",医療機関マスタ!$C:$C,0),1)","v":"医療法人社団斗南堂　八王子クリニック"},{"$f":"配送情報書!X577","v":""},{"$f":"配送情報書!Z577","v":"00:00:00"},{"$f":"配送情報書!$V577","v":""},"転記不要",null,null,null,{"$f":"配送情報書!T577","v":0},{"$f":"COUNTIF($A$3:A575,A575)","v":573}]
[{"$f":"配送情報書!A578","v":0},{"$f":"配送情報書!AB578","v":0},{"$f":"配送情報書!AA578","v":0},{"$f":"配送情報書!AC578","v":0},{"$f":"INDEX(医療機関マスタ!$A:$A,MATCH(F576,医療機関マスタ!$B:$B,0),1)","v":"AH0000001"},{"$f":"INDEX(医療機関マスタ!$B:$B,MATCH(\"*\"&MID(注文書!$D$17,IFERROR(FIND(\" \",注文書!$D$17),IFERROR(FIND(\"　\",注文書!$D$17),0))+1,10)&\"*\",医療機関マスタ!$C:$C,0),1)","v":"医療法人社団斗南堂　八王子クリニック"},{"$f":"配送情報書!X578","v":""},{"$f":"配送情報書!Z578","v":"00:00:00"},{"$f":"配送情報書!$V578","v":""},"転記不要",null,null,null,{"$f":"配送情報書!T578","v":0},{"$f":"COUNTIF($A$3:A576,A576)","v":574}]
[{"$f":"配送情報書!A579","v":0},{"$f":"配送情報書!AB579","v":0},{"$f":"配送情報書!AA579","v":0},{"$f":"配送情報書!AC579","v":0},{"$f":"INDEX(医療機関マスタ!$A:$A,MATCH(F577,医療機関マスタ!$B:$B,0),1)","v":"AH0000001"},{"$f":"INDEX(医療機関マスタ!$B:$B,MATCH(\"*\"&MID(注文書!$D$17,IFERROR(FIND(\" \",注文書!$D$17),IFERROR(FIND(\"　\",注文書!$D$17),0))+1,10)&\"*\",医療機関マスタ!$C:$C,0),1)","v":"医療法人社団斗南堂　八王子クリニック"},{"$f":"配送情報書!X579","v":""},{"$f":"配送情報書!Z579","v":"00:00:00"},{"$f":"配送情報書!$V579","v":""},"転記不要",null,null,null,{"$f":"配送情報書!T579","v":0},{"$f":"COUNTIF($A$3:A577,A577)","v":575}]
[{"$f":"配送情報書!A580","v":0},{"$f":"配送情報書!AB580","v":0},{"$f":"配送情報書!AA580","v":0},{"$f":"配送情報書!AC580","v":0},{"$f":"INDEX(医療機関マスタ!$A:$A,MATCH(F578,医療機関マスタ!$B:$B,0),1)","v":"AH0000001"},{"$f":"INDEX(医療機関マスタ!$B:$B,MATCH(\"*\"&MID(注文書!$D$17,IFERROR(FIND(\" \",注文書!$D$17),IFERROR(FIND(\"　\",注文書!$D$17),0))+1,10)&\"*\",医療機関マスタ!$C:$C,0),1)","v":"医療法人社団斗南堂　八王子クリニック"},{"$f":"配送情報書!X580","v":""},{"$f":"配送情報書!Z580","v":"00:00:00"},{"$f":"配送情報書!$V580","v":""},"転記不要",null,null,null,{"$f":"配送情報書!T580","v":0},{"$f":"COUNTIF($A$3:A578,A578)","v":576}]
[{"$f":"配送情報書!A581","v":0},{"$f":"配送情報書!AB581","v":0},{"$f":"配送情報書!AA581","v":0},{"$f":"配送情報書!AC581","v":0},{"$f":"INDEX(医療機関マスタ!$A:$A,MATCH(F579,医療機関マスタ!$B:$B,0),1)","v":"AH0000001"},{"$f":"INDEX(医療機関マスタ!$B:$B,MATCH(\"*\"&MID(注文書!$D$17,IFERROR(FIND(\" \",注文書!$D$17),IFERROR(FIND(\"　\",注文書!$D$17),0))+1,10)&\"*\",医療機関マスタ!$C:$C,0),1)","v":"医療法人社団斗南堂　八王子クリニック"},{"$f":"配送情報書!X581","v":""},{"$f":"配送情報書!Z581","v":"00:00:00"},{"$f":"配送情報書!$V581","v":""},"転記不要",null,null,null,{"$f":"配送情報書!T581","v":0},{"$f":"COUNTIF($A$3:A579,A579)","v":577}]
[{"$f":"配送情報書!A582","v":0},{"$f":"配送情報書!AB582","v":0},{"$f":"配送情報書!AA582","v":0},{"$f":"配送情報書!AC582","v":0},{"$f":"INDEX(医療機関マスタ!$A:$A,MATCH(F580,医療機関マスタ!$B:$B,0),1)","v":"AH0000001"},{"$f":"INDEX(医療機関マスタ!$B:$B,MATCH(\"*\"&MID(注文書!$D$17,IFERROR(FIND(\" \",注文書!$D$17),IFERROR(FIND(\"　\",注文書!$D$17),0))+1,10)&\"*\",医療機関マスタ!$C:$C,0),1)","v":"医療法人社団斗南堂　八王子クリニック"},{"$f":"配送情報書!X582","v":""},{"$f":"配送情報書!Z582","v":"00:00:00"},{"$f":"配送情報書!$V582","v":""},{"$f":"IF(AND(N580>0,O580=1),SUMIFS($N:$N,$A:$A,A580),\"転記不要\")","v":"転記不要"},null,null,null,{"$f":"配送情報書!T582","v":0},{"$f":"COUNTIF($A$3:A580,A580)","v":578}]
[{"$f":"配送情報書!A583","v":0},{"$f":"配送情報書!AB583","v":0},{"$f":"配送情報書!AA583","v":0},{"$f":"配送情報書!AC583","v":0},{"$f":"INDEX(医療機関マスタ!$A:$A,MATCH(F581,医療機関マスタ!$B:$B,0),1)","v":"AH0000001"},{"$f":"INDEX(医療機関マスタ!$B:$B,MATCH(\"*\"&MID(注文書!$D$17,IFERROR(FIND(\" \",注文書!$D$17),IFERROR(FIND(\"　\",注文書!$D$17),0))+1,10)&\"*\",医療機関マスタ!$C:$C,0),1)","v":"医療法人社団斗南堂　八王子クリニック"},{"$f":"配送情報書!X583","v":""},{"$f":"配送情報書!Z583","v":"00:00:00"},{"$f":"配送情報書!$V583","v":""},"転記不要",null,null,null,{"$f":"配送情報書!T583","v":0},{"$f":"COUNTIF($A$3:A581,A581)","v":579}]
[{"$f":"配送情報書!A584","v":0},{"$f":"配送情報書!AB584","v":0},{"$f":"配送情報書!AA584","v":0},{"$f":"配送情報書!AC584","v":0},{"$f":"INDEX(医療機関マスタ!$A:$A,MATCH(F582,医療機関マスタ!$B:$B,0),1)","v":"AH0000001"},{"$f":"INDEX(医療機関マスタ!$B:$B,MATCH(\"*\"&MID(注文書!$D$17,IFERROR(FIND(\" \",注文書!$D$17),IFERROR(FIND(\"　\",注文書!$D$17),0))+1,10)&\"*\",医療機関マスタ!$C:$C,0),1)","v":"医療法人社団斗南堂　八王子クリニック"},{"$f":"配送情報書!X584","v":""},{"$f":"配送情報書!Z584","v":"00:00:00"},{"$f":"配送情報書!$V584","v":""},"転記不要",null,null,null,{"$f":"配送情報書!T584","v":0},{"$f":"COUNTIF($A$3:A582,A582)","v":580}]
[{"$f":"配送情報書!A585","v":0},{"$f":"配送情報書!AB585","v":0},{"$f":"配送情報書!AA585","v":0},{"$f":"配送情報書!AC585","v":0},{"$f":"INDEX(医療機関マスタ!$A:$A,MATCH(F583,医療機関マスタ!$B:$B,0),1)","v":"AH0000001"},{"$f":"INDEX(医療機関マスタ!$B:$B,MATCH(\"*\"&MID(注文書!$D$17,IFERROR(FIND(\" \",注文書!$D$17),IFERROR(FIND(\"　\",注文書!$D$17),0))+1,10)&\"*\",医療機関マスタ!$C:$C,0),1)","v":"医療法人社団斗南堂　八王子クリニック"},{"$f":"配送情報書!X585","v":""},{"$f":"配送情報書!Z585","v":"00:00:00"},{"$f":"配送情報書!$V585","v":""},"転記不要",null,null,null,{"$f":"配送情報書!T585","v":0},{"$f":"COUNTIF($A$3:A583,A583)","v":581}]
[{"$f":"配送情報書!A586","v":0},{"$f":"配送情報書!AB586","v":0},{"$f":"配送情報書!AA586","v":0},{"$f":"配送情報書!AC586","v":0},{"$f":"INDEX(医療機関マスタ!$A:$A,MATCH(F584,医療機関マスタ!$B:$B,0),1)","v":"AH0000001"},{"$f":"INDEX(医療機関マスタ!$B:$B,MATCH(\"*\"&MID(注文書!$D$17,IFERROR(FIND(\" \",注文書!$D$17),IFERROR(FIND(\"　\",注文書!$D$17),0))+1,10)&\"*\",医療機関マスタ!$C:$C,0),1)","v":"医療法人社団斗南堂　八王子クリニック"},{"$f":"配送情報書!X586","v":""},{"$f":"配送情報書!Z586","v":"00:00:00"},{"$f":"配送情報書!$V586","v":""},"転記不要",null,null,null,{"$f":"配送情報書!T586","v":0},{"$f":"COUNTIF($A$3:A584,A584)","v":582}]
[{"$f":"配送情報書!A587","v":0},{"$f":"配送情報書!AB587","v":0},{"$f":"配送情報書!AA587","v":0},{"$f":"配送情報書!AC587","v":0},{"$f":"INDEX(医療機関マスタ!$A:$A,MATCH(F585,医療機関マスタ!$B:$B,0),1)","v":"AH0000001"},{"$f":"INDEX(医療機関マスタ!$B:$B,MATCH(\"*\"&MID(注文書!$D$17,IFERROR(FIND(\" \",注文書!$D$17),IFERROR(FIND(\"　\",注文書!$D$17),0))+1,10)&\"*\",医療機関マスタ!$C:$C,0),1)","v":"医療法人社団斗南堂　八王子クリニック"},{"$f":"配送情報書!X587","v":""},{"$f":"配送情報書!Z587","v":"00:00:00"},{"$f":"配送情報書!$V587","v":""},"転記不要",null,null,null,{"$f":"配送情報書!T587","v":0},{"$f":"COUNTIF($A$3:A585,A585)","v":583}]
[{"$f":"配送情報書!A588","v":0},{"$f":"配送情報書!AB588","v":0},{"$f":"配送情報書!AA588","v":0},{"$f":"配送情報書!AC588","v":0},{"$f":"INDEX(医療機関マスタ!$A:$A,MATCH(F586,医療機関マスタ!$B:$B,0),1)","v":"AH0000001"},{"$f":"INDEX(医療機関マスタ!$B:$B,MATCH(\"*\"&MID(注文書!$D$17,IFERROR(FIND(\" \",注文書!$D$17),IFERROR(FIND(\"　\",注文書!$D$17),0))+1,10)&\"*\",医療機関マスタ!$C:$C,0),1)","v":"医療法人社団斗南堂　八王子クリニック"},{"$f":"配送情報書!X588","v":""},{"$f":"配送情報書!Z588","v":"00:00:00"},{"$f":"配送情報書!$V588","v":""},"転記不要",null,null,null,{"$f":"配送情報書!T588","v":0},{"$f":"COUNTIF($A$3:A586,A586)","v":584}]
[{"$f":"配送情報書!A589","v":0},{"$f":"配送情報書!AB589","v":0},{"$f":"配送情報書!AA589","v":0},{"$f":"配送情報書!AC589","v":0},{"$f":"INDEX(医療機関マスタ!$A:$A,MATCH(F587,医療機関マスタ!$B:$B,0),1)","v":"AH0000001"},{"$f":"INDEX(医療機関マスタ!$B:$B,MATCH(\"*\"&MID(注文書!$D$17,IFERROR(FIND(\" \",注文書!$D$17),IFERROR(FIND(\"　\",注文書!$D$17),0))+1,10)&\"*\",医療機関マスタ!$C:$C,0),1)","v":"医療法人社団斗南堂　八王子クリニック"},{"$f":"配送情報書!X589","v":""},{"$f":"配送情報書!Z589","v":"00:00:00"},{"$f":"配送情報書!$V589","v":""},"転記不要",null,null,null,{"$f":"配送情報書!T589","v":0},{"$f":"COUNTIF($A$3:A587,A587)","v":585}]
[{"$f":"配送情報書!A590","v":0},{"$f":"配送情報書!AB590","v":0},{"$f":"配送情報書!AA590","v":0},{"$f":"配送情報書!AC590","v":0},{"$f":"INDEX(医療機関マスタ!$A:$A,MATCH(F588,医療機関マスタ!$B:$B,0),1)","v":"AH0000001"},{"$f":"INDEX(医療機関マスタ!$B:$B,MATCH(\"*\"&MID(注文書!$D$17,IFERROR(FIND(\" \",注文書!$D$17),IFERROR(FIND(\"　\",注文書!$D$17),0))+1,10)&\"*\",医療機関マスタ!$C:$C,0),1)","v":"医療法人社団斗南堂　八王子クリニック"},{"$f":"配送情報書!X590","v":""},{"$f":"配送情報書!Z590","v":"00:00:00"},{"$f":"配送情報書!$V590","v":""},"転記不要",null,null,null,{"$f":"配送情報書!T590","v":0},{"$f":"COUNTIF($A$3:A588,A588)","v":586}]
[{"$f":"配送情報書!A591","v":0},{"$f":"配送情報書!AB591","v":0},{"$f":"配送情報書!AA591","v":0},{"$f":"配送情報書!AC591","v":0},{"$f":"INDEX(医療機関マスタ!$A:$A,MATCH(F589,医療機関マスタ!$B:$B,0),1)","v":"AH0000001"},{"$f":"INDEX(医療機関マスタ!$B:$B,MATCH(\"*\"&MID(注文書!$D$17,IFERROR(FIND(\" \",注文書!$D$17),IFERROR(FIND(\"　\",注文書!$D$17),0))+1,10)&\"*\",医療機関マスタ!$C:$C,0),1)","v":"医療法人社団斗南堂　八王子クリニック"},{"$f":"配送情報書!X591","v":""},{"$f":"配送情報書!Z591","v":"00:00:00"},{"$f":"配送情報書!$V591","v":""},"転記不要",null,null,null,{"$f":"配送情報書!T591","v":0},{"$f":"COUNTIF($A$3:A589,A589)","v":587}]
[{"$f":"配送情報書!A592","v":0},{"$f":"配送情報書!AB592","v":0},{"$f":"配送情報書!AA592","v":0},{"$f":"配送情報書!AC592","v":0},{"$f":"INDEX(医療機関マスタ!$A:$A,MATCH(F590,医療機関マスタ!$B:$B,0),1)","v":"AH0000001"},{"$f":"INDEX(医療機関マスタ!$B:$B,MATCH(\"*\"&MID(注文書!$D$17,IFERROR(FIND(\" \",注文書!$D$17),IFERROR(FIND(\"　\",注文書!$D$17),0))+1,10)&\"*\",医療機関マスタ!$C:$C,0),1)","v":"医療法人社団斗南堂　八王子クリニック"},{"$f":"配送情報書!X592","v":""},{"$f":"配送情報書!Z592","v":"00:00:00"},{"$f":"配送情報書!$V592","v":""},"転記不要",null,null,null,{"$f":"配送情報書!T592","v":0},{"$f":"COUNTIF($A$3:A590,A590)","v":588}]
[{"$f":"配送情報書!A593","v":0},{"$f":"配送情報書!AB593","v":0},{"$f":"配送情報書!AA593","v":0},{"$f":"配送情報書!AC593","v":0},{"$f":"INDEX(医療機関マスタ!$A:$A,MATCH(F591,医療機関マスタ!$B:$B,0),1)","v":"AH0000001"},{"$f":"INDEX(医療機関マスタ!$B:$B,MATCH(\"*\"&MID(注文書!$D$17,IFERROR(FIND(\" \",注文書!$D$17),IFERROR(FIND(\"　\",注文書!$D$17),0))+1,10)&\"*\",医療機関マスタ!$C:$C,0),1)","v":"医療法人社団斗南堂　八王子クリニック"},{"$f":"配送情報書!X593","v":""},{"$f":"配送情報書!Z593","v":"00:00:00"},{"$f":"配送情報書!$V593","v":""},"転記不要",null,null,null,{"$f":"配送情報書!T593","v":0},{"$f":"COUNTIF($A$3:A591,A591)","v":589}]
[{"$f":"配送情報書!A594","v":0},{"$f":"配送情報書!AB594","v":0},{"$f":"配送情報書!AA594","v":0},{"$f":"配送情報書!AC594","v":0},{"$f":"INDEX(医療機関マスタ!$A:$A,MATCH(F592,医療機関マスタ!$B:$B,0),1)","v":"AH0000001"},{"$f":"INDEX(医療機関マスタ!$B:$B,MATCH(\"*\"&MID(注文書!$D$17,IFERROR(FIND(\" \",注文書!$D$17),IFERROR(FIND(\"　\",注文書!$D$17),0))+1,10)&\"*\",医療機関マスタ!$C:$C,0),1)","v":"医療法人社団斗南堂　八王子クリニック"},{"$f":"配送情報書!X594","v":""},{"$f":"配送情報書!Z594","v":"00:00:00"},{"$f":"配送情報書!$V594","v":""},"転記不要",null,null,null,{"$f":"配送情報書!T594","v":0},{"$f":"COUNTIF($A$3:A592,A592)","v":590}]
[{"$f":"配送情報書!A595","v":0},{"$f":"配送情報書!AB595","v":0},{"$f":"配送情報書!AA595","v":0},{"$f":"配送情報書!AC595","v":0},{"$f":"INDEX(医療機関マスタ!$A:$A,MATCH(F593,医療機関マスタ!$B:$B,0),1)","v":"AH0000001"},{"$f":"INDEX(医療機関マスタ!$B:$B,MATCH(\"*\"&MID(注文書!$D$17,IFERROR(FIND(\" \",注文書!$D$17),IFERROR(FIND(\"　\",注文書!$D$17),0))+1,10)&\"*\",医療機関マスタ!$C:$C,0),1)","v":"医療法人社団斗南堂　八王子クリニック"},{"$f":"配送情報書!X595","v":""},{"$f":"配送情報書!Z595","v":"00:00:00"},{"$f":"配送情報書!$V595","v":""},"転記不要",null,null,null,{"$f":"配送情報書!T595","v":0},{"$f":"COUNTIF($A$3:A593,A593)","v":591}]
[{"$f":"配送情報書!A596","v":0},{"$f":"配送情報書!AB596","v":0},{"$f":"配送情報書!AA596","v":0},{"$f":"配送情報書!AC596","v":0},{"$f":"INDEX(医療機関マスタ!$A:$A,MATCH(F594,医療機関マスタ!$B:$B,0),1)","v":"AH0000001"},{"$f":"INDEX(医療機関マスタ!$B:$B,MATCH(\"*\"&MID(注文書!$D$17,IFERROR(FIND(\" \",注文書!$D$17),IFERROR(FIND(\"　\",注文書!$D$17),0))+1,10)&\"*\",医療機関マスタ!$C:$C,0),1)","v":"医療法人社団斗南堂　八王子クリニック"},{"$f":"配送情報書!X596","v":""},{"$f":"配送情報書!Z596","v":"00:00:00"},{"$f":"配送情報書!$V596","v":""},"転記不要",null,null,null,{"$f":"配送情報書!T596","v":0},{"$f":"COUNTIF($A$3:A594,A594)","v":592}]
[{"$f":"配送情報書!A597","v":0},{"$f":"配送情報書!AB597","v":0},{"$f":"配送情報書!AA597","v":0},{"$f":"配送情報書!AC597","v":0},{"$f":"INDEX(医療機関マスタ!$A:$A,MATCH(F595,医療機関マスタ!$B:$B,0),1)","v":"AH0000001"},{"$f":"INDEX(医療機関マスタ!$B:$B,MATCH(\"*\"&MID(注文書!$D$17,IFERROR(FIND(\" \",注文書!$D$17),IFERROR(FIND(\"　\",注文書!$D$17),0))+1,10)&\"*\",医療機関マスタ!$C:$C,0),1)","v":"医療法人社団斗南堂　八王子クリニック"},{"$f":"配送情報書!X597","v":""},{"$f":"配送情報書!Z597","v":"00:00:00"},{"$f":"配送情報書!$V597","v":""},"転記不要",null,null,null,{"$f":"配送情報書!T597","v":0},{"$f":"COUNTIF($A$3:A595,A595)","v":593}]
[{"$f":"配送情報書!A598","v":0},{"$f":"配送情報書!AB598","v":0},{"$f":"配送情報書!AA598","v":0},{"$f":"配送情報書!AC598","v":0},{"$f":"INDEX(医療機関マスタ!$A:$A,MATCH(F596,医療機関マスタ!$B:$B,0),1)","v":"AH0000001"},{"$f":"INDEX(医療機関マスタ!$B:$B,MATCH(\"*\"&MID(注文書!$D$17,IFERROR(FIND(\" \",注文書!$D$17),IFERROR(FIND(\"　\",注文書!$D$17),0))+1,10)&\"*\",医療機関マスタ!$C:$C,0),1)","v":"医療法人社団斗南堂　八王子クリニック"},{"$f":"配送情報書!X598","v":""},{"$f":"配送情報書!Z598","v":"00:00:00"},{"$f":"配送情報書!$V598","v":""},"転記不要",null,null,null,{"$f":"配送情報書!T598","v":0},{"$f":"COUNTIF($A$3:A596,A596)","v":594}]
[{"$f":"配送情報書!A599","v":0},{"$f":"配送情報書!AB599","v":0},{"$f":"配送情報書!AA599","v":0},{"$f":"配送情報書!AC599","v":0},{"$f":"INDEX(医療機関マスタ!$A:$A,MATCH(F597,医療機関マスタ!$B:$B,0),1)","v":"AH0000001"},{"$f":"INDEX(医療機関マスタ!$B:$B,MATCH(\"*\"&MID(注文書!$D$17,IFERROR(FIND(\" \",注文書!$D$17),IFERROR(FIND(\"　\",注文書!$D$17),0))+1,10)&\"*\",医療機関マスタ!$C:$C,0),1)","v":"医療法人社団斗南堂　八王子クリニック"},{"$f":"配送情報書!X599","v":""},{"$f":"配送情報書!Z599","v":"00:00:00"},{"$f":"配送情報書!$V599","v":""},"転記不要",null,null,null,{"$f":"配送情報書!T599","v":0},{"$f":"COUNTIF($A$3:A597,A597)","v":595}]
[{"$f":"配送情報書!A600","v":0},{"$f":"配送情報書!AB600","v":0},{"$f":"配送情報書!AA600","v":0},{"$f":"配送情報書!AC600","v":0},{"$f":"INDEX(医療機関マスタ!$A:$A,MATCH(F598,医療機関マスタ!$B:$B,0),1)","v":"AH0000001"},{"$f":"INDEX(医療機関マスタ!$B:$B,MATCH(\"*\"&MID(注文書!$D$17,IFERROR(FIND(\" \",注文書!$D$17),IFERROR(FIND(\"　\",注文書!$D$17),0))+1,10)&\"*\",医療機関マスタ!$C:$C,0),1)","v":"医療法人社団斗南堂　八王子クリニック"},{"$f":"配送情報書!X600","v":""},{"$f":"配送情報書!Z600","v":"00:00:00"},{"$f":"配送情報書!$V600","v":""},"転記不要",null,null,null,{"$f":"配送情報書!T600","v":0},{"$f":"COUNTIF($A$3:A598,A598)","v":596}]
[{"$f":"配送情報書!A601","v":0},{"$f":"配送情報書!AB601","v":0},{"$f":"配送情報書!AA601","v":0},{"$f":"配送情報書!AC601","v":0},{"$f":"INDEX(医療機関マスタ!$A:$A,MATCH(F599,医療機関マスタ!$B:$B,0),1)","v":"AH0000001"},{"$f":"INDEX(医療機関マスタ!$B:$B,MATCH(\"*\"&MID(注文書!$D$17,IFERROR(FIND(\" \",注文書!$D$17),IFERROR(FIND(\"　\",注文書!$D$17),0))+1,10)&\"*\",医療機関マスタ!$C:$C,0),1)","v":"医療法人社団斗南堂　八王子クリニック"},{"$f":"配送情報書!X601","v":""},{"$f":"配送情報書!Z601","v":"00:00:00"},{"$f":"配送情報書!$V601","v":""},"転記不要",null,null,null,{"$f":"配送情報書!T601","v":0},{"$f":"COUNTIF($A$3:A599,A599)","v":597}]
[{"$f":"配送情報書!A602","v":0},{"$f":"配送情報書!AB602","v":0},{"$f":"配送情報書!AA602","v":0},{"$f":"配送情報書!AC602","v":0},{"$f":"INDEX(医療機関マスタ!$A:$A,MATCH(F600,医療機関マスタ!$B:$B,0),1)","v":"AH0000001"},{"$f":"INDEX(医療機関マスタ!$B:$B,MATCH(\"*\"&MID(注文書!$D$17,IFERROR(FIND(\" \",注文書!$D$17),IFERROR(FIND(\"　\",注文書!$D$17),0))+1,10)&\"*\",医療機関マスタ!$C:$C,0),1)","v":"医療法人社団斗南堂　八王子クリニック"},{"$f":"配送情報書!X602","v":""},{"$f":"配送情報書!Z602","v":"00:00:00"},{"$f":"配送情報書!$V602","v":""},"転記不要",null,null,null,{"$f":"配送情報書!T602","v":0},{"$f":"COUNTIF($A$3:A600,A600)","v":598}]
[{"$f":"配送情報書!A603","v":0},{"$f":"配送情報書!AB603","v":0},{"$f":"配送情報書!AA603","v":0},{"$f":"配送情報書!AC603","v":0},{"$f":"INDEX(医療機関マスタ!$A:$A,MATCH(F601,医療機関マスタ!$B:$B,0),1)","v":"AH0000001"},{"$f":"INDEX(医療機関マスタ!$B:$B,MATCH(\"*\"&MID(注文書!$D$17,IFERROR(FIND(\" \",注文書!$D$17),IFERROR(FIND(\"　\",注文書!$D$17),0))+1,10)&\"*\",医療機関マスタ!$C:$C,0),1)","v":"医療法人社団斗南堂　八王子クリニック"},{"$f":"配送情報書!X603","v":""},{"$f":"配送情報書!Z603","v":"00:00:00"},{"$f":"配送情報書!$V603","v":""},"転記不要",null,null,null,{"$f":"配送情報書!T603","v":0},{"$f":"COUNTIF($A$3:A601,A601)","v":599}]
[{"$f":"配送情報書!A604","v":0},{"$f":"配送情報書!AB604","v":0},{"$f":"配送情報書!AA604","v":0},{"$f":"配送情報書!AC604","v":0},{"$f":"INDEX(医療機関マスタ!$A:$A,MATCH(F602,医療機関マスタ!$B:$B,0),1)","v":"AH0000001"},{"$f":"INDEX(医療機関マスタ!$B:$B,MATCH(\"*\"&MID(注文書!$D$17,IFERROR(FIND(\" \",注文書!$D$17),IFERROR(FIND(\"　\",注文書!$D$17),0))+1,10)&\"*\",医療機関マスタ!$C:$C,0),1)","v":"医療法人社団斗南堂　八王子クリニック"},{"$f":"配送情報書!X604","v":""},{"$f":"配送情報書!Z604","v":"00:00:00"},{"$f":"配送情報書!$V604","v":""},"転記不要",null,null,null,{"$f":"配送情報書!T604","v":0},{"$f":"COUNTIF($A$3:A602,A602)","v":600}]
[{"$f":"配送情報書!A605","v":0},{"$f":"配送情報書!AB605","v":0},{"$f":"配送情報書!AA605","v":0},{"$f":"配送情報書!AC605","v":0},{"$f":"INDEX(医療機関マスタ!$A:$A,MATCH(F603,医療機関マスタ!$B:$B,0),1)","v":"AH0000001"},{"$f":"INDEX(医療機関マスタ!$B:$B,MATCH(\"*\"&MID(注文書!$D$17,IFERROR(FIND(\" \",注文書!$D$17),IFERROR(FIND(\"　\",注文書!$D$17),0))+1,10)&\"*\",医療機関マスタ!$C:$C,0),1)","v":"医療法人社団斗南堂　八王子クリニック"},{"$f":"配送情報書!X605","v":""},{"$f":"配送情報書!Z605","v":"00:00:00"},{"$f":"配送情報書!$V605","v":""},"転記不要",null,null,null,{"$f":"配送情報書!T605","v":0},{"$f":"COUNTIF($A$3:A603,A603)","v":601}]
[{"$f":"配送情報書!A606","v":0},{"$f":"配送情報書!AB606","v":0},{"$f":"配送情報書!AA606","v":0},{"$f":"配送情報書!AC606","v":0},{"$f":"INDEX(医療機関マスタ!$A:$A,MATCH(F604,医療機関マスタ!$B:$B,0),1)","v":"AH0000001"},{"$f":"INDEX(医療機関マスタ!$B:$B,MATCH(\"*\"&MID(注文書!$D$17,IFERROR(FIND(\" \",注文書!$D$17),IFERROR(FIND(\"　\",注文書!$D$17),0))+1,10)&\"*\",医療機関マスタ!$C:$C,0),1)","v":"医療法人社団斗南堂　八王子クリニック"},{"$f":"配送情報書!X606","v":""},{"$f":"配送情報書!Z606","v":"00:00:00"},{"$f":"配送情報書!$V606","v":""},"転記不要",null,null,null,{"$f":"配送情報書!T606","v":0},{"$f":"COUNTIF($A$3:A604,A604)","v":602}]
[{"$f":"配送情報書!A607","v":0},{"$f":"配送情報書!AB607","v":0},{"$f":"配送情報書!AA607","v":0},{"$f":"配送情報書!AC607","v":0},{"$f":"INDEX(医療機関マスタ!$A:$A,MATCH(F605,医療機関マスタ!$B:$B,0),1)","v":"AH0000001"},{"$f":"INDEX(医療機関マスタ!$B:$B,MATCH(\"*\"&MID(注文書!$D$17,IFERROR(FIND(\" \",注文書!$D$17),IFERROR(FIND(\"　\",注文書!$D$17),0))+1,10)&\"*\",医療機関マスタ!$C:$C,0),1)","v":"医療法人社団斗南堂　八王子クリニック"},{"$f":"配送情報書!X607","v":""},{"$f":"配送情報書!Z607","v":"00:00:00"},{"$f":"配送情報書!$V607","v":""},"転記不要",null,null,null,{"$f":"配送情報書!T607","v":0},{"$f":"COUNTIF($A$3:A605,A605)","v":603}]
[{"$f":"配送情報書!A608","v":0},{"$f":"配送情報書!AB608","v":0},{"$f":"配送情報書!AA608","v":0},{"$f":"配送情報書!AC608","v":0},{"$f":"INDEX(医療機関マスタ!$A:$A,MATCH(F606,医療機関マスタ!$B:$B,0),1)","v":"AH0000001"},{"$f":"INDEX(医療機関マスタ!$B:$B,MATCH(\"*\"&MID(注文書!$D$17,IFERROR(FIND(\" \",注文書!$D$17),IFERROR(FIND(\"　\",注文書!$D$17),0))+1,10)&\"*\",医療機関マスタ!$C:$C,0),1)","v":"医療法人社団斗南堂　八王子クリニック"},{"$f":"配送情報書!X608","v":""},{"$f":"配送情報書!Z608","v":"00:00:00"},{"$f":"配送情報書!$V608","v":""},"転記不要",null,null,null,{"$f":"配送情報書!T608","v":0},{"$f":"COUNTIF($A$3:A606,A606)","v":604}]
[{"$f":"配送情報書!A609","v":0},{"$f":"配送情報書!AB609","v":0},{"$f":"配送情報書!AA609","v":0},{"$f":"配送情報書!AC609","v":0},{"$f":"INDEX(医療機関マスタ!$A:$A,MATCH(F607,医療機関マスタ!$B:$B,0),1)","v":"AH0000001"},{"$f":"INDEX(医療機関マスタ!$B:$B,MATCH(\"*\"&MID(注文書!$D$17,IFERROR(FIND(\" \",注文書!$D$17),IFERROR(FIND(\"　\",注文書!$D$17),0))+1,10)&\"*\",医療機関マスタ!$C:$C,0),1)","v":"医療法人社団斗南堂　八王子クリニック"},{"$f":"配送情報書!X609","v":""},{"$f":"配送情報書!Z609","v":"00:00:00"},{"$f":"配送情報書!$V609","v":""},"転記不要",null,null,null,{"$f":"配送情報書!T609","v":0},{"$f":"COUNTIF($A$3:A607,A607)","v":605}]
[{"$f":"配送情報書!A610","v":0},{"$f":"配送情報書!AB610","v":0},{"$f":"配送情報書!AA610","v":0},{"$f":"配送情報書!AC610","v":0},{"$f":"INDEX(医療機関マスタ!$A:$A,MATCH(F608,医療機関マスタ!$B:$B,0),1)","v":"AH0000001"},{"$f":"INDEX(医療機関マスタ!$B:$B,MATCH(\"*\"&MID(注文書!$D$17,IFERROR(FIND(\" \",注文書!$D$17),IFERROR(FIND(\"　\",注文書!$D$17),0))+1,10)&\"*\",医療機関マスタ!$C:$C,0),1)","v":"医療法人社団斗南堂　八王子クリニック"},{"$f":"配送情報書!X610","v":""},{"$f":"配送情報書!Z610","v":"00:00:00"},{"$f":"配送情報書!$V610","v":""},"転記不要",null,null,null,{"$f":"配送情報書!T610","v":0},{"$f":"COUNTIF($A$3:A608,A608)","v":606}]
[{"$f":"配送情報書!A611","v":0},{"$f":"配送情報書!AB611","v":0},{"$f":"配送情報書!AA611","v":0},{"$f":"配送情報書!AC611","v":0},{"$f":"INDEX(医療機関マスタ!$A:$A,MATCH(F609,医療機関マスタ!$B:$B,0),1)","v":"AH0000001"},{"$f":"INDEX(医療機関マスタ!$B:$B,MATCH(\"*\"&MID(注文書!$D$17,IFERROR(FIND(\" \",注文書!$D$17),IFERROR(FIND(\"　\",注文書!$D$17),0))+1,10)&\"*\",医療機関マスタ!$C:$C,0),1)","v":"医療法人社団斗南堂　八王子クリニック"},{"$f":"配送情報書!X611","v":""},{"$f":"配送情報書!Z611","v":"00:00:00"},{"$f":"配送情報書!$V611","v":""},"転記不要",null,null,null,{"$f":"配送情報書!T611","v":0},{"$f":"COUNTIF($A$3:A609,A609)","v":607}]
[{"$f":"配送情報書!A612","v":0},{"$f":"配送情報書!AB612","v":0},{"$f":"配送情報書!AA612","v":0},{"$f":"配送情報書!AC612","v":0},{"$f":"INDEX(医療機関マスタ!$A:$A,MATCH(F610,医療機関マスタ!$B:$B,0),1)","v":"AH0000001"},{"$f":"INDEX(医療機関マスタ!$B:$B,MATCH(\"*\"&MID(注文書!$D$17,IFERROR(FIND(\" \",注文書!$D$17),IFERROR(FIND(\"　\",注文書!$D$17),0))+1,10)&\"*\",医療機関マスタ!$C:$C,0),1)","v":"医療法人社団斗南堂　八王子クリニック"},{"$f":"配送情報書!X612","v":""},{"$f":"配送情報書!Z612","v":"00:00:00"},{"$f":"配送情報書!$V612","v":""},"転記不要",null,null,null,{"$f":"配送情報書!T612","v":0},{"$f":"COUNTIF($A$3:A610,A610)","v":608}]
[{"$f":"配送情報書!A613","v":0},{"$f":"配送情報書!AB613","v":0},{"$f":"配送情報書!AA613","v":0},{"$f":"配送情報書!AC613","v":0},{"$f":"INDEX(医療機関マスタ!$A:$A,MATCH(F611,医療機関マスタ!$B:$B,0),1)","v":"AH0000001"},{"$f":"INDEX(医療機関マスタ!$B:$B,MATCH(\"*\"&MID(注文書!$D$17,IFERROR(FIND(\" \",注文書!$D$17),IFERROR(FIND(\"　\",注文書!$D$17),0))+1,10)&\"*\",医療機関マスタ!$C:$C,0),1)","v":"医療法人社団斗南堂　八王子クリニック"},{"$f":"配送情報書!X613","v":""},{"$f":"配送情報書!Z613","v":"00:00:00"},{"$f":"配送情報書!$V613","v":""},"転記不要",null,null,null,{"$f":"配送情報書!T613","v":0},{"$f":"COUNTIF($A$3:A611,A611)","v":609}]
[{"$f":"配送情報書!A614","v":0},{"$f":"配送情報書!AB614","v":0},{"$f":"配送情報書!AA614","v":0},{"$f":"配送情報書!AC614","v":0},{"$f":"INDEX(医療機関マスタ!$A:$A,MATCH(F612,医療機関マスタ!$B:$B,0),1)","v":"AH0000001"},{"$f":"INDEX(医療機関マスタ!$B:$B,MATCH(\"*\"&MID(注文書!$D$17,IFERROR(FIND(\" \",注文書!$D$17),IFERROR(FIND(\"　\",注文書!$D$17),0))+1,10)&\"*\",医療機関マスタ!$C:$C,0),1)","v":"医療法人社団斗南堂　八王子クリニック"},{"$f":"配送情報書!X614","v":""},{"$f":"配送情報書!Z614","v":"00:00:00"},{"$f":"配送情報書!$V614","v":""},"転記不要",null,null,null,{"$f":"配送情報書!T614","v":0},{"$f":"COUNTIF($A$3:A612,A612)","v":610}]
[{"$f":"配送情報書!A615","v":0},{"$f":"配送情報書!AB615","v":0},{"$f":"配送情報書!AA615","v":0},{"$f":"配送情報書!AC615","v":0},{"$f":"INDEX(医療機関マスタ!$A:$A,MATCH(F613,医療機関マスタ!$B:$B,0),1)","v":"AH0000001"},{"$f":"INDEX(医療機関マスタ!$B:$B,MATCH(\"*\"&MID(注文書!$D$17,IFERROR(FIND(\" \",注文書!$D$17),IFERROR(FIND(\"　\",注文書!$D$17),0))+1,10)&\"*\",医療機関マスタ!$C:$C,0),1)","v":"医療法人社団斗南堂　八王子クリニック"},{"$f":"配送情報書!X615","v":""},{"$f":"配送情報書!Z615","v":"00:00:00"},{"$f":"配送情報書!$V615","v":""},"転記不要",null,null,null,{"$f":"配送情報書!T615","v":0},{"$f":"COUNTIF($A$3:A613,A613)","v":611}]
[{"$f":"配送情報書!A616","v":0},{"$f":"配送情報書!AB616","v":0},{"$f":"配送情報書!AA616","v":0},{"$f":"配送情報書!AC616","v":0},{"$f":"INDEX(医療機関マスタ!$A:$A,MATCH(F614,医療機関マスタ!$B:$B,0),1)","v":"AH0000001"},{"$f":"INDEX(医療機関マスタ!$B:$B,MATCH(\"*\"&MID(注文書!$D$17,IFERROR(FIND(\" \",注文書!$D$17),IFERROR(FIND(\"　\",注文書!$D$17),0))+1,10)&\"*\",医療機関マスタ!$C:$C,0),1)","v":"医療法人社団斗南堂　八王子クリニック"},{"$f":"配送情報書!X616","v":""},{"$f":"配送情報書!Z616","v":"00:00:00"},{"$f":"配送情報書!$V616","v":""},"転記不要",null,null,null,{"$f":"配送情報書!T616","v":0},{"$f":"COUNTIF($A$3:A614,A614)","v":612}]
[{"$f":"配送情報書!A617","v":0},{"$f":"配送情報書!AB617","v":0},{"$f":"配送情報書!AA617","v":0},{"$f":"配送情報書!AC617","v":0},{"$f":"INDEX(医療機関マスタ!$A:$A,MATCH(F615,医療機関マスタ!$B:$B,0),1)","v":"AH0000001"},{"$f":"INDEX(医療機関マスタ!$B:$B,MATCH(\"*\"&MID(注文書!$D$17,IFERROR(FIND(\" \",注文書!$D$17),IFERROR(FIND(\"　\",注文書!$D$17),0))+1,10)&\"*\",医療機関マスタ!$C:$C,0),1)","v":"医療法人社団斗南堂　八王子クリニック"},{"$f":"配送情報書!X617","v":""},{"$f":"配送情報書!Z617","v":"00:00:00"},{"$f":"配送情報書!$V617","v":""},"転記不要",null,null,null,{"$f":"配送情報書!T617","v":0},{"$f":"COUNTIF($A$3:A615,A615)","v":613}]
[{"$f":"配送情報書!A618","v":0},{"$f":"配送情報書!AB618","v":0},{"$f":"配送情報書!AA618","v":0},{"$f":"配送情報書!AC618","v":0},{"$f":"INDEX(医療機関マスタ!$A:$A,MATCH(F616,医療機関マスタ!$B:$B,0),1)","v":"AH0000001"},{"$f":"INDEX(医療機関マスタ!$B:$B,MATCH(\"*\"&MID(注文書!$D$17,IFERROR(FIND(\" \",注文書!$D$17),IFERROR(FIND(\"　\",注文書!$D$17),0))+1,10)&\"*\",医療機関マスタ!$C:$C,0),1)","v":"医療法人社団斗南堂　八王子クリニック"},{"$f":"配送情報書!X618","v":""},{"$f":"配送情報書!Z618","v":"00:00:00"},{"$f":"配送情報書!$V618","v":""},"転記不要",null,null,null,{"$f":"配送情報書!T618","v":0},{"$f":"COUNTIF($A$3:A616,A616)","v":614}]
[{"$f":"配送情報書!A619","v":0},{"$f":"配送情報書!AB619","v":0},{"$f":"配送情報書!AA619","v":0},{"$f":"配送情報書!AC619","v":0},{"$f":"INDEX(医療機関マスタ!$A:$A,MATCH(F617,医療機関マスタ!$B:$B,0),1)","v":"AH0000001"},{"$f":"INDEX(医療機関マスタ!$B:$B,MATCH(\"*\"&MID(注文書!$D$17,IFERROR(FIND(\" \",注文書!$D$17),IFERROR(FIND(\"　\",注文書!$D$17),0))+1,10)&\"*\",医療機関マスタ!$C:$C,0),1)","v":"医療法人社団斗南堂　八王子クリニック"},{"$f":"配送情報書!X619","v":""},{"$f":"配送情報書!Z619","v":"00:00:00"},{"$f":"配送情報書!$V619","v":""},"転記不要",null,null,null,{"$f":"配送情報書!T619","v":0},{"$f":"COUNTIF($A$3:A617,A617)","v":615}]
[{"$f":"配送情報書!A620","v":0},{"$f":"配送情報書!AB620","v":0},{"$f":"配送情報書!AA620","v":0},{"$f":"配送情報書!AC620","v":0},{"$f":"INDEX(医療機関マスタ!$A:$A,MATCH(F618,医療機関マスタ!$B:$B,0),1)","v":"AH0000001"},{"$f":"INDEX(医療機関マスタ!$B:$B,MATCH(\"*\"&MID(注文書!$D$17,IFERROR(FIND(\" \",注文書!$D$17),IFERROR(FIND(\"　\",注文書!$D$17),0))+1,10)&\"*\",医療機関マスタ!$C:$C,0),1)","v":"医療法人社団斗南堂　八王子クリニック"},{"$f":"配送情報書!X620","v":""},{"$f":"配送情報書!Z620","v":"00:00:00"},{"$f":"配送情報書!$V620","v":""},"転記不要",null,null,null,{"$f":"配送情報書!T620","v":0},{"$f":"COUNTIF($A$3:A618,A618)","v":616}]
[{"$f":"配送情報書!A621","v":0},{"$f":"配送情報書!AB621","v":0},{"$f":"配送情報書!AA621","v":0},{"$f":"配送情報書!AC621","v":0},{"$f":"INDEX(医療機関マスタ!$A:$A,MATCH(F619,医療機関マスタ!$B:$B,0),1)","v":"AH0000001"},{"$f":"INDEX(医療機関マスタ!$B:$B,MATCH(\"*\"&MID(注文書!$D$17,IFERROR(FIND(\" \",注文書!$D$17),IFERROR(FIND(\"　\",注文書!$D$17),0))+1,10)&\"*\",医療機関マスタ!$C:$C,0),1)","v":"医療法人社団斗南堂　八王子クリニック"},{"$f":"配送情報書!X621","v":""},{"$f":"配送情報書!Z621","v":"00:00:00"},{"$f":"配送情報書!$V621","v":""},"転記不要",null,null,null,{"$f":"配送情報書!T621","v":0},{"$f":"COUNTIF($A$3:A619,A619)","v":617}]
[{"$f":"配送情報書!A622","v":0},{"$f":"配送情報書!AB622","v":0},{"$f":"配送情報書!AA622","v":0},{"$f":"配送情報書!AC622","v":0},{"$f":"INDEX(医療機関マスタ!$A:$A,MATCH(F620,医療機関マスタ!$B:$B,0),1)","v":"AH0000001"},{"$f":"INDEX(医療機関マスタ!$B:$B,MATCH(\"*\"&MID(注文書!$D$17,IFERROR(FIND(\" \",注文書!$D$17),IFERROR(FIND(\"　\",注文書!$D$17),0))+1,10)&\"*\",医療機関マスタ!$C:$C,0),1)","v":"医療法人社団斗南堂　八王子クリニック"},{"$f":"配送情報書!X622","v":""},{"$f":"配送情報書!Z622","v":"00:00:00"},{"$f":"配送情報書!$V622","v":""},"転記不要",null,null,null,{"$f":"配送情報書!T622","v":0},{"$f":"COUNTIF($A$3:A620,A620)","v":618}]
[{"$f":"配送情報書!A623","v":0},{"$f":"配送情報書!AB623","v":0},{"$f":"配送情報書!AA623","v":0},{"$f":"配送情報書!AC623","v":0},{"$f":"INDEX(医療機関マスタ!$A:$A,MATCH(F621,医療機関マスタ!$B:$B,0),1)","v":"AH0000001"},{"$f":"INDEX(医療機関マスタ!$B:$B,MATCH(\"*\"&MID(注文書!$D$17,IFERROR(FIND(\" \",注文書!$D$17),IFERROR(FIND(\"　\",注文書!$D$17),0))+1,10)&\"*\",医療機関マスタ!$C:$C,0),1)","v":"医療法人社団斗南堂　八王子クリニック"},{"$f":"配送情報書!X623","v":""},{"$f":"配送情報書!Z623","v":"00:00:00"},{"$f":"配送情報書!$V623","v":""},"転記不要",null,null,null,{"$f":"配送情報書!T623","v":0},{"$f":"COUNTIF($A$3:A621,A621)","v":619}]
[{"$f":"配送情報書!A624","v":0},{"$f":"配送情報書!AB624","v":0},{"$f":"配送情報書!AA624","v":0},{"$f":"配送情報書!AC624","v":0},{"$f":"INDEX(医療機関マスタ!$A:$A,MATCH(F622,医療機関マスタ!$B:$B,0),1)","v":"AH0000001"},{"$f":"INDEX(医療機関マスタ!$B:$B,MATCH(\"*\"&MID(注文書!$D$17,IFERROR(FIND(\" \",注文書!$D$17),IFERROR(FIND(\"　\",注文書!$D$17),0))+1,10)&\"*\",医療機関マスタ!$C:$C,0),1)","v":"医療法人社団斗南堂　八王子クリニック"},{"$f":"配送情報書!X624","v":""},{"$f":"配送情報書!Z624","v":"00:00:00"},{"$f":"配送情報書!$V624","v":""},"転記不要",null,null,null,{"$f":"配送情報書!T624","v":0},{"$f":"COUNTIF($A$3:A622,A622)","v":620}]
[{"$f":"配送情報書!A625","v":0},{"$f":"配送情報書!AB625","v":0},{"$f":"配送情報書!AA625","v":0},{"$f":"配送情報書!AC625","v":0},{"$f":"INDEX(医療機関マスタ!$A:$A,MATCH(F623,医療機関マスタ!$B:$B,0),1)","v":"AH0000001"},{"$f":"INDEX(医療機関マスタ!$B:$B,MATCH(\"*\"&MID(注文書!$D$17,IFERROR(FIND(\" \",注文書!$D$17),IFERROR(FIND(\"　\",注文書!$D$17),0))+1,10)&\"*\",医療機関マスタ!$C:$C,0),1)","v":"医療法人社団斗南堂　八王子クリニック"},{"$f":"配送情報書!X625","v":""},{"$f":"配送情報書!Z625","v":"00:00:00"},{"$f":"配送情報書!$V625","v":""},"転記不要",null,null,null,{"$f":"配送情報書!T625","v":0},{"$f":"COUNTIF($A$3:A623,A623)","v":621}]
[{"$f":"配送情報書!A626","v":0},{"$f":"配送情報書!AB626","v":0},{"$f":"配送情報書!AA626","v":0},{"$f":"配送情報書!AC626","v":0},{"$f":"INDEX(医療機関マスタ!$A:$A,MATCH(F624,医療機関マスタ!$B:$B,0),1)","v":"AH0000001"},{"$f":"INDEX(医療機関マスタ!$B:$B,MATCH(\"*\"&MID(注文書!$D$17,IFERROR(FIND(\" \",注文書!$D$17),IFERROR(FIND(\"　\",注文書!$D$17),0))+1,10)&\"*\",医療機関マスタ!$C:$C,0),1)","v":"医療法人社団斗南堂　八王子クリニック"},{"$f":"配送情報書!X626","v":""},{"$f":"配送情報書!Z626","v":"00:00:00"},{"$f":"配送情報書!$V626","v":""},"転記不要",null,null,null,{"$f":"配送情報書!T626","v":0},{"$f":"COUNTIF($A$3:A624,A624)","v":622}]
[{"$f":"配送情報書!A627","v":0},{"$f":"配送情報書!AB627","v":0},{"$f":"配送情報書!AA627","v":0},{"$f":"配送情報書!AC627","v":0},{"$f":"INDEX(医療機関マスタ!$A:$A,MATCH(F625,医療機関マスタ!$B:$B,0),1)","v":"AH0000001"},{"$f":"INDEX(医療機関マスタ!$B:$B,MATCH(\"*\"&MID(注文書!$D$17,IFERROR(FIND(\" \",注文書!$D$17),IFERROR(FIND(\"　\",注文書!$D$17),0))+1,10)&\"*\",医療機関マスタ!$C:$C,0),1)","v":"医療法人社団斗南堂　八王子クリニック"},{"$f":"配送情報書!X627","v":""},{"$f":"配送情報書!Z627","v":"00:00:00"},{"$f":"配送情報書!$V627","v":""},"転記不要",null,null,null,{"$f":"配送情報書!T627","v":0},{"$f":"COUNTIF($A$3:A625,A625)","v":623}]
[{"$f":"配送情報書!A628","v":0},{"$f":"配送情報書!AB628","v":0},{"$f":"配送情報書!AA628","v":0},{"$f":"配送情報書!AC628","v":0},{"$f":"INDEX(医療機関マスタ!$A:$A,MATCH(F626,医療機関マスタ!$B:$B,0),1)","v":"AH0000001"},{"$f":"INDEX(医療機関マスタ!$B:$B,MATCH(\"*\"&MID(注文書!$D$17,IFERROR(FIND(\" \",注文書!$D$17),IFERROR(FIND(\"　\",注文書!$D$17),0))+1,10)&\"*\",医療機関マスタ!$C:$C,0),1)","v":"医療法人社団斗南堂　八王子クリニック"},{"$f":"配送情報書!X628","v":""},{"$f":"配送情報書!Z628","v":"00:00:00"},{"$f":"配送情報書!$V628","v":""},"転記不要",null,null,null,{"$f":"配送情報書!T628","v":0},{"$f":"COUNTIF($A$3:A626,A626)","v":624}]
[{"$f":"配送情報書!A629","v":0},{"$f":"配送情報書!AB629","v":0},{"$f":"配送情報書!AA629","v":0},{"$f":"配送情報書!AC629","v":0},{"$f":"INDEX(医療機関マスタ!$A:$A,MATCH(F627,医療機関マスタ!$B:$B,0),1)","v":"AH0000001"},{"$f":"INDEX(医療機関マスタ!$B:$B,MATCH(\"*\"&MID(注文書!$D$17,IFERROR(FIND(\" \",注文書!$D$17),IFERROR(FIND(\"　\",注文書!$D$17),0))+1,10)&\"*\",医療機関マスタ!$C:$C,0),1)","v":"医療法人社団斗南堂　八王子クリニック"},{"$f":"配送情報書!X629","v":""},{"$f":"配送情報書!Z629","v":"00:00:00"},{"$f":"配送情報書!$V629","v":""},"転記不要",null,null,null,{"$f":"配送情報書!T629","v":0},{"$f":"COUNTIF($A$3:A627,A627)","v":625}]
[{"$f":"配送情報書!A630","v":0},{"$f":"配送情報書!AB630","v":0},{"$f":"配送情報書!AA630","v":0},{"$f":"配送情報書!AC630","v":0},{"$f":"INDEX(医療機関マスタ!$A:$A,MATCH(F628,医療機関マスタ!$B:$B,0),1)","v":"AH0000001"},{"$f":"INDEX(医療機関マスタ!$B:$B,MATCH(\"*\"&MID(注文書!$D$17,IFERROR(FIND(\" \",注文書!$D$17),IFERROR(FIND(\"　\",注文書!$D$17),0))+1,10)&\"*\",医療機関マスタ!$C:$C,0),1)","v":"医療法人社団斗南堂　八王子クリニック"},{"$f":"配送情報書!X630","v":""},{"$f":"配送情報書!Z630","v":"00:00:00"},{"$f":"配送情報書!$V630","v":""},"転記不要",null,null,null,{"$f":"配送情報書!T630","v":0},{"$f":"COUNTIF($A$3:A628,A628)","v":626}]
[{"$f":"配送情報書!A631","v":0},{"$f":"配送情報書!AB631","v":0},{"$f":"配送情報書!AA631","v":0},{"$f":"配送情報書!AC631","v":0},{"$f":"INDEX(医療機関マスタ!$A:$A,MATCH(F629,医療機関マスタ!$B:$B,0),1)","v":"AH0000001"},{"$f":"INDEX(医療機関マスタ!$B:$B,MATCH(\"*\"&MID(注文書!$D$17,IFERROR(FIND(\" \",注文書!$D$17),IFERROR(FIND(\"　\",注文書!$D$17),0))+1,10)&\"*\",医療機関マスタ!$C:$C,0),1)","v":"医療法人社団斗南堂　八王子クリニック"},{"$f":"配送情報書!X631","v":""},{"$f":"配送情報書!Z631","v":"00:00:00"},{"$f":"配送情報書!$V631","v":""},"転記不要",null,null,null,{"$f":"配送情報書!T631","v":0},{"$f":"COUNTIF($A$3:A629,A629)","v":627}]
[{"$f":"配送情報書!A632","v":0},{"$f":"配送情報書!AB632","v":0},{"$f":"配送情報書!AA632","v":0},{"$f":"配送情報書!AC632","v":0},{"$f":"INDEX(医療機関マスタ!$A:$A,MATCH(F630,医療機関マスタ!$B:$B,0),1)","v":"AH0000001"},{"$f":"INDEX(医療機関マスタ!$B:$B,MATCH(\"*\"&MID(注文書!$D$17,IFERROR(FIND(\" \",注文書!$D$17),IFERROR(FIND(\"　\",注文書!$D$17),0))+1,10)&\"*\",医療機関マスタ!$C:$C,0),1)","v":"医療法人社団斗南堂　八王子クリニック"},{"$f":"配送情報書!X632","v":""},{"$f":"配送情報書!Z632","v":"00:00:00"},{"$f":"配送情報書!$V632","v":""},"転記不要",null,null,null,{"$f":"配送情報書!T632","v":0},{"$f":"COUNTIF($A$3:A630,A630)","v":628}]
[{"$f":"配送情報書!A633","v":0},{"$f":"配送情報書!AB633","v":0},{"$f":"配送情報書!AA633","v":0},{"$f":"配送情報書!AC633","v":0},{"$f":"INDEX(医療機関マスタ!$A:$A,MATCH(F631,医療機関マスタ!$B:$B,0),1)","v":"AH0000001"},{"$f":"INDEX(医療機関マスタ!$B:$B,MATCH(\"*\"&MID(注文書!$D$17,IFERROR(FIND(\" \",注文書!$D$17),IFERROR(FIND(\"　\",注文書!$D$17),0))+1,10)&\"*\",医療機関マスタ!$C:$C,0),1)","v":"医療法人社団斗南堂　八王子クリニック"},{"$f":"配送情報書!X633","v":""},{"$f":"配送情報書!Z633","v":"00:00:00"},{"$f":"配送情報書!$V633","v":""},"転記不要",null,null,null,{"$f":"配送情報書!T633","v":0},{"$f":"COUNTIF($A$3:A631,A631)","v":629}]
[{"$f":"配送情報書!A634","v":0},{"$f":"配送情報書!AB634","v":0},{"$f":"配送情報書!AA634","v":0},{"$f":"配送情報書!AC634","v":0},{"$f":"INDEX(医療機関マスタ!$A:$A,MATCH(F632,医療機関マスタ!$B:$B,0),1)","v":"AH0000001"},{"$f":"INDEX(医療機関マスタ!$B:$B,MATCH(\"*\"&MID(注文書!$D$17,IFERROR(FIND(\" \",注文書!$D$17),IFERROR(FIND(\"　\",注文書!$D$17),0))+1,10)&\"*\",医療機関マスタ!$C:$C,0),1)","v":"医療法人社団斗南堂　八王子クリニック"},{"$f":"配送情報書!X634","v":""},{"$f":"配送情報書!Z634","v":"00:00:00"},{"$f":"配送情報書!$V634","v":""},"転記不要",null,null,null,{"$f":"配送情報書!T634","v":0},{"$f":"COUNTIF($A$3:A632,A632)","v":630}]
[{"$f":"配送情報書!A635","v":0},{"$f":"配送情報書!AB635","v":0},{"$f":"配送情報書!AA635","v":0},{"$f":"配送情報書!AC635","v":0},{"$f":"INDEX(医療機関マスタ!$A:$A,MATCH(F633,医療機関マスタ!$B:$B,0),1)","v":"AH0000001"},{"$f":"INDEX(医療機関マスタ!$B:$B,MATCH(\"*\"&MID(注文書!$D$17,IFERROR(FIND(\" \",注文書!$D$17),IFERROR(FIND(\"　\",注文書!$D$17),0))+1,10)&\"*\",医療機関マスタ!$C:$C,0),1)","v":"医療法人社団斗南堂　八王子クリニック"},{"$f":"配送情報書!X635","v":""},{"$f":"配送情報書!Z635","v":"00:00:00"},{"$f":"配送情報書!$V635","v":""},"転記不要",null,null,null,{"$f":"配送情報書!T635","v":0},{"$f":"COUNTIF($A$3:A633,A633)","v":631}]
[{"$f":"配送情報書!A636","v":0},{"$f":"配送情報書!AB636","v":0},{"$f":"配送情報書!AA636","v":0},{"$f":"配送情報書!AC636","v":0},{"$f":"INDEX(医療機関マスタ!$A:$A,MATCH(F634,医療機関マスタ!$B:$B,0),1)","v":"AH0000001"},{"$f":"INDEX(医療機関マスタ!$B:$B,MATCH(\"*\"&MID(注文書!$D$17,IFERROR(FIND(\" \",注文書!$D$17),IFERROR(FIND(\"　\",注文書!$D$17),0))+1,10)&\"*\",医療機関マスタ!$C:$C,0),1)","v":"医療法人社団斗南堂　八王子クリニック"},{"$f":"配送情報書!X636","v":""},{"$f":"配送情報書!Z636","v":"00:00:00"},{"$f":"配送情報書!$V636","v":""},"転記不要",null,null,null,{"$f":"配送情報書!T636","v":0},{"$f":"COUNTIF($A$3:A634,A634)","v":632}]
[{"$f":"配送情報書!A637","v":0},{"$f":"配送情報書!AB637","v":0},{"$f":"配送情報書!AA637","v":0},{"$f":"配送情報書!AC637","v":0},{"$f":"INDEX(医療機関マスタ!$A:$A,MATCH(F635,医療機関マスタ!$B:$B,0),1)","v":"AH0000001"},{"$f":"INDEX(医療機関マスタ!$B:$B,MATCH(\"*\"&MID(注文書!$D$17,IFERROR(FIND(\" \",注文書!$D$17),IFERROR(FIND(\"　\",注文書!$D$17),0))+1,10)&\"*\",医療機関マスタ!$C:$C,0),1)","v":"医療法人社団斗南堂　八王子クリニック"},{"$f":"配送情報書!X637","v":""},{"$f":"配送情報書!Z637","v":"00:00:00"},{"$f":"配送情報書!$V637","v":""},"転記不要",null,null,null,{"$f":"配送情報書!T637","v":0},{"$f":"COUNTIF($A$3:A635,A635)","v":633}]
[{"$f":"配送情報書!A638","v":0},{"$f":"配送情報書!AB638","v":0},{"$f":"配送情報書!AA638","v":0},{"$f":"配送情報書!AC638","v":0},{"$f":"INDEX(医療機関マスタ!$A:$A,MATCH(F636,医療機関マスタ!$B:$B,0),1)","v":"AH0000001"},{"$f":"INDEX(医療機関マスタ!$B:$B,MATCH(\"*\"&MID(注文書!$D$17,IFERROR(FIND(\" \",注文書!$D$17),IFERROR(FIND(\"　\",注文書!$D$17),0))+1,10)&\"*\",医療機関マスタ!$C:$C,0),1)","v":"医療法人社団斗南堂　八王子クリニック"},{"$f":"配送情報書!X638","v":""},{"$f":"配送情報書!Z638","v":"00:00:00"},{"$f":"配送情報書!$V638","v":""},"転記不要",null,null,null,{"$f":"配送情報書!T638","v":0},{"$f":"COUNTIF($A$3:A636,A636)","v":634}]
[{"$f":"配送情報書!A639","v":0},{"$f":"配送情報書!AB639","v":0},{"$f":"配送情報書!AA639","v":0},{"$f":"配送情報書!AC639","v":0},{"$f":"INDEX(医療機関マスタ!$A:$A,MATCH(F637,医療機関マスタ!$B:$B,0),1)","v":"AH0000001"},{"$f":"INDEX(医療機関マスタ!$B:$B,MATCH(\"*\"&MID(注文書!$D$17,IFERROR(FIND(\" \",注文書!$D$17),IFERROR(FIND(\"　\",注文書!$D$17),0))+1,10)&\"*\",医療機関マスタ!$C:$C,0),1)","v":"医療法人社団斗南堂　八王子クリニック"},{"$f":"配送情報書!X639","v":""},{"$f":"配送情報書!Z639","v":"00:00:00"},{"$f":"配送情報書!$V639","v":""},"転記不要",null,null,null,{"$f":"配送情報書!T639","v":0},{"$f":"COUNTIF($A$3:A637,A637)","v":635}]
[{"$f":"配送情報書!A640","v":0},{"$f":"配送情報書!AB640","v":0},{"$f":"配送情報書!AA640","v":0},{"$f":"配送情報書!AC640","v":0},{"$f":"INDEX(医療機関マスタ!$A:$A,MATCH(F638,医療機関マスタ!$B:$B,0),1)","v":"AH0000001"},{"$f":"INDEX(医療機関マスタ!$B:$B,MATCH(\"*\"&MID(注文書!$D$17,IFERROR(FIND(\" \",注文書!$D$17),IFERROR(FIND(\"　\",注文書!$D$17),0))+1,10)&\"*\",医療機関マスタ!$C:$C,0),1)","v":"医療法人社団斗南堂　八王子クリニック"},{"$f":"配送情報書!X640","v":""},{"$f":"配送情報書!Z640","v":"00:00:00"},{"$f":"配送情報書!$V640","v":""},"転記不要",null,null,null,{"$f":"配送情報書!T640","v":0},{"$f":"COUNTIF($A$3:A638,A638)","v":636}]
[{"$f":"配送情報書!A641","v":0},{"$f":"配送情報書!AB641","v":0},{"$f":"配送情報書!AA641","v":0},{"$f":"配送情報書!AC641","v":0},{"$f":"INDEX(医療機関マスタ!$A:$A,MATCH(F639,医療機関マスタ!$B:$B,0),1)","v":"AH0000001"},{"$f":"INDEX(医療機関マスタ!$B:$B,MATCH(\"*\"&MID(注文書!$D$17,IFERROR(FIND(\" \",注文書!$D$17),IFERROR(FIND(\"　\",注文書!$D$17),0))+1,10)&\"*\",医療機関マスタ!$C:$C,0),1)","v":"医療法人社団斗南堂　八王子クリニック"},{"$f":"配送情報書!X641","v":""},{"$f":"配送情報書!Z641","v":"00:00:00"},{"$f":"配送情報書!$V641","v":""},"転記不要",null,null,null,{"$f":"配送情報書!T641","v":0},{"$f":"COUNTIF($A$3:A639,A639)","v":637}]
[{"$f":"配送情報書!A642","v":0},{"$f":"配送情報書!AB642","v":0},{"$f":"配送情報書!AA642","v":0},{"$f":"配送情報書!AC642","v":0},{"$f":"INDEX(医療機関マスタ!$A:$A,MATCH(F640,医療機関マスタ!$B:$B,0),1)","v":"AH0000001"},{"$f":"INDEX(医療機関マスタ!$B:$B,MATCH(\"*\"&MID(注文書!$D$17,IFERROR(FIND(\" \",注文書!$D$17),IFERROR(FIND(\"　\",注文書!$D$17),0))+1,10)&\"*\",医療機関マスタ!$C:$C,0),1)","v":"医療法人社団斗南堂　八王子クリニック"},{"$f":"配送情報書!X642","v":""},{"$f":"配送情報書!Z642","v":"00:00:00"},{"$f":"配送情報書!$V642","v":""},"転記不要",null,null,null,{"$f":"配送情報書!T642","v":0},{"$f":"COUNTIF($A$3:A640,A640)","v":638}]
[{"$f":"配送情報書!A643","v":0},{"$f":"配送情報書!AB643","v":0},{"$f":"配送情報書!AA643","v":0},{"$f":"配送情報書!AC643","v":0},{"$f":"INDEX(医療機関マスタ!$A:$A,MATCH(F641,医療機関マスタ!$B:$B,0),1)","v":"AH0000001"},{"$f":"INDEX(医療機関マスタ!$B:$B,MATCH(\"*\"&MID(注文書!$D$17,IFERROR(FIND(\" \",注文書!$D$17),IFERROR(FIND(\"　\",注文書!$D$17),0))+1,10)&\"*\",医療機関マスタ!$C:$C,0),1)","v":"医療法人社団斗南堂　八王子クリニック"},{"$f":"配送情報書!X643","v":""},{"$f":"配送情報書!Z643","v":"00:00:00"},{"$f":"配送情報書!$V643","v":""},"転記不要",null,null,null,{"$f":"配送情報書!T643","v":0},{"$f":"COUNTIF($A$3:A641,A641)","v":639}]
[{"$f":"配送情報書!A644","v":0},{"$f":"配送情報書!AB644","v":0},{"$f":"配送情報書!AA644","v":0},{"$f":"配送情報書!AC644","v":0},{"$f":"INDEX(医療機関マスタ!$A:$A,MATCH(F642,医療機関マスタ!$B:$B,0),1)","v":"AH0000001"},{"$f":"INDEX(医療機関マスタ!$B:$B,MATCH(\"*\"&MID(注文書!$D$17,IFERROR(FIND(\" \",注文書!$D$17),IFERROR(FIND(\"　\",注文書!$D$17),0))+1,10)&\"*\",医療機関マスタ!$C:$C,0),1)","v":"医療法人社団斗南堂　八王子クリニック"},{"$f":"配送情報書!X644","v":""},{"$f":"配送情報書!Z644","v":"00:00:00"},{"$f":"配送情報書!$V644","v":""},"転記不要",null,null,null,{"$f":"配送情報書!T644","v":0},{"$f":"COUNTIF($A$3:A642,A642)","v":640}]
[{"$f":"配送情報書!A645","v":0},{"$f":"配送情報書!AB645","v":0},{"$f":"配送情報書!AA645","v":0},{"$f":"配送情報書!AC645","v":0},{"$f":"INDEX(医療機関マスタ!$A:$A,MATCH(F643,医療機関マスタ!$B:$B,0),1)","v":"AH0000001"},{"$f":"INDEX(医療機関マスタ!$B:$B,MATCH(\"*\"&MID(注文書!$D$17,IFERROR(FIND(\" \",注文書!$D$17),IFERROR(FIND(\"　\",注文書!$D$17),0))+1,10)&\"*\",医療機関マスタ!$C:$C,0),1)","v":"医療法人社団斗南堂　八王子クリニック"},{"$f":"配送情報書!X645","v":""},{"$f":"配送情報書!Z645","v":"00:00:00"},{"$f":"配送情報書!$V645","v":""},"転記不要",null,null,null,{"$f":"配送情報書!T645","v":0},{"$f":"COUNTIF($A$3:A643,A643)","v":641}]
[{"$f":"配送情報書!A646","v":0},{"$f":"配送情報書!AB646","v":0},{"$f":"配送情報書!AA646","v":0},{"$f":"配送情報書!AC646","v":0},{"$f":"INDEX(医療機関マスタ!$A:$A,MATCH(F644,医療機関マスタ!$B:$B,0),1)","v":"AH0000001"},{"$f":"INDEX(医療機関マスタ!$B:$B,MATCH(\"*\"&MID(注文書!$D$17,IFERROR(FIND(\" \",注文書!$D$17),IFERROR(FIND(\"　\",注文書!$D$17),0))+1,10)&\"*\",医療機関マスタ!$C:$C,0),1)","v":"医療法人社団斗南堂　八王子クリニック"},{"$f":"配送情報書!X646","v":""},{"$f":"配送情報書!Z646","v":"00:00:00"},{"$f":"配送情報書!$V646","v":""},{"$f":"IF(AND(N644>0,O644=1),SUMIFS($N:$N,$A:$A,A644),\"転記不要\")","v":"転記不要"},null,null,null,{"$f":"配送情報書!T646","v":0},{"$f":"COUNTIF($A$3:A644,A644)","v":642}]
[{"$f":"配送情報書!A647","v":0},{"$f":"配送情報書!AB647","v":0},{"$f":"配送情報書!AA647","v":0},{"$f":"配送情報書!AC647","v":0},{"$f":"INDEX(医療機関マスタ!$A:$A,MATCH(F645,医療機関マスタ!$B:$B,0),1)","v":"AH0000001"},{"$f":"INDEX(医療機関マスタ!$B:$B,MATCH(\"*\"&MID(注文書!$D$17,IFERROR(FIND(\" \",注文書!$D$17),IFERROR(FIND(\"　\",注文書!$D$17),0))+1,10)&\"*\",医療機関マスタ!$C:$C,0),1)","v":"医療法人社団斗南堂　八王子クリニック"},{"$f":"配送情報書!X647","v":""},{"$f":"配送情報書!Z647","v":"00:00:00"},{"$f":"配送情報書!$V647","v":""},"転記不要",null,null,null,{"$f":"配送情報書!T647","v":0},{"$f":"COUNTIF($A$3:A645,A645)","v":643}]
[{"$f":"配送情報書!A648","v":0},{"$f":"配送情報書!AB648","v":0},{"$f":"配送情報書!AA648","v":0},{"$f":"配送情報書!AC648","v":0},{"$f":"INDEX(医療機関マスタ!$A:$A,MATCH(F646,医療機関マスタ!$B:$B,0),1)","v":"AH0000001"},{"$f":"INDEX(医療機関マスタ!$B:$B,MATCH(\"*\"&MID(注文書!$D$17,IFERROR(FIND(\" \",注文書!$D$17),IFERROR(FIND(\"　\",注文書!$D$17),0))+1,10)&\"*\",医療機関マスタ!$C:$C,0),1)","v":"医療法人社団斗南堂　八王子クリニック"},{"$f":"配送情報書!X648","v":""},{"$f":"配送情報書!Z648","v":"00:00:00"},{"$f":"配送情報書!$V648","v":""},"転記不要",null,null,null,{"$f":"配送情報書!T648","v":0},{"$f":"COUNTIF($A$3:A646,A646)","v":644}]
[{"$f":"配送情報書!A649","v":0},{"$f":"配送情報書!AB649","v":0},{"$f":"配送情報書!AA649","v":0},{"$f":"配送情報書!AC649","v":0},{"$f":"INDEX(医療機関マスタ!$A:$A,MATCH(F647,医療機関マスタ!$B:$B,0),1)","v":"AH0000001"},{"$f":"INDEX(医療機関マスタ!$B:$B,MATCH(\"*\"&MID(注文書!$D$17,IFERROR(FIND(\" \",注文書!$D$17),IFERROR(FIND(\"　\",注文書!$D$17),0))+1,10)&\"*\",医療機関マスタ!$C:$C,0),1)","v":"医療法人社団斗南堂　八王子クリニック"},{"$f":"配送情報書!X649","v":""},{"$f":"配送情報書!Z649","v":"00:00:00"},{"$f":"配送情報書!$V649","v":""},"転記不要",null,null,null,{"$f":"配送情報書!T649","v":0},{"$f":"COUNTIF($A$3:A647,A647)","v":645}]
[{"$f":"配送情報書!A650","v":0},{"$f":"配送情報書!AB650","v":0},{"$f":"配送情報書!AA650","v":0},{"$f":"配送情報書!AC650","v":0},{"$f":"INDEX(医療機関マスタ!$A:$A,MATCH(F648,医療機関マスタ!$B:$B,0),1)","v":"AH0000001"},{"$f":"INDEX(医療機関マスタ!$B:$B,MATCH(\"*\"&MID(注文書!$D$17,IFERROR(FIND(\" \",注文書!$D$17),IFERROR(FIND(\"　\",注文書!$D$17),0))+1,10)&\"*\",医療機関マスタ!$C:$C,0),1)","v":"医療法人社団斗南堂　八王子クリニック"},{"$f":"配送情報書!X650","v":""},{"$f":"配送情報書!Z650","v":"00:00:00"},{"$f":"配送情報書!$V650","v":""},"転記不要",null,null,null,{"$f":"配送情報書!T650","v":0},{"$f":"COUNTIF($A$3:A648,A648)","v":646}]
[{"$f":"配送情報書!A651","v":0},{"$f":"配送情報書!AB651","v":0},{"$f":"配送情報書!AA651","v":0},{"$f":"配送情報書!AC651","v":0},{"$f":"INDEX(医療機関マスタ!$A:$A,MATCH(F649,医療機関マスタ!$B:$B,0),1)","v":"AH0000001"},{"$f":"INDEX(医療機関マスタ!$B:$B,MATCH(\"*\"&MID(注文書!$D$17,IFERROR(FIND(\" \",注文書!$D$17),IFERROR(FIND(\"　\",注文書!$D$17),0))+1,10)&\"*\",医療機関マスタ!$C:$C,0),1)","v":"医療法人社団斗南堂　八王子クリニック"},{"$f":"配送情報書!X651","v":""},{"$f":"配送情報書!Z651","v":"00:00:00"},{"$f":"配送情報書!$V651","v":""},"転記不要",null,null,null,{"$f":"配送情報書!T651","v":0},{"$f":"COUNTIF($A$3:A649,A649)","v":647}]
[{"$f":"配送情報書!A652","v":0},{"$f":"配送情報書!AB652","v":0},{"$f":"配送情報書!AA652","v":0},{"$f":"配送情報書!AC652","v":0},{"$f":"INDEX(医療機関マスタ!$A:$A,MATCH(F650,医療機関マスタ!$B:$B,0),1)","v":"AH0000001"},{"$f":"INDEX(医療機関マスタ!$B:$B,MATCH(\"*\"&MID(注文書!$D$17,IFERROR(FIND(\" \",注文書!$D$17),IFERROR(FIND(\"　\",注文書!$D$17),0))+1,10)&\"*\",医療機関マスタ!$C:$C,0),1)","v":"医療法人社団斗南堂　八王子クリニック"},{"$f":"配送情報書!X652","v":""},{"$f":"配送情報書!Z652","v":"00:00:00"},{"$f":"配送情報書!$V652","v":""},"転記不要",null,null,null,{"$f":"配送情報書!T652","v":0},{"$f":"COUNTIF($A$3:A650,A650)","v":648}]
[{"$f":"配送情報書!A653","v":0},{"$f":"配送情報書!AB653","v":0},{"$f":"配送情報書!AA653","v":0},{"$f":"配送情報書!AC653","v":0},{"$f":"INDEX(医療機関マスタ!$A:$A,MATCH(F651,医療機関マスタ!$B:$B,0),1)","v":"AH0000001"},{"$f":"INDEX(医療機関マスタ!$B:$B,MATCH(\"*\"&MID(注文書!$D$17,IFERROR(FIND(\" \",注文書!$D$17),IFERROR(FIND(\"　\",注文書!$D$17),0))+1,10)&\"*\",医療機関マスタ!$C:$C,0),1)","v":"医療法人社団斗南堂　八王子クリニック"},{"$f":"配送情報書!X653","v":""},{"$f":"配送情報書!Z653","v":"00:00:00"},{"$f":"配送情報書!$V653","v":""},"転記不要",null,null,null,{"$f":"配送情報書!T653","v":0},{"$f":"COUNTIF($A$3:A651,A651)","v":649}]
[{"$f":"配送情報書!A654","v":0},{"$f":"配送情報書!AB654","v":0},{"$f":"配送情報書!AA654","v":0},{"$f":"配送情報書!AC654","v":0},{"$f":"INDEX(医療機関マスタ!$A:$A,MATCH(F652,医療機関マスタ!$B:$B,0),1)","v":"AH0000001"},{"$f":"INDEX(医療機関マスタ!$B:$B,MATCH(\"*\"&MID(注文書!$D$17,IFERROR(FIND(\" \",注文書!$D$17),IFERROR(FIND(\"　\",注文書!$D$17),0))+1,10)&\"*\",医療機関マスタ!$C:$C,0),1)","v":"医療法人社団斗南堂　八王子クリニック"},{"$f":"配送情報書!X654","v":""},{"$f":"配送情報書!Z654","v":"00:00:00"},{"$f":"配送情報書!$V654","v":""},"転記不要",null,null,null,{"$f":"配送情報書!T654","v":0},{"$f":"COUNTIF($A$3:A652,A652)","v":650}]
[{"$f":"配送情報書!A655","v":0},{"$f":"配送情報書!AB655","v":0},{"$f":"配送情報書!AA655","v":0},{"$f":"配送情報書!AC655","v":0},{"$f":"INDEX(医療機関マスタ!$A:$A,MATCH(F653,医療機関マスタ!$B:$B,0),1)","v":"AH0000001"},{"$f":"INDEX(医療機関マスタ!$B:$B,MATCH(\"*\"&MID(注文書!$D$17,IFERROR(FIND(\" \",注文書!$D$17),IFERROR(FIND(\"　\",注文書!$D$17),0))+1,10)&\"*\",医療機関マスタ!$C:$C,0),1)","v":"医療法人社団斗南堂　八王子クリニック"},{"$f":"配送情報書!X655","v":""},{"$f":"配送情報書!Z655","v":"00:00:00"},{"$f":"配送情報書!$V655","v":""},"転記不要",null,null,null,{"$f":"配送情報書!T655","v":0},{"$f":"COUNTIF($A$3:A653,A653)","v":651}]
[{"$f":"配送情報書!A656","v":0},{"$f":"配送情報書!AB656","v":0},{"$f":"配送情報書!AA656","v":0},{"$f":"配送情報書!AC656","v":0},{"$f":"INDEX(医療機関マスタ!$A:$A,MATCH(F654,医療機関マスタ!$B:$B,0),1)","v":"AH0000001"},{"$f":"INDEX(医療機関マスタ!$B:$B,MATCH(\"*\"&MID(注文書!$D$17,IFERROR(FIND(\" \",注文書!$D$17),IFERROR(FIND(\"　\",注文書!$D$17),0))+1,10)&\"*\",医療機関マスタ!$C:$C,0),1)","v":"医療法人社団斗南堂　八王子クリニック"},{"$f":"配送情報書!X656","v":""},{"$f":"配送情報書!Z656","v":"00:00:00"},{"$f":"配送情報書!$V656","v":""},"転記不要",null,null,null,{"$f":"配送情報書!T656","v":0},{"$f":"COUNTIF($A$3:A654,A654)","v":652}]
[{"$f":"配送情報書!A657","v":0},{"$f":"配送情報書!AB657","v":0},{"$f":"配送情報書!AA657","v":0},{"$f":"配送情報書!AC657","v":0},{"$f":"INDEX(医療機関マスタ!$A:$A,MATCH(F655,医療機関マスタ!$B:$B,0),1)","v":"AH0000001"},{"$f":"INDEX(医療機関マスタ!$B:$B,MATCH(\"*\"&MID(注文書!$D$17,IFERROR(FIND(\" \",注文書!$D$17),IFERROR(FIND(\"　\",注文書!$D$17),0))+1,10)&\"*\",医療機関マスタ!$C:$C,0),1)","v":"医療法人社団斗南堂　八王子クリニック"},{"$f":"配送情報書!X657","v":""},{"$f":"配送情報書!Z657","v":"00:00:00"},{"$f":"配送情報書!$V657","v":""},"転記不要",null,null,null,{"$f":"配送情報書!T657","v":0},{"$f":"COUNTIF($A$3:A655,A655)","v":653}]
[{"$f":"配送情報書!A658","v":0},{"$f":"配送情報書!AB658","v":0},{"$f":"配送情報書!AA658","v":0},{"$f":"配送情報書!AC658","v":0},{"$f":"INDEX(医療機関マスタ!$A:$A,MATCH(F656,医療機関マスタ!$B:$B,0),1)","v":"AH0000001"},{"$f":"INDEX(医療機関マスタ!$B:$B,MATCH(\"*\"&MID(注文書!$D$17,IFERROR(FIND(\" \",注文書!$D$17),IFERROR(FIND(\"　\",注文書!$D$17),0))+1,10)&\"*\",医療機関マスタ!$C:$C,0),1)","v":"医療法人社団斗南堂　八王子クリニック"},{"$f":"配送情報書!X658","v":""},{"$f":"配送情報書!Z658","v":"00:00:00"},{"$f":"配送情報書!$V658","v":""},"転記不要",null,null,null,{"$f":"配送情報書!T658","v":0},{"$f":"COUNTIF($A$3:A656,A656)","v":654}]
[{"$f":"配送情報書!A659","v":0},{"$f":"配送情報書!AB659","v":0},{"$f":"配送情報書!AA659","v":0},{"$f":"配送情報書!AC659","v":0},{"$f":"INDEX(医療機関マスタ!$A:$A,MATCH(F657,医療機関マスタ!$B:$B,0),1)","v":"AH0000001"},{"$f":"INDEX(医療機関マスタ!$B:$B,MATCH(\"*\"&MID(注文書!$D$17,IFERROR(FIND(\" \",注文書!$D$17),IFERROR(FIND(\"　\",注文書!$D$17),0))+1,10)&\"*\",医療機関マスタ!$C:$C,0),1)","v":"医療法人社団斗南堂　八王子クリニック"},{"$f":"配送情報書!X659","v":""},{"$f":"配送情報書!Z659","v":"00:00:00"},{"$f":"配送情報書!$V659","v":""},"転記不要",null,null,null,{"$f":"配送情報書!T659","v":0},{"$f":"COUNTIF($A$3:A657,A657)","v":655}]
[{"$f":"配送情報書!A660","v":0},{"$f":"配送情報書!AB660","v":0},{"$f":"配送情報書!AA660","v":0},{"$f":"配送情報書!AC660","v":0},{"$f":"INDEX(医療機関マスタ!$A:$A,MATCH(F658,医療機関マスタ!$B:$B,0),1)","v":"AH0000001"},{"$f":"INDEX(医療機関マスタ!$B:$B,MATCH(\"*\"&MID(注文書!$D$17,IFERROR(FIND(\" \",注文書!$D$17),IFERROR(FIND(\"　\",注文書!$D$17),0))+1,10)&\"*\",医療機関マスタ!$C:$C,0),1)","v":"医療法人社団斗南堂　八王子クリニック"},{"$f":"配送情報書!X660","v":""},{"$f":"配送情報書!Z660","v":"00:00:00"},{"$f":"配送情報書!$V660","v":""},"転記不要",null,null,null,{"$f":"配送情報書!T660","v":0},{"$f":"COUNTIF($A$3:A658,A658)","v":656}]
[{"$f":"配送情報書!A661","v":0},{"$f":"配送情報書!AB661","v":0},{"$f":"配送情報書!AA661","v":0},{"$f":"配送情報書!AC661","v":0},{"$f":"INDEX(医療機関マスタ!$A:$A,MATCH(F659,医療機関マスタ!$B:$B,0),1)","v":"AH0000001"},{"$f":"INDEX(医療機関マスタ!$B:$B,MATCH(\"*\"&MID(注文書!$D$17,IFERROR(FIND(\" \",注文書!$D$17),IFERROR(FIND(\"　\",注文書!$D$17),0))+1,10)&\"*\",医療機関マスタ!$C:$C,0),1)","v":"医療法人社団斗南堂　八王子クリニック"},{"$f":"配送情報書!X661","v":""},{"$f":"配送情報書!Z661","v":"00:00:00"},{"$f":"配送情報書!$V661","v":""},"転記不要",null,null,null,{"$f":"配送情報書!T661","v":0},{"$f":"COUNTIF($A$3:A659,A659)","v":657}]
[{"$f":"配送情報書!A662","v":0},{"$f":"配送情報書!AB662","v":0},{"$f":"配送情報書!AA662","v":0},{"$f":"配送情報書!AC662","v":0},{"$f":"INDEX(医療機関マスタ!$A:$A,MATCH(F660,医療機関マスタ!$B:$B,0),1)","v":"AH0000001"},{"$f":"INDEX(医療機関マスタ!$B:$B,MATCH(\"*\"&MID(注文書!$D$17,IFERROR(FIND(\" \",注文書!$D$17),IFERROR(FIND(\"　\",注文書!$D$17),0))+1,10)&\"*\",医療機関マスタ!$C:$C,0),1)","v":"医療法人社団斗南堂　八王子クリニック"},{"$f":"配送情報書!X662","v":""},{"$f":"配送情報書!Z662","v":"00:00:00"},{"$f":"配送情報書!$V662","v":""},"転記不要",null,null,null,{"$f":"配送情報書!T662","v":0},{"$f":"COUNTIF($A$3:A660,A660)","v":658}]
[{"$f":"配送情報書!A663","v":0},{"$f":"配送情報書!AB663","v":0},{"$f":"配送情報書!AA663","v":0},{"$f":"配送情報書!AC663","v":0},{"$f":"INDEX(医療機関マスタ!$A:$A,MATCH(F661,医療機関マスタ!$B:$B,0),1)","v":"AH0000001"},{"$f":"INDEX(医療機関マスタ!$B:$B,MATCH(\"*\"&MID(注文書!$D$17,IFERROR(FIND(\" \",注文書!$D$17),IFERROR(FIND(\"　\",注文書!$D$17),0))+1,10)&\"*\",医療機関マスタ!$C:$C,0),1)","v":"医療法人社団斗南堂　八王子クリニック"},{"$f":"配送情報書!X663","v":""},{"$f":"配送情報書!Z663","v":"00:00:00"},{"$f":"配送情報書!$V663","v":""},"転記不要",null,null,null,{"$f":"配送情報書!T663","v":0},{"$f":"COUNTIF($A$3:A661,A661)","v":659}]
[{"$f":"配送情報書!A664","v":0},{"$f":"配送情報書!AB664","v":0},{"$f":"配送情報書!AA664","v":0},{"$f":"配送情報書!AC664","v":0},{"$f":"INDEX(医療機関マスタ!$A:$A,MATCH(F662,医療機関マスタ!$B:$B,0),1)","v":"AH0000001"},{"$f":"INDEX(医療機関マスタ!$B:$B,MATCH(\"*\"&MID(注文書!$D$17,IFERROR(FIND(\" \",注文書!$D$17),IFERROR(FIND(\"　\",注文書!$D$17),0))+1,10)&\"*\",医療機関マスタ!$C:$C,0),1)","v":"医療法人社団斗南堂　八王子クリニック"},{"$f":"配送情報書!X664","v":""},{"$f":"配送情報書!Z664","v":"00:00:00"},{"$f":"配送情報書!$V664","v":""},"転記不要",null,null,null,{"$f":"配送情報書!T664","v":0},{"$f":"COUNTIF($A$3:A662,A662)","v":660}]
[{"$f":"配送情報書!A665","v":0},{"$f":"配送情報書!AB665","v":0},{"$f":"配送情報書!AA665","v":0},{"$f":"配送情報書!AC665","v":0},{"$f":"INDEX(医療機関マスタ!$A:$A,MATCH(F663,医療機関マスタ!$B:$B,0),1)","v":"AH0000001"},{"$f":"INDEX(医療機関マスタ!$B:$B,MATCH(\"*\"&MID(注文書!$D$17,IFERROR(FIND(\" \",注文書!$D$17),IFERROR(FIND(\"　\",注文書!$D$17),0))+1,10)&\"*\",医療機関マスタ!$C:$C,0),1)","v":"医療法人社団斗南堂　八王子クリニック"},{"$f":"配送情報書!X665","v":""},{"$f":"配送情報書!Z665","v":"00:00:00"},{"$f":"配送情報書!$V665","v":""},"転記不要",null,null,null,{"$f":"配送情報書!T665","v":0},{"$f":"COUNTIF($A$3:A663,A663)","v":661}]
[{"$f":"配送情報書!A666","v":0},{"$f":"配送情報書!AB666","v":0},{"$f":"配送情報書!AA666","v":0},{"$f":"配送情報書!AC666","v":0},{"$f":"INDEX(医療機関マスタ!$A:$A,MATCH(F664,医療機関マスタ!$B:$B,0),1)","v":"AH0000001"},{"$f":"INDEX(医療機関マスタ!$B:$B,MATCH(\"*\"&MID(注文書!$D$17,IFERROR(FIND(\" \",注文書!$D$17),IFERROR(FIND(\"　\",注文書!$D$17),0))+1,10)&\"*\",医療機関マスタ!$C:$C,0),1)","v":"医療法人社団斗南堂　八王子クリニック"},{"$f":"配送情報書!X666","v":""},{"$f":"配送情報書!Z666","v":"00:00:00"},{"$f":"配送情報書!$V666","v":""},"転記不要",null,null,null,{"$f":"配送情報書!T666","v":0},{"$f":"COUNTIF($A$3:A664,A664)","v":662}]
[{"$f":"配送情報書!A667","v":0},{"$f":"配送情報書!AB667","v":0},{"$f":"配送情報書!AA667","v":0},{"$f":"配送情報書!AC667","v":0},{"$f":"INDEX(医療機関マスタ!$A:$A,MATCH(F665,医療機関マスタ!$B:$B,0),1)","v":"AH0000001"},{"$f":"INDEX(医療機関マスタ!$B:$B,MATCH(\"*\"&MID(注文書!$D$17,IFERROR(FIND(\" \",注文書!$D$17),IFERROR(FIND(\"　\",注文書!$D$17),0))+1,10)&\"*\",医療機関マスタ!$C:$C,0),1)","v":"医療法人社団斗南堂　八王子クリニック"},{"$f":"配送情報書!X667","v":""},{"$f":"配送情報書!Z667","v":"00:00:00"},{"$f":"配送情報書!$V667","v":""},"転記不要",null,null,null,{"$f":"配送情報書!T667","v":0},{"$f":"COUNTIF($A$3:A665,A665)","v":663}]
[{"$f":"配送情報書!A668","v":0},{"$f":"配送情報書!AB668","v":0},{"$f":"配送情報書!AA668","v":0},{"$f":"配送情報書!AC668","v":0},{"$f":"INDEX(医療機関マスタ!$A:$A,MATCH(F666,医療機関マスタ!$B:$B,0),1)","v":"AH0000001"},{"$f":"INDEX(医療機関マスタ!$B:$B,MATCH(\"*\"&MID(注文書!$D$17,IFERROR(FIND(\" \",注文書!$D$17),IFERROR(FIND(\"　\",注文書!$D$17),0))+1,10)&\"*\",医療機関マスタ!$C:$C,0),1)","v":"医療法人社団斗南堂　八王子クリニック"},{"$f":"配送情報書!X668","v":""},{"$f":"配送情報書!Z668","v":"00:00:00"},{"$f":"配送情報書!$V668","v":""},"転記不要",null,null,null,{"$f":"配送情報書!T668","v":0},{"$f":"COUNTIF($A$3:A666,A666)","v":664}]
[{"$f":"配送情報書!A669","v":0},{"$f":"配送情報書!AB669","v":0},{"$f":"配送情報書!AA669","v":0},{"$f":"配送情報書!AC669","v":0},{"$f":"INDEX(医療機関マスタ!$A:$A,MATCH(F667,医療機関マスタ!$B:$B,0),1)","v":"AH0000001"},{"$f":"INDEX(医療機関マスタ!$B:$B,MATCH(\"*\"&MID(注文書!$D$17,IFERROR(FIND(\" \",注文書!$D$17),IFERROR(FIND(\"　\",注文書!$D$17),0))+1,10)&\"*\",医療機関マスタ!$C:$C,0),1)","v":"医療法人社団斗南堂　八王子クリニック"},{"$f":"配送情報書!X669","v":""},{"$f":"配送情報書!Z669","v":"00:00:00"},{"$f":"配送情報書!$V669","v":""},"転記不要",null,null,null,{"$f":"配送情報書!T669","v":0},{"$f":"COUNTIF($A$3:A667,A667)","v":665}]
[{"$f":"配送情報書!A670","v":0},{"$f":"配送情報書!AB670","v":0},{"$f":"配送情報書!AA670","v":0},{"$f":"配送情報書!AC670","v":0},{"$f":"INDEX(医療機関マスタ!$A:$A,MATCH(F668,医療機関マスタ!$B:$B,0),1)","v":"AH0000001"},{"$f":"INDEX(医療機関マスタ!$B:$B,MATCH(\"*\"&MID(注文書!$D$17,IFERROR(FIND(\" \",注文書!$D$17),IFERROR(FIND(\"　\",注文書!$D$17),0))+1,10)&\"*\",医療機関マスタ!$C:$C,0),1)","v":"医療法人社団斗南堂　八王子クリニック"},{"$f":"配送情報書!X670","v":""},{"$f":"配送情報書!Z670","v":"00:00:00"},{"$f":"配送情報書!$V670","v":""},"転記不要",null,null,null,{"$f":"配送情報書!T670","v":0},{"$f":"COUNTIF($A$3:A668,A668)","v":666}]
[{"$f":"配送情報書!A671","v":0},{"$f":"配送情報書!AB671","v":0},{"$f":"配送情報書!AA671","v":0},{"$f":"配送情報書!AC671","v":0},{"$f":"INDEX(医療機関マスタ!$A:$A,MATCH(F669,医療機関マスタ!$B:$B,0),1)","v":"AH0000001"},{"$f":"INDEX(医療機関マスタ!$B:$B,MATCH(\"*\"&MID(注文書!$D$17,IFERROR(FIND(\" \",注文書!$D$17),IFERROR(FIND(\"　\",注文書!$D$17),0))+1,10)&\"*\",医療機関マスタ!$C:$C,0),1)","v":"医療法人社団斗南堂　八王子クリニック"},{"$f":"配送情報書!X671","v":""},{"$f":"配送情報書!Z671","v":"00:00:00"},{"$f":"配送情報書!$V671","v":""},"転記不要",null,null,null,{"$f":"配送情報書!T671","v":0},{"$f":"COUNTIF($A$3:A669,A669)","v":667}]
[{"$f":"配送情報書!A672","v":0},{"$f":"配送情報書!AB672","v":0},{"$f":"配送情報書!AA672","v":0},{"$f":"配送情報書!AC672","v":0},{"$f":"INDEX(医療機関マスタ!$A:$A,MATCH(F670,医療機関マスタ!$B:$B,0),1)","v":"AH0000001"},{"$f":"INDEX(医療機関マスタ!$B:$B,MATCH(\"*\"&MID(注文書!$D$17,IFERROR(FIND(\" \",注文書!$D$17),IFERROR(FIND(\"　\",注文書!$D$17),0))+1,10)&\"*\",医療機関マスタ!$C:$C,0),1)","v":"医療法人社団斗南堂　八王子クリニック"},{"$f":"配送情報書!X672","v":""},{"$f":"配送情報書!Z672","v":"00:00:00"},{"$f":"配送情報書!$V672","v":""},"転記不要",null,null,null,{"$f":"配送情報書!T672","v":0},{"$f":"COUNTIF($A$3:A670,A670)","v":668}]
[{"$f":"配送情報書!A673","v":0},{"$f":"配送情報書!AB673","v":0},{"$f":"配送情報書!AA673","v":0},{"$f":"配送情報書!AC673","v":0},{"$f":"INDEX(医療機関マスタ!$A:$A,MATCH(F671,医療機関マスタ!$B:$B,0),1)","v":"AH0000001"},{"$f":"INDEX(医療機関マスタ!$B:$B,MATCH(\"*\"&MID(注文書!$D$17,IFERROR(FIND(\" \",注文書!$D$17),IFERROR(FIND(\"　\",注文書!$D$17),0))+1,10)&\"*\",医療機関マスタ!$C:$C,0),1)","v":"医療法人社団斗南堂　八王子クリニック"},{"$f":"配送情報書!X673","v":""},{"$f":"配送情報書!Z673","v":"00:00:00"},{"$f":"配送情報書!$V673","v":""},"転記不要",null,null,null,{"$f":"配送情報書!T673","v":0},{"$f":"COUNTIF($A$3:A671,A671)","v":669}]
[{"$f":"配送情報書!A674","v":0},{"$f":"配送情報書!AB674","v":0},{"$f":"配送情報書!AA674","v":0},{"$f":"配送情報書!AC674","v":0},{"$f":"INDEX(医療機関マスタ!$A:$A,MATCH(F672,医療機関マスタ!$B:$B,0),1)","v":"AH0000001"},{"$f":"INDEX(医療機関マスタ!$B:$B,MATCH(\"*\"&MID(注文書!$D$17,IFERROR(FIND(\" \",注文書!$D$17),IFERROR(FIND(\"　\",注文書!$D$17),0))+1,10)&\"*\",医療機関マスタ!$C:$C,0),1)","v":"医療法人社団斗南堂　八王子クリニック"},{"$f":"配送情報書!X674","v":""},{"$f":"配送情報書!Z674","v":"00:00:00"},{"$f":"配送情報書!$V674","v":""},"転記不要",null,null,null,{"$f":"配送情報書!T674","v":0},{"$f":"COUNTIF($A$3:A672,A672)","v":670}]
[{"$f":"配送情報書!A675","v":0},{"$f":"配送情報書!AB675","v":0},{"$f":"配送情報書!AA675","v":0},{"$f":"配送情報書!AC675","v":0},{"$f":"INDEX(医療機関マスタ!$A:$A,MATCH(F673,医療機関マスタ!$B:$B,0),1)","v":"AH0000001"},{"$f":"INDEX(医療機関マスタ!$B:$B,MATCH(\"*\"&MID(注文書!$D$17,IFERROR(FIND(\" \",注文書!$D$17),IFERROR(FIND(\"　\",注文書!$D$17),0))+1,10)&\"*\",医療機関マスタ!$C:$C,0),1)","v":"医療法人社団斗南堂　八王子クリニック"},{"$f":"配送情報書!X675","v":""},{"$f":"配送情報書!Z675","v":"00:00:00"},{"$f":"配送情報書!$V675","v":""},"転記不要",null,null,null,{"$f":"配送情報書!T675","v":0},{"$f":"COUNTIF($A$3:A673,A673)","v":671}]
[{"$f":"配送情報書!A676","v":0},{"$f":"配送情報書!AB676","v":0},{"$f":"配送情報書!AA676","v":0},{"$f":"配送情報書!AC676","v":0},{"$f":"INDEX(医療機関マスタ!$A:$A,MATCH(F674,医療機関マスタ!$B:$B,0),1)","v":"AH0000001"},{"$f":"INDEX(医療機関マスタ!$B:$B,MATCH(\"*\"&MID(注文書!$D$17,IFERROR(FIND(\" \",注文書!$D$17),IFERROR(FIND(\"　\",注文書!$D$17),0))+1,10)&\"*\",医療機関マスタ!$C:$C,0),1)","v":"医療法人社団斗南堂　八王子クリニック"},{"$f":"配送情報書!X676","v":""},{"$f":"配送情報書!Z676","v":"00:00:00"},{"$f":"配送情報書!$V676","v":""},"転記不要",null,null,null,{"$f":"配送情報書!T676","v":0},{"$f":"COUNTIF($A$3:A674,A674)","v":672}]
[{"$f":"配送情報書!A677","v":0},{"$f":"配送情報書!AB677","v":0},{"$f":"配送情報書!AA677","v":0},{"$f":"配送情報書!AC677","v":0},{"$f":"INDEX(医療機関マスタ!$A:$A,MATCH(F675,医療機関マスタ!$B:$B,0),1)","v":"AH0000001"},{"$f":"INDEX(医療機関マスタ!$B:$B,MATCH(\"*\"&MID(注文書!$D$17,IFERROR(FIND(\" \",注文書!$D$17),IFERROR(FIND(\"　\",注文書!$D$17),0))+1,10)&\"*\",医療機関マスタ!$C:$C,0),1)","v":"医療法人社団斗南堂　八王子クリニック"},{"$f":"配送情報書!X677","v":""},{"$f":"配送情報書!Z677","v":"00:00:00"},{"$f":"配送情報書!$V677","v":""},"転記不要",null,null,null,{"$f":"配送情報書!T677","v":0},{"$f":"COUNTIF($A$3:A675,A675)","v":673}]
[{"$f":"配送情報書!A678","v":0},{"$f":"配送情報書!AB678","v":0},{"$f":"配送情報書!AA678","v":0},{"$f":"配送情報書!AC678","v":0},{"$f":"INDEX(医療機関マスタ!$A:$A,MATCH(F676,医療機関マスタ!$B:$B,0),1)","v":"AH0000001"},{"$f":"INDEX(医療機関マスタ!$B:$B,MATCH(\"*\"&MID(注文書!$D$17,IFERROR(FIND(\" \",注文書!$D$17),IFERROR(FIND(\"　\",注文書!$D$17),0))+1,10)&\"*\",医療機関マスタ!$C:$C,0),1)","v":"医療法人社団斗南堂　八王子クリニック"},{"$f":"配送情報書!X678","v":""},{"$f":"配送情報書!Z678","v":"00:00:00"},{"$f":"配送情報書!$V678","v":""},"転記不要",null,null,null,{"$f":"配送情報書!T678","v":0},{"$f":"COUNTIF($A$3:A676,A676)","v":674}]
[{"$f":"配送情報書!A679","v":0},{"$f":"配送情報書!AB679","v":0},{"$f":"配送情報書!AA679","v":0},{"$f":"配送情報書!AC679","v":0},{"$f":"INDEX(医療機関マスタ!$A:$A,MATCH(F677,医療機関マスタ!$B:$B,0),1)","v":"AH0000001"},{"$f":"INDEX(医療機関マスタ!$B:$B,MATCH(\"*\"&MID(注文書!$D$17,IFERROR(FIND(\" \",注文書!$D$17),IFERROR(FIND(\"　\",注文書!$D$17),0))+1,10)&\"*\",医療機関マスタ!$C:$C,0),1)","v":"医療法人社団斗南堂　八王子クリニック"},{"$f":"配送情報書!X679","v":""},{"$f":"配送情報書!Z679","v":"00:00:00"},{"$f":"配送情報書!$V679","v":""},"転記不要",null,null,null,{"$f":"配送情報書!T679","v":0},{"$f":"COUNTIF($A$3:A677,A677)","v":675}]
[{"$f":"配送情報書!A680","v":0},{"$f":"配送情報書!AB680","v":0},{"$f":"配送情報書!AA680","v":0},{"$f":"配送情報書!AC680","v":0},{"$f":"INDEX(医療機関マスタ!$A:$A,MATCH(F678,医療機関マスタ!$B:$B,0),1)","v":"AH0000001"},{"$f":"INDEX(医療機関マスタ!$B:$B,MATCH(\"*\"&MID(注文書!$D$17,IFERROR(FIND(\" \",注文書!$D$17),IFERROR(FIND(\"　\",注文書!$D$17),0))+1,10)&\"*\",医療機関マスタ!$C:$C,0),1)","v":"医療法人社団斗南堂　八王子クリニック"},{"$f":"配送情報書!X680","v":""},{"$f":"配送情報書!Z680","v":"00:00:00"},{"$f":"配送情報書!$V680","v":""},"転記不要",null,null,null,{"$f":"配送情報書!T680","v":0},{"$f":"COUNTIF($A$3:A678,A678)","v":676}]
[{"$f":"配送情報書!A681","v":0},{"$f":"配送情報書!AB681","v":0},{"$f":"配送情報書!AA681","v":0},{"$f":"配送情報書!AC681","v":0},{"$f":"INDEX(医療機関マスタ!$A:$A,MATCH(F679,医療機関マスタ!$B:$B,0),1)","v":"AH0000001"},{"$f":"INDEX(医療機関マスタ!$B:$B,MATCH(\"*\"&MID(注文書!$D$17,IFERROR(FIND(\" \",注文書!$D$17),IFERROR(FIND(\"　\",注文書!$D$17),0))+1,10)&\"*\",医療機関マスタ!$C:$C,0),1)","v":"医療法人社団斗南堂　八王子クリニック"},{"$f":"配送情報書!X681","v":""},{"$f":"配送情報書!Z681","v":"00:00:00"},{"$f":"配送情報書!$V681","v":""},"転記不要",null,null,null,{"$f":"配送情報書!T681","v":0},{"$f":"COUNTIF($A$3:A679,A679)","v":677}]
[{"$f":"配送情報書!A682","v":0},{"$f":"配送情報書!AB682","v":0},{"$f":"配送情報書!AA682","v":0},{"$f":"配送情報書!AC682","v":0},{"$f":"INDEX(医療機関マスタ!$A:$A,MATCH(F680,医療機関マスタ!$B:$B,0),1)","v":"AH0000001"},{"$f":"INDEX(医療機関マスタ!$B:$B,MATCH(\"*\"&MID(注文書!$D$17,IFERROR(FIND(\" \",注文書!$D$17),IFERROR(FIND(\"　\",注文書!$D$17),0))+1,10)&\"*\",医療機関マスタ!$C:$C,0),1)","v":"医療法人社団斗南堂　八王子クリニック"},{"$f":"配送情報書!X682","v":""},{"$f":"配送情報書!Z682","v":"00:00:00"},{"$f":"配送情報書!$V682","v":""},"転記不要",null,null,null,{"$f":"配送情報書!T682","v":0},{"$f":"COUNTIF($A$3:A680,A680)","v":678}]
[{"$f":"配送情報書!A683","v":0},{"$f":"配送情報書!AB683","v":0},{"$f":"配送情報書!AA683","v":0},{"$f":"配送情報書!AC683","v":0},{"$f":"INDEX(医療機関マスタ!$A:$A,MATCH(F681,医療機関マスタ!$B:$B,0),1)","v":"AH0000001"},{"$f":"INDEX(医療機関マスタ!$B:$B,MATCH(\"*\"&MID(注文書!$D$17,IFERROR(FIND(\" \",注文書!$D$17),IFERROR(FIND(\"　\",注文書!$D$17),0))+1,10)&\"*\",医療機関マスタ!$C:$C,0),1)","v":"医療法人社団斗南堂　八王子クリニック"},{"$f":"配送情報書!X683","v":""},{"$f":"配送情報書!Z683","v":"00:00:00"},{"$f":"配送情報書!$V683","v":""},"転記不要",null,null,null,{"$f":"配送情報書!T683","v":0},{"$f":"COUNTIF($A$3:A681,A681)","v":679}]
[{"$f":"配送情報書!A684","v":0},{"$f":"配送情報書!AB684","v":0},{"$f":"配送情報書!AA684","v":0},{"$f":"配送情報書!AC684","v":0},{"$f":"INDEX(医療機関マスタ!$A:$A,MATCH(F682,医療機関マスタ!$B:$B,0),1)","v":"AH0000001"},{"$f":"INDEX(医療機関マスタ!$B:$B,MATCH(\"*\"&MID(注文書!$D$17,IFERROR(FIND(\" \",注文書!$D$17),IFERROR(FIND(\"　\",注文書!$D$17),0))+1,10)&\"*\",医療機関マスタ!$C:$C,0),1)","v":"医療法人社団斗南堂　八王子クリニック"},{"$f":"配送情報書!X684","v":""},{"$f":"配送情報書!Z684","v":"00:00:00"},{"$f":"配送情報書!$V684","v":""},"転記不要",null,null,null,{"$f":"配送情報書!T684","v":0},{"$f":"COUNTIF($A$3:A682,A682)","v":680}]
[{"$f":"配送情報書!A685","v":0},{"$f":"配送情報書!AB685","v":0},{"$f":"配送情報書!AA685","v":0},{"$f":"配送情報書!AC685","v":0},{"$f":"INDEX(医療機関マスタ!$A:$A,MATCH(F683,医療機関マスタ!$B:$B,0),1)","v":"AH0000001"},{"$f":"INDEX(医療機関マスタ!$B:$B,MATCH(\"*\"&MID(注文書!$D$17,IFERROR(FIND(\" \",注文書!$D$17),IFERROR(FIND(\"　\",注文書!$D$17),0))+1,10)&\"*\",医療機関マスタ!$C:$C,0),1)","v":"医療法人社団斗南堂　八王子クリニック"},{"$f":"配送情報書!X685","v":""},{"$f":"配送情報書!Z685","v":"00:00:00"},{"$f":"配送情報書!$V685","v":""},"転記不要",null,null,null,{"$f":"配送情報書!T685","v":0},{"$f":"COUNTIF($A$3:A683,A683)","v":681}]
[{"$f":"配送情報書!A686","v":0},{"$f":"配送情報書!AB686","v":0},{"$f":"配送情報書!AA686","v":0},{"$f":"配送情報書!AC686","v":0},{"$f":"INDEX(医療機関マスタ!$A:$A,MATCH(F684,医療機関マスタ!$B:$B,0),1)","v":"AH0000001"},{"$f":"INDEX(医療機関マスタ!$B:$B,MATCH(\"*\"&MID(注文書!$D$17,IFERROR(FIND(\" \",注文書!$D$17),IFERROR(FIND(\"　\",注文書!$D$17),0))+1,10)&\"*\",医療機関マスタ!$C:$C,0),1)","v":"医療法人社団斗南堂　八王子クリニック"},{"$f":"配送情報書!X686","v":""},{"$f":"配送情報書!Z686","v":"00:00:00"},{"$f":"配送情報書!$V686","v":""},"転記不要",null,null,null,{"$f":"配送情報書!T686","v":0},{"$f":"COUNTIF($A$3:A684,A684)","v":682}]
[{"$f":"配送情報書!A687","v":0},{"$f":"配送情報書!AB687","v":0},{"$f":"配送情報書!AA687","v":0},{"$f":"配送情報書!AC687","v":0},{"$f":"INDEX(医療機関マスタ!$A:$A,MATCH(F685,医療機関マスタ!$B:$B,0),1)","v":"AH0000001"},{"$f":"INDEX(医療機関マスタ!$B:$B,MATCH(\"*\"&MID(注文書!$D$17,IFERROR(FIND(\" \",注文書!$D$17),IFERROR(FIND(\"　\",注文書!$D$17),0))+1,10)&\"*\",医療機関マスタ!$C:$C,0),1)","v":"医療法人社団斗南堂　八王子クリニック"},{"$f":"配送情報書!X687","v":""},{"$f":"配送情報書!Z687","v":"00:00:00"},{"$f":"配送情報書!$V687","v":""},"転記不要",null,null,null,{"$f":"配送情報書!T687","v":0},{"$f":"COUNTIF($A$3:A685,A685)","v":683}]
[{"$f":"配送情報書!A688","v":0},{"$f":"配送情報書!AB688","v":0},{"$f":"配送情報書!AA688","v":0},{"$f":"配送情報書!AC688","v":0},{"$f":"INDEX(医療機関マスタ!$A:$A,MATCH(F686,医療機関マスタ!$B:$B,0),1)","v":"AH0000001"},{"$f":"INDEX(医療機関マスタ!$B:$B,MATCH(\"*\"&MID(注文書!$D$17,IFERROR(FIND(\" \",注文書!$D$17),IFERROR(FIND(\"　\",注文書!$D$17),0))+1,10)&\"*\",医療機関マスタ!$C:$C,0),1)","v":"医療法人社団斗南堂　八王子クリニック"},{"$f":"配送情報書!X688","v":""},{"$f":"配送情報書!Z688","v":"00:00:00"},{"$f":"配送情報書!$V688","v":""},"転記不要",null,null,null,{"$f":"配送情報書!T688","v":0},{"$f":"COUNTIF($A$3:A686,A686)","v":684}]
[{"$f":"配送情報書!A689","v":0},{"$f":"配送情報書!AB689","v":0},{"$f":"配送情報書!AA689","v":0},{"$f":"配送情報書!AC689","v":0},{"$f":"INDEX(医療機関マスタ!$A:$A,MATCH(F687,医療機関マスタ!$B:$B,0),1)","v":"AH0000001"},{"$f":"INDEX(医療機関マスタ!$B:$B,MATCH(\"*\"&MID(注文書!$D$17,IFERROR(FIND(\" \",注文書!$D$17),IFERROR(FIND(\"　\",注文書!$D$17),0))+1,10)&\"*\",医療機関マスタ!$C:$C,0),1)","v":"医療法人社団斗南堂　八王子クリニック"},{"$f":"配送情報書!X689","v":""},{"$f":"配送情報書!Z689","v":"00:00:00"},{"$f":"配送情報書!$V689","v":""},"転記不要",null,null,null,{"$f":"配送情報書!T689","v":0},{"$f":"COUNTIF($A$3:A687,A687)","v":685}]
[{"$f":"配送情報書!A690","v":0},{"$f":"配送情報書!AB690","v":0},{"$f":"配送情報書!AA690","v":0},{"$f":"配送情報書!AC690","v":0},{"$f":"INDEX(医療機関マスタ!$A:$A,MATCH(F688,医療機関マスタ!$B:$B,0),1)","v":"AH0000001"},{"$f":"INDEX(医療機関マスタ!$B:$B,MATCH(\"*\"&MID(注文書!$D$17,IFERROR(FIND(\" \",注文書!$D$17),IFERROR(FIND(\"　\",注文書!$D$17),0))+1,10)&\"*\",医療機関マスタ!$C:$C,0),1)","v":"医療法人社団斗南堂　八王子クリニック"},{"$f":"配送情報書!X690","v":""},{"$f":"配送情報書!Z690","v":"00:00:00"},{"$f":"配送情報書!$V690","v":""},"転記不要",null,null,null,{"$f":"配送情報書!T690","v":0},{"$f":"COUNTIF($A$3:A688,A688)","v":686}]
[{"$f":"配送情報書!A691","v":0},{"$f":"配送情報書!AB691","v":0},{"$f":"配送情報書!AA691","v":0},{"$f":"配送情報書!AC691","v":0},{"$f":"INDEX(医療機関マスタ!$A:$A,MATCH(F689,医療機関マスタ!$B:$B,0),1)","v":"AH0000001"},{"$f":"INDEX(医療機関マスタ!$B:$B,MATCH(\"*\"&MID(注文書!$D$17,IFERROR(FIND(\" \",注文書!$D$17),IFERROR(FIND(\"　\",注文書!$D$17),0))+1,10)&\"*\",医療機関マスタ!$C:$C,0),1)","v":"医療法人社団斗南堂　八王子クリニック"},{"$f":"配送情報書!X691","v":""},{"$f":"配送情報書!Z691","v":"00:00:00"},{"$f":"配送情報書!$V691","v":""},"転記不要",null,null,null,{"$f":"配送情報書!T691","v":0},{"$f":"COUNTIF($A$3:A689,A689)","v":687}]
[{"$f":"配送情報書!A692","v":0},{"$f":"配送情報書!AB692","v":0},{"$f":"配送情報書!AA692","v":0},{"$f":"配送情報書!AC692","v":0},{"$f":"INDEX(医療機関マスタ!$A:$A,MATCH(F690,医療機関マスタ!$B:$B,0),1)","v":"AH0000001"},{"$f":"INDEX(医療機関マスタ!$B:$B,MATCH(\"*\"&MID(注文書!$D$17,IFERROR(FIND(\" \",注文書!$D$17),IFERROR(FIND(\"　\",注文書!$D$17),0))+1,10)&\"*\",医療機関マスタ!$C:$C,0),1)","v":"医療法人社団斗南堂　八王子クリニック"},{"$f":"配送情報書!X692","v":""},{"$f":"配送情報書!Z692","v":"00:00:00"},{"$f":"配送情報書!$V692","v":""},"転記不要",null,null,null,{"$f":"配送情報書!T692","v":0},{"$f":"COUNTIF($A$3:A690,A690)","v":688}]
[{"$f":"配送情報書!A693","v":0},{"$f":"配送情報書!AB693","v":0},{"$f":"配送情報書!AA693","v":0},{"$f":"配送情報書!AC693","v":0},{"$f":"INDEX(医療機関マスタ!$A:$A,MATCH(F691,医療機関マスタ!$B:$B,0),1)","v":"AH0000001"},{"$f":"INDEX(医療機関マスタ!$B:$B,MATCH(\"*\"&MID(注文書!$D$17,IFERROR(FIND(\" \",注文書!$D$17),IFERROR(FIND(\"　\",注文書!$D$17),0))+1,10)&\"*\",医療機関マスタ!$C:$C,0),1)","v":"医療法人社団斗南堂　八王子クリニック"},{"$f":"配送情報書!X693","v":""},{"$f":"配送情報書!Z693","v":"00:00:00"},{"$f":"配送情報書!$V693","v":""},"転記不要",null,null,null,{"$f":"配送情報書!T693","v":0},{"$f":"COUNTIF($A$3:A691,A691)","v":689}]
[{"$f":"配送情報書!A694","v":0},{"$f":"配送情報書!AB694","v":0},{"$f":"配送情報書!AA694","v":0},{"$f":"配送情報書!AC694","v":0},{"$f":"INDEX(医療機関マスタ!$A:$A,MATCH(F692,医療機関マスタ!$B:$B,0),1)","v":"AH0000001"},{"$f":"INDEX(医療機関マスタ!$B:$B,MATCH(\"*\"&MID(注文書!$D$17,IFERROR(FIND(\" \",注文書!$D$17),IFERROR(FIND(\"　\",注文書!$D$17),0))+1,10)&\"*\",医療機関マスタ!$C:$C,0),1)","v":"医療法人社団斗南堂　八王子クリニック"},{"$f":"配送情報書!X694","v":""},{"$f":"配送情報書!Z694","v":"00:00:00"},{"$f":"配送情報書!$V694","v":""},"転記不要",null,null,null,{"$f":"配送情報書!T694","v":0},{"$f":"COUNTIF($A$3:A692,A692)","v":690}]
[{"$f":"配送情報書!A695","v":0},{"$f":"配送情報書!AB695","v":0},{"$f":"配送情報書!AA695","v":0},{"$f":"配送情報書!AC695","v":0},{"$f":"INDEX(医療機関マスタ!$A:$A,MATCH(F693,医療機関マスタ!$B:$B,0),1)","v":"AH0000001"},{"$f":"INDEX(医療機関マスタ!$B:$B,MATCH(\"*\"&MID(注文書!$D$17,IFERROR(FIND(\" \",注文書!$D$17),IFERROR(FIND(\"　\",注文書!$D$17),0))+1,10)&\"*\",医療機関マスタ!$C:$C,0),1)","v":"医療法人社団斗南堂　八王子クリニック"},{"$f":"配送情報書!X695","v":""},{"$f":"配送情報書!Z695","v":"00:00:00"},{"$f":"配送情報書!$V695","v":""},"転記不要",null,null,null,{"$f":"配送情報書!T695","v":0},{"$f":"COUNTIF($A$3:A693,A693)","v":691}]
[{"$f":"配送情報書!A696","v":0},{"$f":"配送情報書!AB696","v":0},{"$f":"配送情報書!AA696","v":0},{"$f":"配送情報書!AC696","v":0},{"$f":"INDEX(医療機関マスタ!$A:$A,MATCH(F694,医療機関マスタ!$B:$B,0),1)","v":"AH0000001"},{"$f":"INDEX(医療機関マスタ!$B:$B,MATCH(\"*\"&MID(注文書!$D$17,IFERROR(FIND(\" \",注文書!$D$17),IFERROR(FIND(\"　\",注文書!$D$17),0))+1,10)&\"*\",医療機関マスタ!$C:$C,0),1)","v":"医療法人社団斗南堂　八王子クリニック"},{"$f":"配送情報書!X696","v":""},{"$f":"配送情報書!Z696","v":"00:00:00"},{"$f":"配送情報書!$V696","v":""},"転記不要",null,null,null,{"$f":"配送情報書!T696","v":0},{"$f":"COUNTIF($A$3:A694,A694)","v":692}]
[{"$f":"配送情報書!A697","v":0},{"$f":"配送情報書!AB697","v":0},{"$f":"配送情報書!AA697","v":0},{"$f":"配送情報書!AC697","v":0},{"$f":"INDEX(医療機関マスタ!$A:$A,MATCH(F695,医療機関マスタ!$B:$B,0),1)","v":"AH0000001"},{"$f":"INDEX(医療機関マスタ!$B:$B,MATCH(\"*\"&MID(注文書!$D$17,IFERROR(FIND(\" \",注文書!$D$17),IFERROR(FIND(\"　\",注文書!$D$17),0))+1,10)&\"*\",医療機関マスタ!$C:$C,0),1)","v":"医療法人社団斗南堂　八王子クリニック"},{"$f":"配送情報書!X697","v":""},{"$f":"配送情報書!Z697","v":"00:00:00"},{"$f":"配送情報書!$V697","v":""},"転記不要",null,null,null,{"$f":"配送情報書!T697","v":0},{"$f":"COUNTIF($A$3:A695,A695)","v":693}]
[{"$f":"配送情報書!A698","v":0},{"$f":"配送情報書!AB698","v":0},{"$f":"配送情報書!AA698","v":0},{"$f":"配送情報書!AC698","v":0},{"$f":"INDEX(医療機関マスタ!$A:$A,MATCH(F696,医療機関マスタ!$B:$B,0),1)","v":"AH0000001"},{"$f":"INDEX(医療機関マスタ!$B:$B,MATCH(\"*\"&MID(注文書!$D$17,IFERROR(FIND(\" \",注文書!$D$17),IFERROR(FIND(\"　\",注文書!$D$17),0))+1,10)&\"*\",医療機関マスタ!$C:$C,0),1)","v":"医療法人社団斗南堂　八王子クリニック"},{"$f":"配送情報書!X698","v":""},{"$f":"配送情報書!Z698","v":"00:00:00"},{"$f":"配送情報書!$V698","v":""},"転記不要",null,null,null,{"$f":"配送情報書!T698","v":0},{"$f":"COUNTIF($A$3:A696,A696)","v":694}]
[{"$f":"配送情報書!A699","v":0},{"$f":"配送情報書!AB699","v":0},{"$f":"配送情報書!AA699","v":0},{"$f":"配送情報書!AC699","v":0},{"$f":"INDEX(医療機関マスタ!$A:$A,MATCH(F697,医療機関マスタ!$B:$B,0),1)","v":"AH0000001"},{"$f":"INDEX(医療機関マスタ!$B:$B,MATCH(\"*\"&MID(注文書!$D$17,IFERROR(FIND(\" \",注文書!$D$17),IFERROR(FIND(\"　\",注文書!$D$17),0))+1,10)&\"*\",医療機関マスタ!$C:$C,0),1)","v":"医療法人社団斗南堂　八王子クリニック"},{"$f":"配送情報書!X699","v":""},{"$f":"配送情報書!Z699","v":"00:00:00"},{"$f":"配送情報書!$V699","v":""},"転記不要",null,null,null,{"$f":"配送情報書!T699","v":0},{"$f":"COUNTIF($A$3:A697,A697)","v":695}]
[{"$f":"配送情報書!A700","v":0},{"$f":"配送情報書!AB700","v":0},{"$f":"配送情報書!AA700","v":0},{"$f":"配送情報書!AC700","v":0},{"$f":"INDEX(医療機関マスタ!$A:$A,MATCH(F698,医療機関マスタ!$B:$B,0),1)","v":"AH0000001"},{"$f":"INDEX(医療機関マスタ!$B:$B,MATCH(\"*\"&MID(注文書!$D$17,IFERROR(FIND(\" \",注文書!$D$17),IFERROR(FIND(\"　\",注文書!$D$17),0))+1,10)&\"*\",医療機関マスタ!$C:$C,0),1)","v":"医療法人社団斗南堂　八王子クリニック"},{"$f":"配送情報書!X700","v":""},{"$f":"配送情報書!Z700","v":"00:00:00"},{"$f":"配送情報書!$V700","v":""},"転記不要",null,null,null,{"$f":"配送情報書!T700","v":0},{"$f":"COUNTIF($A$3:A698,A698)","v":696}]
[{"$f":"配送情報書!A701","v":0},{"$f":"配送情報書!AB701","v":0},{"$f":"配送情報書!AA701","v":0},{"$f":"配送情報書!AC701","v":0},{"$f":"INDEX(医療機関マスタ!$A:$A,MATCH(F699,医療機関マスタ!$B:$B,0),1)","v":"AH0000001"},{"$f":"INDEX(医療機関マスタ!$B:$B,MATCH(\"*\"&MID(注文書!$D$17,IFERROR(FIND(\" \",注文書!$D$17),IFERROR(FIND(\"　\",注文書!$D$17),0))+1,10)&\"*\",医療機関マスタ!$C:$C,0),1)","v":"医療法人社団斗南堂　八王子クリニック"},{"$f":"配送情報書!X701","v":""},{"$f":"配送情報書!Z701","v":"00:00:00"},{"$f":"配送情報書!$V701","v":""},"転記不要",null,null,null,{"$f":"配送情報書!T701","v":0},{"$f":"COUNTIF($A$3:A699,A699)","v":697}]
[{"$f":"配送情報書!A702","v":0},{"$f":"配送情報書!AB702","v":0},{"$f":"配送情報書!AA702","v":0},{"$f":"配送情報書!AC702","v":0},{"$f":"INDEX(医療機関マスタ!$A:$A,MATCH(F700,医療機関マスタ!$B:$B,0),1)","v":"AH0000001"},{"$f":"INDEX(医療機関マスタ!$B:$B,MATCH(\"*\"&MID(注文書!$D$17,IFERROR(FIND(\" \",注文書!$D$17),IFERROR(FIND(\"　\",注文書!$D$17),0))+1,10)&\"*\",医療機関マスタ!$C:$C,0),1)","v":"医療法人社団斗南堂　八王子クリニック"},{"$f":"配送情報書!X702","v":""},{"$f":"配送情報書!Z702","v":"00:00:00"},{"$f":"配送情報書!$V702","v":""},"転記不要",null,null,null,{"$f":"配送情報書!T702","v":0},{"$f":"COUNTIF($A$3:A700,A700)","v":698}]
[{"$f":"配送情報書!A703","v":0},{"$f":"配送情報書!AB703","v":0},{"$f":"配送情報書!AA703","v":0},{"$f":"配送情報書!AC703","v":0},{"$f":"INDEX(医療機関マスタ!$A:$A,MATCH(F701,医療機関マスタ!$B:$B,0),1)","v":"AH0000001"},{"$f":"INDEX(医療機関マスタ!$B:$B,MATCH(\"*\"&MID(注文書!$D$17,IFERROR(FIND(\" \",注文書!$D$17),IFERROR(FIND(\"　\",注文書!$D$17),0))+1,10)&\"*\",医療機関マスタ!$C:$C,0),1)","v":"医療法人社団斗南堂　八王子クリニック"},{"$f":"配送情報書!X703","v":""},{"$f":"配送情報書!Z703","v":"00:00:00"},{"$f":"配送情報書!$V703","v":""},"転記不要",null,null,null,{"$f":"配送情報書!T703","v":0},{"$f":"COUNTIF($A$3:A701,A701)","v":699}]
[{"$f":"配送情報書!A704","v":0},{"$f":"配送情報書!AB704","v":0},{"$f":"配送情報書!AA704","v":0},{"$f":"配送情報書!AC704","v":0},{"$f":"INDEX(医療機関マスタ!$A:$A,MATCH(F702,医療機関マスタ!$B:$B,0),1)","v":"AH0000001"},{"$f":"INDEX(医療機関マスタ!$B:$B,MATCH(\"*\"&MID(注文書!$D$17,IFERROR(FIND(\" \",注文書!$D$17),IFERROR(FIND(\"　\",注文書!$D$17),0))+1,10)&\"*\",医療機関マスタ!$C:$C,0),1)","v":"医療法人社団斗南堂　八王子クリニック"},{"$f":"配送情報書!X704","v":""},{"$f":"配送情報書!Z704","v":"00:00:00"},{"$f":"配送情報書!$V704","v":""},"転記不要",null,null,null,{"$f":"配送情報書!T704","v":0},{"$f":"COUNTIF($A$3:A702,A702)","v":700}]
[{"$f":"配送情報書!A705","v":0},{"$f":"配送情報書!AB705","v":0},{"$f":"配送情報書!AA705","v":0},{"$f":"配送情報書!AC705","v":0},{"$f":"INDEX(医療機関マスタ!$A:$A,MATCH(F703,医療機関マスタ!$B:$B,0),1)","v":"AH0000001"},{"$f":"INDEX(医療機関マスタ!$B:$B,MATCH(\"*\"&MID(注文書!$D$17,IFERROR(FIND(\" \",注文書!$D$17),IFERROR(FIND(\"　\",注文書!$D$17),0))+1,10)&\"*\",医療機関マスタ!$C:$C,0),1)","v":"医療法人社団斗南堂　八王子クリニック"},{"$f":"配送情報書!X705","v":""},{"$f":"配送情報書!Z705","v":"00:00:00"},{"$f":"配送情報書!$V705","v":""},"転記不要",null,null,null,{"$f":"配送情報書!T705","v":0},{"$f":"COUNTIF($A$3:A703,A703)","v":701}]
[{"$f":"配送情報書!A706","v":0},{"$f":"配送情報書!AB706","v":0},{"$f":"配送情報書!AA706","v":0},{"$f":"配送情報書!AC706","v":0},{"$f":"INDEX(医療機関マスタ!$A:$A,MATCH(F704,医療機関マスタ!$B:$B,0),1)","v":"AH0000001"},{"$f":"INDEX(医療機関マスタ!$B:$B,MATCH(\"*\"&MID(注文書!$D$17,IFERROR(FIND(\" \",注文書!$D$17),IFERROR(FIND(\"　\",注文書!$D$17),0))+1,10)&\"*\",医療機関マスタ!$C:$C,0),1)","v":"医療法人社団斗南堂　八王子クリニック"},{"$f":"配送情報書!X706","v":""},{"$f":"配送情報書!Z706","v":"00:00:00"},{"$f":"配送情報書!$V706","v":""},"転記不要",null,null,null,{"$f":"配送情報書!T706","v":0},{"$f":"COUNTIF($A$3:A704,A704)","v":702}]
[{"$f":"配送情報書!A707","v":0},{"$f":"配送情報書!AB707","v":0},{"$f":"配送情報書!AA707","v":0},{"$f":"配送情報書!AC707","v":0},{"$f":"INDEX(医療機関マスタ!$A:$A,MATCH(F705,医療機関マスタ!$B:$B,0),1)","v":"AH0000001"},{"$f":"INDEX(医療機関マスタ!$B:$B,MATCH(\"*\"&MID(注文書!$D$17,IFERROR(FIND(\" \",注文書!$D$17),IFERROR(FIND(\"　\",注文書!$D$17),0))+1,10)&\"*\",医療機関マスタ!$C:$C,0),1)","v":"医療法人社団斗南堂　八王子クリニック"},{"$f":"配送情報書!X707","v":""},{"$f":"配送情報書!Z707","v":"00:00:00"},{"$f":"配送情報書!$V707","v":""},"転記不要",null,null,null,{"$f":"配送情報書!T707","v":0},{"$f":"COUNTIF($A$3:A705,A705)","v":703}]
[{"$f":"配送情報書!A708","v":0},{"$f":"配送情報書!AB708","v":0},{"$f":"配送情報書!AA708","v":0},{"$f":"配送情報書!AC708","v":0},{"$f":"INDEX(医療機関マスタ!$A:$A,MATCH(F706,医療機関マスタ!$B:$B,0),1)","v":"AH0000001"},{"$f":"INDEX(医療機関マスタ!$B:$B,MATCH(\"*\"&MID(注文書!$D$17,IFERROR(FIND(\" \",注文書!$D$17),IFERROR(FIND(\"　\",注文書!$D$17),0))+1,10)&\"*\",医療機関マスタ!$C:$C,0),1)","v":"医療法人社団斗南堂　八王子クリニック"},{"$f":"配送情報書!X708","v":""},{"$f":"配送情報書!Z708","v":"00:00:00"},{"$f":"配送情報書!$V708","v":""},"転記不要",null,null,null,{"$f":"配送情報書!T708","v":0},{"$f":"COUNTIF($A$3:A706,A706)","v":704}]
[{"$f":"配送情報書!A709","v":0},{"$f":"配送情報書!AB709","v":0},{"$f":"配送情報書!AA709","v":0},{"$f":"配送情報書!AC709","v":0},{"$f":"INDEX(医療機関マスタ!$A:$A,MATCH(F707,医療機関マスタ!$B:$B,0),1)","v":"AH0000001"},{"$f":"INDEX(医療機関マスタ!$B:$B,MATCH(\"*\"&MID(注文書!$D$17,IFERROR(FIND(\" \",注文書!$D$17),IFERROR(FIND(\"　\",注文書!$D$17),0))+1,10)&\"*\",医療機関マスタ!$C:$C,0),1)","v":"医療法人社団斗南堂　八王子クリニック"},{"$f":"配送情報書!X709","v":""},{"$f":"配送情報書!Z709","v":"00:00:00"},{"$f":"配送情報書!$V709","v":""},"転記不要",null,null,null,{"$f":"配送情報書!T709","v":0},{"$f":"COUNTIF($A$3:A707,A707)","v":705}]
[{"$f":"配送情報書!A710","v":0},{"$f":"配送情報書!AB710","v":0},{"$f":"配送情報書!AA710","v":0},{"$f":"配送情報書!AC710","v":0},{"$f":"INDEX(医療機関マスタ!$A:$A,MATCH(F708,医療機関マスタ!$B:$B,0),1)","v":"AH0000001"},{"$f":"INDEX(医療機関マスタ!$B:$B,MATCH(\"*\"&MID(注文書!$D$17,IFERROR(FIND(\" \",注文書!$D$17),IFERROR(FIND(\"　\",注文書!$D$17),0))+1,10)&\"*\",医療機関マスタ!$C:$C,0),1)","v":"医療法人社団斗南堂　八王子クリニック"},{"$f":"配送情報書!X710","v":""},{"$f":"配送情報書!Z710","v":"00:00:00"},{"$f":"配送情報書!$V710","v":""},{"$f":"IF(AND(N708>0,O708=1),SUMIFS($N:$N,$A:$A,A708),\"転記不要\")","v":"転記不要"},null,null,null,{"$f":"配送情報書!T710","v":0},{"$f":"COUNTIF($A$3:A708,A708)","v":706}]
[{"$f":"配送情報書!A711","v":0},{"$f":"配送情報書!AB711","v":0},{"$f":"配送情報書!AA711","v":0},{"$f":"配送情報書!AC711","v":0},{"$f":"INDEX(医療機関マスタ!$A:$A,MATCH(F709,医療機関マスタ!$B:$B,0),1)","v":"AH0000001"},{"$f":"INDEX(医療機関マスタ!$B:$B,MATCH(\"*\"&MID(注文書!$D$17,IFERROR(FIND(\" \",注文書!$D$17),IFERROR(FIND(\"　\",注文書!$D$17),0))+1,10)&\"*\",医療機関マスタ!$C:$C,0),1)","v":"医療法人社団斗南堂　八王子クリニック"},{"$f":"配送情報書!X711","v":""},{"$f":"配送情報書!Z711","v":"00:00:00"},{"$f":"配送情報書!$V711","v":""},"転記不要",null,null,null,{"$f":"配送情報書!T711","v":0},{"$f":"COUNTIF($A$3:A709,A709)","v":707}]
[{"$f":"配送情報書!A712","v":0},{"$f":"配送情報書!AB712","v":0},{"$f":"配送情報書!AA712","v":0},{"$f":"配送情報書!AC712","v":0},{"$f":"INDEX(医療機関マスタ!$A:$A,MATCH(F710,医療機関マスタ!$B:$B,0),1)","v":"AH0000001"},{"$f":"INDEX(医療機関マスタ!$B:$B,MATCH(\"*\"&MID(注文書!$D$17,IFERROR(FIND(\" \",注文書!$D$17),IFERROR(FIND(\"　\",注文書!$D$17),0))+1,10)&\"*\",医療機関マスタ!$C:$C,0),1)","v":"医療法人社団斗南堂　八王子クリニック"},{"$f":"配送情報書!X712","v":""},{"$f":"配送情報書!Z712","v":"00:00:00"},{"$f":"配送情報書!$V712","v":""},"転記不要",null,null,null,{"$f":"配送情報書!T712","v":0},{"$f":"COUNTIF($A$3:A710,A710)","v":708}]
[{"$f":"配送情報書!A713","v":0},{"$f":"配送情報書!AB713","v":0},{"$f":"配送情報書!AA713","v":0},{"$f":"配送情報書!AC713","v":0},{"$f":"INDEX(医療機関マスタ!$A:$A,MATCH(F711,医療機関マスタ!$B:$B,0),1)","v":"AH0000001"},{"$f":"INDEX(医療機関マスタ!$B:$B,MATCH(\"*\"&MID(注文書!$D$17,IFERROR(FIND(\" \",注文書!$D$17),IFERROR(FIND(\"　\",注文書!$D$17),0))+1,10)&\"*\",医療機関マスタ!$C:$C,0),1)","v":"医療法人社団斗南堂　八王子クリニック"},{"$f":"配送情報書!X713","v":""},{"$f":"配送情報書!Z713","v":"00:00:00"},{"$f":"配送情報書!$V713","v":""},"転記不要",null,null,null,{"$f":"配送情報書!T713","v":0},{"$f":"COUNTIF($A$3:A711,A711)","v":709}]
[{"$f":"配送情報書!A714","v":0},{"$f":"配送情報書!AB714","v":0},{"$f":"配送情報書!AA714","v":0},{"$f":"配送情報書!AC714","v":0},{"$f":"INDEX(医療機関マスタ!$A:$A,MATCH(F712,医療機関マスタ!$B:$B,0),1)","v":"AH0000001"},{"$f":"INDEX(医療機関マスタ!$B:$B,MATCH(\"*\"&MID(注文書!$D$17,IFERROR(FIND(\" \",注文書!$D$17),IFERROR(FIND(\"　\",注文書!$D$17),0))+1,10)&\"*\",医療機関マスタ!$C:$C,0),1)","v":"医療法人社団斗南堂　八王子クリニック"},{"$f":"配送情報書!X714","v":""},{"$f":"配送情報書!Z714","v":"00:00:00"},{"$f":"配送情報書!$V714","v":""},"転記不要",null,null,null,{"$f":"配送情報書!T714","v":0},{"$f":"COUNTIF($A$3:A712,A712)","v":710}]
[{"$f":"配送情報書!A715","v":0},{"$f":"配送情報書!AB715","v":0},{"$f":"配送情報書!AA715","v":0},{"$f":"配送情報書!AC715","v":0},{"$f":"INDEX(医療機関マスタ!$A:$A,MATCH(F713,医療機関マスタ!$B:$B,0),1)","v":"AH0000001"},{"$f":"INDEX(医療機関マスタ!$B:$B,MATCH(\"*\"&MID(注文書!$D$17,IFERROR(FIND(\" \",注文書!$D$17),IFERROR(FIND(\"　\",注文書!$D$17),0))+1,10)&\"*\",医療機関マスタ!$C:$C,0),1)","v":"医療法人社団斗南堂　八王子クリニック"},{"$f":"配送情報書!X715","v":""},{"$f":"配送情報書!Z715","v":"00:00:00"},{"$f":"配送情報書!$V715","v":""},"転記不要",null,null,null,{"$f":"配送情報書!T715","v":0},{"$f":"COUNTIF($A$3:A713,A713)","v":711}]
[{"$f":"配送情報書!A716","v":0},{"$f":"配送情報書!AB716","v":0},{"$f":"配送情報書!AA716","v":0},{"$f":"配送情報書!AC716","v":0},{"$f":"INDEX(医療機関マスタ!$A:$A,MATCH(F714,医療機関マスタ!$B:$B,0),1)","v":"AH0000001"},{"$f":"INDEX(医療機関マスタ!$B:$B,MATCH(\"*\"&MID(注文書!$D$17,IFERROR(FIND(\" \",注文書!$D$17),IFERROR(FIND(\"　\",注文書!$D$17),0))+1,10)&\"*\",医療機関マスタ!$C:$C,0),1)","v":"医療法人社団斗南堂　八王子クリニック"},{"$f":"配送情報書!X716","v":""},{"$f":"配送情報書!Z716","v":"00:00:00"},{"$f":"配送情報書!$V716","v":""},"転記不要",null,null,null,{"$f":"配送情報書!T716","v":0},{"$f":"COUNTIF($A$3:A714,A714)","v":712}]
[{"$f":"配送情報書!A717","v":0},{"$f":"配送情報書!AB717","v":0},{"$f":"配送情報書!AA717","v":0},{"$f":"配送情報書!AC717","v":0},{"$f":"INDEX(医療機関マスタ!$A:$A,MATCH(F715,医療機関マスタ!$B:$B,0),1)","v":"AH0000001"},{"$f":"INDEX(医療機関マスタ!$B:$B,MATCH(\"*\"&MID(注文書!$D$17,IFERROR(FIND(\" \",注文書!$D$17),IFERROR(FIND(\"　\",注文書!$D$17),0))+1,10)&\"*\",医療機関マスタ!$C:$C,0),1)","v":"医療法人社団斗南堂　八王子クリニック"},{"$f":"配送情報書!X717","v":""},{"$f":"配送情報書!Z717","v":"00:00:00"},{"$f":"配送情報書!$V717","v":""},"転記不要",null,null,null,{"$f":"配送情報書!T717","v":0},{"$f":"COUNTIF($A$3:A715,A715)","v":713}]
[{"$f":"配送情報書!A718","v":0},{"$f":"配送情報書!AB718","v":0},{"$f":"配送情報書!AA718","v":0},{"$f":"配送情報書!AC718","v":0},{"$f":"INDEX(医療機関マスタ!$A:$A,MATCH(F716,医療機関マスタ!$B:$B,0),1)","v":"AH0000001"},{"$f":"INDEX(医療機関マスタ!$B:$B,MATCH(\"*\"&MID(注文書!$D$17,IFERROR(FIND(\" \",注文書!$D$17),IFERROR(FIND(\"　\",注文書!$D$17),0))+1,10)&\"*\",医療機関マスタ!$C:$C,0),1)","v":"医療法人社団斗南堂　八王子クリニック"},{"$f":"配送情報書!X718","v":""},{"$f":"配送情報書!Z718","v":"00:00:00"},{"$f":"配送情報書!$V718","v":""},"転記不要",null,null,null,{"$f":"配送情報書!T718","v":0},{"$f":"COUNTIF($A$3:A716,A716)","v":714}]
[{"$f":"配送情報書!A719","v":0},{"$f":"配送情報書!AB719","v":0},{"$f":"配送情報書!AA719","v":0},{"$f":"配送情報書!AC719","v":0},{"$f":"INDEX(医療機関マスタ!$A:$A,MATCH(F717,医療機関マスタ!$B:$B,0),1)","v":"AH0000001"},{"$f":"INDEX(医療機関マスタ!$B:$B,MATCH(\"*\"&MID(注文書!$D$17,IFERROR(FIND(\" \",注文書!$D$17),IFERROR(FIND(\"　\",注文書!$D$17),0))+1,10)&\"*\",医療機関マスタ!$C:$C,0),1)","v":"医療法人社団斗南堂　八王子クリニック"},{"$f":"配送情報書!X719","v":""},{"$f":"配送情報書!Z719","v":"00:00:00"},{"$f":"配送情報書!$V719","v":""},"転記不要",null,null,null,{"$f":"配送情報書!T719","v":0},{"$f":"COUNTIF($A$3:A717,A717)","v":715}]
[{"$f":"配送情報書!A720","v":0},{"$f":"配送情報書!AB720","v":0},{"$f":"配送情報書!AA720","v":0},{"$f":"配送情報書!AC720","v":0},{"$f":"INDEX(医療機関マスタ!$A:$A,MATCH(F718,医療機関マスタ!$B:$B,0),1)","v":"AH0000001"},{"$f":"INDEX(医療機関マスタ!$B:$B,MATCH(\"*\"&MID(注文書!$D$17,IFERROR(FIND(\" \",注文書!$D$17),IFERROR(FIND(\"　\",注文書!$D$17),0))+1,10)&\"*\",医療機関マスタ!$C:$C,0),1)","v":"医療法人社団斗南堂　八王子クリニック"},{"$f":"配送情報書!X720","v":""},{"$f":"配送情報書!Z720","v":"00:00:00"},{"$f":"配送情報書!$V720","v":""},"転記不要",null,null,null,{"$f":"配送情報書!T720","v":0},{"$f":"COUNTIF($A$3:A718,A718)","v":716}]
[{"$f":"配送情報書!A721","v":0},{"$f":"配送情報書!AB721","v":0},{"$f":"配送情報書!AA721","v":0},{"$f":"配送情報書!AC721","v":0},{"$f":"INDEX(医療機関マスタ!$A:$A,MATCH(F719,医療機関マスタ!$B:$B,0),1)","v":"AH0000001"},{"$f":"INDEX(医療機関マスタ!$B:$B,MATCH(\"*\"&MID(注文書!$D$17,IFERROR(FIND(\" \",注文書!$D$17),IFERROR(FIND(\"　\",注文書!$D$17),0))+1,10)&\"*\",医療機関マスタ!$C:$C,0),1)","v":"医療法人社団斗南堂　八王子クリニック"},{"$f":"配送情報書!X721","v":""},{"$f":"配送情報書!Z721","v":"00:00:00"},{"$f":"配送情報書!$V721","v":""},"転記不要",null,null,null,{"$f":"配送情報書!T721","v":0},{"$f":"COUNTIF($A$3:A719,A719)","v":717}]
[{"$f":"配送情報書!A722","v":0},{"$f":"配送情報書!AB722","v":0},{"$f":"配送情報書!AA722","v":0},{"$f":"配送情報書!AC722","v":0},{"$f":"INDEX(医療機関マスタ!$A:$A,MATCH(F720,医療機関マスタ!$B:$B,0),1)","v":"AH0000001"},{"$f":"INDEX(医療機関マスタ!$B:$B,MATCH(\"*\"&MID(注文書!$D$17,IFERROR(FIND(\" \",注文書!$D$17),IFERROR(FIND(\"　\",注文書!$D$17),0))+1,10)&\"*\",医療機関マスタ!$C:$C,0),1)","v":"医療法人社団斗南堂　八王子クリニック"},{"$f":"配送情報書!X722","v":""},{"$f":"配送情報書!Z722","v":"00:00:00"},{"$f":"配送情報書!$V722","v":""},"転記不要",null,null,null,{"$f":"配送情報書!T722","v":0},{"$f":"COUNTIF($A$3:A720,A720)","v":718}]
[{"$f":"配送情報書!A723","v":0},{"$f":"配送情報書!AB723","v":0},{"$f":"配送情報書!AA723","v":0},{"$f":"配送情報書!AC723","v":0},{"$f":"INDEX(医療機関マスタ!$A:$A,MATCH(F721,医療機関マスタ!$B:$B,0),1)","v":"AH0000001"},{"$f":"INDEX(医療機関マスタ!$B:$B,MATCH(\"*\"&MID(注文書!$D$17,IFERROR(FIND(\" \",注文書!$D$17),IFERROR(FIND(\"　\",注文書!$D$17),0))+1,10)&\"*\",医療機関マスタ!$C:$C,0),1)","v":"医療法人社団斗南堂　八王子クリニック"},{"$f":"配送情報書!X723","v":""},{"$f":"配送情報書!Z723","v":"00:00:00"},{"$f":"配送情報書!$V723","v":""},"転記不要",null,null,null,{"$f":"配送情報書!T723","v":0},{"$f":"COUNTIF($A$3:A721,A721)","v":719}]
[{"$f":"配送情報書!A724","v":0},{"$f":"配送情報書!AB724","v":0},{"$f":"配送情報書!AA724","v":0},{"$f":"配送情報書!AC724","v":0},{"$f":"INDEX(医療機関マスタ!$A:$A,MATCH(F722,医療機関マスタ!$B:$B,0),1)","v":"AH0000001"},{"$f":"INDEX(医療機関マスタ!$B:$B,MATCH(\"*\"&MID(注文書!$D$17,IFERROR(FIND(\" \",注文書!$D$17),IFERROR(FIND(\"　\",注文書!$D$17),0))+1,10)&\"*\",医療機関マスタ!$C:$C,0),1)","v":"医療法人社団斗南堂　八王子クリニック"},{"$f":"配送情報書!X724","v":""},{"$f":"配送情報書!Z724","v":"00:00:00"},{"$f":"配送情報書!$V724","v":""},"転記不要",null,null,null,{"$f":"配送情報書!T724","v":0},{"$f":"COUNTIF($A$3:A722,A722)","v":720}]
[{"$f":"配送情報書!A725","v":0},{"$f":"配送情報書!AB725","v":0},{"$f":"配送情報書!AA725","v":0},{"$f":"配送情報書!AC725","v":0},{"$f":"INDEX(医療機関マスタ!$A:$A,MATCH(F723,医療機関マスタ!$B:$B,0),1)","v":"AH0000001"},{"$f":"INDEX(医療機関マスタ!$B:$B,MATCH(\"*\"&MID(注文書!$D$17,IFERROR(FIND(\" \",注文書!$D$17),IFERROR(FIND(\"　\",注文書!$D$17),0))+1,10)&\"*\",医療機関マスタ!$C:$C,0),1)","v":"医療法人社団斗南堂　八王子クリニック"},{"$f":"配送情報書!X725","v":""},{"$f":"配送情報書!Z725","v":"00:00:00"},{"$f":"配送情報書!$V725","v":""},"転記不要",null,null,null,{"$f":"配送情報書!T725","v":0},{"$f":"COUNTIF($A$3:A723,A723)","v":721}]
[{"$f":"配送情報書!A726","v":0},{"$f":"配送情報書!AB726","v":0},{"$f":"配送情報書!AA726","v":0},{"$f":"配送情報書!AC726","v":0},{"$f":"INDEX(医療機関マスタ!$A:$A,MATCH(F724,医療機関マスタ!$B:$B,0),1)","v":"AH0000001"},{"$f":"INDEX(医療機関マスタ!$B:$B,MATCH(\"*\"&MID(注文書!$D$17,IFERROR(FIND(\" \",注文書!$D$17),IFERROR(FIND(\"　\",注文書!$D$17),0))+1,10)&\"*\",医療機関マスタ!$C:$C,0),1)","v":"医療法人社団斗南堂　八王子クリニック"},{"$f":"配送情報書!X726","v":""},{"$f":"配送情報書!Z726","v":"00:00:00"},{"$f":"配送情報書!$V726","v":""},"転記不要",null,null,null,{"$f":"配送情報書!T726","v":0},{"$f":"COUNTIF($A$3:A724,A724)","v":722}]
[{"$f":"配送情報書!A727","v":0},{"$f":"配送情報書!AB727","v":0},{"$f":"配送情報書!AA727","v":0},{"$f":"配送情報書!AC727","v":0},{"$f":"INDEX(医療機関マスタ!$A:$A,MATCH(F725,医療機関マスタ!$B:$B,0),1)","v":"AH0000001"},{"$f":"INDEX(医療機関マスタ!$B:$B,MATCH(\"*\"&MID(注文書!$D$17,IFERROR(FIND(\" \",注文書!$D$17),IFERROR(FIND(\"　\",注文書!$D$17),0))+1,10)&\"*\",医療機関マスタ!$C:$C,0),1)","v":"医療法人社団斗南堂　八王子クリニック"},{"$f":"配送情報書!X727","v":""},{"$f":"配送情報書!Z727","v":"00:00:00"},{"$f":"配送情報書!$V727","v":""},"転記不要",null,null,null,{"$f":"配送情報書!T727","v":0},{"$f":"COUNTIF($A$3:A725,A725)","v":723}]
[{"$f":"配送情報書!A728","v":0},{"$f":"配送情報書!AB728","v":0},{"$f":"配送情報書!AA728","v":0},{"$f":"配送情報書!AC728","v":0},{"$f":"INDEX(医療機関マスタ!$A:$A,MATCH(F726,医療機関マスタ!$B:$B,0),1)","v":"AH0000001"},{"$f":"INDEX(医療機関マスタ!$B:$B,MATCH(\"*\"&MID(注文書!$D$17,IFERROR(FIND(\" \",注文書!$D$17),IFERROR(FIND(\"　\",注文書!$D$17),0))+1,10)&\"*\",医療機関マスタ!$C:$C,0),1)","v":"医療法人社団斗南堂　八王子クリニック"},{"$f":"配送情報書!X728","v":""},{"$f":"配送情報書!Z728","v":"00:00:00"},{"$f":"配送情報書!$V728","v":""},"転記不要",null,null,null,{"$f":"配送情報書!T728","v":0},{"$f":"COUNTIF($A$3:A726,A726)","v":724}]
[{"$f":"配送情報書!A729","v":0},{"$f":"配送情報書!AB729","v":0},{"$f":"配送情報書!AA729","v":0},{"$f":"配送情報書!AC729","v":0},{"$f":"INDEX(医療機関マスタ!$A:$A,MATCH(F727,医療機関マスタ!$B:$B,0),1)","v":"AH0000001"},{"$f":"INDEX(医療機関マスタ!$B:$B,MATCH(\"*\"&MID(注文書!$D$17,IFERROR(FIND(\" \",注文書!$D$17),IFERROR(FIND(\"　\",注文書!$D$17),0))+1,10)&\"*\",医療機関マスタ!$C:$C,0),1)","v":"医療法人社団斗南堂　八王子クリニック"},{"$f":"配送情報書!X729","v":""},{"$f":"配送情報書!Z729","v":"00:00:00"},{"$f":"配送情報書!$V729","v":""},"転記不要",null,null,null,{"$f":"配送情報書!T729","v":0},{"$f":"COUNTIF($A$3:A727,A727)","v":725}]
[{"$f":"配送情報書!A730","v":0},{"$f":"配送情報書!AB730","v":0},{"$f":"配送情報書!AA730","v":0},{"$f":"配送情報書!AC730","v":0},{"$f":"INDEX(医療機関マスタ!$A:$A,MATCH(F728,医療機関マスタ!$B:$B,0),1)","v":"AH0000001"},{"$f":"INDEX(医療機関マスタ!$B:$B,MATCH(\"*\"&MID(注文書!$D$17,IFERROR(FIND(\" \",注文書!$D$17),IFERROR(FIND(\"　\",注文書!$D$17),0))+1,10)&\"*\",医療機関マスタ!$C:$C,0),1)","v":"医療法人社団斗南堂　八王子クリニック"},{"$f":"配送情報書!X730","v":""},{"$f":"配送情報書!Z730","v":"00:00:00"},{"$f":"配送情報書!$V730","v":""},"転記不要",null,null,null,{"$f":"配送情報書!T730","v":0},{"$f":"COUNTIF($A$3:A728,A728)","v":726}]
[{"$f":"配送情報書!A731","v":0},{"$f":"配送情報書!AB731","v":0},{"$f":"配送情報書!AA731","v":0},{"$f":"配送情報書!AC731","v":0},{"$f":"INDEX(医療機関マスタ!$A:$A,MATCH(F729,医療機関マスタ!$B:$B,0),1)","v":"AH0000001"},{"$f":"INDEX(医療機関マスタ!$B:$B,MATCH(\"*\"&MID(注文書!$D$17,IFERROR(FIND(\" \",注文書!$D$17),IFERROR(FIND(\"　\",注文書!$D$17),0))+1,10)&\"*\",医療機関マスタ!$C:$C,0),1)","v":"医療法人社団斗南堂　八王子クリニック"},{"$f":"配送情報書!X731","v":""},{"$f":"配送情報書!Z731","v":"00:00:00"},{"$f":"配送情報書!$V731","v":""},"転記不要",null,null,null,{"$f":"配送情報書!T731","v":0},{"$f":"COUNTIF($A$3:A729,A729)","v":727}]
[{"$f":"配送情報書!A732","v":0},{"$f":"配送情報書!AB732","v":0},{"$f":"配送情報書!AA732","v":0},{"$f":"配送情報書!AC732","v":0},{"$f":"INDEX(医療機関マスタ!$A:$A,MATCH(F730,医療機関マスタ!$B:$B,0),1)","v":"AH0000001"},{"$f":"INDEX(医療機関マスタ!$B:$B,MATCH(\"*\"&MID(注文書!$D$17,IFERROR(FIND(\" \",注文書!$D$17),IFERROR(FIND(\"　\",注文書!$D$17),0))+1,10)&\"*\",医療機関マスタ!$C:$C,0),1)","v":"医療法人社団斗南堂　八王子クリニック"},{"$f":"配送情報書!X732","v":""},{"$f":"配送情報書!Z732","v":"00:00:00"},{"$f":"配送情報書!$V732","v":""},"転記不要",null,null,null,{"$f":"配送情報書!T732","v":0},{"$f":"COUNTIF($A$3:A730,A730)","v":728}]
[{"$f":"配送情報書!A733","v":0},{"$f":"配送情報書!AB733","v":0},{"$f":"配送情報書!AA733","v":0},{"$f":"配送情報書!AC733","v":0},{"$f":"INDEX(医療機関マスタ!$A:$A,MATCH(F731,医療機関マスタ!$B:$B,0),1)","v":"AH0000001"},{"$f":"INDEX(医療機関マスタ!$B:$B,MATCH(\"*\"&MID(注文書!$D$17,IFERROR(FIND(\" \",注文書!$D$17),IFERROR(FIND(\"　\",注文書!$D$17),0))+1,10)&\"*\",医療機関マスタ!$C:$C,0),1)","v":"医療法人社団斗南堂　八王子クリニック"},{"$f":"配送情報書!X733","v":""},{"$f":"配送情報書!Z733","v":"00:00:00"},{"$f":"配送情報書!$V733","v":""},"転記不要",null,null,null,{"$f":"配送情報書!T733","v":0},{"$f":"COUNTIF($A$3:A731,A731)","v":729}]
[{"$f":"配送情報書!A734","v":0},{"$f":"配送情報書!AB734","v":0},{"$f":"配送情報書!AA734","v":0},{"$f":"配送情報書!AC734","v":0},{"$f":"INDEX(医療機関マスタ!$A:$A,MATCH(F732,医療機関マスタ!$B:$B,0),1)","v":"AH0000001"},{"$f":"INDEX(医療機関マスタ!$B:$B,MATCH(\"*\"&MID(注文書!$D$17,IFERROR(FIND(\" \",注文書!$D$17),IFERROR(FIND(\"　\",注文書!$D$17),0))+1,10)&\"*\",医療機関マスタ!$C:$C,0),1)","v":"医療法人社団斗南堂　八王子クリニック"},{"$f":"配送情報書!X734","v":""},{"$f":"配送情報書!Z734","v":"00:00:00"},{"$f":"配送情報書!$V734","v":""},"転記不要",null,null,null,{"$f":"配送情報書!T734","v":0},{"$f":"COUNTIF($A$3:A732,A732)","v":730}]
[{"$f":"配送情報書!A735","v":0},{"$f":"配送情報書!AB735","v":0},{"$f":"配送情報書!AA735","v":0},{"$f":"配送情報書!AC735","v":0},{"$f":"INDEX(医療機関マスタ!$A:$A,MATCH(F733,医療機関マスタ!$B:$B,0),1)","v":"AH0000001"},{"$f":"INDEX(医療機関マスタ!$B:$B,MATCH(\"*\"&MID(注文書!$D$17,IFERROR(FIND(\" \",注文書!$D$17),IFERROR(FIND(\"　\",注文書!$D$17),0))+1,10)&\"*\",医療機関マスタ!$C:$C,0),1)","v":"医療法人社団斗南堂　八王子クリニック"},{"$f":"配送情報書!X735","v":""},{"$f":"配送情報書!Z735","v":"00:00:00"},{"$f":"配送情報書!$V735","v":""},"転記不要",null,null,null,{"$f":"配送情報書!T735","v":0},{"$f":"COUNTIF($A$3:A733,A733)","v":731}]
[{"$f":"配送情報書!A736","v":0},{"$f":"配送情報書!AB736","v":0},{"$f":"配送情報書!AA736","v":0},{"$f":"配送情報書!AC736","v":0},{"$f":"INDEX(医療機関マスタ!$A:$A,MATCH(F734,医療機関マスタ!$B:$B,0),1)","v":"AH0000001"},{"$f":"INDEX(医療機関マスタ!$B:$B,MATCH(\"*\"&MID(注文書!$D$17,IFERROR(FIND(\" \",注文書!$D$17),IFERROR(FIND(\"　\",注文書!$D$17),0))+1,10)&\"*\",医療機関マスタ!$C:$C,0),1)","v":"医療法人社団斗南堂　八王子クリニック"},{"$f":"配送情報書!X736","v":""},{"$f":"配送情報書!Z736","v":"00:00:00"},{"$f":"配送情報書!$V736","v":""},"転記不要",null,null,null,{"$f":"配送情報書!T736","v":0},{"$f":"COUNTIF($A$3:A734,A734)","v":732}]
[{"$f":"配送情報書!A737","v":0},{"$f":"配送情報書!AB737","v":0},{"$f":"配送情報書!AA737","v":0},{"$f":"配送情報書!AC737","v":0},{"$f":"INDEX(医療機関マスタ!$A:$A,MATCH(F735,医療機関マスタ!$B:$B,0),1)","v":"AH0000001"},{"$f":"INDEX(医療機関マスタ!$B:$B,MATCH(\"*\"&MID(注文書!$D$17,IFERROR(FIND(\" \",注文書!$D$17),IFERROR(FIND(\"　\",注文書!$D$17),0))+1,10)&\"*\",医療機関マスタ!$C:$C,0),1)","v":"医療法人社団斗南堂　八王子クリニック"},{"$f":"配送情報書!X737","v":""},{"$f":"配送情報書!Z737","v":"00:00:00"},{"$f":"配送情報書!$V737","v":""},"転記不要",null,null,null,{"$f":"配送情報書!T737","v":0},{"$f":"COUNTIF($A$3:A735,A735)","v":733}]
[{"$f":"配送情報書!A738","v":0},{"$f":"配送情報書!AB738","v":0},{"$f":"配送情報書!AA738","v":0},{"$f":"配送情報書!AC738","v":0},{"$f":"INDEX(医療機関マスタ!$A:$A,MATCH(F736,医療機関マスタ!$B:$B,0),1)","v":"AH0000001"},{"$f":"INDEX(医療機関マスタ!$B:$B,MATCH(\"*\"&MID(注文書!$D$17,IFERROR(FIND(\" \",注文書!$D$17),IFERROR(FIND(\"　\",注文書!$D$17),0))+1,10)&\"*\",医療機関マスタ!$C:$C,0),1)","v":"医療法人社団斗南堂　八王子クリニック"},{"$f":"配送情報書!X738","v":""},{"$f":"配送情報書!Z738","v":"00:00:00"},{"$f":"配送情報書!$V738","v":""},"転記不要",null,null,null,{"$f":"配送情報書!T738","v":0},{"$f":"COUNTIF($A$3:A736,A736)","v":734}]
[{"$f":"配送情報書!A739","v":0},{"$f":"配送情報書!AB739","v":0},{"$f":"配送情報書!AA739","v":0},{"$f":"配送情報書!AC739","v":0},{"$f":"INDEX(医療機関マスタ!$A:$A,MATCH(F737,医療機関マスタ!$B:$B,0),1)","v":"AH0000001"},{"$f":"INDEX(医療機関マスタ!$B:$B,MATCH(\"*\"&MID(注文書!$D$17,IFERROR(FIND(\" \",注文書!$D$17),IFERROR(FIND(\"　\",注文書!$D$17),0))+1,10)&\"*\",医療機関マスタ!$C:$C,0),1)","v":"医療法人社団斗南堂　八王子クリニック"},{"$f":"配送情報書!X739","v":""},{"$f":"配送情報書!Z739","v":"00:00:00"},{"$f":"配送情報書!$V739","v":""},"転記不要",null,null,null,{"$f":"配送情報書!T739","v":0},{"$f":"COUNTIF($A$3:A737,A737)","v":735}]
[{"$f":"配送情報書!A740","v":0},{"$f":"配送情報書!AB740","v":0},{"$f":"配送情報書!AA740","v":0},{"$f":"配送情報書!AC740","v":0},{"$f":"INDEX(医療機関マスタ!$A:$A,MATCH(F738,医療機関マスタ!$B:$B,0),1)","v":"AH0000001"},{"$f":"INDEX(医療機関マスタ!$B:$B,MATCH(\"*\"&MID(注文書!$D$17,IFERROR(FIND(\" \",注文書!$D$17),IFERROR(FIND(\"　\",注文書!$D$17),0))+1,10)&\"*\",医療機関マスタ!$C:$C,0),1)","v":"医療法人社団斗南堂　八王子クリニック"},{"$f":"配送情報書!X740","v":""},{"$f":"配送情報書!Z740","v":"00:00:00"},{"$f":"配送情報書!$V740","v":""},"転記不要",null,null,null,{"$f":"配送情報書!T740","v":0},{"$f":"COUNTIF($A$3:A738,A738)","v":736}]
[{"$f":"配送情報書!A741","v":0},{"$f":"配送情報書!AB741","v":0},{"$f":"配送情報書!AA741","v":0},{"$f":"配送情報書!AC741","v":0},{"$f":"INDEX(医療機関マスタ!$A:$A,MATCH(F739,医療機関マスタ!$B:$B,0),1)","v":"AH0000001"},{"$f":"INDEX(医療機関マスタ!$B:$B,MATCH(\"*\"&MID(注文書!$D$17,IFERROR(FIND(\" \",注文書!$D$17),IFERROR(FIND(\"　\",注文書!$D$17),0))+1,10)&\"*\",医療機関マスタ!$C:$C,0),1)","v":"医療法人社団斗南堂　八王子クリニック"},{"$f":"配送情報書!X741","v":""},{"$f":"配送情報書!Z741","v":"00:00:00"},{"$f":"配送情報書!$V741","v":""},"転記不要",null,null,null,{"$f":"配送情報書!T741","v":0},{"$f":"COUNTIF($A$3:A739,A739)","v":737}]
[{"$f":"配送情報書!A742","v":0},{"$f":"配送情報書!AB742","v":0},{"$f":"配送情報書!AA742","v":0},{"$f":"配送情報書!AC742","v":0},{"$f":"INDEX(医療機関マスタ!$A:$A,MATCH(F740,医療機関マスタ!$B:$B,0),1)","v":"AH0000001"},{"$f":"INDEX(医療機関マスタ!$B:$B,MATCH(\"*\"&MID(注文書!$D$17,IFERROR(FIND(\" \",注文書!$D$17),IFERROR(FIND(\"　\",注文書!$D$17),0))+1,10)&\"*\",医療機関マスタ!$C:$C,0),1)","v":"医療法人社団斗南堂　八王子クリニック"},{"$f":"配送情報書!X742","v":""},{"$f":"配送情報書!Z742","v":"00:00:00"},{"$f":"配送情報書!$V742","v":""},"転記不要",null,null,null,{"$f":"配送情報書!T742","v":0},{"$f":"COUNTIF($A$3:A740,A740)","v":738}]
[{"$f":"配送情報書!A743","v":0},{"$f":"配送情報書!AB743","v":0},{"$f":"配送情報書!AA743","v":0},{"$f":"配送情報書!AC743","v":0},{"$f":"INDEX(医療機関マスタ!$A:$A,MATCH(F741,医療機関マスタ!$B:$B,0),1)","v":"AH0000001"},{"$f":"INDEX(医療機関マスタ!$B:$B,MATCH(\"*\"&MID(注文書!$D$17,IFERROR(FIND(\" \",注文書!$D$17),IFERROR(FIND(\"　\",注文書!$D$17),0))+1,10)&\"*\",医療機関マスタ!$C:$C,0),1)","v":"医療法人社団斗南堂　八王子クリニック"},{"$f":"配送情報書!X743","v":""},{"$f":"配送情報書!Z743","v":"00:00:00"},{"$f":"配送情報書!$V743","v":""},"転記不要",null,null,null,{"$f":"配送情報書!T743","v":0},{"$f":"COUNTIF($A$3:A741,A741)","v":739}]
[{"$f":"配送情報書!A744","v":0},{"$f":"配送情報書!AB744","v":0},{"$f":"配送情報書!AA744","v":0},{"$f":"配送情報書!AC744","v":0},{"$f":"INDEX(医療機関マスタ!$A:$A,MATCH(F742,医療機関マスタ!$B:$B,0),1)","v":"AH0000001"},{"$f":"INDEX(医療機関マスタ!$B:$B,MATCH(\"*\"&MID(注文書!$D$17,IFERROR(FIND(\" \",注文書!$D$17),IFERROR(FIND(\"　\",注文書!$D$17),0))+1,10)&\"*\",医療機関マスタ!$C:$C,0),1)","v":"医療法人社団斗南堂　八王子クリニック"},{"$f":"配送情報書!X744","v":""},{"$f":"配送情報書!Z744","v":"00:00:00"},{"$f":"配送情報書!$V744","v":""},"転記不要",null,null,null,{"$f":"配送情報書!T744","v":0},{"$f":"COUNTIF($A$3:A742,A742)","v":740}]
[{"$f":"配送情報書!A745","v":0},{"$f":"配送情報書!AB745","v":0},{"$f":"配送情報書!AA745","v":0},{"$f":"配送情報書!AC745","v":0},{"$f":"INDEX(医療機関マスタ!$A:$A,MATCH(F743,医療機関マスタ!$B:$B,0),1)","v":"AH0000001"},{"$f":"INDEX(医療機関マスタ!$B:$B,MATCH(\"*\"&MID(注文書!$D$17,IFERROR(FIND(\" \",注文書!$D$17),IFERROR(FIND(\"　\",注文書!$D$17),0))+1,10)&\"*\",医療機関マスタ!$C:$C,0),1)","v":"医療法人社団斗南堂　八王子クリニック"},{"$f":"配送情報書!X745","v":""},{"$f":"配送情報書!Z745","v":"00:00:00"},{"$f":"配送情報書!$V745","v":""},"転記不要",null,null,null,{"$f":"配送情報書!T745","v":0},{"$f":"COUNTIF($A$3:A743,A743)","v":741}]
[{"$f":"配送情報書!A746","v":0},{"$f":"配送情報書!AB746","v":0},{"$f":"配送情報書!AA746","v":0},{"$f":"配送情報書!AC746","v":0},{"$f":"INDEX(医療機関マスタ!$A:$A,MATCH(F744,医療機関マスタ!$B:$B,0),1)","v":"AH0000001"},{"$f":"INDEX(医療機関マスタ!$B:$B,MATCH(\"*\"&MID(注文書!$D$17,IFERROR(FIND(\" \",注文書!$D$17),IFERROR(FIND(\"　\",注文書!$D$17),0))+1,10)&\"*\",医療機関マスタ!$C:$C,0),1)","v":"医療法人社団斗南堂　八王子クリニック"},{"$f":"配送情報書!X746","v":""},{"$f":"配送情報書!Z746","v":"00:00:00"},{"$f":"配送情報書!$V746","v":""},"転記不要",null,null,null,{"$f":"配送情報書!T746","v":0},{"$f":"COUNTIF($A$3:A744,A744)","v":742}]
[{"$f":"配送情報書!A747","v":0},{"$f":"配送情報書!AB747","v":0},{"$f":"配送情報書!AA747","v":0},{"$f":"配送情報書!AC747","v":0},{"$f":"INDEX(医療機関マスタ!$A:$A,MATCH(F745,医療機関マスタ!$B:$B,0),1)","v":"AH0000001"},{"$f":"INDEX(医療機関マスタ!$B:$B,MATCH(\"*\"&MID(注文書!$D$17,IFERROR(FIND(\" \",注文書!$D$17),IFERROR(FIND(\"　\",注文書!$D$17),0))+1,10)&\"*\",医療機関マスタ!$C:$C,0),1)","v":"医療法人社団斗南堂　八王子クリニック"},{"$f":"配送情報書!X747","v":""},{"$f":"配送情報書!Z747","v":"00:00:00"},{"$f":"配送情報書!$V747","v":""},"転記不要",null,null,null,{"$f":"配送情報書!T747","v":0},{"$f":"COUNTIF($A$3:A745,A745)","v":743}]
[{"$f":"配送情報書!A748","v":0},{"$f":"配送情報書!AB748","v":0},{"$f":"配送情報書!AA748","v":0},{"$f":"配送情報書!AC748","v":0},{"$f":"INDEX(医療機関マスタ!$A:$A,MATCH(F746,医療機関マスタ!$B:$B,0),1)","v":"AH0000001"},{"$f":"INDEX(医療機関マスタ!$B:$B,MATCH(\"*\"&MID(注文書!$D$17,IFERROR(FIND(\" \",注文書!$D$17),IFERROR(FIND(\"　\",注文書!$D$17),0))+1,10)&\"*\",医療機関マスタ!$C:$C,0),1)","v":"医療法人社団斗南堂　八王子クリニック"},{"$f":"配送情報書!X748","v":""},{"$f":"配送情報書!Z748","v":"00:00:00"},{"$f":"配送情報書!$V748","v":""},"転記不要",null,null,null,{"$f":"配送情報書!T748","v":0},{"$f":"COUNTIF($A$3:A746,A746)","v":744}]
[{"$f":"配送情報書!A749","v":0},{"$f":"配送情報書!AB749","v":0},{"$f":"配送情報書!AA749","v":0},{"$f":"配送情報書!AC749","v":0},{"$f":"INDEX(医療機関マスタ!$A:$A,MATCH(F747,医療機関マスタ!$B:$B,0),1)","v":"AH0000001"},{"$f":"INDEX(医療機関マスタ!$B:$B,MATCH(\"*\"&MID(注文書!$D$17,IFERROR(FIND(\" \",注文書!$D$17),IFERROR(FIND(\"　\",注文書!$D$17),0))+1,10)&\"*\",医療機関マスタ!$C:$C,0),1)","v":"医療法人社団斗南堂　八王子クリニック"},{"$f":"配送情報書!X749","v":""},{"$f":"配送情報書!Z749","v":"00:00:00"},{"$f":"配送情報書!$V749","v":""},"転記不要",null,null,null,{"$f":"配送情報書!T749","v":0},{"$f":"COUNTIF($A$3:A747,A747)","v":745}]
[{"$f":"配送情報書!A750","v":0},{"$f":"配送情報書!AB750","v":0},{"$f":"配送情報書!AA750","v":0},{"$f":"配送情報書!AC750","v":0},{"$f":"INDEX(医療機関マスタ!$A:$A,MATCH(F748,医療機関マスタ!$B:$B,0),1)","v":"AH0000001"},{"$f":"INDEX(医療機関マスタ!$B:$B,MATCH(\"*\"&MID(注文書!$D$17,IFERROR(FIND(\" \",注文書!$D$17),IFERROR(FIND(\"　\",注文書!$D$17),0))+1,10)&\"*\",医療機関マスタ!$C:$C,0),1)","v":"医療法人社団斗南堂　八王子クリニック"},{"$f":"配送情報書!X750","v":""},{"$f":"配送情報書!Z750","v":"00:00:00"},{"$f":"配送情報書!$V750","v":""},"転記不要",null,null,null,{"$f":"配送情報書!T750","v":0},{"$f":"COUNTIF($A$3:A748,A748)","v":746}]
[{"$f":"配送情報書!A751","v":0},{"$f":"配送情報書!AB751","v":0},{"$f":"配送情報書!AA751","v":0},{"$f":"配送情報書!AC751","v":0},{"$f":"INDEX(医療機関マスタ!$A:$A,MATCH(F749,医療機関マスタ!$B:$B,0),1)","v":"AH0000001"},{"$f":"INDEX(医療機関マスタ!$B:$B,MATCH(\"*\"&MID(注文書!$D$17,IFERROR(FIND(\" \",注文書!$D$17),IFERROR(FIND(\"　\",注文書!$D$17),0))+1,10)&\"*\",医療機関マスタ!$C:$C,0),1)","v":"医療法人社団斗南堂　八王子クリニック"},{"$f":"配送情報書!X751","v":""},{"$f":"配送情報書!Z751","v":"00:00:00"},{"$f":"配送情報書!$V751","v":""},"転記不要",null,null,null,{"$f":"配送情報書!T751","v":0},{"$f":"COUNTIF($A$3:A749,A749)","v":747}]
[{"$f":"配送情報書!A752","v":0},{"$f":"配送情報書!AB752","v":0},{"$f":"配送情報書!AA752","v":0},{"$f":"配送情報書!AC752","v":0},{"$f":"INDEX(医療機関マスタ!$A:$A,MATCH(F750,医療機関マスタ!$B:$B,0),1)","v":"AH0000001"},{"$f":"INDEX(医療機関マスタ!$B:$B,MATCH(\"*\"&MID(注文書!$D$17,IFERROR(FIND(\" \",注文書!$D$17),IFERROR(FIND(\"　\",注文書!$D$17),0))+1,10)&\"*\",医療機関マスタ!$C:$C,0),1)","v":"医療法人社団斗南堂　八王子クリニック"},{"$f":"配送情報書!X752","v":""},{"$f":"配送情報書!Z752","v":"00:00:00"},{"$f":"配送情報書!$V752","v":""},"転記不要",null,null,null,{"$f":"配送情報書!T752","v":0},{"$f":"COUNTIF($A$3:A750,A750)","v":748}]
[{"$f":"配送情報書!A753","v":0},{"$f":"配送情報書!AB753","v":0},{"$f":"配送情報書!AA753","v":0},{"$f":"配送情報書!AC753","v":0},{"$f":"INDEX(医療機関マスタ!$A:$A,MATCH(F751,医療機関マスタ!$B:$B,0),1)","v":"AH0000001"},{"$f":"INDEX(医療機関マスタ!$B:$B,MATCH(\"*\"&MID(注文書!$D$17,IFERROR(FIND(\" \",注文書!$D$17),IFERROR(FIND(\"　\",注文書!$D$17),0))+1,10)&\"*\",医療機関マスタ!$C:$C,0),1)","v":"医療法人社団斗南堂　八王子クリニック"},{"$f":"配送情報書!X753","v":""},{"$f":"配送情報書!Z753","v":"00:00:00"},{"$f":"配送情報書!$V753","v":""},"転記不要",null,null,null,{"$f":"配送情報書!T753","v":0},{"$f":"COUNTIF($A$3:A751,A751)","v":749}]
[{"$f":"配送情報書!A754","v":0},{"$f":"配送情報書!AB754","v":0},{"$f":"配送情報書!AA754","v":0},{"$f":"配送情報書!AC754","v":0},{"$f":"INDEX(医療機関マスタ!$A:$A,MATCH(F752,医療機関マスタ!$B:$B,0),1)","v":"AH0000001"},{"$f":"INDEX(医療機関マスタ!$B:$B,MATCH(\"*\"&MID(注文書!$D$17,IFERROR(FIND(\" \",注文書!$D$17),IFERROR(FIND(\"　\",注文書!$D$17),0))+1,10)&\"*\",医療機関マスタ!$C:$C,0),1)","v":"医療法人社団斗南堂　八王子クリニック"},{"$f":"配送情報書!X754","v":""},{"$f":"配送情報書!Z754","v":"00:00:00"},{"$f":"配送情報書!$V754","v":""},"転記不要",null,null,null,{"$f":"配送情報書!T754","v":0},{"$f":"COUNTIF($A$3:A752,A752)","v":750}]
[{"$f":"配送情報書!A755","v":0},{"$f":"配送情報書!AB755","v":0},{"$f":"配送情報書!AA755","v":0},{"$f":"配送情報書!AC755","v":0},{"$f":"INDEX(医療機関マスタ!$A:$A,MATCH(F753,医療機関マスタ!$B:$B,0),1)","v":"AH0000001"},{"$f":"INDEX(医療機関マスタ!$B:$B,MATCH(\"*\"&MID(注文書!$D$17,IFERROR(FIND(\" \",注文書!$D$17),IFERROR(FIND(\"　\",注文書!$D$17),0))+1,10)&\"*\",医療機関マスタ!$C:$C,0),1)","v":"医療法人社団斗南堂　八王子クリニック"},{"$f":"配送情報書!X755","v":""},{"$f":"配送情報書!Z755","v":"00:00:00"},{"$f":"配送情報書!$V755","v":""},"転記不要",null,null,null,{"$f":"配送情報書!T755","v":0},{"$f":"COUNTIF($A$3:A753,A753)","v":751}]
[{"$f":"配送情報書!A756","v":0},{"$f":"配送情報書!AB756","v":0},{"$f":"配送情報書!AA756","v":0},{"$f":"配送情報書!AC756","v":0},{"$f":"INDEX(医療機関マスタ!$A:$A,MATCH(F754,医療機関マスタ!$B:$B,0),1)","v":"AH0000001"},{"$f":"INDEX(医療機関マスタ!$B:$B,MATCH(\"*\"&MID(注文書!$D$17,IFERROR(FIND(\" \",注文書!$D$17),IFERROR(FIND(\"　\",注文書!$D$17),0))+1,10)&\"*\",医療機関マスタ!$C:$C,0),1)","v":"医療法人社団斗南堂　八王子クリニック"},{"$f":"配送情報書!X756","v":""},{"$f":"配送情報書!Z756","v":"00:00:00"},{"$f":"配送情報書!$V756","v":""},"転記不要",null,null,null,{"$f":"配送情報書!T756","v":0},{"$f":"COUNTIF($A$3:A754,A754)","v":752}]
[{"$f":"配送情報書!A757","v":0},{"$f":"配送情報書!AB757","v":0},{"$f":"配送情報書!AA757","v":0},{"$f":"配送情報書!AC757","v":0},{"$f":"INDEX(医療機関マスタ!$A:$A,MATCH(F755,医療機関マスタ!$B:$B,0),1)","v":"AH0000001"},{"$f":"INDEX(医療機関マスタ!$B:$B,MATCH(\"*\"&MID(注文書!$D$17,IFERROR(FIND(\" \",注文書!$D$17),IFERROR(FIND(\"　\",注文書!$D$17),0))+1,10)&\"*\",医療機関マスタ!$C:$C,0),1)","v":"医療法人社団斗南堂　八王子クリニック"},{"$f":"配送情報書!X757","v":""},{"$f":"配送情報書!Z757","v":"00:00:00"},{"$f":"配送情報書!$V757","v":""},"転記不要",null,null,null,{"$f":"配送情報書!T757","v":0},{"$f":"COUNTIF($A$3:A755,A755)","v":753}]
[{"$f":"配送情報書!A758","v":0},{"$f":"配送情報書!AB758","v":0},{"$f":"配送情報書!AA758","v":0},{"$f":"配送情報書!AC758","v":0},{"$f":"INDEX(医療機関マスタ!$A:$A,MATCH(F756,医療機関マスタ!$B:$B,0),1)","v":"AH0000001"},{"$f":"INDEX(医療機関マスタ!$B:$B,MATCH(\"*\"&MID(注文書!$D$17,IFERROR(FIND(\" \",注文書!$D$17),IFERROR(FIND(\"　\",注文書!$D$17),0))+1,10)&\"*\",医療機関マスタ!$C:$C,0),1)","v":"医療法人社団斗南堂　八王子クリニック"},{"$f":"配送情報書!X758","v":""},{"$f":"配送情報書!Z758","v":"00:00:00"},{"$f":"配送情報書!$V758","v":""},"転記不要",null,null,null,{"$f":"配送情報書!T758","v":0},{"$f":"COUNTIF($A$3:A756,A756)","v":754}]
[{"$f":"配送情報書!A759","v":0},{"$f":"配送情報書!AB759","v":0},{"$f":"配送情報書!AA759","v":0},{"$f":"配送情報書!AC759","v":0},{"$f":"INDEX(医療機関マスタ!$A:$A,MATCH(F757,医療機関マスタ!$B:$B,0),1)","v":"AH0000001"},{"$f":"INDEX(医療機関マスタ!$B:$B,MATCH(\"*\"&MID(注文書!$D$17,IFERROR(FIND(\" \",注文書!$D$17),IFERROR(FIND(\"　\",注文書!$D$17),0))+1,10)&\"*\",医療機関マスタ!$C:$C,0),1)","v":"医療法人社団斗南堂　八王子クリニック"},{"$f":"配送情報書!X759","v":""},{"$f":"配送情報書!Z759","v":"00:00:00"},{"$f":"配送情報書!$V759","v":""},"転記不要",null,null,null,{"$f":"配送情報書!T759","v":0},{"$f":"COUNTIF($A$3:A757,A757)","v":755}]
[{"$f":"配送情報書!A760","v":0},{"$f":"配送情報書!AB760","v":0},{"$f":"配送情報書!AA760","v":0},{"$f":"配送情報書!AC760","v":0},{"$f":"INDEX(医療機関マスタ!$A:$A,MATCH(F758,医療機関マスタ!$B:$B,0),1)","v":"AH0000001"},{"$f":"INDEX(医療機関マスタ!$B:$B,MATCH(\"*\"&MID(注文書!$D$17,IFERROR(FIND(\" \",注文書!$D$17),IFERROR(FIND(\"　\",注文書!$D$17),0))+1,10)&\"*\",医療機関マスタ!$C:$C,0),1)","v":"医療法人社団斗南堂　八王子クリニック"},{"$f":"配送情報書!X760","v":""},{"$f":"配送情報書!Z760","v":"00:00:00"},{"$f":"配送情報書!$V760","v":""},"転記不要",null,null,null,{"$f":"配送情報書!T760","v":0},{"$f":"COUNTIF($A$3:A758,A758)","v":756}]
[{"$f":"配送情報書!A761","v":0},{"$f":"配送情報書!AB761","v":0},{"$f":"配送情報書!AA761","v":0},{"$f":"配送情報書!AC761","v":0},{"$f":"INDEX(医療機関マスタ!$A:$A,MATCH(F759,医療機関マスタ!$B:$B,0),1)","v":"AH0000001"},{"$f":"INDEX(医療機関マスタ!$B:$B,MATCH(\"*\"&MID(注文書!$D$17,IFERROR(FIND(\" \",注文書!$D$17),IFERROR(FIND(\"　\",注文書!$D$17),0))+1,10)&\"*\",医療機関マスタ!$C:$C,0),1)","v":"医療法人社団斗南堂　八王子クリニック"},{"$f":"配送情報書!X761","v":""},{"$f":"配送情報書!Z761","v":"00:00:00"},{"$f":"配送情報書!$V761","v":""},"転記不要",null,null,null,{"$f":"配送情報書!T761","v":0},{"$f":"COUNTIF($A$3:A759,A759)","v":757}]
[{"$f":"配送情報書!A762","v":0},{"$f":"配送情報書!AB762","v":0},{"$f":"配送情報書!AA762","v":0},{"$f":"配送情報書!AC762","v":0},{"$f":"INDEX(医療機関マスタ!$A:$A,MATCH(F760,医療機関マスタ!$B:$B,0),1)","v":"AH0000001"},{"$f":"INDEX(医療機関マスタ!$B:$B,MATCH(\"*\"&MID(注文書!$D$17,IFERROR(FIND(\" \",注文書!$D$17),IFERROR(FIND(\"　\",注文書!$D$17),0))+1,10)&\"*\",医療機関マスタ!$C:$C,0),1)","v":"医療法人社団斗南堂　八王子クリニック"},{"$f":"配送情報書!X762","v":""},{"$f":"配送情報書!Z762","v":"00:00:00"},{"$f":"配送情報書!$V762","v":""},"転記不要",null,null,null,{"$f":"配送情報書!T762","v":0},{"$f":"COUNTIF($A$3:A760,A760)","v":758}]
[{"$f":"配送情報書!A763","v":0},{"$f":"配送情報書!AB763","v":0},{"$f":"配送情報書!AA763","v":0},{"$f":"配送情報書!AC763","v":0},{"$f":"INDEX(医療機関マスタ!$A:$A,MATCH(F761,医療機関マスタ!$B:$B,0),1)","v":"AH0000001"},{"$f":"INDEX(医療機関マスタ!$B:$B,MATCH(\"*\"&MID(注文書!$D$17,IFERROR(FIND(\" \",注文書!$D$17),IFERROR(FIND(\"　\",注文書!$D$17),0))+1,10)&\"*\",医療機関マスタ!$C:$C,0),1)","v":"医療法人社団斗南堂　八王子クリニック"},{"$f":"配送情報書!X763","v":""},{"$f":"配送情報書!Z763","v":"00:00:00"},{"$f":"配送情報書!$V763","v":""},"転記不要",null,null,null,{"$f":"配送情報書!T763","v":0},{"$f":"COUNTIF($A$3:A761,A761)","v":759}]
[{"$f":"配送情報書!A764","v":0},{"$f":"配送情報書!AB764","v":0},{"$f":"配送情報書!AA764","v":0},{"$f":"配送情報書!AC764","v":0},{"$f":"INDEX(医療機関マスタ!$A:$A,MATCH(F762,医療機関マスタ!$B:$B,0),1)","v":"AH0000001"},{"$f":"INDEX(医療機関マスタ!$B:$B,MATCH(\"*\"&MID(注文書!$D$17,IFERROR(FIND(\" \",注文書!$D$17),IFERROR(FIND(\"　\",注文書!$D$17),0))+1,10)&\"*\",医療機関マスタ!$C:$C,0),1)","v":"医療法人社団斗南堂　八王子クリニック"},{"$f":"配送情報書!X764","v":""},{"$f":"配送情報書!Z764","v":"00:00:00"},{"$f":"配送情報書!$V764","v":""},"転記不要",null,null,null,{"$f":"配送情報書!T764","v":0},{"$f":"COUNTIF($A$3:A762,A762)","v":760}]
[{"$f":"配送情報書!A765","v":0},{"$f":"配送情報書!AB765","v":0},{"$f":"配送情報書!AA765","v":0},{"$f":"配送情報書!AC765","v":0},{"$f":"INDEX(医療機関マスタ!$A:$A,MATCH(F763,医療機関マスタ!$B:$B,0),1)","v":"AH0000001"},{"$f":"INDEX(医療機関マスタ!$B:$B,MATCH(\"*\"&MID(注文書!$D$17,IFERROR(FIND(\" \",注文書!$D$17),IFERROR(FIND(\"　\",注文書!$D$17),0))+1,10)&\"*\",医療機関マスタ!$C:$C,0),1)","v":"医療法人社団斗南堂　八王子クリニック"},{"$f":"配送情報書!X765","v":""},{"$f":"配送情報書!Z765","v":"00:00:00"},{"$f":"配送情報書!$V765","v":""},"転記不要",null,null,null,{"$f":"配送情報書!T765","v":0},{"$f":"COUNTIF($A$3:A763,A763)","v":761}]
[{"$f":"配送情報書!A766","v":0},{"$f":"配送情報書!AB766","v":0},{"$f":"配送情報書!AA766","v":0},{"$f":"配送情報書!AC766","v":0},{"$f":"INDEX(医療機関マスタ!$A:$A,MATCH(F764,医療機関マスタ!$B:$B,0),1)","v":"AH0000001"},{"$f":"INDEX(医療機関マスタ!$B:$B,MATCH(\"*\"&MID(注文書!$D$17,IFERROR(FIND(\" \",注文書!$D$17),IFERROR(FIND(\"　\",注文書!$D$17),0))+1,10)&\"*\",医療機関マスタ!$C:$C,0),1)","v":"医療法人社団斗南堂　八王子クリニック"},{"$f":"配送情報書!X766","v":""},{"$f":"配送情報書!Z766","v":"00:00:00"},{"$f":"配送情報書!$V766","v":""},"転記不要",null,null,null,{"$f":"配送情報書!T766","v":0},{"$f":"COUNTIF($A$3:A764,A764)","v":762}]
[{"$f":"配送情報書!A767","v":0},{"$f":"配送情報書!AB767","v":0},{"$f":"配送情報書!AA767","v":0},{"$f":"配送情報書!AC767","v":0},{"$f":"INDEX(医療機関マスタ!$A:$A,MATCH(F765,医療機関マスタ!$B:$B,0),1)","v":"AH0000001"},{"$f":"INDEX(医療機関マスタ!$B:$B,MATCH(\"*\"&MID(注文書!$D$17,IFERROR(FIND(\" \",注文書!$D$17),IFERROR(FIND(\"　\",注文書!$D$17),0))+1,10)&\"*\",医療機関マスタ!$C:$C,0),1)","v":"医療法人社団斗南堂　八王子クリニック"},{"$f":"配送情報書!X767","v":""},{"$f":"配送情報書!Z767","v":"00:00:00"},{"$f":"配送情報書!$V767","v":""},"転記不要",null,null,null,{"$f":"配送情報書!T767","v":0},{"$f":"COUNTIF($A$3:A765,A765)","v":763}]
[{"$f":"配送情報書!A768","v":0},{"$f":"配送情報書!AB768","v":0},{"$f":"配送情報書!AA768","v":0},{"$f":"配送情報書!AC768","v":0},{"$f":"INDEX(医療機関マスタ!$A:$A,MATCH(F766,医療機関マスタ!$B:$B,0),1)","v":"AH0000001"},{"$f":"INDEX(医療機関マスタ!$B:$B,MATCH(\"*\"&MID(注文書!$D$17,IFERROR(FIND(\" \",注文書!$D$17),IFERROR(FIND(\"　\",注文書!$D$17),0))+1,10)&\"*\",医療機関マスタ!$C:$C,0),1)","v":"医療法人社団斗南堂　八王子クリニック"},{"$f":"配送情報書!X768","v":""},{"$f":"配送情報書!Z768","v":"00:00:00"},{"$f":"配送情報書!$V768","v":""},"転記不要",null,null,null,{"$f":"配送情報書!T768","v":0},{"$f":"COUNTIF($A$3:A766,A766)","v":764}]
[{"$f":"配送情報書!A769","v":0},{"$f":"配送情報書!AB769","v":0},{"$f":"配送情報書!AA769","v":0},{"$f":"配送情報書!AC769","v":0},{"$f":"INDEX(医療機関マスタ!$A:$A,MATCH(F767,医療機関マスタ!$B:$B,0),1)","v":"AH0000001"},{"$f":"INDEX(医療機関マスタ!$B:$B,MATCH(\"*\"&MID(注文書!$D$17,IFERROR(FIND(\" \",注文書!$D$17),IFERROR(FIND(\"　\",注文書!$D$17),0))+1,10)&\"*\",医療機関マスタ!$C:$C,0),1)","v":"医療法人社団斗南堂　八王子クリニック"},{"$f":"配送情報書!X769","v":""},{"$f":"配送情報書!Z769","v":"00:00:00"},{"$f":"配送情報書!$V769","v":""},"転記不要",null,null,null,{"$f":"配送情報書!T769","v":0},{"$f":"COUNTIF($A$3:A767,A767)","v":765}]
[{"$f":"配送情報書!A770","v":0},{"$f":"配送情報書!AB770","v":0},{"$f":"配送情報書!AA770","v":0},{"$f":"配送情報書!AC770","v":0},{"$f":"INDEX(医療機関マスタ!$A:$A,MATCH(F768,医療機関マスタ!$B:$B,0),1)","v":"AH0000001"},{"$f":"INDEX(医療機関マスタ!$B:$B,MATCH(\"*\"&MID(注文書!$D$17,IFERROR(FIND(\" \",注文書!$D$17),IFERROR(FIND(\"　\",注文書!$D$17),0))+1,10)&\"*\",医療機関マスタ!$C:$C,0),1)","v":"医療法人社団斗南堂　八王子クリニック"},{"$f":"配送情報書!X770","v":""},{"$f":"配送情報書!Z770","v":"00:00:00"},{"$f":"配送情報書!$V770","v":""},"転記不要",null,null,null,{"$f":"配送情報書!T770","v":0},{"$f":"COUNTIF($A$3:A768,A768)","v":766}]
[{"$f":"配送情報書!A771","v":0},{"$f":"配送情報書!AB771","v":0},{"$f":"配送情報書!AA771","v":0},{"$f":"配送情報書!AC771","v":0},{"$f":"INDEX(医療機関マスタ!$A:$A,MATCH(F769,医療機関マスタ!$B:$B,0),1)","v":"AH0000001"},{"$f":"INDEX(医療機関マスタ!$B:$B,MATCH(\"*\"&MID(注文書!$D$17,IFERROR(FIND(\" \",注文書!$D$17),IFERROR(FIND(\"　\",注文書!$D$17),0))+1,10)&\"*\",医療機関マスタ!$C:$C,0),1)","v":"医療法人社団斗南堂　八王子クリニック"},{"$f":"配送情報書!X771","v":""},{"$f":"配送情報書!Z771","v":"00:00:00"},{"$f":"配送情報書!$V771","v":""},"転記不要",null,null,null,{"$f":"配送情報書!T771","v":0},{"$f":"COUNTIF($A$3:A769,A769)","v":767}]
[{"$f":"配送情報書!A772","v":0},{"$f":"配送情報書!AB772","v":0},{"$f":"配送情報書!AA772","v":0},{"$f":"配送情報書!AC772","v":0},{"$f":"INDEX(医療機関マスタ!$A:$A,MATCH(F770,医療機関マスタ!$B:$B,0),1)","v":"AH0000001"},{"$f":"INDEX(医療機関マスタ!$B:$B,MATCH(\"*\"&MID(注文書!$D$17,IFERROR(FIND(\" \",注文書!$D$17),IFERROR(FIND(\"　\",注文書!$D$17),0))+1,10)&\"*\",医療機関マスタ!$C:$C,0),1)","v":"医療法人社団斗南堂　八王子クリニック"},{"$f":"配送情報書!X772","v":""},{"$f":"配送情報書!Z772","v":"00:00:00"},{"$f":"配送情報書!$V772","v":""},"転記不要",null,null,null,{"$f":"配送情報書!T772","v":0},{"$f":"COUNTIF($A$3:A770,A770)","v":768}]
[{"$f":"配送情報書!A773","v":0},{"$f":"配送情報書!AB773","v":0},{"$f":"配送情報書!AA773","v":0},{"$f":"配送情報書!AC773","v":0},{"$f":"INDEX(医療機関マスタ!$A:$A,MATCH(F771,医療機関マスタ!$B:$B,0),1)","v":"AH0000001"},{"$f":"INDEX(医療機関マスタ!$B:$B,MATCH(\"*\"&MID(注文書!$D$17,IFERROR(FIND(\" \",注文書!$D$17),IFERROR(FIND(\"　\",注文書!$D$17),0))+1,10)&\"*\",医療機関マスタ!$C:$C,0),1)","v":"医療法人社団斗南堂　八王子クリニック"},{"$f":"配送情報書!X773","v":""},{"$f":"配送情報書!Z773","v":"00:00:00"},{"$f":"配送情報書!$V773","v":""},"転記不要",null,null,null,{"$f":"配送情報書!T773","v":0},{"$f":"COUNTIF($A$3:A771,A771)","v":769}]
[{"$f":"配送情報書!A774","v":0},{"$f":"配送情報書!AB774","v":0},{"$f":"配送情報書!AA774","v":0},{"$f":"配送情報書!AC774","v":0},{"$f":"INDEX(医療機関マスタ!$A:$A,MATCH(F772,医療機関マスタ!$B:$B,0),1)","v":"AH0000001"},{"$f":"INDEX(医療機関マスタ!$B:$B,MATCH(\"*\"&MID(注文書!$D$17,IFERROR(FIND(\" \",注文書!$D$17),IFERROR(FIND(\"　\",注文書!$D$17),0))+1,10)&\"*\",医療機関マスタ!$C:$C,0),1)","v":"医療法人社団斗南堂　八王子クリニック"},{"$f":"配送情報書!X774","v":""},{"$f":"配送情報書!Z774","v":"00:00:00"},{"$f":"配送情報書!$V774","v":""},{"$f":"IF(AND(N772>0,O772=1),SUMIFS($N:$N,$A:$A,A772),\"転記不要\")","v":"転記不要"},null,null,null,{"$f":"配送情報書!T774","v":0},{"$f":"COUNTIF($A$3:A772,A772)","v":770}]
[{"$f":"配送情報書!A775","v":0},{"$f":"配送情報書!AB775","v":0},{"$f":"配送情報書!AA775","v":0},{"$f":"配送情報書!AC775","v":0},{"$f":"INDEX(医療機関マスタ!$A:$A,MATCH(F773,医療機関マスタ!$B:$B,0),1)","v":"AH0000001"},{"$f":"INDEX(医療機関マスタ!$B:$B,MATCH(\"*\"&MID(注文書!$D$17,IFERROR(FIND(\" \",注文書!$D$17),IFERROR(FIND(\"　\",注文書!$D$17),0))+1,10)&\"*\",医療機関マスタ!$C:$C,0),1)","v":"医療法人社団斗南堂　八王子クリニック"},{"$f":"配送情報書!X775","v":""},{"$f":"配送情報書!Z775","v":"00:00:00"},{"$f":"配送情報書!$V775","v":""},"転記不要",null,null,null,{"$f":"配送情報書!T775","v":0},{"$f":"COUNTIF($A$3:A773,A773)","v":771}]
[{"$f":"配送情報書!A776","v":0},{"$f":"配送情報書!AB776","v":0},{"$f":"配送情報書!AA776","v":0},{"$f":"配送情報書!AC776","v":0},{"$f":"INDEX(医療機関マスタ!$A:$A,MATCH(F774,医療機関マスタ!$B:$B,0),1)","v":"AH0000001"},{"$f":"INDEX(医療機関マスタ!$B:$B,MATCH(\"*\"&MID(注文書!$D$17,IFERROR(FIND(\" \",注文書!$D$17),IFERROR(FIND(\"　\",注文書!$D$17),0))+1,10)&\"*\",医療機関マスタ!$C:$C,0),1)","v":"医療法人社団斗南堂　八王子クリニック"},{"$f":"配送情報書!X776","v":""},{"$f":"配送情報書!Z776","v":"00:00:00"},{"$f":"配送情報書!$V776","v":""},"転記不要",null,null,null,{"$f":"配送情報書!T776","v":0},{"$f":"COUNTIF($A$3:A774,A774)","v":772}]
[{"$f":"配送情報書!A777","v":0},{"$f":"配送情報書!AB777","v":0},{"$f":"配送情報書!AA777","v":0},{"$f":"配送情報書!AC777","v":0},{"$f":"INDEX(医療機関マスタ!$A:$A,MATCH(F775,医療機関マスタ!$B:$B,0),1)","v":"AH0000001"},{"$f":"INDEX(医療機関マスタ!$B:$B,MATCH(\"*\"&MID(注文書!$D$17,IFERROR(FIND(\" \",注文書!$D$17),IFERROR(FIND(\"　\",注文書!$D$17),0))+1,10)&\"*\",医療機関マスタ!$C:$C,0),1)","v":"医療法人社団斗南堂　八王子クリニック"},{"$f":"配送情報書!X777","v":""},{"$f":"配送情報書!Z777","v":"00:00:00"},{"$f":"配送情報書!$V777","v":""},"転記不要",null,null,null,{"$f":"配送情報書!T777","v":0},{"$f":"COUNTIF($A$3:A775,A775)","v":773}]
[{"$f":"配送情報書!A778","v":0},{"$f":"配送情報書!AB778","v":0},{"$f":"配送情報書!AA778","v":0},{"$f":"配送情報書!AC778","v":0},{"$f":"INDEX(医療機関マスタ!$A:$A,MATCH(F776,医療機関マスタ!$B:$B,0),1)","v":"AH0000001"},{"$f":"INDEX(医療機関マスタ!$B:$B,MATCH(\"*\"&MID(注文書!$D$17,IFERROR(FIND(\" \",注文書!$D$17),IFERROR(FIND(\"　\",注文書!$D$17),0))+1,10)&\"*\",医療機関マスタ!$C:$C,0),1)","v":"医療法人社団斗南堂　八王子クリニック"},{"$f":"配送情報書!X778","v":""},{"$f":"配送情報書!Z778","v":"00:00:00"},{"$f":"配送情報書!$V778","v":""},"転記不要",null,null,null,{"$f":"配送情報書!T778","v":0},{"$f":"COUNTIF($A$3:A776,A776)","v":774}]
[{"$f":"配送情報書!A779","v":0},{"$f":"配送情報書!AB779","v":0},{"$f":"配送情報書!AA779","v":0},{"$f":"配送情報書!AC779","v":0},{"$f":"INDEX(医療機関マスタ!$A:$A,MATCH(F777,医療機関マスタ!$B:$B,0),1)","v":"AH0000001"},{"$f":"INDEX(医療機関マスタ!$B:$B,MATCH(\"*\"&MID(注文書!$D$17,IFERROR(FIND(\" \",注文書!$D$17),IFERROR(FIND(\"　\",注文書!$D$17),0))+1,10)&\"*\",医療機関マスタ!$C:$C,0),1)","v":"医療法人社団斗南堂　八王子クリニック"},{"$f":"配送情報書!X779","v":""},{"$f":"配送情報書!Z779","v":"00:00:00"},{"$f":"配送情報書!$V779","v":""},"転記不要",null,null,null,{"$f":"配送情報書!T779","v":0},{"$f":"COUNTIF($A$3:A777,A777)","v":775}]
[{"$f":"配送情報書!A780","v":0},{"$f":"配送情報書!AB780","v":0},{"$f":"配送情報書!AA780","v":0},{"$f":"配送情報書!AC780","v":0},{"$f":"INDEX(医療機関マスタ!$A:$A,MATCH(F778,医療機関マスタ!$B:$B,0),1)","v":"AH0000001"},{"$f":"INDEX(医療機関マスタ!$B:$B,MATCH(\"*\"&MID(注文書!$D$17,IFERROR(FIND(\" \",注文書!$D$17),IFERROR(FIND(\"　\",注文書!$D$17),0))+1,10)&\"*\",医療機関マスタ!$C:$C,0),1)","v":"医療法人社団斗南堂　八王子クリニック"},{"$f":"配送情報書!X780","v":""},{"$f":"配送情報書!Z780","v":"00:00:00"},{"$f":"配送情報書!$V780","v":""},"転記不要",null,null,null,{"$f":"配送情報書!T780","v":0},{"$f":"COUNTIF($A$3:A778,A778)","v":776}]
[{"$f":"配送情報書!A781","v":0},{"$f":"配送情報書!AB781","v":0},{"$f":"配送情報書!AA781","v":0},{"$f":"配送情報書!AC781","v":0},{"$f":"INDEX(医療機関マスタ!$A:$A,MATCH(F779,医療機関マスタ!$B:$B,0),1)","v":"AH0000001"},{"$f":"INDEX(医療機関マスタ!$B:$B,MATCH(\"*\"&MID(注文書!$D$17,IFERROR(FIND(\" \",注文書!$D$17),IFERROR(FIND(\"　\",注文書!$D$17),0))+1,10)&\"*\",医療機関マスタ!$C:$C,0),1)","v":"医療法人社団斗南堂　八王子クリニック"},{"$f":"配送情報書!X781","v":""},{"$f":"配送情報書!Z781","v":"00:00:00"},{"$f":"配送情報書!$V781","v":""},"転記不要",null,null,null,{"$f":"配送情報書!T781","v":0},{"$f":"COUNTIF($A$3:A779,A779)","v":777}]
[{"$f":"配送情報書!A782","v":0},{"$f":"配送情報書!AB782","v":0},{"$f":"配送情報書!AA782","v":0},{"$f":"配送情報書!AC782","v":0},{"$f":"INDEX(医療機関マスタ!$A:$A,MATCH(F780,医療機関マスタ!$B:$B,0),1)","v":"AH0000001"},{"$f":"INDEX(医療機関マスタ!$B:$B,MATCH(\"*\"&MID(注文書!$D$17,IFERROR(FIND(\" \",注文書!$D$17),IFERROR(FIND(\"　\",注文書!$D$17),0))+1,10)&\"*\",医療機関マスタ!$C:$C,0),1)","v":"医療法人社団斗南堂　八王子クリニック"},{"$f":"配送情報書!X782","v":""},{"$f":"配送情報書!Z782","v":"00:00:00"},{"$f":"配送情報書!$V782","v":""},"転記不要",null,null,null,{"$f":"配送情報書!T782","v":0},{"$f":"COUNTIF($A$3:A780,A780)","v":778}]
[{"$f":"配送情報書!A783","v":0},{"$f":"配送情報書!AB783","v":0},{"$f":"配送情報書!AA783","v":0},{"$f":"配送情報書!AC783","v":0},{"$f":"INDEX(医療機関マスタ!$A:$A,MATCH(F781,医療機関マスタ!$B:$B,0),1)","v":"AH0000001"},{"$f":"INDEX(医療機関マスタ!$B:$B,MATCH(\"*\"&MID(注文書!$D$17,IFERROR(FIND(\" \",注文書!$D$17),IFERROR(FIND(\"　\",注文書!$D$17),0))+1,10)&\"*\",医療機関マスタ!$C:$C,0),1)","v":"医療法人社団斗南堂　八王子クリニック"},{"$f":"配送情報書!X783","v":""},{"$f":"配送情報書!Z783","v":"00:00:00"},{"$f":"配送情報書!$V783","v":""},"転記不要",null,null,null,{"$f":"配送情報書!T783","v":0},{"$f":"COUNTIF($A$3:A781,A781)","v":779}]
[{"$f":"配送情報書!A784","v":0},{"$f":"配送情報書!AB784","v":0},{"$f":"配送情報書!AA784","v":0},{"$f":"配送情報書!AC784","v":0},{"$f":"INDEX(医療機関マスタ!$A:$A,MATCH(F782,医療機関マスタ!$B:$B,0),1)","v":"AH0000001"},{"$f":"INDEX(医療機関マスタ!$B:$B,MATCH(\"*\"&MID(注文書!$D$17,IFERROR(FIND(\" \",注文書!$D$17),IFERROR(FIND(\"　\",注文書!$D$17),0))+1,10)&\"*\",医療機関マスタ!$C:$C,0),1)","v":"医療法人社団斗南堂　八王子クリニック"},{"$f":"配送情報書!X784","v":""},{"$f":"配送情報書!Z784","v":"00:00:00"},{"$f":"配送情報書!$V784","v":""},"転記不要",null,null,null,{"$f":"配送情報書!T784","v":0},{"$f":"COUNTIF($A$3:A782,A782)","v":780}]
[{"$f":"配送情報書!A785","v":0},{"$f":"配送情報書!AB785","v":0},{"$f":"配送情報書!AA785","v":0},{"$f":"配送情報書!AC785","v":0},{"$f":"INDEX(医療機関マスタ!$A:$A,MATCH(F783,医療機関マスタ!$B:$B,0),1)","v":"AH0000001"},{"$f":"INDEX(医療機関マスタ!$B:$B,MATCH(\"*\"&MID(注文書!$D$17,IFERROR(FIND(\" \",注文書!$D$17),IFERROR(FIND(\"　\",注文書!$D$17),0))+1,10)&\"*\",医療機関マスタ!$C:$C,0),1)","v":"医療法人社団斗南堂　八王子クリニック"},{"$f":"配送情報書!X785","v":""},{"$f":"配送情報書!Z785","v":"00:00:00"},{"$f":"配送情報書!$V785","v":""},"転記不要",null,null,null,{"$f":"配送情報書!T785","v":0},{"$f":"COUNTIF($A$3:A783,A783)","v":781}]
[{"$f":"配送情報書!A786","v":0},{"$f":"配送情報書!AB786","v":0},{"$f":"配送情報書!AA786","v":0},{"$f":"配送情報書!AC786","v":0},{"$f":"INDEX(医療機関マスタ!$A:$A,MATCH(F784,医療機関マスタ!$B:$B,0),1)","v":"AH0000001"},{"$f":"INDEX(医療機関マスタ!$B:$B,MATCH(\"*\"&MID(注文書!$D$17,IFERROR(FIND(\" \",注文書!$D$17),IFERROR(FIND(\"　\",注文書!$D$17),0))+1,10)&\"*\",医療機関マスタ!$C:$C,0),1)","v":"医療法人社団斗南堂　八王子クリニック"},{"$f":"配送情報書!X786","v":""},{"$f":"配送情報書!Z786","v":"00:00:00"},{"$f":"配送情報書!$V786","v":""},"転記不要",null,null,null,{"$f":"配送情報書!T786","v":0},{"$f":"COUNTIF($A$3:A784,A784)","v":782}]
[{"$f":"配送情報書!A787","v":0},{"$f":"配送情報書!AB787","v":0},{"$f":"配送情報書!AA787","v":0},{"$f":"配送情報書!AC787","v":0},{"$f":"INDEX(医療機関マスタ!$A:$A,MATCH(F785,医療機関マスタ!$B:$B,0),1)","v":"AH0000001"},{"$f":"INDEX(医療機関マスタ!$B:$B,MATCH(\"*\"&MID(注文書!$D$17,IFERROR(FIND(\" \",注文書!$D$17),IFERROR(FIND(\"　\",注文書!$D$17),0))+1,10)&\"*\",医療機関マスタ!$C:$C,0),1)","v":"医療法人社団斗南堂　八王子クリニック"},{"$f":"配送情報書!X787","v":""},{"$f":"配送情報書!Z787","v":"00:00:00"},{"$f":"配送情報書!$V787","v":""},"転記不要",null,null,null,{"$f":"配送情報書!T787","v":0},{"$f":"COUNTIF($A$3:A785,A785)","v":783}]
[{"$f":"配送情報書!A788","v":0},{"$f":"配送情報書!AB788","v":0},{"$f":"配送情報書!AA788","v":0},{"$f":"配送情報書!AC788","v":0},{"$f":"INDEX(医療機関マスタ!$A:$A,MATCH(F786,医療機関マスタ!$B:$B,0),1)","v":"AH0000001"},{"$f":"INDEX(医療機関マスタ!$B:$B,MATCH(\"*\"&MID(注文書!$D$17,IFERROR(FIND(\" \",注文書!$D$17),IFERROR(FIND(\"　\",注文書!$D$17),0))+1,10)&\"*\",医療機関マスタ!$C:$C,0),1)","v":"医療法人社団斗南堂　八王子クリニック"},{"$f":"配送情報書!X788","v":""},{"$f":"配送情報書!Z788","v":"00:00:00"},{"$f":"配送情報書!$V788","v":""},"転記不要",null,null,null,{"$f":"配送情報書!T788","v":0},{"$f":"COUNTIF($A$3:A786,A786)","v":784}]
[{"$f":"配送情報書!A789","v":0},{"$f":"配送情報書!AB789","v":0},{"$f":"配送情報書!AA789","v":0},{"$f":"配送情報書!AC789","v":0},{"$f":"INDEX(医療機関マスタ!$A:$A,MATCH(F787,医療機関マスタ!$B:$B,0),1)","v":"AH0000001"},{"$f":"INDEX(医療機関マスタ!$B:$B,MATCH(\"*\"&MID(注文書!$D$17,IFERROR(FIND(\" \",注文書!$D$17),IFERROR(FIND(\"　\",注文書!$D$17),0))+1,10)&\"*\",医療機関マスタ!$C:$C,0),1)","v":"医療法人社団斗南堂　八王子クリニック"},{"$f":"配送情報書!X789","v":""},{"$f":"配送情報書!Z789","v":"00:00:00"},{"$f":"配送情報書!$V789","v":""},"転記不要",null,null,null,{"$f":"配送情報書!T789","v":0},{"$f":"COUNTIF($A$3:A787,A787)","v":785}]
[{"$f":"配送情報書!A790","v":0},{"$f":"配送情報書!AB790","v":0},{"$f":"配送情報書!AA790","v":0},{"$f":"配送情報書!AC790","v":0},{"$f":"INDEX(医療機関マスタ!$A:$A,MATCH(F788,医療機関マスタ!$B:$B,0),1)","v":"AH0000001"},{"$f":"INDEX(医療機関マスタ!$B:$B,MATCH(\"*\"&MID(注文書!$D$17,IFERROR(FIND(\" \",注文書!$D$17),IFERROR(FIND(\"　\",注文書!$D$17),0))+1,10)&\"*\",医療機関マスタ!$C:$C,0),1)","v":"医療法人社団斗南堂　八王子クリニック"},{"$f":"配送情報書!X790","v":""},{"$f":"配送情報書!Z790","v":"00:00:00"},{"$f":"配送情報書!$V790","v":""},"転記不要",null,null,null,{"$f":"配送情報書!T790","v":0},{"$f":"COUNTIF($A$3:A788,A788)","v":786}]
[{"$f":"配送情報書!A791","v":0},{"$f":"配送情報書!AB791","v":0},{"$f":"配送情報書!AA791","v":0},{"$f":"配送情報書!AC791","v":0},{"$f":"INDEX(医療機関マスタ!$A:$A,MATCH(F789,医療機関マスタ!$B:$B,0),1)","v":"AH0000001"},{"$f":"INDEX(医療機関マスタ!$B:$B,MATCH(\"*\"&MID(注文書!$D$17,IFERROR(FIND(\" \",注文書!$D$17),IFERROR(FIND(\"　\",注文書!$D$17),0))+1,10)&\"*\",医療機関マスタ!$C:$C,0),1)","v":"医療法人社団斗南堂　八王子クリニック"},{"$f":"配送情報書!X791","v":""},{"$f":"配送情報書!Z791","v":"00:00:00"},{"$f":"配送情報書!$V791","v":""},"転記不要",null,null,null,{"$f":"配送情報書!T791","v":0},{"$f":"COUNTIF($A$3:A789,A789)","v":787}]
[{"$f":"配送情報書!A792","v":0},{"$f":"配送情報書!AB792","v":0},{"$f":"配送情報書!AA792","v":0},{"$f":"配送情報書!AC792","v":0},{"$f":"INDEX(医療機関マスタ!$A:$A,MATCH(F790,医療機関マスタ!$B:$B,0),1)","v":"AH0000001"},{"$f":"INDEX(医療機関マスタ!$B:$B,MATCH(\"*\"&MID(注文書!$D$17,IFERROR(FIND(\" \",注文書!$D$17),IFERROR(FIND(\"　\",注文書!$D$17),0))+1,10)&\"*\",医療機関マスタ!$C:$C,0),1)","v":"医療法人社団斗南堂　八王子クリニック"},{"$f":"配送情報書!X792","v":""},{"$f":"配送情報書!Z792","v":"00:00:00"},{"$f":"配送情報書!$V792","v":""},"転記不要",null,null,null,{"$f":"配送情報書!T792","v":0},{"$f":"COUNTIF($A$3:A790,A790)","v":788}]
[{"$f":"配送情報書!A793","v":0},{"$f":"配送情報書!AB793","v":0},{"$f":"配送情報書!AA793","v":0},{"$f":"配送情報書!AC793","v":0},{"$f":"INDEX(医療機関マスタ!$A:$A,MATCH(F791,医療機関マスタ!$B:$B,0),1)","v":"AH0000001"},{"$f":"INDEX(医療機関マスタ!$B:$B,MATCH(\"*\"&MID(注文書!$D$17,IFERROR(FIND(\" \",注文書!$D$17),IFERROR(FIND(\"　\",注文書!$D$17),0))+1,10)&\"*\",医療機関マスタ!$C:$C,0),1)","v":"医療法人社団斗南堂　八王子クリニック"},{"$f":"配送情報書!X793","v":""},{"$f":"配送情報書!Z793","v":"00:00:00"},{"$f":"配送情報書!$V793","v":""},"転記不要",null,null,null,{"$f":"配送情報書!T793","v":0},{"$f":"COUNTIF($A$3:A791,A791)","v":789}]
[{"$f":"配送情報書!A794","v":0},{"$f":"配送情報書!AB794","v":0},{"$f":"配送情報書!AA794","v":0},{"$f":"配送情報書!AC794","v":0},{"$f":"INDEX(医療機関マスタ!$A:$A,MATCH(F792,医療機関マスタ!$B:$B,0),1)","v":"AH0000001"},{"$f":"INDEX(医療機関マスタ!$B:$B,MATCH(\"*\"&MID(注文書!$D$17,IFERROR(FIND(\" \",注文書!$D$17),IFERROR(FIND(\"　\",注文書!$D$17),0))+1,10)&\"*\",医療機関マスタ!$C:$C,0),1)","v":"医療法人社団斗南堂　八王子クリニック"},{"$f":"配送情報書!X794","v":""},{"$f":"配送情報書!Z794","v":"00:00:00"},{"$f":"配送情報書!$V794","v":""},"転記不要",null,null,null,{"$f":"配送情報書!T794","v":0},{"$f":"COUNTIF($A$3:A792,A792)","v":790}]
[{"$f":"配送情報書!A795","v":0},{"$f":"配送情報書!AB795","v":0},{"$f":"配送情報書!AA795","v":0},{"$f":"配送情報書!AC795","v":0},{"$f":"INDEX(医療機関マスタ!$A:$A,MATCH(F793,医療機関マスタ!$B:$B,0),1)","v":"AH0000001"},{"$f":"INDEX(医療機関マスタ!$B:$B,MATCH(\"*\"&MID(注文書!$D$17,IFERROR(FIND(\" \",注文書!$D$17),IFERROR(FIND(\"　\",注文書!$D$17),0))+1,10)&\"*\",医療機関マスタ!$C:$C,0),1)","v":"医療法人社団斗南堂　八王子クリニック"},{"$f":"配送情報書!X795","v":""},{"$f":"配送情報書!Z795","v":"00:00:00"},{"$f":"配送情報書!$V795","v":""},"転記不要",null,null,null,{"$f":"配送情報書!T795","v":0},{"$f":"COUNTIF($A$3:A793,A793)","v":791}]
[{"$f":"配送情報書!A796","v":0},{"$f":"配送情報書!AB796","v":0},{"$f":"配送情報書!AA796","v":0},{"$f":"配送情報書!AC796","v":0},{"$f":"INDEX(医療機関マスタ!$A:$A,MATCH(F794,医療機関マスタ!$B:$B,0),1)","v":"AH0000001"},{"$f":"INDEX(医療機関マスタ!$B:$B,MATCH(\"*\"&MID(注文書!$D$17,IFERROR(FIND(\" \",注文書!$D$17),IFERROR(FIND(\"　\",注文書!$D$17),0))+1,10)&\"*\",医療機関マスタ!$C:$C,0),1)","v":"医療法人社団斗南堂　八王子クリニック"},{"$f":"配送情報書!X796","v":""},{"$f":"配送情報書!Z796","v":"00:00:00"},{"$f":"配送情報書!$V796","v":""},"転記不要",null,null,null,{"$f":"配送情報書!T796","v":0},{"$f":"COUNTIF($A$3:A794,A794)","v":792}]
[{"$f":"配送情報書!A797","v":0},{"$f":"配送情報書!AB797","v":0},{"$f":"配送情報書!AA797","v":0},{"$f":"配送情報書!AC797","v":0},{"$f":"INDEX(医療機関マスタ!$A:$A,MATCH(F795,医療機関マスタ!$B:$B,0),1)","v":"AH0000001"},{"$f":"INDEX(医療機関マスタ!$B:$B,MATCH(\"*\"&MID(注文書!$D$17,IFERROR(FIND(\" \",注文書!$D$17),IFERROR(FIND(\"　\",注文書!$D$17),0))+1,10)&\"*\",医療機関マスタ!$C:$C,0),1)","v":"医療法人社団斗南堂　八王子クリニック"},{"$f":"配送情報書!X797","v":""},{"$f":"配送情報書!Z797","v":"00:00:00"},{"$f":"配送情報書!$V797","v":""},"転記不要",null,null,null,{"$f":"配送情報書!T797","v":0},{"$f":"COUNTIF($A$3:A795,A795)","v":793}]
[{"$f":"配送情報書!A798","v":0},{"$f":"配送情報書!AB798","v":0},{"$f":"配送情報書!AA798","v":0},{"$f":"配送情報書!AC798","v":0},{"$f":"INDEX(医療機関マスタ!$A:$A,MATCH(F796,医療機関マスタ!$B:$B,0),1)","v":"AH0000001"},{"$f":"INDEX(医療機関マスタ!$B:$B,MATCH(\"*\"&MID(注文書!$D$17,IFERROR(FIND(\" \",注文書!$D$17),IFERROR(FIND(\"　\",注文書!$D$17),0))+1,10)&\"*\",医療機関マスタ!$C:$C,0),1)","v":"医療法人社団斗南堂　八王子クリニック"},{"$f":"配送情報書!X798","v":""},{"$f":"配送情報書!Z798","v":"00:00:00"},{"$f":"配送情報書!$V798","v":""},"転記不要",null,null,null,{"$f":"配送情報書!T798","v":0},{"$f":"COUNTIF($A$3:A796,A796)","v":794}]
[{"$f":"配送情報書!A799","v":0},{"$f":"配送情報書!AB799","v":0},{"$f":"配送情報書!AA799","v":0},{"$f":"配送情報書!AC799","v":0},{"$f":"INDEX(医療機関マスタ!$A:$A,MATCH(F797,医療機関マスタ!$B:$B,0),1)","v":"AH0000001"},{"$f":"INDEX(医療機関マスタ!$B:$B,MATCH(\"*\"&MID(注文書!$D$17,IFERROR(FIND(\" \",注文書!$D$17),IFERROR(FIND(\"　\",注文書!$D$17),0))+1,10)&\"*\",医療機関マスタ!$C:$C,0),1)","v":"医療法人社団斗南堂　八王子クリニック"},{"$f":"配送情報書!X799","v":""},{"$f":"配送情報書!Z799","v":"00:00:00"},{"$f":"配送情報書!$V799","v":""},"転記不要",null,null,null,{"$f":"配送情報書!T799","v":0},{"$f":"COUNTIF($A$3:A797,A797)","v":795}]
[{"$f":"配送情報書!A800","v":0},{"$f":"配送情報書!AB800","v":0},{"$f":"配送情報書!AA800","v":0},{"$f":"配送情報書!AC800","v":0},{"$f":"INDEX(医療機関マスタ!$A:$A,MATCH(F798,医療機関マスタ!$B:$B,0),1)","v":"AH0000001"},{"$f":"INDEX(医療機関マスタ!$B:$B,MATCH(\"*\"&MID(注文書!$D$17,IFERROR(FIND(\" \",注文書!$D$17),IFERROR(FIND(\"　\",注文書!$D$17),0))+1,10)&\"*\",医療機関マスタ!$C:$C,0),1)","v":"医療法人社団斗南堂　八王子クリニック"},{"$f":"配送情報書!X800","v":""},{"$f":"配送情報書!Z800","v":"00:00:00"},{"$f":"配送情報書!$V800","v":""},"転記不要",null,null,null,{"$f":"配送情報書!T800","v":0},{"$f":"COUNTIF($A$3:A798,A798)","v":796}]
[{"$f":"配送情報書!A801","v":0},{"$f":"配送情報書!AB801","v":0},{"$f":"配送情報書!AA801","v":0},{"$f":"配送情報書!AC801","v":0},{"$f":"INDEX(医療機関マスタ!$A:$A,MATCH(F799,医療機関マスタ!$B:$B,0),1)","v":"AH0000001"},{"$f":"INDEX(医療機関マスタ!$B:$B,MATCH(\"*\"&MID(注文書!$D$17,IFERROR(FIND(\" \",注文書!$D$17),IFERROR(FIND(\"　\",注文書!$D$17),0))+1,10)&\"*\",医療機関マスタ!$C:$C,0),1)","v":"医療法人社団斗南堂　八王子クリニック"},{"$f":"配送情報書!X801","v":""},{"$f":"配送情報書!Z801","v":"00:00:00"},{"$f":"配送情報書!$V801","v":""},"転記不要",null,null,null,{"$f":"配送情報書!T801","v":0},{"$f":"COUNTIF($A$3:A799,A799)","v":797}]
[{"$f":"配送情報書!A802","v":0},{"$f":"配送情報書!AB802","v":0},{"$f":"配送情報書!AA802","v":0},{"$f":"配送情報書!AC802","v":0},{"$f":"INDEX(医療機関マスタ!$A:$A,MATCH(F800,医療機関マスタ!$B:$B,0),1)","v":"AH0000001"},{"$f":"INDEX(医療機関マスタ!$B:$B,MATCH(\"*\"&MID(注文書!$D$17,IFERROR(FIND(\" \",注文書!$D$17),IFERROR(FIND(\"　\",注文書!$D$17),0))+1,10)&\"*\",医療機関マスタ!$C:$C,0),1)","v":"医療法人社団斗南堂　八王子クリニック"},{"$f":"配送情報書!X802","v":""},{"$f":"配送情報書!Z802","v":"00:00:00"},{"$f":"配送情報書!$V802","v":""},"転記不要",null,null,null,{"$f":"配送情報書!T802","v":0},{"$f":"COUNTIF($A$3:A800,A800)","v":798}]
[{"$f":"配送情報書!A803","v":0},{"$f":"配送情報書!AB803","v":0},{"$f":"配送情報書!AA803","v":0},{"$f":"配送情報書!AC803","v":0},{"$f":"INDEX(医療機関マスタ!$A:$A,MATCH(F801,医療機関マスタ!$B:$B,0),1)","v":"AH0000001"},{"$f":"INDEX(医療機関マスタ!$B:$B,MATCH(\"*\"&MID(注文書!$D$17,IFERROR(FIND(\" \",注文書!$D$17),IFERROR(FIND(\"　\",注文書!$D$17),0))+1,10)&\"*\",医療機関マスタ!$C:$C,0),1)","v":"医療法人社団斗南堂　八王子クリニック"},{"$f":"配送情報書!X803","v":""},{"$f":"配送情報書!Z803","v":"00:00:00"},{"$f":"配送情報書!$V803","v":""},"転記不要",null,null,null,{"$f":"配送情報書!T803","v":0},{"$f":"COUNTIF($A$3:A801,A801)","v":799}]
[{"$f":"配送情報書!A804","v":0},{"$f":"配送情報書!AB804","v":0},{"$f":"配送情報書!AA804","v":0},{"$f":"配送情報書!AC804","v":0},{"$f":"INDEX(医療機関マスタ!$A:$A,MATCH(F802,医療機関マスタ!$B:$B,0),1)","v":"AH0000001"},{"$f":"INDEX(医療機関マスタ!$B:$B,MATCH(\"*\"&MID(注文書!$D$17,IFERROR(FIND(\" \",注文書!$D$17),IFERROR(FIND(\"　\",注文書!$D$17),0))+1,10)&\"*\",医療機関マスタ!$C:$C,0),1)","v":"医療法人社団斗南堂　八王子クリニック"},{"$f":"配送情報書!X804","v":""},{"$f":"配送情報書!Z804","v":"00:00:00"},{"$f":"配送情報書!$V804","v":""},"転記不要",null,null,null,{"$f":"配送情報書!T804","v":0},{"$f":"COUNTIF($A$3:A802,A802)","v":800}]
[{"$f":"配送情報書!A805","v":0},{"$f":"配送情報書!AB805","v":0},{"$f":"配送情報書!AA805","v":0},{"$f":"配送情報書!AC805","v":0},{"$f":"INDEX(医療機関マスタ!$A:$A,MATCH(F803,医療機関マスタ!$B:$B,0),1)","v":"AH0000001"},{"$f":"INDEX(医療機関マスタ!$B:$B,MATCH(\"*\"&MID(注文書!$D$17,IFERROR(FIND(\" \",注文書!$D$17),IFERROR(FIND(\"　\",注文書!$D$17),0))+1,10)&\"*\",医療機関マスタ!$C:$C,0),1)","v":"医療法人社団斗南堂　八王子クリニック"},{"$f":"配送情報書!X805","v":""},{"$f":"配送情報書!Z805","v":"00:00:00"},{"$f":"配送情報書!$V805","v":""},"転記不要",null,null,null,{"$f":"配送情報書!T805","v":0},{"$f":"COUNTIF($A$3:A803,A803)","v":801}]
[{"$f":"配送情報書!A806","v":0},{"$f":"配送情報書!AB806","v":0},{"$f":"配送情報書!AA806","v":0},{"$f":"配送情報書!AC806","v":0},{"$f":"INDEX(医療機関マスタ!$A:$A,MATCH(F804,医療機関マスタ!$B:$B,0),1)","v":"AH0000001"},{"$f":"INDEX(医療機関マスタ!$B:$B,MATCH(\"*\"&MID(注文書!$D$17,IFERROR(FIND(\" \",注文書!$D$17),IFERROR(FIND(\"　\",注文書!$D$17),0))+1,10)&\"*\",医療機関マスタ!$C:$C,0),1)","v":"医療法人社団斗南堂　八王子クリニック"},{"$f":"配送情報書!X806","v":""},{"$f":"配送情報書!Z806","v":"00:00:00"},{"$f":"配送情報書!$V806","v":""},"転記不要",null,null,null,{"$f":"配送情報書!T806","v":0},{"$f":"COUNTIF($A$3:A804,A804)","v":802}]
[{"$f":"配送情報書!A807","v":0},{"$f":"配送情報書!AB807","v":0},{"$f":"配送情報書!AA807","v":0},{"$f":"配送情報書!AC807","v":0},{"$f":"INDEX(医療機関マスタ!$A:$A,MATCH(F805,医療機関マスタ!$B:$B,0),1)","v":"AH0000001"},{"$f":"INDEX(医療機関マスタ!$B:$B,MATCH(\"*\"&MID(注文書!$D$17,IFERROR(FIND(\" \",注文書!$D$17),IFERROR(FIND(\"　\",注文書!$D$17),0))+1,10)&\"*\",医療機関マスタ!$C:$C,0),1)","v":"医療法人社団斗南堂　八王子クリニック"},{"$f":"配送情報書!X807","v":""},{"$f":"配送情報書!Z807","v":"00:00:00"},{"$f":"配送情報書!$V807","v":""},"転記不要",null,null,null,{"$f":"配送情報書!T807","v":0},{"$f":"COUNTIF($A$3:A805,A805)","v":803}]
[{"$f":"配送情報書!A808","v":0},{"$f":"配送情報書!AB808","v":0},{"$f":"配送情報書!AA808","v":0},{"$f":"配送情報書!AC808","v":0},{"$f":"INDEX(医療機関マスタ!$A:$A,MATCH(F806,医療機関マスタ!$B:$B,0),1)","v":"AH0000001"},{"$f":"INDEX(医療機関マスタ!$B:$B,MATCH(\"*\"&MID(注文書!$D$17,IFERROR(FIND(\" \",注文書!$D$17),IFERROR(FIND(\"　\",注文書!$D$17),0))+1,10)&\"*\",医療機関マスタ!$C:$C,0),1)","v":"医療法人社団斗南堂　八王子クリニック"},{"$f":"配送情報書!X808","v":""},{"$f":"配送情報書!Z808","v":"00:00:00"},{"$f":"配送情報書!$V808","v":""},"転記不要",null,null,null,{"$f":"配送情報書!T808","v":0},{"$f":"COUNTIF($A$3:A806,A806)","v":804}]
[{"$f":"配送情報書!A809","v":0},{"$f":"配送情報書!AB809","v":0},{"$f":"配送情報書!AA809","v":0},{"$f":"配送情報書!AC809","v":0},{"$f":"INDEX(医療機関マスタ!$A:$A,MATCH(F807,医療機関マスタ!$B:$B,0),1)","v":"AH0000001"},{"$f":"INDEX(医療機関マスタ!$B:$B,MATCH(\"*\"&MID(注文書!$D$17,IFERROR(FIND(\" \",注文書!$D$17),IFERROR(FIND(\"　\",注文書!$D$17),0))+1,10)&\"*\",医療機関マスタ!$C:$C,0),1)","v":"医療法人社団斗南堂　八王子クリニック"},{"$f":"配送情報書!X809","v":""},{"$f":"配送情報書!Z809","v":"00:00:00"},{"$f":"配送情報書!$V809","v":""},"転記不要",null,null,null,{"$f":"配送情報書!T809","v":0},{"$f":"COUNTIF($A$3:A807,A807)","v":805}]
[{"$f":"配送情報書!A810","v":0},{"$f":"配送情報書!AB810","v":0},{"$f":"配送情報書!AA810","v":0},{"$f":"配送情報書!AC810","v":0},{"$f":"INDEX(医療機関マスタ!$A:$A,MATCH(F808,医療機関マスタ!$B:$B,0),1)","v":"AH0000001"},{"$f":"INDEX(医療機関マスタ!$B:$B,MATCH(\"*\"&MID(注文書!$D$17,IFERROR(FIND(\" \",注文書!$D$17),IFERROR(FIND(\"　\",注文書!$D$17),0))+1,10)&\"*\",医療機関マスタ!$C:$C,0),1)","v":"医療法人社団斗南堂　八王子クリニック"},{"$f":"配送情報書!X810","v":""},{"$f":"配送情報書!Z810","v":"00:00:00"},{"$f":"配送情報書!$V810","v":""},"転記不要",null,null,null,{"$f":"配送情報書!T810","v":0},{"$f":"COUNTIF($A$3:A808,A808)","v":806}]
[{"$f":"配送情報書!A811","v":0},{"$f":"配送情報書!AB811","v":0},{"$f":"配送情報書!AA811","v":0},{"$f":"配送情報書!AC811","v":0},{"$f":"INDEX(医療機関マスタ!$A:$A,MATCH(F809,医療機関マスタ!$B:$B,0),1)","v":"AH0000001"},{"$f":"INDEX(医療機関マスタ!$B:$B,MATCH(\"*\"&MID(注文書!$D$17,IFERROR(FIND(\" \",注文書!$D$17),IFERROR(FIND(\"　\",注文書!$D$17),0))+1,10)&\"*\",医療機関マスタ!$C:$C,0),1)","v":"医療法人社団斗南堂　八王子クリニック"},{"$f":"配送情報書!X811","v":""},{"$f":"配送情報書!Z811","v":"00:00:00"},{"$f":"配送情報書!$V811","v":""},"転記不要",null,null,null,{"$f":"配送情報書!T811","v":0},{"$f":"COUNTIF($A$3:A809,A809)","v":807}]
[{"$f":"配送情報書!A812","v":0},{"$f":"配送情報書!AB812","v":0},{"$f":"配送情報書!AA812","v":0},{"$f":"配送情報書!AC812","v":0},{"$f":"INDEX(医療機関マスタ!$A:$A,MATCH(F810,医療機関マスタ!$B:$B,0),1)","v":"AH0000001"},{"$f":"INDEX(医療機関マスタ!$B:$B,MATCH(\"*\"&MID(注文書!$D$17,IFERROR(FIND(\" \",注文書!$D$17),IFERROR(FIND(\"　\",注文書!$D$17),0))+1,10)&\"*\",医療機関マスタ!$C:$C,0),1)","v":"医療法人社団斗南堂　八王子クリニック"},{"$f":"配送情報書!X812","v":""},{"$f":"配送情報書!Z812","v":"00:00:00"},{"$f":"配送情報書!$V812","v":""},"転記不要",null,null,null,{"$f":"配送情報書!T812","v":0},{"$f":"COUNTIF($A$3:A810,A810)","v":808}]
[{"$f":"配送情報書!A813","v":0},{"$f":"配送情報書!AB813","v":0},{"$f":"配送情報書!AA813","v":0},{"$f":"配送情報書!AC813","v":0},{"$f":"INDEX(医療機関マスタ!$A:$A,MATCH(F811,医療機関マスタ!$B:$B,0),1)","v":"AH0000001"},{"$f":"INDEX(医療機関マスタ!$B:$B,MATCH(\"*\"&MID(注文書!$D$17,IFERROR(FIND(\" \",注文書!$D$17),IFERROR(FIND(\"　\",注文書!$D$17),0))+1,10)&\"*\",医療機関マスタ!$C:$C,0),1)","v":"医療法人社団斗南堂　八王子クリニック"},{"$f":"配送情報書!X813","v":""},{"$f":"配送情報書!Z813","v":"00:00:00"},{"$f":"配送情報書!$V813","v":""},"転記不要",null,null,null,{"$f":"配送情報書!T813","v":0},{"$f":"COUNTIF($A$3:A811,A811)","v":809}]
[{"$f":"配送情報書!A814","v":0},{"$f":"配送情報書!AB814","v":0},{"$f":"配送情報書!AA814","v":0},{"$f":"配送情報書!AC814","v":0},{"$f":"INDEX(医療機関マスタ!$A:$A,MATCH(F812,医療機関マスタ!$B:$B,0),1)","v":"AH0000001"},{"$f":"INDEX(医療機関マスタ!$B:$B,MATCH(\"*\"&MID(注文書!$D$17,IFERROR(FIND(\" \",注文書!$D$17),IFERROR(FIND(\"　\",注文書!$D$17),0))+1,10)&\"*\",医療機関マスタ!$C:$C,0),1)","v":"医療法人社団斗南堂　八王子クリニック"},{"$f":"配送情報書!X814","v":""},{"$f":"配送情報書!Z814","v":"00:00:00"},{"$f":"配送情報書!$V814","v":""},"転記不要",null,null,null,{"$f":"配送情報書!T814","v":0},{"$f":"COUNTIF($A$3:A812,A812)","v":810}]
[{"$f":"配送情報書!A815","v":0},{"$f":"配送情報書!AB815","v":0},{"$f":"配送情報書!AA815","v":0},{"$f":"配送情報書!AC815","v":0},{"$f":"INDEX(医療機関マスタ!$A:$A,MATCH(F813,医療機関マスタ!$B:$B,0),1)","v":"AH0000001"},{"$f":"INDEX(医療機関マスタ!$B:$B,MATCH(\"*\"&MID(注文書!$D$17,IFERROR(FIND(\" \",注文書!$D$17),IFERROR(FIND(\"　\",注文書!$D$17),0))+1,10)&\"*\",医療機関マスタ!$C:$C,0),1)","v":"医療法人社団斗南堂　八王子クリニック"},{"$f":"配送情報書!X815","v":""},{"$f":"配送情報書!Z815","v":"00:00:00"},{"$f":"配送情報書!$V815","v":""},"転記不要",null,null,null,{"$f":"配送情報書!T815","v":0},{"$f":"COUNTIF($A$3:A813,A813)","v":811}]
[{"$f":"配送情報書!A816","v":0},{"$f":"配送情報書!AB816","v":0},{"$f":"配送情報書!AA816","v":0},{"$f":"配送情報書!AC816","v":0},{"$f":"INDEX(医療機関マスタ!$A:$A,MATCH(F814,医療機関マスタ!$B:$B,0),1)","v":"AH0000001"},{"$f":"INDEX(医療機関マスタ!$B:$B,MATCH(\"*\"&MID(注文書!$D$17,IFERROR(FIND(\" \",注文書!$D$17),IFERROR(FIND(\"　\",注文書!$D$17),0))+1,10)&\"*\",医療機関マスタ!$C:$C,0),1)","v":"医療法人社団斗南堂　八王子クリニック"},{"$f":"配送情報書!X816","v":""},{"$f":"配送情報書!Z816","v":"00:00:00"},{"$f":"配送情報書!$V816","v":""},"転記不要",null,null,null,{"$f":"配送情報書!T816","v":0},{"$f":"COUNTIF($A$3:A814,A814)","v":812}]
[{"$f":"配送情報書!A817","v":0},{"$f":"配送情報書!AB817","v":0},{"$f":"配送情報書!AA817","v":0},{"$f":"配送情報書!AC817","v":0},{"$f":"INDEX(医療機関マスタ!$A:$A,MATCH(F815,医療機関マスタ!$B:$B,0),1)","v":"AH0000001"},{"$f":"INDEX(医療機関マスタ!$B:$B,MATCH(\"*\"&MID(注文書!$D$17,IFERROR(FIND(\" \",注文書!$D$17),IFERROR(FIND(\"　\",注文書!$D$17),0))+1,10)&\"*\",医療機関マスタ!$C:$C,0),1)","v":"医療法人社団斗南堂　八王子クリニック"},{"$f":"配送情報書!X817","v":""},{"$f":"配送情報書!Z817","v":"00:00:00"},{"$f":"配送情報書!$V817","v":""},"転記不要",null,null,null,{"$f":"配送情報書!T817","v":0},{"$f":"COUNTIF($A$3:A815,A815)","v":813}]
[{"$f":"配送情報書!A818","v":0},{"$f":"配送情報書!AB818","v":0},{"$f":"配送情報書!AA818","v":0},{"$f":"配送情報書!AC818","v":0},{"$f":"INDEX(医療機関マスタ!$A:$A,MATCH(F816,医療機関マスタ!$B:$B,0),1)","v":"AH0000001"},{"$f":"INDEX(医療機関マスタ!$B:$B,MATCH(\"*\"&MID(注文書!$D$17,IFERROR(FIND(\" \",注文書!$D$17),IFERROR(FIND(\"　\",注文書!$D$17),0))+1,10)&\"*\",医療機関マスタ!$C:$C,0),1)","v":"医療法人社団斗南堂　八王子クリニック"},{"$f":"配送情報書!X818","v":""},{"$f":"配送情報書!Z818","v":"00:00:00"},{"$f":"配送情報書!$V818","v":""},"転記不要",null,null,null,{"$f":"配送情報書!T818","v":0},{"$f":"COUNTIF($A$3:A816,A816)","v":814}]
[{"$f":"配送情報書!A819","v":0},{"$f":"配送情報書!AB819","v":0},{"$f":"配送情報書!AA819","v":0},{"$f":"配送情報書!AC819","v":0},{"$f":"INDEX(医療機関マスタ!$A:$A,MATCH(F817,医療機関マスタ!$B:$B,0),1)","v":"AH0000001"},{"$f":"INDEX(医療機関マスタ!$B:$B,MATCH(\"*\"&MID(注文書!$D$17,IFERROR(FIND(\" \",注文書!$D$17),IFERROR(FIND(\"　\",注文書!$D$17),0))+1,10)&\"*\",医療機関マスタ!$C:$C,0),1)","v":"医療法人社団斗南堂　八王子クリニック"},{"$f":"配送情報書!X819","v":""},{"$f":"配送情報書!Z819","v":"00:00:00"},{"$f":"配送情報書!$V819","v":""},"転記不要",null,null,null,{"$f":"配送情報書!T819","v":0},{"$f":"COUNTIF($A$3:A817,A817)","v":815}]
[{"$f":"配送情報書!A820","v":0},{"$f":"配送情報書!AB820","v":0},{"$f":"配送情報書!AA820","v":0},{"$f":"配送情報書!AC820","v":0},{"$f":"INDEX(医療機関マスタ!$A:$A,MATCH(F818,医療機関マスタ!$B:$B,0),1)","v":"AH0000001"},{"$f":"INDEX(医療機関マスタ!$B:$B,MATCH(\"*\"&MID(注文書!$D$17,IFERROR(FIND(\" \",注文書!$D$17),IFERROR(FIND(\"　\",注文書!$D$17),0))+1,10)&\"*\",医療機関マスタ!$C:$C,0),1)","v":"医療法人社団斗南堂　八王子クリニック"},{"$f":"配送情報書!X820","v":""},{"$f":"配送情報書!Z820","v":"00:00:00"},{"$f":"配送情報書!$V820","v":""},"転記不要",null,null,null,{"$f":"配送情報書!T820","v":0},{"$f":"COUNTIF($A$3:A818,A818)","v":816}]
[{"$f":"配送情報書!A821","v":0},{"$f":"配送情報書!AB821","v":0},{"$f":"配送情報書!AA821","v":0},{"$f":"配送情報書!AC821","v":0},{"$f":"INDEX(医療機関マスタ!$A:$A,MATCH(F819,医療機関マスタ!$B:$B,0),1)","v":"AH0000001"},{"$f":"INDEX(医療機関マスタ!$B:$B,MATCH(\"*\"&MID(注文書!$D$17,IFERROR(FIND(\" \",注文書!$D$17),IFERROR(FIND(\"　\",注文書!$D$17),0))+1,10)&\"*\",医療機関マスタ!$C:$C,0),1)","v":"医療法人社団斗南堂　八王子クリニック"},{"$f":"配送情報書!X821","v":""},{"$f":"配送情報書!Z821","v":"00:00:00"},{"$f":"配送情報書!$V821","v":""},"転記不要",null,null,null,{"$f":"配送情報書!T821","v":0},{"$f":"COUNTIF($A$3:A819,A819)","v":817}]
[{"$f":"配送情報書!A822","v":0},{"$f":"配送情報書!AB822","v":0},{"$f":"配送情報書!AA822","v":0},{"$f":"配送情報書!AC822","v":0},{"$f":"INDEX(医療機関マスタ!$A:$A,MATCH(F820,医療機関マスタ!$B:$B,0),1)","v":"AH0000001"},{"$f":"INDEX(医療機関マスタ!$B:$B,MATCH(\"*\"&MID(注文書!$D$17,IFERROR(FIND(\" \",注文書!$D$17),IFERROR(FIND(\"　\",注文書!$D$17),0))+1,10)&\"*\",医療機関マスタ!$C:$C,0),1)","v":"医療法人社団斗南堂　八王子クリニック"},{"$f":"配送情報書!X822","v":""},{"$f":"配送情報書!Z822","v":"00:00:00"},{"$f":"配送情報書!$V822","v":""},"転記不要",null,null,null,{"$f":"配送情報書!T822","v":0},{"$f":"COUNTIF($A$3:A820,A820)","v":818}]
[{"$f":"配送情報書!A823","v":0},{"$f":"配送情報書!AB823","v":0},{"$f":"配送情報書!AA823","v":0},{"$f":"配送情報書!AC823","v":0},{"$f":"INDEX(医療機関マスタ!$A:$A,MATCH(F821,医療機関マスタ!$B:$B,0),1)","v":"AH0000001"},{"$f":"INDEX(医療機関マスタ!$B:$B,MATCH(\"*\"&MID(注文書!$D$17,IFERROR(FIND(\" \",注文書!$D$17),IFERROR(FIND(\"　\",注文書!$D$17),0))+1,10)&\"*\",医療機関マスタ!$C:$C,0),1)","v":"医療法人社団斗南堂　八王子クリニック"},{"$f":"配送情報書!X823","v":""},{"$f":"配送情報書!Z823","v":"00:00:00"},{"$f":"配送情報書!$V823","v":""},"転記不要",null,null,null,{"$f":"配送情報書!T823","v":0},{"$f":"COUNTIF($A$3:A821,A821)","v":819}]
[{"$f":"配送情報書!A824","v":0},{"$f":"配送情報書!AB824","v":0},{"$f":"配送情報書!AA824","v":0},{"$f":"配送情報書!AC824","v":0},{"$f":"INDEX(医療機関マスタ!$A:$A,MATCH(F822,医療機関マスタ!$B:$B,0),1)","v":"AH0000001"},{"$f":"INDEX(医療機関マスタ!$B:$B,MATCH(\"*\"&MID(注文書!$D$17,IFERROR(FIND(\" \",注文書!$D$17),IFERROR(FIND(\"　\",注文書!$D$17),0))+1,10)&\"*\",医療機関マスタ!$C:$C,0),1)","v":"医療法人社団斗南堂　八王子クリニック"},{"$f":"配送情報書!X824","v":""},{"$f":"配送情報書!Z824","v":"00:00:00"},{"$f":"配送情報書!$V824","v":""},"転記不要",null,null,null,{"$f":"配送情報書!T824","v":0},{"$f":"COUNTIF($A$3:A822,A822)","v":820}]
[{"$f":"配送情報書!A825","v":0},{"$f":"配送情報書!AB825","v":0},{"$f":"配送情報書!AA825","v":0},{"$f":"配送情報書!AC825","v":0},{"$f":"INDEX(医療機関マスタ!$A:$A,MATCH(F823,医療機関マスタ!$B:$B,0),1)","v":"AH0000001"},{"$f":"INDEX(医療機関マスタ!$B:$B,MATCH(\"*\"&MID(注文書!$D$17,IFERROR(FIND(\" \",注文書!$D$17),IFERROR(FIND(\"　\",注文書!$D$17),0))+1,10)&\"*\",医療機関マスタ!$C:$C,0),1)","v":"医療法人社団斗南堂　八王子クリニック"},{"$f":"配送情報書!X825","v":""},{"$f":"配送情報書!Z825","v":"00:00:00"},{"$f":"配送情報書!$V825","v":""},"転記不要",null,null,null,{"$f":"配送情報書!T825","v":0},{"$f":"COUNTIF($A$3:A823,A823)","v":821}]
[{"$f":"配送情報書!A826","v":0},{"$f":"配送情報書!AB826","v":0},{"$f":"配送情報書!AA826","v":0},{"$f":"配送情報書!AC826","v":0},{"$f":"INDEX(医療機関マスタ!$A:$A,MATCH(F824,医療機関マスタ!$B:$B,0),1)","v":"AH0000001"},{"$f":"INDEX(医療機関マスタ!$B:$B,MATCH(\"*\"&MID(注文書!$D$17,IFERROR(FIND(\" \",注文書!$D$17),IFERROR(FIND(\"　\",注文書!$D$17),0))+1,10)&\"*\",医療機関マスタ!$C:$C,0),1)","v":"医療法人社団斗南堂　八王子クリニック"},{"$f":"配送情報書!X826","v":""},{"$f":"配送情報書!Z826","v":"00:00:00"},{"$f":"配送情報書!$V826","v":""},"転記不要",null,null,null,{"$f":"配送情報書!T826","v":0},{"$f":"COUNTIF($A$3:A824,A824)","v":822}]
[{"$f":"配送情報書!A827","v":0},{"$f":"配送情報書!AB827","v":0},{"$f":"配送情報書!AA827","v":0},{"$f":"配送情報書!AC827","v":0},{"$f":"INDEX(医療機関マスタ!$A:$A,MATCH(F825,医療機関マスタ!$B:$B,0),1)","v":"AH0000001"},{"$f":"INDEX(医療機関マスタ!$B:$B,MATCH(\"*\"&MID(注文書!$D$17,IFERROR(FIND(\" \",注文書!$D$17),IFERROR(FIND(\"　\",注文書!$D$17),0))+1,10)&\"*\",医療機関マスタ!$C:$C,0),1)","v":"医療法人社団斗南堂　八王子クリニック"},{"$f":"配送情報書!X827","v":""},{"$f":"配送情報書!Z827","v":"00:00:00"},{"$f":"配送情報書!$V827","v":""},"転記不要",null,null,null,{"$f":"配送情報書!T827","v":0},{"$f":"COUNTIF($A$3:A825,A825)","v":823}]
[{"$f":"配送情報書!A828","v":0},{"$f":"配送情報書!AB828","v":0},{"$f":"配送情報書!AA828","v":0},{"$f":"配送情報書!AC828","v":0},{"$f":"INDEX(医療機関マスタ!$A:$A,MATCH(F826,医療機関マスタ!$B:$B,0),1)","v":"AH0000001"},{"$f":"INDEX(医療機関マスタ!$B:$B,MATCH(\"*\"&MID(注文書!$D$17,IFERROR(FIND(\" \",注文書!$D$17),IFERROR(FIND(\"　\",注文書!$D$17),0))+1,10)&\"*\",医療機関マスタ!$C:$C,0),1)","v":"医療法人社団斗南堂　八王子クリニック"},{"$f":"配送情報書!X828","v":""},{"$f":"配送情報書!Z828","v":"00:00:00"},{"$f":"配送情報書!$V828","v":""},"転記不要",null,null,null,{"$f":"配送情報書!T828","v":0},{"$f":"COUNTIF($A$3:A826,A826)","v":824}]
[{"$f":"配送情報書!A829","v":0},{"$f":"配送情報書!AB829","v":0},{"$f":"配送情報書!AA829","v":0},{"$f":"配送情報書!AC829","v":0},{"$f":"INDEX(医療機関マスタ!$A:$A,MATCH(F827,医療機関マスタ!$B:$B,0),1)","v":"AH0000001"},{"$f":"INDEX(医療機関マスタ!$B:$B,MATCH(\"*\"&MID(注文書!$D$17,IFERROR(FIND(\" \",注文書!$D$17),IFERROR(FIND(\"　\",注文書!$D$17),0))+1,10)&\"*\",医療機関マスタ!$C:$C,0),1)","v":"医療法人社団斗南堂　八王子クリニック"},{"$f":"配送情報書!X829","v":""},{"$f":"配送情報書!Z829","v":"00:00:00"},{"$f":"配送情報書!$V829","v":""},"転記不要",null,null,null,{"$f":"配送情報書!T829","v":0},{"$f":"COUNTIF($A$3:A827,A827)","v":825}]
[{"$f":"配送情報書!A830","v":0},{"$f":"配送情報書!AB830","v":0},{"$f":"配送情報書!AA830","v":0},{"$f":"配送情報書!AC830","v":0},{"$f":"INDEX(医療機関マスタ!$A:$A,MATCH(F828,医療機関マスタ!$B:$B,0),1)","v":"AH0000001"},{"$f":"INDEX(医療機関マスタ!$B:$B,MATCH(\"*\"&MID(注文書!$D$17,IFERROR(FIND(\" \",注文書!$D$17),IFERROR(FIND(\"　\",注文書!$D$17),0))+1,10)&\"*\",医療機関マスタ!$C:$C,0),1)","v":"医療法人社団斗南堂　八王子クリニック"},{"$f":"配送情報書!X830","v":""},{"$f":"配送情報書!Z830","v":"00:00:00"},{"$f":"配送情報書!$V830","v":""},"転記不要",null,null,null,{"$f":"配送情報書!T830","v":0},{"$f":"COUNTIF($A$3:A828,A828)","v":826}]
[{"$f":"配送情報書!A831","v":0},{"$f":"配送情報書!AB831","v":0},{"$f":"配送情報書!AA831","v":0},{"$f":"配送情報書!AC831","v":0},{"$f":"INDEX(医療機関マスタ!$A:$A,MATCH(F829,医療機関マスタ!$B:$B,0),1)","v":"AH0000001"},{"$f":"INDEX(医療機関マスタ!$B:$B,MATCH(\"*\"&MID(注文書!$D$17,IFERROR(FIND(\" \",注文書!$D$17),IFERROR(FIND(\"　\",注文書!$D$17),0))+1,10)&\"*\",医療機関マスタ!$C:$C,0),1)","v":"医療法人社団斗南堂　八王子クリニック"},{"$f":"配送情報書!X831","v":""},{"$f":"配送情報書!Z831","v":"00:00:00"},{"$f":"配送情報書!$V831","v":""},"転記不要",null,null,null,{"$f":"配送情報書!T831","v":0},{"$f":"COUNTIF($A$3:A829,A829)","v":827}]
[{"$f":"配送情報書!A832","v":0},{"$f":"配送情報書!AB832","v":0},{"$f":"配送情報書!AA832","v":0},{"$f":"配送情報書!AC832","v":0},{"$f":"INDEX(医療機関マスタ!$A:$A,MATCH(F830,医療機関マスタ!$B:$B,0),1)","v":"AH0000001"},{"$f":"INDEX(医療機関マスタ!$B:$B,MATCH(\"*\"&MID(注文書!$D$17,IFERROR(FIND(\" \",注文書!$D$17),IFERROR(FIND(\"　\",注文書!$D$17),0))+1,10)&\"*\",医療機関マスタ!$C:$C,0),1)","v":"医療法人社団斗南堂　八王子クリニック"},{"$f":"配送情報書!X832","v":""},{"$f":"配送情報書!Z832","v":"00:00:00"},{"$f":"配送情報書!$V832","v":""},"転記不要",null,null,null,{"$f":"配送情報書!T832","v":0},{"$f":"COUNTIF($A$3:A830,A830)","v":828}]
[{"$f":"配送情報書!A833","v":0},{"$f":"配送情報書!AB833","v":0},{"$f":"配送情報書!AA833","v":0},{"$f":"配送情報書!AC833","v":0},{"$f":"INDEX(医療機関マスタ!$A:$A,MATCH(F831,医療機関マスタ!$B:$B,0),1)","v":"AH0000001"},{"$f":"INDEX(医療機関マスタ!$B:$B,MATCH(\"*\"&MID(注文書!$D$17,IFERROR(FIND(\" \",注文書!$D$17),IFERROR(FIND(\"　\",注文書!$D$17),0))+1,10)&\"*\",医療機関マスタ!$C:$C,0),1)","v":"医療法人社団斗南堂　八王子クリニック"},{"$f":"配送情報書!X833","v":""},{"$f":"配送情報書!Z833","v":"00:00:00"},{"$f":"配送情報書!$V833","v":""},"転記不要",null,null,null,{"$f":"配送情報書!T833","v":0},{"$f":"COUNTIF($A$3:A831,A831)","v":829}]
[{"$f":"配送情報書!A834","v":0},{"$f":"配送情報書!AB834","v":0},{"$f":"配送情報書!AA834","v":0},{"$f":"配送情報書!AC834","v":0},{"$f":"INDEX(医療機関マスタ!$A:$A,MATCH(F832,医療機関マスタ!$B:$B,0),1)","v":"AH0000001"},{"$f":"INDEX(医療機関マスタ!$B:$B,MATCH(\"*\"&MID(注文書!$D$17,IFERROR(FIND(\" \",注文書!$D$17),IFERROR(FIND(\"　\",注文書!$D$17),0))+1,10)&\"*\",医療機関マスタ!$C:$C,0),1)","v":"医療法人社団斗南堂　八王子クリニック"},{"$f":"配送情報書!X834","v":""},{"$f":"配送情報書!Z834","v":"00:00:00"},{"$f":"配送情報書!$V834","v":""},"転記不要",null,null,null,{"$f":"配送情報書!T834","v":0},{"$f":"COUNTIF($A$3:A832,A832)","v":830}]
[{"$f":"配送情報書!A835","v":0},{"$f":"配送情報書!AB835","v":0},{"$f":"配送情報書!AA835","v":0},{"$f":"配送情報書!AC835","v":0},{"$f":"INDEX(医療機関マスタ!$A:$A,MATCH(F833,医療機関マスタ!$B:$B,0),1)","v":"AH0000001"},{"$f":"INDEX(医療機関マスタ!$B:$B,MATCH(\"*\"&MID(注文書!$D$17,IFERROR(FIND(\" \",注文書!$D$17),IFERROR(FIND(\"　\",注文書!$D$17),0))+1,10)&\"*\",医療機関マスタ!$C:$C,0),1)","v":"医療法人社団斗南堂　八王子クリニック"},{"$f":"配送情報書!X835","v":""},{"$f":"配送情報書!Z835","v":"00:00:00"},{"$f":"配送情報書!$V835","v":""},"転記不要",null,null,null,{"$f":"配送情報書!T835","v":0},{"$f":"COUNTIF($A$3:A833,A833)","v":831}]
[{"$f":"配送情報書!A836","v":0},{"$f":"配送情報書!AB836","v":0},{"$f":"配送情報書!AA836","v":0},{"$f":"配送情報書!AC836","v":0},{"$f":"INDEX(医療機関マスタ!$A:$A,MATCH(F834,医療機関マスタ!$B:$B,0),1)","v":"AH0000001"},{"$f":"INDEX(医療機関マスタ!$B:$B,MATCH(\"*\"&MID(注文書!$D$17,IFERROR(FIND(\" \",注文書!$D$17),IFERROR(FIND(\"　\",注文書!$D$17),0))+1,10)&\"*\",医療機関マスタ!$C:$C,0),1)","v":"医療法人社団斗南堂　八王子クリニック"},{"$f":"配送情報書!X836","v":""},{"$f":"配送情報書!Z836","v":"00:00:00"},{"$f":"配送情報書!$V836","v":""},"転記不要",null,null,null,{"$f":"配送情報書!T836","v":0},{"$f":"COUNTIF($A$3:A834,A834)","v":832}]
[{"$f":"配送情報書!A837","v":0},{"$f":"配送情報書!AB837","v":0},{"$f":"配送情報書!AA837","v":0},{"$f":"配送情報書!AC837","v":0},{"$f":"INDEX(医療機関マスタ!$A:$A,MATCH(F835,医療機関マスタ!$B:$B,0),1)","v":"AH0000001"},{"$f":"INDEX(医療機関マスタ!$B:$B,MATCH(\"*\"&MID(注文書!$D$17,IFERROR(FIND(\" \",注文書!$D$17),IFERROR(FIND(\"　\",注文書!$D$17),0))+1,10)&\"*\",医療機関マスタ!$C:$C,0),1)","v":"医療法人社団斗南堂　八王子クリニック"},{"$f":"配送情報書!X837","v":""},{"$f":"配送情報書!Z837","v":"00:00:00"},{"$f":"配送情報書!$V837","v":""},"転記不要",null,null,null,{"$f":"配送情報書!T837","v":0},{"$f":"COUNTIF($A$3:A835,A835)","v":833}]
[{"$f":"配送情報書!A838","v":0},{"$f":"配送情報書!AB838","v":0},{"$f":"配送情報書!AA838","v":0},{"$f":"配送情報書!AC838","v":0},{"$f":"INDEX(医療機関マスタ!$A:$A,MATCH(F836,医療機関マスタ!$B:$B,0),1)","v":"AH0000001"},{"$f":"INDEX(医療機関マスタ!$B:$B,MATCH(\"*\"&MID(注文書!$D$17,IFERROR(FIND(\" \",注文書!$D$17),IFERROR(FIND(\"　\",注文書!$D$17),0))+1,10)&\"*\",医療機関マスタ!$C:$C,0),1)","v":"医療法人社団斗南堂　八王子クリニック"},{"$f":"配送情報書!X838","v":""},{"$f":"配送情報書!Z838","v":"00:00:00"},{"$f":"配送情報書!$V838","v":""},{"$f":"IF(AND(N836>0,O836=1),SUMIFS($N:$N,$A:$A,A836),\"転記不要\")","v":"転記不要"},null,null,null,{"$f":"配送情報書!T838","v":0},{"$f":"COUNTIF($A$3:A836,A836)","v":834}]
[{"$f":"配送情報書!A839","v":0},{"$f":"配送情報書!AB839","v":0},{"$f":"配送情報書!AA839","v":0},{"$f":"配送情報書!AC839","v":0},{"$f":"INDEX(医療機関マスタ!$A:$A,MATCH(F837,医療機関マスタ!$B:$B,0),1)","v":"AH0000001"},{"$f":"INDEX(医療機関マスタ!$B:$B,MATCH(\"*\"&MID(注文書!$D$17,IFERROR(FIND(\" \",注文書!$D$17),IFERROR(FIND(\"　\",注文書!$D$17),0))+1,10)&\"*\",医療機関マスタ!$C:$C,0),1)","v":"医療法人社団斗南堂　八王子クリニック"},{"$f":"配送情報書!X839","v":""},{"$f":"配送情報書!Z839","v":"00:00:00"},{"$f":"配送情報書!$V839","v":""},"転記不要",null,null,null,{"$f":"配送情報書!T839","v":0},{"$f":"COUNTIF($A$3:A837,A837)","v":835}]
[{"$f":"配送情報書!A840","v":0},{"$f":"配送情報書!AB840","v":0},{"$f":"配送情報書!AA840","v":0},{"$f":"配送情報書!AC840","v":0},{"$f":"INDEX(医療機関マスタ!$A:$A,MATCH(F838,医療機関マスタ!$B:$B,0),1)","v":"AH0000001"},{"$f":"INDEX(医療機関マスタ!$B:$B,MATCH(\"*\"&MID(注文書!$D$17,IFERROR(FIND(\" \",注文書!$D$17),IFERROR(FIND(\"　\",注文書!$D$17),0))+1,10)&\"*\",医療機関マスタ!$C:$C,0),1)","v":"医療法人社団斗南堂　八王子クリニック"},{"$f":"配送情報書!X840","v":""},{"$f":"配送情報書!Z840","v":"00:00:00"},{"$f":"配送情報書!$V840","v":""},"転記不要",null,null,null,{"$f":"配送情報書!T840","v":0},{"$f":"COUNTIF($A$3:A838,A838)","v":836}]
[{"$f":"配送情報書!A841","v":0},{"$f":"配送情報書!AB841","v":0},{"$f":"配送情報書!AA841","v":0},{"$f":"配送情報書!AC841","v":0},{"$f":"INDEX(医療機関マスタ!$A:$A,MATCH(F839,医療機関マスタ!$B:$B,0),1)","v":"AH0000001"},{"$f":"INDEX(医療機関マスタ!$B:$B,MATCH(\"*\"&MID(注文書!$D$17,IFERROR(FIND(\" \",注文書!$D$17),IFERROR(FIND(\"　\",注文書!$D$17),0))+1,10)&\"*\",医療機関マスタ!$C:$C,0),1)","v":"医療法人社団斗南堂　八王子クリニック"},{"$f":"配送情報書!X841","v":""},{"$f":"配送情報書!Z841","v":"00:00:00"},{"$f":"配送情報書!$V841","v":""},"転記不要",null,null,null,{"$f":"配送情報書!T841","v":0},{"$f":"COUNTIF($A$3:A839,A839)","v":837}]
[{"$f":"配送情報書!A842","v":0},{"$f":"配送情報書!AB842","v":0},{"$f":"配送情報書!AA842","v":0},{"$f":"配送情報書!AC842","v":0},{"$f":"INDEX(医療機関マスタ!$A:$A,MATCH(F840,医療機関マスタ!$B:$B,0),1)","v":"AH0000001"},{"$f":"INDEX(医療機関マスタ!$B:$B,MATCH(\"*\"&MID(注文書!$D$17,IFERROR(FIND(\" \",注文書!$D$17),IFERROR(FIND(\"　\",注文書!$D$17),0))+1,10)&\"*\",医療機関マスタ!$C:$C,0),1)","v":"医療法人社団斗南堂　八王子クリニック"},{"$f":"配送情報書!X842","v":""},{"$f":"配送情報書!Z842","v":"00:00:00"},{"$f":"配送情報書!$V842","v":""},"転記不要",null,null,null,{"$f":"配送情報書!T842","v":0},{"$f":"COUNTIF($A$3:A840,A840)","v":838}]
[{"$f":"配送情報書!A843","v":0},{"$f":"配送情報書!AB843","v":0},{"$f":"配送情報書!AA843","v":0},{"$f":"配送情報書!AC843","v":0},{"$f":"INDEX(医療機関マスタ!$A:$A,MATCH(F841,医療機関マスタ!$B:$B,0),1)","v":"AH0000001"},{"$f":"INDEX(医療機関マスタ!$B:$B,MATCH(\"*\"&MID(注文書!$D$17,IFERROR(FIND(\" \",注文書!$D$17),IFERROR(FIND(\"　\",注文書!$D$17),0))+1,10)&\"*\",医療機関マスタ!$C:$C,0),1)","v":"医療法人社団斗南堂　八王子クリニック"},{"$f":"配送情報書!X843","v":""},{"$f":"配送情報書!Z843","v":"00:00:00"},{"$f":"配送情報書!$V843","v":""},"転記不要",null,null,null,{"$f":"配送情報書!T843","v":0},{"$f":"COUNTIF($A$3:A841,A841)","v":839}]
[{"$f":"配送情報書!A844","v":0},{"$f":"配送情報書!AB844","v":0},{"$f":"配送情報書!AA844","v":0},{"$f":"配送情報書!AC844","v":0},{"$f":"INDEX(医療機関マスタ!$A:$A,MATCH(F842,医療機関マスタ!$B:$B,0),1)","v":"AH0000001"},{"$f":"INDEX(医療機関マスタ!$B:$B,MATCH(\"*\"&MID(注文書!$D$17,IFERROR(FIND(\" \",注文書!$D$17),IFERROR(FIND(\"　\",注文書!$D$17),0))+1,10)&\"*\",医療機関マスタ!$C:$C,0),1)","v":"医療法人社団斗南堂　八王子クリニック"},{"$f":"配送情報書!X844","v":""},{"$f":"配送情報書!Z844","v":"00:00:00"},{"$f":"配送情報書!$V844","v":""},"転記不要",null,null,null,{"$f":"配送情報書!T844","v":0},{"$f":"COUNTIF($A$3:A842,A842)","v":840}]
[{"$f":"配送情報書!A845","v":0},{"$f":"配送情報書!AB845","v":0},{"$f":"配送情報書!AA845","v":0},{"$f":"配送情報書!AC845","v":0},{"$f":"INDEX(医療機関マスタ!$A:$A,MATCH(F843,医療機関マスタ!$B:$B,0),1)","v":"AH0000001"},{"$f":"INDEX(医療機関マスタ!$B:$B,MATCH(\"*\"&MID(注文書!$D$17,IFERROR(FIND(\" \",注文書!$D$17),IFERROR(FIND(\"　\",注文書!$D$17),0))+1,10)&\"*\",医療機関マスタ!$C:$C,0),1)","v":"医療法人社団斗南堂　八王子クリニック"},{"$f":"配送情報書!X845","v":""},{"$f":"配送情報書!Z845","v":"00:00:00"},{"$f":"配送情報書!$V845","v":""},"転記不要",null,null,null,{"$f":"配送情報書!T845","v":0},{"$f":"COUNTIF($A$3:A843,A843)","v":841}]
[{"$f":"配送情報書!A846","v":0},{"$f":"配送情報書!AB846","v":0},{"$f":"配送情報書!AA846","v":0},{"$f":"配送情報書!AC846","v":0},{"$f":"INDEX(医療機関マスタ!$A:$A,MATCH(F844,医療機関マスタ!$B:$B,0),1)","v":"AH0000001"},{"$f":"INDEX(医療機関マスタ!$B:$B,MATCH(\"*\"&MID(注文書!$D$17,IFERROR(FIND(\" \",注文書!$D$17),IFERROR(FIND(\"　\",注文書!$D$17),0))+1,10)&\"*\",医療機関マスタ!$C:$C,0),1)","v":"医療法人社団斗南堂　八王子クリニック"},{"$f":"配送情報書!X846","v":""},{"$f":"配送情報書!Z846","v":"00:00:00"},{"$f":"配送情報書!$V846","v":""},"転記不要",null,null,null,{"$f":"配送情報書!T846","v":0},{"$f":"COUNTIF($A$3:A844,A844)","v":842}]
[{"$f":"配送情報書!A847","v":0},{"$f":"配送情報書!AB847","v":0},{"$f":"配送情報書!AA847","v":0},{"$f":"配送情報書!AC847","v":0},{"$f":"INDEX(医療機関マスタ!$A:$A,MATCH(F845,医療機関マスタ!$B:$B,0),1)","v":"AH0000001"},{"$f":"INDEX(医療機関マスタ!$B:$B,MATCH(\"*\"&MID(注文書!$D$17,IFERROR(FIND(\" \",注文書!$D$17),IFERROR(FIND(\"　\",注文書!$D$17),0))+1,10)&\"*\",医療機関マスタ!$C:$C,0),1)","v":"医療法人社団斗南堂　八王子クリニック"},{"$f":"配送情報書!X847","v":""},{"$f":"配送情報書!Z847","v":"00:00:00"},{"$f":"配送情報書!$V847","v":""},"転記不要",null,null,null,{"$f":"配送情報書!T847","v":0},{"$f":"COUNTIF($A$3:A845,A845)","v":843}]
[{"$f":"配送情報書!A848","v":0},{"$f":"配送情報書!AB848","v":0},{"$f":"配送情報書!AA848","v":0},{"$f":"配送情報書!AC848","v":0},{"$f":"INDEX(医療機関マスタ!$A:$A,MATCH(F846,医療機関マスタ!$B:$B,0),1)","v":"AH0000001"},{"$f":"INDEX(医療機関マスタ!$B:$B,MATCH(\"*\"&MID(注文書!$D$17,IFERROR(FIND(\" \",注文書!$D$17),IFERROR(FIND(\"　\",注文書!$D$17),0))+1,10)&\"*\",医療機関マスタ!$C:$C,0),1)","v":"医療法人社団斗南堂　八王子クリニック"},{"$f":"配送情報書!X848","v":""},{"$f":"配送情報書!Z848","v":"00:00:00"},{"$f":"配送情報書!$V848","v":""},"転記不要",null,null,null,{"$f":"配送情報書!T848","v":0},{"$f":"COUNTIF($A$3:A846,A846)","v":844}]
[{"$f":"配送情報書!A849","v":0},{"$f":"配送情報書!AB849","v":0},{"$f":"配送情報書!AA849","v":0},{"$f":"配送情報書!AC849","v":0},{"$f":"INDEX(医療機関マスタ!$A:$A,MATCH(F847,医療機関マスタ!$B:$B,0),1)","v":"AH0000001"},{"$f":"INDEX(医療機関マスタ!$B:$B,MATCH(\"*\"&MID(注文書!$D$17,IFERROR(FIND(\" \",注文書!$D$17),IFERROR(FIND(\"　\",注文書!$D$17),0))+1,10)&\"*\",医療機関マスタ!$C:$C,0),1)","v":"医療法人社団斗南堂　八王子クリニック"},{"$f":"配送情報書!X849","v":""},{"$f":"配送情報書!Z849","v":"00:00:00"},{"$f":"配送情報書!$V849","v":""},"転記不要",null,null,null,{"$f":"配送情報書!T849","v":0},{"$f":"COUNTIF($A$3:A847,A847)","v":845}]
[{"$f":"配送情報書!A850","v":0},{"$f":"配送情報書!AB850","v":0},{"$f":"配送情報書!AA850","v":0},{"$f":"配送情報書!AC850","v":0},{"$f":"INDEX(医療機関マスタ!$A:$A,MATCH(F848,医療機関マスタ!$B:$B,0),1)","v":"AH0000001"},{"$f":"INDEX(医療機関マスタ!$B:$B,MATCH(\"*\"&MID(注文書!$D$17,IFERROR(FIND(\" \",注文書!$D$17),IFERROR(FIND(\"　\",注文書!$D$17),0))+1,10)&\"*\",医療機関マスタ!$C:$C,0),1)","v":"医療法人社団斗南堂　八王子クリニック"},{"$f":"配送情報書!X850","v":""},{"$f":"配送情報書!Z850","v":"00:00:00"},{"$f":"配送情報書!$V850","v":""},"転記不要",null,null,null,{"$f":"配送情報書!T850","v":0},{"$f":"COUNTIF($A$3:A848,A848)","v":846}]
[{"$f":"配送情報書!A851","v":0},{"$f":"配送情報書!AB851","v":0},{"$f":"配送情報書!AA851","v":0},{"$f":"配送情報書!AC851","v":0},{"$f":"INDEX(医療機関マスタ!$A:$A,MATCH(F849,医療機関マスタ!$B:$B,0),1)","v":"AH0000001"},{"$f":"INDEX(医療機関マスタ!$B:$B,MATCH(\"*\"&MID(注文書!$D$17,IFERROR(FIND(\" \",注文書!$D$17),IFERROR(FIND(\"　\",注文書!$D$17),0))+1,10)&\"*\",医療機関マスタ!$C:$C,0),1)","v":"医療法人社団斗南堂　八王子クリニック"},{"$f":"配送情報書!X851","v":""},{"$f":"配送情報書!Z851","v":"00:00:00"},{"$f":"配送情報書!$V851","v":""},"転記不要",null,null,null,{"$f":"配送情報書!T851","v":0},{"$f":"COUNTIF($A$3:A849,A849)","v":847}]
[{"$f":"配送情報書!A852","v":0},{"$f":"配送情報書!AB852","v":0},{"$f":"配送情報書!AA852","v":0},{"$f":"配送情報書!AC852","v":0},{"$f":"INDEX(医療機関マスタ!$A:$A,MATCH(F850,医療機関マスタ!$B:$B,0),1)","v":"AH0000001"},{"$f":"INDEX(医療機関マスタ!$B:$B,MATCH(\"*\"&MID(注文書!$D$17,IFERROR(FIND(\" \",注文書!$D$17),IFERROR(FIND(\"　\",注文書!$D$17),0))+1,10)&\"*\",医療機関マスタ!$C:$C,0),1)","v":"医療法人社団斗南堂　八王子クリニック"},{"$f":"配送情報書!X852","v":""},{"$f":"配送情報書!Z852","v":"00:00:00"},{"$f":"配送情報書!$V852","v":""},"転記不要",null,null,null,{"$f":"配送情報書!T852","v":0},{"$f":"COUNTIF($A$3:A850,A850)","v":848}]
[{"$f":"配送情報書!A853","v":0},{"$f":"配送情報書!AB853","v":0},{"$f":"配送情報書!AA853","v":0},{"$f":"配送情報書!AC853","v":0},{"$f":"INDEX(医療機関マスタ!$A:$A,MATCH(F851,医療機関マスタ!$B:$B,0),1)","v":"AH0000001"},{"$f":"INDEX(医療機関マスタ!$B:$B,MATCH(\"*\"&MID(注文書!$D$17,IFERROR(FIND(\" \",注文書!$D$17),IFERROR(FIND(\"　\",注文書!$D$17),0))+1,10)&\"*\",医療機関マスタ!$C:$C,0),1)","v":"医療法人社団斗南堂　八王子クリニック"},{"$f":"配送情報書!X853","v":""},{"$f":"配送情報書!Z853","v":"00:00:00"},{"$f":"配送情報書!$V853","v":""},"転記不要",null,null,null,{"$f":"配送情報書!T853","v":0},{"$f":"COUNTIF($A$3:A851,A851)","v":849}]
[{"$f":"配送情報書!A854","v":0},{"$f":"配送情報書!AB854","v":0},{"$f":"配送情報書!AA854","v":0},{"$f":"配送情報書!AC854","v":0},{"$f":"INDEX(医療機関マスタ!$A:$A,MATCH(F852,医療機関マスタ!$B:$B,0),1)","v":"AH0000001"},{"$f":"INDEX(医療機関マスタ!$B:$B,MATCH(\"*\"&MID(注文書!$D$17,IFERROR(FIND(\" \",注文書!$D$17),IFERROR(FIND(\"　\",注文書!$D$17),0))+1,10)&\"*\",医療機関マスタ!$C:$C,0),1)","v":"医療法人社団斗南堂　八王子クリニック"},{"$f":"配送情報書!X854","v":""},{"$f":"配送情報書!Z854","v":"00:00:00"},{"$f":"配送情報書!$V854","v":""},"転記不要",null,null,null,{"$f":"配送情報書!T854","v":0},{"$f":"COUNTIF($A$3:A852,A852)","v":850}]
[{"$f":"配送情報書!A855","v":0},{"$f":"配送情報書!AB855","v":0},{"$f":"配送情報書!AA855","v":0},{"$f":"配送情報書!AC855","v":0},{"$f":"INDEX(医療機関マスタ!$A:$A,MATCH(F853,医療機関マスタ!$B:$B,0),1)","v":"AH0000001"},{"$f":"INDEX(医療機関マスタ!$B:$B,MATCH(\"*\"&MID(注文書!$D$17,IFERROR(FIND(\" \",注文書!$D$17),IFERROR(FIND(\"　\",注文書!$D$17),0))+1,10)&\"*\",医療機関マスタ!$C:$C,0),1)","v":"医療法人社団斗南堂　八王子クリニック"},{"$f":"配送情報書!X855","v":""},{"$f":"配送情報書!Z855","v":"00:00:00"},{"$f":"配送情報書!$V855","v":""},"転記不要",null,null,null,{"$f":"配送情報書!T855","v":0},{"$f":"COUNTIF($A$3:A853,A853)","v":851}]
[{"$f":"配送情報書!A856","v":0},{"$f":"配送情報書!AB856","v":0},{"$f":"配送情報書!AA856","v":0},{"$f":"配送情報書!AC856","v":0},{"$f":"INDEX(医療機関マスタ!$A:$A,MATCH(F854,医療機関マスタ!$B:$B,0),1)","v":"AH0000001"},{"$f":"INDEX(医療機関マスタ!$B:$B,MATCH(\"*\"&MID(注文書!$D$17,IFERROR(FIND(\" \",注文書!$D$17),IFERROR(FIND(\"　\",注文書!$D$17),0))+1,10)&\"*\",医療機関マスタ!$C:$C,0),1)","v":"医療法人社団斗南堂　八王子クリニック"},{"$f":"配送情報書!X856","v":""},{"$f":"配送情報書!Z856","v":"00:00:00"},{"$f":"配送情報書!$V856","v":""},"転記不要",null,null,null,{"$f":"配送情報書!T856","v":0},{"$f":"COUNTIF($A$3:A854,A854)","v":852}]
[{"$f":"配送情報書!A857","v":0},{"$f":"配送情報書!AB857","v":0},{"$f":"配送情報書!AA857","v":0},{"$f":"配送情報書!AC857","v":0},{"$f":"INDEX(医療機関マスタ!$A:$A,MATCH(F855,医療機関マスタ!$B:$B,0),1)","v":"AH0000001"},{"$f":"INDEX(医療機関マスタ!$B:$B,MATCH(\"*\"&MID(注文書!$D$17,IFERROR(FIND(\" \",注文書!$D$17),IFERROR(FIND(\"　\",注文書!$D$17),0))+1,10)&\"*\",医療機関マスタ!$C:$C,0),1)","v":"医療法人社団斗南堂　八王子クリニック"},{"$f":"配送情報書!X857","v":""},{"$f":"配送情報書!Z857","v":"00:00:00"},{"$f":"配送情報書!$V857","v":""},"転記不要",null,null,null,{"$f":"配送情報書!T857","v":0},{"$f":"COUNTIF($A$3:A855,A855)","v":853}]
[{"$f":"配送情報書!A858","v":0},{"$f":"配送情報書!AB858","v":0},{"$f":"配送情報書!AA858","v":0},{"$f":"配送情報書!AC858","v":0},{"$f":"INDEX(医療機関マスタ!$A:$A,MATCH(F856,医療機関マスタ!$B:$B,0),1)","v":"AH0000001"},{"$f":"INDEX(医療機関マスタ!$B:$B,MATCH(\"*\"&MID(注文書!$D$17,IFERROR(FIND(\" \",注文書!$D$17),IFERROR(FIND(\"　\",注文書!$D$17),0))+1,10)&\"*\",医療機関マスタ!$C:$C,0),1)","v":"医療法人社団斗南堂　八王子クリニック"},{"$f":"配送情報書!X858","v":""},{"$f":"配送情報書!Z858","v":"00:00:00"},{"$f":"配送情報書!$V858","v":""},"転記不要",null,null,null,{"$f":"配送情報書!T858","v":0},{"$f":"COUNTIF($A$3:A856,A856)","v":854}]
[{"$f":"配送情報書!A859","v":0},{"$f":"配送情報書!AB859","v":0},{"$f":"配送情報書!AA859","v":0},{"$f":"配送情報書!AC859","v":0},{"$f":"INDEX(医療機関マスタ!$A:$A,MATCH(F857,医療機関マスタ!$B:$B,0),1)","v":"AH0000001"},{"$f":"INDEX(医療機関マスタ!$B:$B,MATCH(\"*\"&MID(注文書!$D$17,IFERROR(FIND(\" \",注文書!$D$17),IFERROR(FIND(\"　\",注文書!$D$17),0))+1,10)&\"*\",医療機関マスタ!$C:$C,0),1)","v":"医療法人社団斗南堂　八王子クリニック"},{"$f":"配送情報書!X859","v":""},{"$f":"配送情報書!Z859","v":"00:00:00"},{"$f":"配送情報書!$V859","v":""},"転記不要",null,null,null,{"$f":"配送情報書!T859","v":0},{"$f":"COUNTIF($A$3:A857,A857)","v":855}]
[{"$f":"配送情報書!A860","v":0},{"$f":"配送情報書!AB860","v":0},{"$f":"配送情報書!AA860","v":0},{"$f":"配送情報書!AC860","v":0},{"$f":"INDEX(医療機関マスタ!$A:$A,MATCH(F858,医療機関マスタ!$B:$B,0),1)","v":"AH0000001"},{"$f":"INDEX(医療機関マスタ!$B:$B,MATCH(\"*\"&MID(注文書!$D$17,IFERROR(FIND(\" \",注文書!$D$17),IFERROR(FIND(\"　\",注文書!$D$17),0))+1,10)&\"*\",医療機関マスタ!$C:$C,0),1)","v":"医療法人社団斗南堂　八王子クリニック"},{"$f":"配送情報書!X860","v":""},{"$f":"配送情報書!Z860","v":"00:00:00"},{"$f":"配送情報書!$V860","v":""},"転記不要",null,null,null,{"$f":"配送情報書!T860","v":0},{"$f":"COUNTIF($A$3:A858,A858)","v":856}]
[{"$f":"配送情報書!A861","v":0},{"$f":"配送情報書!AB861","v":0},{"$f":"配送情報書!AA861","v":0},{"$f":"配送情報書!AC861","v":0},{"$f":"INDEX(医療機関マスタ!$A:$A,MATCH(F859,医療機関マスタ!$B:$B,0),1)","v":"AH0000001"},{"$f":"INDEX(医療機関マスタ!$B:$B,MATCH(\"*\"&MID(注文書!$D$17,IFERROR(FIND(\" \",注文書!$D$17),IFERROR(FIND(\"　\",注文書!$D$17),0))+1,10)&\"*\",医療機関マスタ!$C:$C,0),1)","v":"医療法人社団斗南堂　八王子クリニック"},{"$f":"配送情報書!X861","v":""},{"$f":"配送情報書!Z861","v":"00:00:00"},{"$f":"配送情報書!$V861","v":""},"転記不要",null,null,null,{"$f":"配送情報書!T861","v":0},{"$f":"COUNTIF($A$3:A859,A859)","v":857}]
[{"$f":"配送情報書!A862","v":0},{"$f":"配送情報書!AB862","v":0},{"$f":"配送情報書!AA862","v":0},{"$f":"配送情報書!AC862","v":0},{"$f":"INDEX(医療機関マスタ!$A:$A,MATCH(F860,医療機関マスタ!$B:$B,0),1)","v":"AH0000001"},{"$f":"INDEX(医療機関マスタ!$B:$B,MATCH(\"*\"&MID(注文書!$D$17,IFERROR(FIND(\" \",注文書!$D$17),IFERROR(FIND(\"　\",注文書!$D$17),0))+1,10)&\"*\",医療機関マスタ!$C:$C,0),1)","v":"医療法人社団斗南堂　八王子クリニック"},{"$f":"配送情報書!X862","v":""},{"$f":"配送情報書!Z862","v":"00:00:00"},{"$f":"配送情報書!$V862","v":""},"転記不要",null,null,null,{"$f":"配送情報書!T862","v":0},{"$f":"COUNTIF($A$3:A860,A860)","v":858}]
[{"$f":"配送情報書!A863","v":0},{"$f":"配送情報書!AB863","v":0},{"$f":"配送情報書!AA863","v":0},{"$f":"配送情報書!AC863","v":0},{"$f":"INDEX(医療機関マスタ!$A:$A,MATCH(F861,医療機関マスタ!$B:$B,0),1)","v":"AH0000001"},{"$f":"INDEX(医療機関マスタ!$B:$B,MATCH(\"*\"&MID(注文書!$D$17,IFERROR(FIND(\" \",注文書!$D$17),IFERROR(FIND(\"　\",注文書!$D$17),0))+1,10)&\"*\",医療機関マスタ!$C:$C,0),1)","v":"医療法人社団斗南堂　八王子クリニック"},{"$f":"配送情報書!X863","v":""},{"$f":"配送情報書!Z863","v":"00:00:00"},{"$f":"配送情報書!$V863","v":""},"転記不要",null,null,null,{"$f":"配送情報書!T863","v":0},{"$f":"COUNTIF($A$3:A861,A861)","v":859}]
[{"$f":"配送情報書!A864","v":0},{"$f":"配送情報書!AB864","v":0},{"$f":"配送情報書!AA864","v":0},{"$f":"配送情報書!AC864","v":0},{"$f":"INDEX(医療機関マスタ!$A:$A,MATCH(F862,医療機関マスタ!$B:$B,0),1)","v":"AH0000001"},{"$f":"INDEX(医療機関マスタ!$B:$B,MATCH(\"*\"&MID(注文書!$D$17,IFERROR(FIND(\" \",注文書!$D$17),IFERROR(FIND(\"　\",注文書!$D$17),0))+1,10)&\"*\",医療機関マスタ!$C:$C,0),1)","v":"医療法人社団斗南堂　八王子クリニック"},{"$f":"配送情報書!X864","v":""},{"$f":"配送情報書!Z864","v":"00:00:00"},{"$f":"配送情報書!$V864","v":""},"転記不要",null,null,null,{"$f":"配送情報書!T864","v":0},{"$f":"COUNTIF($A$3:A862,A862)","v":860}]
[{"$f":"配送情報書!A865","v":0},{"$f":"配送情報書!AB865","v":0},{"$f":"配送情報書!AA865","v":0},{"$f":"配送情報書!AC865","v":0},{"$f":"INDEX(医療機関マスタ!$A:$A,MATCH(F863,医療機関マスタ!$B:$B,0),1)","v":"AH0000001"},{"$f":"INDEX(医療機関マスタ!$B:$B,MATCH(\"*\"&MID(注文書!$D$17,IFERROR(FIND(\" \",注文書!$D$17),IFERROR(FIND(\"　\",注文書!$D$17),0))+1,10)&\"*\",医療機関マスタ!$C:$C,0),1)","v":"医療法人社団斗南堂　八王子クリニック"},{"$f":"配送情報書!X865","v":""},{"$f":"配送情報書!Z865","v":"00:00:00"},{"$f":"配送情報書!$V865","v":""},"転記不要",null,null,null,{"$f":"配送情報書!T865","v":0},{"$f":"COUNTIF($A$3:A863,A863)","v":861}]
[{"$f":"配送情報書!A866","v":0},{"$f":"配送情報書!AB866","v":0},{"$f":"配送情報書!AA866","v":0},{"$f":"配送情報書!AC866","v":0},{"$f":"INDEX(医療機関マスタ!$A:$A,MATCH(F864,医療機関マスタ!$B:$B,0),1)","v":"AH0000001"},{"$f":"INDEX(医療機関マスタ!$B:$B,MATCH(\"*\"&MID(注文書!$D$17,IFERROR(FIND(\" \",注文書!$D$17),IFERROR(FIND(\"　\",注文書!$D$17),0))+1,10)&\"*\",医療機関マスタ!$C:$C,0),1)","v":"医療法人社団斗南堂　八王子クリニック"},{"$f":"配送情報書!X866","v":""},{"$f":"配送情報書!Z866","v":"00:00:00"},{"$f":"配送情報書!$V866","v":""},"転記不要",null,null,null,{"$f":"配送情報書!T866","v":0},{"$f":"COUNTIF($A$3:A864,A864)","v":862}]
[{"$f":"配送情報書!A867","v":0},{"$f":"配送情報書!AB867","v":0},{"$f":"配送情報書!AA867","v":0},{"$f":"配送情報書!AC867","v":0},{"$f":"INDEX(医療機関マスタ!$A:$A,MATCH(F865,医療機関マスタ!$B:$B,0),1)","v":"AH0000001"},{"$f":"INDEX(医療機関マスタ!$B:$B,MATCH(\"*\"&MID(注文書!$D$17,IFERROR(FIND(\" \",注文書!$D$17),IFERROR(FIND(\"　\",注文書!$D$17),0))+1,10)&\"*\",医療機関マスタ!$C:$C,0),1)","v":"医療法人社団斗南堂　八王子クリニック"},{"$f":"配送情報書!X867","v":""},{"$f":"配送情報書!Z867","v":"00:00:00"},{"$f":"配送情報書!$V867","v":""},"転記不要",null,null,null,{"$f":"配送情報書!T867","v":0},{"$f":"COUNTIF($A$3:A865,A865)","v":863}]
[{"$f":"配送情報書!A868","v":0},{"$f":"配送情報書!AB868","v":0},{"$f":"配送情報書!AA868","v":0},{"$f":"配送情報書!AC868","v":0},{"$f":"INDEX(医療機関マスタ!$A:$A,MATCH(F866,医療機関マスタ!$B:$B,0),1)","v":"AH0000001"},{"$f":"INDEX(医療機関マスタ!$B:$B,MATCH(\"*\"&MID(注文書!$D$17,IFERROR(FIND(\" \",注文書!$D$17),IFERROR(FIND(\"　\",注文書!$D$17),0))+1,10)&\"*\",医療機関マスタ!$C:$C,0),1)","v":"医療法人社団斗南堂　八王子クリニック"},{"$f":"配送情報書!X868","v":""},{"$f":"配送情報書!Z868","v":"00:00:00"},{"$f":"配送情報書!$V868","v":""},"転記不要",null,null,null,{"$f":"配送情報書!T868","v":0},{"$f":"COUNTIF($A$3:A866,A866)","v":864}]
[{"$f":"配送情報書!A869","v":0},{"$f":"配送情報書!AB869","v":0},{"$f":"配送情報書!AA869","v":0},{"$f":"配送情報書!AC869","v":0},{"$f":"INDEX(医療機関マスタ!$A:$A,MATCH(F867,医療機関マスタ!$B:$B,0),1)","v":"AH0000001"},{"$f":"INDEX(医療機関マスタ!$B:$B,MATCH(\"*\"&MID(注文書!$D$17,IFERROR(FIND(\" \",注文書!$D$17),IFERROR(FIND(\"　\",注文書!$D$17),0))+1,10)&\"*\",医療機関マスタ!$C:$C,0),1)","v":"医療法人社団斗南堂　八王子クリニック"},{"$f":"配送情報書!X869","v":""},{"$f":"配送情報書!Z869","v":"00:00:00"},{"$f":"配送情報書!$V869","v":""},"転記不要",null,null,null,{"$f":"配送情報書!T869","v":0},{"$f":"COUNTIF($A$3:A867,A867)","v":865}]
[{"$f":"配送情報書!A870","v":0},{"$f":"配送情報書!AB870","v":0},{"$f":"配送情報書!AA870","v":0},{"$f":"配送情報書!AC870","v":0},{"$f":"INDEX(医療機関マスタ!$A:$A,MATCH(F868,医療機関マスタ!$B:$B,0),1)","v":"AH0000001"},{"$f":"INDEX(医療機関マスタ!$B:$B,MATCH(\"*\"&MID(注文書!$D$17,IFERROR(FIND(\" \",注文書!$D$17),IFERROR(FIND(\"　\",注文書!$D$17),0))+1,10)&\"*\",医療機関マスタ!$C:$C,0),1)","v":"医療法人社団斗南堂　八王子クリニック"},{"$f":"配送情報書!X870","v":""},{"$f":"配送情報書!Z870","v":"00:00:00"},{"$f":"配送情報書!$V870","v":""},"転記不要",null,null,null,{"$f":"配送情報書!T870","v":0},{"$f":"COUNTIF($A$3:A868,A868)","v":866}]
[{"$f":"配送情報書!A871","v":0},{"$f":"配送情報書!AB871","v":0},{"$f":"配送情報書!AA871","v":0},{"$f":"配送情報書!AC871","v":0},{"$f":"INDEX(医療機関マスタ!$A:$A,MATCH(F869,医療機関マスタ!$B:$B,0),1)","v":"AH0000001"},{"$f":"INDEX(医療機関マスタ!$B:$B,MATCH(\"*\"&MID(注文書!$D$17,IFERROR(FIND(\" \",注文書!$D$17),IFERROR(FIND(\"　\",注文書!$D$17),0))+1,10)&\"*\",医療機関マスタ!$C:$C,0),1)","v":"医療法人社団斗南堂　八王子クリニック"},{"$f":"配送情報書!X871","v":""},{"$f":"配送情報書!Z871","v":"00:00:00"},{"$f":"配送情報書!$V871","v":""},"転記不要",null,null,null,{"$f":"配送情報書!T871","v":0},{"$f":"COUNTIF($A$3:A869,A869)","v":867}]
[{"$f":"配送情報書!A872","v":0},{"$f":"配送情報書!AB872","v":0},{"$f":"配送情報書!AA872","v":0},{"$f":"配送情報書!AC872","v":0},{"$f":"INDEX(医療機関マスタ!$A:$A,MATCH(F870,医療機関マスタ!$B:$B,0),1)","v":"AH0000001"},{"$f":"INDEX(医療機関マスタ!$B:$B,MATCH(\"*\"&MID(注文書!$D$17,IFERROR(FIND(\" \",注文書!$D$17),IFERROR(FIND(\"　\",注文書!$D$17),0))+1,10)&\"*\",医療機関マスタ!$C:$C,0),1)","v":"医療法人社団斗南堂　八王子クリニック"},{"$f":"配送情報書!X872","v":""},{"$f":"配送情報書!Z872","v":"00:00:00"},{"$f":"配送情報書!$V872","v":""},"転記不要",null,null,null,{"$f":"配送情報書!T872","v":0},{"$f":"COUNTIF($A$3:A870,A870)","v":868}]
[{"$f":"配送情報書!A873","v":0},{"$f":"配送情報書!AB873","v":0},{"$f":"配送情報書!AA873","v":0},{"$f":"配送情報書!AC873","v":0},{"$f":"INDEX(医療機関マスタ!$A:$A,MATCH(F871,医療機関マスタ!$B:$B,0),1)","v":"AH0000001"},{"$f":"INDEX(医療機関マスタ!$B:$B,MATCH(\"*\"&MID(注文書!$D$17,IFERROR(FIND(\" \",注文書!$D$17),IFERROR(FIND(\"　\",注文書!$D$17),0))+1,10)&\"*\",医療機関マスタ!$C:$C,0),1)","v":"医療法人社団斗南堂　八王子クリニック"},{"$f":"配送情報書!X873","v":""},{"$f":"配送情報書!Z873","v":"00:00:00"},{"$f":"配送情報書!$V873","v":""},"転記不要",null,null,null,{"$f":"配送情報書!T873","v":0},{"$f":"COUNTIF($A$3:A871,A871)","v":869}]
[{"$f":"配送情報書!A874","v":0},{"$f":"配送情報書!AB874","v":0},{"$f":"配送情報書!AA874","v":0},{"$f":"配送情報書!AC874","v":0},{"$f":"INDEX(医療機関マスタ!$A:$A,MATCH(F872,医療機関マスタ!$B:$B,0),1)","v":"AH0000001"},{"$f":"INDEX(医療機関マスタ!$B:$B,MATCH(\"*\"&MID(注文書!$D$17,IFERROR(FIND(\" \",注文書!$D$17),IFERROR(FIND(\"　\",注文書!$D$17),0))+1,10)&\"*\",医療機関マスタ!$C:$C,0),1)","v":"医療法人社団斗南堂　八王子クリニック"},{"$f":"配送情報書!X874","v":""},{"$f":"配送情報書!Z874","v":"00:00:00"},{"$f":"配送情報書!$V874","v":""},"転記不要",null,null,null,{"$f":"配送情報書!T874","v":0},{"$f":"COUNTIF($A$3:A872,A872)","v":870}]
[{"$f":"配送情報書!A875","v":0},{"$f":"配送情報書!AB875","v":0},{"$f":"配送情報書!AA875","v":0},{"$f":"配送情報書!AC875","v":0},{"$f":"INDEX(医療機関マスタ!$A:$A,MATCH(F873,医療機関マスタ!$B:$B,0),1)","v":"AH0000001"},{"$f":"INDEX(医療機関マスタ!$B:$B,MATCH(\"*\"&MID(注文書!$D$17,IFERROR(FIND(\" \",注文書!$D$17),IFERROR(FIND(\"　\",注文書!$D$17),0))+1,10)&\"*\",医療機関マスタ!$C:$C,0),1)","v":"医療法人社団斗南堂　八王子クリニック"},{"$f":"配送情報書!X875","v":""},{"$f":"配送情報書!Z875","v":"00:00:00"},{"$f":"配送情報書!$V875","v":""},"転記不要",null,null,null,{"$f":"配送情報書!T875","v":0},{"$f":"COUNTIF($A$3:A873,A873)","v":871}]
[{"$f":"配送情報書!A876","v":0},{"$f":"配送情報書!AB876","v":0},{"$f":"配送情報書!AA876","v":0},{"$f":"配送情報書!AC876","v":0},{"$f":"INDEX(医療機関マスタ!$A:$A,MATCH(F874,医療機関マスタ!$B:$B,0),1)","v":"AH0000001"},{"$f":"INDEX(医療機関マスタ!$B:$B,MATCH(\"*\"&MID(注文書!$D$17,IFERROR(FIND(\" \",注文書!$D$17),IFERROR(FIND(\"　\",注文書!$D$17),0))+1,10)&\"*\",医療機関マスタ!$C:$C,0),1)","v":"医療法人社団斗南堂　八王子クリニック"},{"$f":"配送情報書!X876","v":""},{"$f":"配送情報書!Z876","v":"00:00:00"},{"$f":"配送情報書!$V876","v":""},"転記不要",null,null,null,{"$f":"配送情報書!T876","v":0},{"$f":"COUNTIF($A$3:A874,A874)","v":872}]
[{"$f":"配送情報書!A877","v":0},{"$f":"配送情報書!AB877","v":0},{"$f":"配送情報書!AA877","v":0},{"$f":"配送情報書!AC877","v":0},{"$f":"INDEX(医療機関マスタ!$A:$A,MATCH(F875,医療機関マスタ!$B:$B,0),1)","v":"AH0000001"},{"$f":"INDEX(医療機関マスタ!$B:$B,MATCH(\"*\"&MID(注文書!$D$17,IFERROR(FIND(\" \",注文書!$D$17),IFERROR(FIND(\"　\",注文書!$D$17),0))+1,10)&\"*\",医療機関マスタ!$C:$C,0),1)","v":"医療法人社団斗南堂　八王子クリニック"},{"$f":"配送情報書!X877","v":""},{"$f":"配送情報書!Z877","v":"00:00:00"},{"$f":"配送情報書!$V877","v":""},"転記不要",null,null,null,{"$f":"配送情報書!T877","v":0},{"$f":"COUNTIF($A$3:A875,A875)","v":873}]
[{"$f":"配送情報書!A878","v":0},{"$f":"配送情報書!AB878","v":0},{"$f":"配送情報書!AA878","v":0},{"$f":"配送情報書!AC878","v":0},{"$f":"INDEX(医療機関マスタ!$A:$A,MATCH(F876,医療機関マスタ!$B:$B,0),1)","v":"AH0000001"},{"$f":"INDEX(医療機関マスタ!$B:$B,MATCH(\"*\"&MID(注文書!$D$17,IFERROR(FIND(\" \",注文書!$D$17),IFERROR(FIND(\"　\",注文書!$D$17),0))+1,10)&\"*\",医療機関マスタ!$C:$C,0),1)","v":"医療法人社団斗南堂　八王子クリニック"},{"$f":"配送情報書!X878","v":""},{"$f":"配送情報書!Z878","v":"00:00:00"},{"$f":"配送情報書!$V878","v":""},"転記不要",null,null,null,{"$f":"配送情報書!T878","v":0},{"$f":"COUNTIF($A$3:A876,A876)","v":874}]
[{"$f":"配送情報書!A879","v":0},{"$f":"配送情報書!AB879","v":0},{"$f":"配送情報書!AA879","v":0},{"$f":"配送情報書!AC879","v":0},{"$f":"INDEX(医療機関マスタ!$A:$A,MATCH(F877,医療機関マスタ!$B:$B,0),1)","v":"AH0000001"},{"$f":"INDEX(医療機関マスタ!$B:$B,MATCH(\"*\"&MID(注文書!$D$17,IFERROR(FIND(\" \",注文書!$D$17),IFERROR(FIND(\"　\",注文書!$D$17),0))+1,10)&\"*\",医療機関マスタ!$C:$C,0),1)","v":"医療法人社団斗南堂　八王子クリニック"},{"$f":"配送情報書!X879","v":""},{"$f":"配送情報書!Z879","v":"00:00:00"},{"$f":"配送情報書!$V879","v":""},"転記不要",null,null,null,{"$f":"配送情報書!T879","v":0},{"$f":"COUNTIF($A$3:A877,A877)","v":875}]
[{"$f":"配送情報書!A880","v":0},{"$f":"配送情報書!AB880","v":0},{"$f":"配送情報書!AA880","v":0},{"$f":"配送情報書!AC880","v":0},{"$f":"INDEX(医療機関マスタ!$A:$A,MATCH(F878,医療機関マスタ!$B:$B,0),1)","v":"AH0000001"},{"$f":"INDEX(医療機関マスタ!$B:$B,MATCH(\"*\"&MID(注文書!$D$17,IFERROR(FIND(\" \",注文書!$D$17),IFERROR(FIND(\"　\",注文書!$D$17),0))+1,10)&\"*\",医療機関マスタ!$C:$C,0),1)","v":"医療法人社団斗南堂　八王子クリニック"},{"$f":"配送情報書!X880","v":""},{"$f":"配送情報書!Z880","v":"00:00:00"},{"$f":"配送情報書!$V880","v":""},"転記不要",null,null,null,{"$f":"配送情報書!T880","v":0},{"$f":"COUNTIF($A$3:A878,A878)","v":876}]
[{"$f":"配送情報書!A881","v":0},{"$f":"配送情報書!AB881","v":0},{"$f":"配送情報書!AA881","v":0},{"$f":"配送情報書!AC881","v":0},{"$f":"INDEX(医療機関マスタ!$A:$A,MATCH(F879,医療機関マスタ!$B:$B,0),1)","v":"AH0000001"},{"$f":"INDEX(医療機関マスタ!$B:$B,MATCH(\"*\"&MID(注文書!$D$17,IFERROR(FIND(\" \",注文書!$D$17),IFERROR(FIND(\"　\",注文書!$D$17),0))+1,10)&\"*\",医療機関マスタ!$C:$C,0),1)","v":"医療法人社団斗南堂　八王子クリニック"},{"$f":"配送情報書!X881","v":""},{"$f":"配送情報書!Z881","v":"00:00:00"},{"$f":"配送情報書!$V881","v":""},"転記不要",null,null,null,{"$f":"配送情報書!T881","v":0},{"$f":"COUNTIF($A$3:A879,A879)","v":877}]
[{"$f":"配送情報書!A882","v":0},{"$f":"配送情報書!AB882","v":0},{"$f":"配送情報書!AA882","v":0},{"$f":"配送情報書!AC882","v":0},{"$f":"INDEX(医療機関マスタ!$A:$A,MATCH(F880,医療機関マスタ!$B:$B,0),1)","v":"AH0000001"},{"$f":"INDEX(医療機関マスタ!$B:$B,MATCH(\"*\"&MID(注文書!$D$17,IFERROR(FIND(\" \",注文書!$D$17),IFERROR(FIND(\"　\",注文書!$D$17),0))+1,10)&\"*\",医療機関マスタ!$C:$C,0),1)","v":"医療法人社団斗南堂　八王子クリニック"},{"$f":"配送情報書!X882","v":""},{"$f":"配送情報書!Z882","v":"00:00:00"},{"$f":"配送情報書!$V882","v":""},"転記不要",null,null,null,{"$f":"配送情報書!T882","v":0},{"$f":"COUNTIF($A$3:A880,A880)","v":878}]
[{"$f":"配送情報書!A883","v":0},{"$f":"配送情報書!AB883","v":0},{"$f":"配送情報書!AA883","v":0},{"$f":"配送情報書!AC883","v":0},{"$f":"INDEX(医療機関マスタ!$A:$A,MATCH(F881,医療機関マスタ!$B:$B,0),1)","v":"AH0000001"},{"$f":"INDEX(医療機関マスタ!$B:$B,MATCH(\"*\"&MID(注文書!$D$17,IFERROR(FIND(\" \",注文書!$D$17),IFERROR(FIND(\"　\",注文書!$D$17),0))+1,10)&\"*\",医療機関マスタ!$C:$C,0),1)","v":"医療法人社団斗南堂　八王子クリニック"},{"$f":"配送情報書!X883","v":""},{"$f":"配送情報書!Z883","v":"00:00:00"},{"$f":"配送情報書!$V883","v":""},"転記不要",null,null,null,{"$f":"配送情報書!T883","v":0},{"$f":"COUNTIF($A$3:A881,A881)","v":879}]
[{"$f":"配送情報書!A884","v":0},{"$f":"配送情報書!AB884","v":0},{"$f":"配送情報書!AA884","v":0},{"$f":"配送情報書!AC884","v":0},{"$f":"INDEX(医療機関マスタ!$A:$A,MATCH(F882,医療機関マスタ!$B:$B,0),1)","v":"AH0000001"},{"$f":"INDEX(医療機関マスタ!$B:$B,MATCH(\"*\"&MID(注文書!$D$17,IFERROR(FIND(\" \",注文書!$D$17),IFERROR(FIND(\"　\",注文書!$D$17),0))+1,10)&\"*\",医療機関マスタ!$C:$C,0),1)","v":"医療法人社団斗南堂　八王子クリニック"},{"$f":"配送情報書!X884","v":""},{"$f":"配送情報書!Z884","v":"00:00:00"},{"$f":"配送情報書!$V884","v":""},"転記不要",null,null,null,{"$f":"配送情報書!T884","v":0},{"$f":"COUNTIF($A$3:A882,A882)","v":880}]
[{"$f":"配送情報書!A885","v":0},{"$f":"配送情報書!AB885","v":0},{"$f":"配送情報書!AA885","v":0},{"$f":"配送情報書!AC885","v":0},{"$f":"INDEX(医療機関マスタ!$A:$A,MATCH(F883,医療機関マスタ!$B:$B,0),1)","v":"AH0000001"},{"$f":"INDEX(医療機関マスタ!$B:$B,MATCH(\"*\"&MID(注文書!$D$17,IFERROR(FIND(\" \",注文書!$D$17),IFERROR(FIND(\"　\",注文書!$D$17),0))+1,10)&\"*\",医療機関マスタ!$C:$C,0),1)","v":"医療法人社団斗南堂　八王子クリニック"},{"$f":"配送情報書!X885","v":""},{"$f":"配送情報書!Z885","v":"00:00:00"},{"$f":"配送情報書!$V885","v":""},"転記不要",null,null,null,{"$f":"配送情報書!T885","v":0},{"$f":"COUNTIF($A$3:A883,A883)","v":881}]
[{"$f":"配送情報書!A886","v":0},{"$f":"配送情報書!AB886","v":0},{"$f":"配送情報書!AA886","v":0},{"$f":"配送情報書!AC886","v":0},{"$f":"INDEX(医療機関マスタ!$A:$A,MATCH(F884,医療機関マスタ!$B:$B,0),1)","v":"AH0000001"},{"$f":"INDEX(医療機関マスタ!$B:$B,MATCH(\"*\"&MID(注文書!$D$17,IFERROR(FIND(\" \",注文書!$D$17),IFERROR(FIND(\"　\",注文書!$D$17),0))+1,10)&\"*\",医療機関マスタ!$C:$C,0),1)","v":"医療法人社団斗南堂　八王子クリニック"},{"$f":"配送情報書!X886","v":""},{"$f":"配送情報書!Z886","v":"00:00:00"},{"$f":"配送情報書!$V886","v":""},"転記不要",null,null,null,{"$f":"配送情報書!T886","v":0},{"$f":"COUNTIF($A$3:A884,A884)","v":882}]
[{"$f":"配送情報書!A887","v":0},{"$f":"配送情報書!AB887","v":0},{"$f":"配送情報書!AA887","v":0},{"$f":"配送情報書!AC887","v":0},{"$f":"INDEX(医療機関マスタ!$A:$A,MATCH(F885,医療機関マスタ!$B:$B,0),1)","v":"AH0000001"},{"$f":"INDEX(医療機関マスタ!$B:$B,MATCH(\"*\"&MID(注文書!$D$17,IFERROR(FIND(\" \",注文書!$D$17),IFERROR(FIND(\"　\",注文書!$D$17),0))+1,10)&\"*\",医療機関マスタ!$C:$C,0),1)","v":"医療法人社団斗南堂　八王子クリニック"},{"$f":"配送情報書!X887","v":""},{"$f":"配送情報書!Z887","v":"00:00:00"},{"$f":"配送情報書!$V887","v":""},"転記不要",null,null,null,{"$f":"配送情報書!T887","v":0},{"$f":"COUNTIF($A$3:A885,A885)","v":883}]
[{"$f":"配送情報書!A888","v":0},{"$f":"配送情報書!AB888","v":0},{"$f":"配送情報書!AA888","v":0},{"$f":"配送情報書!AC888","v":0},{"$f":"INDEX(医療機関マスタ!$A:$A,MATCH(F886,医療機関マスタ!$B:$B,0),1)","v":"AH0000001"},{"$f":"INDEX(医療機関マスタ!$B:$B,MATCH(\"*\"&MID(注文書!$D$17,IFERROR(FIND(\" \",注文書!$D$17),IFERROR(FIND(\"　\",注文書!$D$17),0))+1,10)&\"*\",医療機関マスタ!$C:$C,0),1)","v":"医療法人社団斗南堂　八王子クリニック"},{"$f":"配送情報書!X888","v":""},{"$f":"配送情報書!Z888","v":"00:00:00"},{"$f":"配送情報書!$V888","v":""},"転記不要",null,null,null,{"$f":"配送情報書!T888","v":0},{"$f":"COUNTIF($A$3:A886,A886)","v":884}]
[{"$f":"配送情報書!A889","v":0},{"$f":"配送情報書!AB889","v":0},{"$f":"配送情報書!AA889","v":0},{"$f":"配送情報書!AC889","v":0},{"$f":"INDEX(医療機関マスタ!$A:$A,MATCH(F887,医療機関マスタ!$B:$B,0),1)","v":"AH0000001"},{"$f":"INDEX(医療機関マスタ!$B:$B,MATCH(\"*\"&MID(注文書!$D$17,IFERROR(FIND(\" \",注文書!$D$17),IFERROR(FIND(\"　\",注文書!$D$17),0))+1,10)&\"*\",医療機関マスタ!$C:$C,0),1)","v":"医療法人社団斗南堂　八王子クリニック"},{"$f":"配送情報書!X889","v":""},{"$f":"配送情報書!Z889","v":"00:00:00"},{"$f":"配送情報書!$V889","v":""},"転記不要",null,null,null,{"$f":"配送情報書!T889","v":0},{"$f":"COUNTIF($A$3:A887,A887)","v":885}]
[{"$f":"配送情報書!A890","v":0},{"$f":"配送情報書!AB890","v":0},{"$f":"配送情報書!AA890","v":0},{"$f":"配送情報書!AC890","v":0},{"$f":"INDEX(医療機関マスタ!$A:$A,MATCH(F888,医療機関マスタ!$B:$B,0),1)","v":"AH0000001"},{"$f":"INDEX(医療機関マスタ!$B:$B,MATCH(\"*\"&MID(注文書!$D$17,IFERROR(FIND(\" \",注文書!$D$17),IFERROR(FIND(\"　\",注文書!$D$17),0))+1,10)&\"*\",医療機関マスタ!$C:$C,0),1)","v":"医療法人社団斗南堂　八王子クリニック"},{"$f":"配送情報書!X890","v":""},{"$f":"配送情報書!Z890","v":"00:00:00"},{"$f":"配送情報書!$V890","v":""},"転記不要",null,null,null,{"$f":"配送情報書!T890","v":0},{"$f":"COUNTIF($A$3:A888,A888)","v":886}]
[{"$f":"配送情報書!A891","v":0},{"$f":"配送情報書!AB891","v":0},{"$f":"配送情報書!AA891","v":0},{"$f":"配送情報書!AC891","v":0},{"$f":"INDEX(医療機関マスタ!$A:$A,MATCH(F889,医療機関マスタ!$B:$B,0),1)","v":"AH0000001"},{"$f":"INDEX(医療機関マスタ!$B:$B,MATCH(\"*\"&MID(注文書!$D$17,IFERROR(FIND(\" \",注文書!$D$17),IFERROR(FIND(\"　\",注文書!$D$17),0))+1,10)&\"*\",医療機関マスタ!$C:$C,0),1)","v":"医療法人社団斗南堂　八王子クリニック"},{"$f":"配送情報書!X891","v":""},{"$f":"配送情報書!Z891","v":"00:00:00"},{"$f":"配送情報書!$V891","v":""},"転記不要",null,null,null,{"$f":"配送情報書!T891","v":0},{"$f":"COUNTIF($A$3:A889,A889)","v":887}]
[{"$f":"配送情報書!A892","v":0},{"$f":"配送情報書!AB892","v":0},{"$f":"配送情報書!AA892","v":0},{"$f":"配送情報書!AC892","v":0},{"$f":"INDEX(医療機関マスタ!$A:$A,MATCH(F890,医療機関マスタ!$B:$B,0),1)","v":"AH0000001"},{"$f":"INDEX(医療機関マスタ!$B:$B,MATCH(\"*\"&MID(注文書!$D$17,IFERROR(FIND(\" \",注文書!$D$17),IFERROR(FIND(\"　\",注文書!$D$17),0))+1,10)&\"*\",医療機関マスタ!$C:$C,0),1)","v":"医療法人社団斗南堂　八王子クリニック"},{"$f":"配送情報書!X892","v":""},{"$f":"配送情報書!Z892","v":"00:00:00"},{"$f":"配送情報書!$V892","v":""},"転記不要",null,null,null,{"$f":"配送情報書!T892","v":0},{"$f":"COUNTIF($A$3:A890,A890)","v":888}]
[{"$f":"配送情報書!A893","v":0},{"$f":"配送情報書!AB893","v":0},{"$f":"配送情報書!AA893","v":0},{"$f":"配送情報書!AC893","v":0},{"$f":"INDEX(医療機関マスタ!$A:$A,MATCH(F891,医療機関マスタ!$B:$B,0),1)","v":"AH0000001"},{"$f":"INDEX(医療機関マスタ!$B:$B,MATCH(\"*\"&MID(注文書!$D$17,IFERROR(FIND(\" \",注文書!$D$17),IFERROR(FIND(\"　\",注文書!$D$17),0))+1,10)&\"*\",医療機関マスタ!$C:$C,0),1)","v":"医療法人社団斗南堂　八王子クリニック"},{"$f":"配送情報書!X893","v":""},{"$f":"配送情報書!Z893","v":"00:00:00"},{"$f":"配送情報書!$V893","v":""},"転記不要",null,null,null,{"$f":"配送情報書!T893","v":0},{"$f":"COUNTIF($A$3:A891,A891)","v":889}]
[{"$f":"配送情報書!A894","v":0},{"$f":"配送情報書!AB894","v":0},{"$f":"配送情報書!AA894","v":0},{"$f":"配送情報書!AC894","v":0},{"$f":"INDEX(医療機関マスタ!$A:$A,MATCH(F892,医療機関マスタ!$B:$B,0),1)","v":"AH0000001"},{"$f":"INDEX(医療機関マスタ!$B:$B,MATCH(\"*\"&MID(注文書!$D$17,IFERROR(FIND(\" \",注文書!$D$17),IFERROR(FIND(\"　\",注文書!$D$17),0))+1,10)&\"*\",医療機関マスタ!$C:$C,0),1)","v":"医療法人社団斗南堂　八王子クリニック"},{"$f":"配送情報書!X894","v":""},{"$f":"配送情報書!Z894","v":"00:00:00"},{"$f":"配送情報書!$V894","v":""},"転記不要",null,null,null,{"$f":"配送情報書!T894","v":0},{"$f":"COUNTIF($A$3:A892,A892)","v":890}]
[{"$f":"配送情報書!A895","v":0},{"$f":"配送情報書!AB895","v":0},{"$f":"配送情報書!AA895","v":0},{"$f":"配送情報書!AC895","v":0},{"$f":"INDEX(医療機関マスタ!$A:$A,MATCH(F893,医療機関マスタ!$B:$B,0),1)","v":"AH0000001"},{"$f":"INDEX(医療機関マスタ!$B:$B,MATCH(\"*\"&MID(注文書!$D$17,IFERROR(FIND(\" \",注文書!$D$17),IFERROR(FIND(\"　\",注文書!$D$17),0))+1,10)&\"*\",医療機関マスタ!$C:$C,0),1)","v":"医療法人社団斗南堂　八王子クリニック"},{"$f":"配送情報書!X895","v":""},{"$f":"配送情報書!Z895","v":"00:00:00"},{"$f":"配送情報書!$V895","v":""},"転記不要",null,null,null,{"$f":"配送情報書!T895","v":0},{"$f":"COUNTIF($A$3:A893,A893)","v":891}]
[{"$f":"配送情報書!A896","v":0},{"$f":"配送情報書!AB896","v":0},{"$f":"配送情報書!AA896","v":0},{"$f":"配送情報書!AC896","v":0},{"$f":"INDEX(医療機関マスタ!$A:$A,MATCH(F894,医療機関マスタ!$B:$B,0),1)","v":"AH0000001"},{"$f":"INDEX(医療機関マスタ!$B:$B,MATCH(\"*\"&MID(注文書!$D$17,IFERROR(FIND(\" \",注文書!$D$17),IFERROR(FIND(\"　\",注文書!$D$17),0))+1,10)&\"*\",医療機関マスタ!$C:$C,0),1)","v":"医療法人社団斗南堂　八王子クリニック"},{"$f":"配送情報書!X896","v":""},{"$f":"配送情報書!Z896","v":"00:00:00"},{"$f":"配送情報書!$V896","v":""},"転記不要",null,null,null,{"$f":"配送情報書!T896","v":0},{"$f":"COUNTIF($A$3:A894,A894)","v":892}]
[{"$f":"配送情報書!A897","v":0},{"$f":"配送情報書!AB897","v":0},{"$f":"配送情報書!AA897","v":0},{"$f":"配送情報書!AC897","v":0},{"$f":"INDEX(医療機関マスタ!$A:$A,MATCH(F895,医療機関マスタ!$B:$B,0),1)","v":"AH0000001"},{"$f":"INDEX(医療機関マスタ!$B:$B,MATCH(\"*\"&MID(注文書!$D$17,IFERROR(FIND(\" \",注文書!$D$17),IFERROR(FIND(\"　\",注文書!$D$17),0))+1,10)&\"*\",医療機関マスタ!$C:$C,0),1)","v":"医療法人社団斗南堂　八王子クリニック"},{"$f":"配送情報書!X897","v":""},{"$f":"配送情報書!Z897","v":"00:00:00"},{"$f":"配送情報書!$V897","v":""},"転記不要",null,null,null,{"$f":"配送情報書!T897","v":0},{"$f":"COUNTIF($A$3:A895,A895)","v":893}]
[{"$f":"配送情報書!A898","v":0},{"$f":"配送情報書!AB898","v":0},{"$f":"配送情報書!AA898","v":0},{"$f":"配送情報書!AC898","v":0},{"$f":"INDEX(医療機関マスタ!$A:$A,MATCH(F896,医療機関マスタ!$B:$B,0),1)","v":"AH0000001"},{"$f":"INDEX(医療機関マスタ!$B:$B,MATCH(\"*\"&MID(注文書!$D$17,IFERROR(FIND(\" \",注文書!$D$17),IFERROR(FIND(\"　\",注文書!$D$17),0))+1,10)&\"*\",医療機関マスタ!$C:$C,0),1)","v":"医療法人社団斗南堂　八王子クリニック"},{"$f":"配送情報書!X898","v":""},{"$f":"配送情報書!Z898","v":"00:00:00"},{"$f":"配送情報書!$V898","v":""},"転記不要",null,null,null,{"$f":"配送情報書!T898","v":0},{"$f":"COUNTIF($A$3:A896,A896)","v":894}]
[{"$f":"配送情報書!A899","v":0},{"$f":"配送情報書!AB899","v":0},{"$f":"配送情報書!AA899","v":0},{"$f":"配送情報書!AC899","v":0},{"$f":"INDEX(医療機関マスタ!$A:$A,MATCH(F897,医療機関マスタ!$B:$B,0),1)","v":"AH0000001"},{"$f":"INDEX(医療機関マスタ!$B:$B,MATCH(\"*\"&MID(注文書!$D$17,IFERROR(FIND(\" \",注文書!$D$17),IFERROR(FIND(\"　\",注文書!$D$17),0))+1,10)&\"*\",医療機関マスタ!$C:$C,0),1)","v":"医療法人社団斗南堂　八王子クリニック"},{"$f":"配送情報書!X899","v":""},{"$f":"配送情報書!Z899","v":"00:00:00"},{"$f":"配送情報書!$V899","v":""},"転記不要",null,null,null,{"$f":"配送情報書!T899","v":0},{"$f":"COUNTIF($A$3:A897,A897)","v":895}]
[{"$f":"配送情報書!A900","v":0},{"$f":"配送情報書!AB900","v":0},{"$f":"配送情報書!AA900","v":0},{"$f":"配送情報書!AC900","v":0},{"$f":"INDEX(医療機関マスタ!$A:$A,MATCH(F898,医療機関マスタ!$B:$B,0),1)","v":"AH0000001"},{"$f":"INDEX(医療機関マスタ!$B:$B,MATCH(\"*\"&MID(注文書!$D$17,IFERROR(FIND(\" \",注文書!$D$17),IFERROR(FIND(\"　\",注文書!$D$17),0))+1,10)&\"*\",医療機関マスタ!$C:$C,0),1)","v":"医療法人社団斗南堂　八王子クリニック"},{"$f":"配送情報書!X900","v":""},{"$f":"配送情報書!Z900","v":"00:00:00"},{"$f":"配送情報書!$V900","v":""},"転記不要",null,null,null,{"$f":"配送情報書!T900","v":0},{"$f":"COUNTIF($A$3:A898,A898)","v":896}]
[{"$f":"配送情報書!A901","v":0},{"$f":"配送情報書!AB901","v":0},{"$f":"配送情報書!AA901","v":0},{"$f":"配送情報書!AC901","v":0},{"$f":"INDEX(医療機関マスタ!$A:$A,MATCH(F899,医療機関マスタ!$B:$B,0),1)","v":"AH0000001"},{"$f":"INDEX(医療機関マスタ!$B:$B,MATCH(\"*\"&MID(注文書!$D$17,IFERROR(FIND(\" \",注文書!$D$17),IFERROR(FIND(\"　\",注文書!$D$17),0))+1,10)&\"*\",医療機関マスタ!$C:$C,0),1)","v":"医療法人社団斗南堂　八王子クリニック"},{"$f":"配送情報書!X901","v":""},{"$f":"配送情報書!Z901","v":"00:00:00"},{"$f":"配送情報書!$V901","v":""},"転記不要",null,null,null,{"$f":"配送情報書!T901","v":0},{"$f":"COUNTIF($A$3:A899,A899)","v":897}]
[{"$f":"配送情報書!A902","v":0},{"$f":"配送情報書!AB902","v":0},{"$f":"配送情報書!AA902","v":0},{"$f":"配送情報書!AC902","v":0},{"$f":"INDEX(医療機関マスタ!$A:$A,MATCH(F900,医療機関マスタ!$B:$B,0),1)","v":"AH0000001"},{"$f":"INDEX(医療機関マスタ!$B:$B,MATCH(\"*\"&MID(注文書!$D$17,IFERROR(FIND(\" \",注文書!$D$17),IFERROR(FIND(\"　\",注文書!$D$17),0))+1,10)&\"*\",医療機関マスタ!$C:$C,0),1)","v":"医療法人社団斗南堂　八王子クリニック"},{"$f":"配送情報書!X902","v":""},{"$f":"配送情報書!Z902","v":"00:00:00"},{"$f":"配送情報書!$V902","v":""},{"$f":"IF(AND(N900>0,O900=1),SUMIFS($N:$N,$A:$A,A900),\"転記不要\")","v":"転記不要"},null,null,null,{"$f":"配送情報書!T902","v":0},{"$f":"COUNTIF($A$3:A900,A900)","v":898}]
[{"$f":"配送情報書!A903","v":0},{"$f":"配送情報書!AB903","v":0},{"$f":"配送情報書!AA903","v":0},{"$f":"配送情報書!AC903","v":0},{"$f":"INDEX(医療機関マスタ!$A:$A,MATCH(F901,医療機関マスタ!$B:$B,0),1)","v":"AH0000001"},{"$f":"INDEX(医療機関マスタ!$B:$B,MATCH(\"*\"&MID(注文書!$D$17,IFERROR(FIND(\" \",注文書!$D$17),IFERROR(FIND(\"　\",注文書!$D$17),0))+1,10)&\"*\",医療機関マスタ!$C:$C,0),1)","v":"医療法人社団斗南堂　八王子クリニック"},{"$f":"配送情報書!X903","v":""},{"$f":"配送情報書!Z903","v":"00:00:00"},{"$f":"配送情報書!$V903","v":""},"転記不要",null,null,null,{"$f":"配送情報書!T903","v":0},{"$f":"COUNTIF($A$3:A901,A901)","v":899}]
[{"$f":"配送情報書!A904","v":0},{"$f":"配送情報書!AB904","v":0},{"$f":"配送情報書!AA904","v":0},{"$f":"配送情報書!AC904","v":0},{"$f":"INDEX(医療機関マスタ!$A:$A,MATCH(F902,医療機関マスタ!$B:$B,0),1)","v":"AH0000001"},{"$f":"INDEX(医療機関マスタ!$B:$B,MATCH(\"*\"&MID(注文書!$D$17,IFERROR(FIND(\" \",注文書!$D$17),IFERROR(FIND(\"　\",注文書!$D$17),0))+1,10)&\"*\",医療機関マスタ!$C:$C,0),1)","v":"医療法人社団斗南堂　八王子クリニック"},{"$f":"配送情報書!X904","v":""},{"$f":"配送情報書!Z904","v":"00:00:00"},{"$f":"配送情報書!$V904","v":""},"転記不要",null,null,null,{"$f":"配送情報書!T904","v":0},{"$f":"COUNTIF($A$3:A902,A902)","v":900}]
[{"$f":"配送情報書!A905","v":0},{"$f":"配送情報書!AB905","v":0},{"$f":"配送情報書!AA905","v":0},{"$f":"配送情報書!AC905","v":0},{"$f":"INDEX(医療機関マスタ!$A:$A,MATCH(F903,医療機関マスタ!$B:$B,0),1)","v":"AH0000001"},{"$f":"INDEX(医療機関マスタ!$B:$B,MATCH(\"*\"&MID(注文書!$D$17,IFERROR(FIND(\" \",注文書!$D$17),IFERROR(FIND(\"　\",注文書!$D$17),0))+1,10)&\"*\",医療機関マスタ!$C:$C,0),1)","v":"医療法人社団斗南堂　八王子クリニック"},{"$f":"配送情報書!X905","v":""},{"$f":"配送情報書!Z905","v":"00:00:00"},{"$f":"配送情報書!$V905","v":""},"転記不要",null,null,null,{"$f":"配送情報書!T905","v":0},{"$f":"COUNTIF($A$3:A903,A903)","v":901}]
[{"$f":"配送情報書!A906","v":0},{"$f":"配送情報書!AB906","v":0},{"$f":"配送情報書!AA906","v":0},{"$f":"配送情報書!AC906","v":0},{"$f":"INDEX(医療機関マスタ!$A:$A,MATCH(F904,医療機関マスタ!$B:$B,0),1)","v":"AH0000001"},{"$f":"INDEX(医療機関マスタ!$B:$B,MATCH(\"*\"&MID(注文書!$D$17,IFERROR(FIND(\" \",注文書!$D$17),IFERROR(FIND(\"　\",注文書!$D$17),0))+1,10)&\"*\",医療機関マスタ!$C:$C,0),1)","v":"医療法人社団斗南堂　八王子クリニック"},{"$f":"配送情報書!X906","v":""},{"$f":"配送情報書!Z906","v":"00:00:00"},{"$f":"配送情報書!$V906","v":""},"転記不要",null,null,null,{"$f":"配送情報書!T906","v":0},{"$f":"COUNTIF($A$3:A904,A904)","v":902}]
[{"$f":"配送情報書!A907","v":0},{"$f":"配送情報書!AB907","v":0},{"$f":"配送情報書!AA907","v":0},{"$f":"配送情報書!AC907","v":0},{"$f":"INDEX(医療機関マスタ!$A:$A,MATCH(F905,医療機関マスタ!$B:$B,0),1)","v":"AH0000001"},{"$f":"INDEX(医療機関マスタ!$B:$B,MATCH(\"*\"&MID(注文書!$D$17,IFERROR(FIND(\" \",注文書!$D$17),IFERROR(FIND(\"　\",注文書!$D$17),0))+1,10)&\"*\",医療機関マスタ!$C:$C,0),1)","v":"医療法人社団斗南堂　八王子クリニック"},{"$f":"配送情報書!X907","v":""},{"$f":"配送情報書!Z907","v":"00:00:00"},{"$f":"配送情報書!$V907","v":""},"転記不要",null,null,null,{"$f":"配送情報書!T907","v":0},{"$f":"COUNTIF($A$3:A905,A905)","v":903}]
[{"$f":"配送情報書!A908","v":0},{"$f":"配送情報書!AB908","v":0},{"$f":"配送情報書!AA908","v":0},{"$f":"配送情報書!AC908","v":0},{"$f":"INDEX(医療機関マスタ!$A:$A,MATCH(F906,医療機関マスタ!$B:$B,0),1)","v":"AH0000001"},{"$f":"INDEX(医療機関マスタ!$B:$B,MATCH(\"*\"&MID(注文書!$D$17,IFERROR(FIND(\" \",注文書!$D$17),IFERROR(FIND(\"　\",注文書!$D$17),0))+1,10)&\"*\",医療機関マスタ!$C:$C,0),1)","v":"医療法人社団斗南堂　八王子クリニック"},{"$f":"配送情報書!X908","v":""},{"$f":"配送情報書!Z908","v":"00:00:00"},{"$f":"配送情報書!$V908","v":""},"転記不要",null,null,null,{"$f":"配送情報書!T908","v":0},{"$f":"COUNTIF($A$3:A906,A906)","v":904}]
[{"$f":"配送情報書!A909","v":0},{"$f":"配送情報書!AB909","v":0},{"$f":"配送情報書!AA909","v":0},{"$f":"配送情報書!AC909","v":0},{"$f":"INDEX(医療機関マスタ!$A:$A,MATCH(F907,医療機関マスタ!$B:$B,0),1)","v":"AH0000001"},{"$f":"INDEX(医療機関マスタ!$B:$B,MATCH(\"*\"&MID(注文書!$D$17,IFERROR(FIND(\" \",注文書!$D$17),IFERROR(FIND(\"　\",注文書!$D$17),0))+1,10)&\"*\",医療機関マスタ!$C:$C,0),1)","v":"医療法人社団斗南堂　八王子クリニック"},{"$f":"配送情報書!X909","v":""},{"$f":"配送情報書!Z909","v":"00:00:00"},{"$f":"配送情報書!$V909","v":""},"転記不要",null,null,null,{"$f":"配送情報書!T909","v":0},{"$f":"COUNTIF($A$3:A907,A907)","v":905}]
[{"$f":"配送情報書!A910","v":0},{"$f":"配送情報書!AB910","v":0},{"$f":"配送情報書!AA910","v":0},{"$f":"配送情報書!AC910","v":0},{"$f":"INDEX(医療機関マスタ!$A:$A,MATCH(F908,医療機関マスタ!$B:$B,0),1)","v":"AH0000001"},{"$f":"INDEX(医療機関マスタ!$B:$B,MATCH(\"*\"&MID(注文書!$D$17,IFERROR(FIND(\" \",注文書!$D$17),IFERROR(FIND(\"　\",注文書!$D$17),0))+1,10)&\"*\",医療機関マスタ!$C:$C,0),1)","v":"医療法人社団斗南堂　八王子クリニック"},{"$f":"配送情報書!X910","v":""},{"$f":"配送情報書!Z910","v":"00:00:00"},{"$f":"配送情報書!$V910","v":""},"転記不要",null,null,null,{"$f":"配送情報書!T910","v":0},{"$f":"COUNTIF($A$3:A908,A908)","v":906}]
[{"$f":"配送情報書!A911","v":0},{"$f":"配送情報書!AB911","v":0},{"$f":"配送情報書!AA911","v":0},{"$f":"配送情報書!AC911","v":0},{"$f":"INDEX(医療機関マスタ!$A:$A,MATCH(F909,医療機関マスタ!$B:$B,0),1)","v":"AH0000001"},{"$f":"INDEX(医療機関マスタ!$B:$B,MATCH(\"*\"&MID(注文書!$D$17,IFERROR(FIND(\" \",注文書!$D$17),IFERROR(FIND(\"　\",注文書!$D$17),0))+1,10)&\"*\",医療機関マスタ!$C:$C,0),1)","v":"医療法人社団斗南堂　八王子クリニック"},{"$f":"配送情報書!X911","v":""},{"$f":"配送情報書!Z911","v":"00:00:00"},{"$f":"配送情報書!$V911","v":""},"転記不要",null,null,null,{"$f":"配送情報書!T911","v":0},{"$f":"COUNTIF($A$3:A909,A909)","v":907}]
[{"$f":"配送情報書!A912","v":0},{"$f":"配送情報書!AB912","v":0},{"$f":"配送情報書!AA912","v":0},{"$f":"配送情報書!AC912","v":0},{"$f":"INDEX(医療機関マスタ!$A:$A,MATCH(F910,医療機関マスタ!$B:$B,0),1)","v":"AH0000001"},{"$f":"INDEX(医療機関マスタ!$B:$B,MATCH(\"*\"&MID(注文書!$D$17,IFERROR(FIND(\" \",注文書!$D$17),IFERROR(FIND(\"　\",注文書!$D$17),0))+1,10)&\"*\",医療機関マスタ!$C:$C,0),1)","v":"医療法人社団斗南堂　八王子クリニック"},{"$f":"配送情報書!X912","v":""},{"$f":"配送情報書!Z912","v":"00:00:00"},{"$f":"配送情報書!$V912","v":""},"転記不要",null,null,null,{"$f":"配送情報書!T912","v":0},{"$f":"COUNTIF($A$3:A910,A910)","v":908}]
[{"$f":"配送情報書!A913","v":0},{"$f":"配送情報書!AB913","v":0},{"$f":"配送情報書!AA913","v":0},{"$f":"配送情報書!AC913","v":0},{"$f":"INDEX(医療機関マスタ!$A:$A,MATCH(F911,医療機関マスタ!$B:$B,0),1)","v":"AH0000001"},{"$f":"INDEX(医療機関マスタ!$B:$B,MATCH(\"*\"&MID(注文書!$D$17,IFERROR(FIND(\" \",注文書!$D$17),IFERROR(FIND(\"　\",注文書!$D$17),0))+1,10)&\"*\",医療機関マスタ!$C:$C,0),1)","v":"医療法人社団斗南堂　八王子クリニック"},{"$f":"配送情報書!X913","v":""},{"$f":"配送情報書!Z913","v":"00:00:00"},{"$f":"配送情報書!$V913","v":""},"転記不要",null,null,null,{"$f":"配送情報書!T913","v":0},{"$f":"COUNTIF($A$3:A911,A911)","v":909}]
[{"$f":"配送情報書!A914","v":0},{"$f":"配送情報書!AB914","v":0},{"$f":"配送情報書!AA914","v":0},{"$f":"配送情報書!AC914","v":0},{"$f":"INDEX(医療機関マスタ!$A:$A,MATCH(F912,医療機関マスタ!$B:$B,0),1)","v":"AH0000001"},{"$f":"INDEX(医療機関マスタ!$B:$B,MATCH(\"*\"&MID(注文書!$D$17,IFERROR(FIND(\" \",注文書!$D$17),IFERROR(FIND(\"　\",注文書!$D$17),0))+1,10)&\"*\",医療機関マスタ!$C:$C,0),1)","v":"医療法人社団斗南堂　八王子クリニック"},{"$f":"配送情報書!X914","v":""},{"$f":"配送情報書!Z914","v":"00:00:00"},{"$f":"配送情報書!$V914","v":""},"転記不要",null,null,null,{"$f":"配送情報書!T914","v":0},{"$f":"COUNTIF($A$3:A912,A912)","v":910}]
[{"$f":"配送情報書!A915","v":0},{"$f":"配送情報書!AB915","v":0},{"$f":"配送情報書!AA915","v":0},{"$f":"配送情報書!AC915","v":0},{"$f":"INDEX(医療機関マスタ!$A:$A,MATCH(F913,医療機関マスタ!$B:$B,0),1)","v":"AH0000001"},{"$f":"INDEX(医療機関マスタ!$B:$B,MATCH(\"*\"&MID(注文書!$D$17,IFERROR(FIND(\" \",注文書!$D$17),IFERROR(FIND(\"　\",注文書!$D$17),0))+1,10)&\"*\",医療機関マスタ!$C:$C,0),1)","v":"医療法人社団斗南堂　八王子クリニック"},{"$f":"配送情報書!X915","v":""},{"$f":"配送情報書!Z915","v":"00:00:00"},{"$f":"配送情報書!$V915","v":""},"転記不要",null,null,null,{"$f":"配送情報書!T915","v":0},{"$f":"COUNTIF($A$3:A913,A913)","v":911}]
[{"$f":"配送情報書!A916","v":0},{"$f":"配送情報書!AB916","v":0},{"$f":"配送情報書!AA916","v":0},{"$f":"配送情報書!AC916","v":0},{"$f":"INDEX(医療機関マスタ!$A:$A,MATCH(F914,医療機関マスタ!$B:$B,0),1)","v":"AH0000001"},{"$f":"INDEX(医療機関マスタ!$B:$B,MATCH(\"*\"&MID(注文書!$D$17,IFERROR(FIND(\" \",注文書!$D$17),IFERROR(FIND(\"　\",注文書!$D$17),0))+1,10)&\"*\",医療機関マスタ!$C:$C,0),1)","v":"医療法人社団斗南堂　八王子クリニック"},{"$f":"配送情報書!X916","v":""},{"$f":"配送情報書!Z916","v":"00:00:00"},{"$f":"配送情報書!$V916","v":""},"転記不要",null,null,null,{"$f":"配送情報書!T916","v":0},{"$f":"COUNTIF($A$3:A914,A914)","v":912}]
[{"$f":"配送情報書!A917","v":0},{"$f":"配送情報書!AB917","v":0},{"$f":"配送情報書!AA917","v":0},{"$f":"配送情報書!AC917","v":0},{"$f":"INDEX(医療機関マスタ!$A:$A,MATCH(F915,医療機関マスタ!$B:$B,0),1)","v":"AH0000001"},{"$f":"INDEX(医療機関マスタ!$B:$B,MATCH(\"*\"&MID(注文書!$D$17,IFERROR(FIND(\" \",注文書!$D$17),IFERROR(FIND(\"　\",注文書!$D$17),0))+1,10)&\"*\",医療機関マスタ!$C:$C,0),1)","v":"医療法人社団斗南堂　八王子クリニック"},{"$f":"配送情報書!X917","v":""},{"$f":"配送情報書!Z917","v":"00:00:00"},{"$f":"配送情報書!$V917","v":""},"転記不要",null,null,null,{"$f":"配送情報書!T917","v":0},{"$f":"COUNTIF($A$3:A915,A915)","v":913}]
[{"$f":"配送情報書!A918","v":0},{"$f":"配送情報書!AB918","v":0},{"$f":"配送情報書!AA918","v":0},{"$f":"配送情報書!AC918","v":0},{"$f":"INDEX(医療機関マスタ!$A:$A,MATCH(F916,医療機関マスタ!$B:$B,0),1)","v":"AH0000001"},{"$f":"INDEX(医療機関マスタ!$B:$B,MATCH(\"*\"&MID(注文書!$D$17,IFERROR(FIND(\" \",注文書!$D$17),IFERROR(FIND(\"　\",注文書!$D$17),0))+1,10)&\"*\",医療機関マスタ!$C:$C,0),1)","v":"医療法人社団斗南堂　八王子クリニック"},{"$f":"配送情報書!X918","v":""},{"$f":"配送情報書!Z918","v":"00:00:00"},{"$f":"配送情報書!$V918","v":""},"転記不要",null,null,null,{"$f":"配送情報書!T918","v":0},{"$f":"COUNTIF($A$3:A916,A916)","v":914}]
[{"$f":"配送情報書!A919","v":0},{"$f":"配送情報書!AB919","v":0},{"$f":"配送情報書!AA919","v":0},{"$f":"配送情報書!AC919","v":0},{"$f":"INDEX(医療機関マスタ!$A:$A,MATCH(F917,医療機関マスタ!$B:$B,0),1)","v":"AH0000001"},{"$f":"INDEX(医療機関マスタ!$B:$B,MATCH(\"*\"&MID(注文書!$D$17,IFERROR(FIND(\" \",注文書!$D$17),IFERROR(FIND(\"　\",注文書!$D$17),0))+1,10)&\"*\",医療機関マスタ!$C:$C,0),1)","v":"医療法人社団斗南堂　八王子クリニック"},{"$f":"配送情報書!X919","v":""},{"$f":"配送情報書!Z919","v":"00:00:00"},{"$f":"配送情報書!$V919","v":""},"転記不要",null,null,null,{"$f":"配送情報書!T919","v":0},{"$f":"COUNTIF($A$3:A917,A917)","v":915}]
[{"$f":"配送情報書!A920","v":0},{"$f":"配送情報書!AB920","v":0},{"$f":"配送情報書!AA920","v":0},{"$f":"配送情報書!AC920","v":0},{"$f":"INDEX(医療機関マスタ!$A:$A,MATCH(F918,医療機関マスタ!$B:$B,0),1)","v":"AH0000001"},{"$f":"INDEX(医療機関マスタ!$B:$B,MATCH(\"*\"&MID(注文書!$D$17,IFERROR(FIND(\" \",注文書!$D$17),IFERROR(FIND(\"　\",注文書!$D$17),0))+1,10)&\"*\",医療機関マスタ!$C:$C,0),1)","v":"医療法人社団斗南堂　八王子クリニック"},{"$f":"配送情報書!X920","v":""},{"$f":"配送情報書!Z920","v":"00:00:00"},{"$f":"配送情報書!$V920","v":""},"転記不要",null,null,null,{"$f":"配送情報書!T920","v":0},{"$f":"COUNTIF($A$3:A918,A918)","v":916}]
[{"$f":"配送情報書!A921","v":0},{"$f":"配送情報書!AB921","v":0},{"$f":"配送情報書!AA921","v":0},{"$f":"配送情報書!AC921","v":0},{"$f":"INDEX(医療機関マスタ!$A:$A,MATCH(F919,医療機関マスタ!$B:$B,0),1)","v":"AH0000001"},{"$f":"INDEX(医療機関マスタ!$B:$B,MATCH(\"*\"&MID(注文書!$D$17,IFERROR(FIND(\" \",注文書!$D$17),IFERROR(FIND(\"　\",注文書!$D$17),0))+1,10)&\"*\",医療機関マスタ!$C:$C,0),1)","v":"医療法人社団斗南堂　八王子クリニック"},{"$f":"配送情報書!X921","v":""},{"$f":"配送情報書!Z921","v":"00:00:00"},{"$f":"配送情報書!$V921","v":""},"転記不要",null,null,null,{"$f":"配送情報書!T921","v":0},{"$f":"COUNTIF($A$3:A919,A919)","v":917}]
[{"$f":"配送情報書!A922","v":0},{"$f":"配送情報書!AB922","v":0},{"$f":"配送情報書!AA922","v":0},{"$f":"配送情報書!AC922","v":0},{"$f":"INDEX(医療機関マスタ!$A:$A,MATCH(F920,医療機関マスタ!$B:$B,0),1)","v":"AH0000001"},{"$f":"INDEX(医療機関マスタ!$B:$B,MATCH(\"*\"&MID(注文書!$D$17,IFERROR(FIND(\" \",注文書!$D$17),IFERROR(FIND(\"　\",注文書!$D$17),0))+1,10)&\"*\",医療機関マスタ!$C:$C,0),1)","v":"医療法人社団斗南堂　八王子クリニック"},{"$f":"配送情報書!X922","v":""},{"$f":"配送情報書!Z922","v":"00:00:00"},{"$f":"配送情報書!$V922","v":""},"転記不要",null,null,null,{"$f":"配送情報書!T922","v":0},{"$f":"COUNTIF($A$3:A920,A920)","v":918}]
[{"$f":"配送情報書!A923","v":0},{"$f":"配送情報書!AB923","v":0},{"$f":"配送情報書!AA923","v":0},{"$f":"配送情報書!AC923","v":0},{"$f":"INDEX(医療機関マスタ!$A:$A,MATCH(F921,医療機関マスタ!$B:$B,0),1)","v":"AH0000001"},{"$f":"INDEX(医療機関マスタ!$B:$B,MATCH(\"*\"&MID(注文書!$D$17,IFERROR(FIND(\" \",注文書!$D$17),IFERROR(FIND(\"　\",注文書!$D$17),0))+1,10)&\"*\",医療機関マスタ!$C:$C,0),1)","v":"医療法人社団斗南堂　八王子クリニック"},{"$f":"配送情報書!X923","v":""},{"$f":"配送情報書!Z923","v":"00:00:00"},{"$f":"配送情報書!$V923","v":""},"転記不要",null,null,null,{"$f":"配送情報書!T923","v":0},{"$f":"COUNTIF($A$3:A921,A921)","v":919}]
[{"$f":"配送情報書!A924","v":0},{"$f":"配送情報書!AB924","v":0},{"$f":"配送情報書!AA924","v":0},{"$f":"配送情報書!AC924","v":0},{"$f":"INDEX(医療機関マスタ!$A:$A,MATCH(F922,医療機関マスタ!$B:$B,0),1)","v":"AH0000001"},{"$f":"INDEX(医療機関マスタ!$B:$B,MATCH(\"*\"&MID(注文書!$D$17,IFERROR(FIND(\" \",注文書!$D$17),IFERROR(FIND(\"　\",注文書!$D$17),0))+1,10)&\"*\",医療機関マスタ!$C:$C,0),1)","v":"医療法人社団斗南堂　八王子クリニック"},{"$f":"配送情報書!X924","v":""},{"$f":"配送情報書!Z924","v":"00:00:00"},{"$f":"配送情報書!$V924","v":""},"転記不要",null,null,null,{"$f":"配送情報書!T924","v":0},{"$f":"COUNTIF($A$3:A922,A922)","v":920}]
[{"$f":"配送情報書!A925","v":0},{"$f":"配送情報書!AB925","v":0},{"$f":"配送情報書!AA925","v":0},{"$f":"配送情報書!AC925","v":0},{"$f":"INDEX(医療機関マスタ!$A:$A,MATCH(F923,医療機関マスタ!$B:$B,0),1)","v":"AH0000001"},{"$f":"INDEX(医療機関マスタ!$B:$B,MATCH(\"*\"&MID(注文書!$D$17,IFERROR(FIND(\" \",注文書!$D$17),IFERROR(FIND(\"　\",注文書!$D$17),0))+1,10)&\"*\",医療機関マスタ!$C:$C,0),1)","v":"医療法人社団斗南堂　八王子クリニック"},{"$f":"配送情報書!X925","v":""},{"$f":"配送情報書!Z925","v":"00:00:00"},{"$f":"配送情報書!$V925","v":""},"転記不要",null,null,null,{"$f":"配送情報書!T925","v":0},{"$f":"COUNTIF($A$3:A923,A923)","v":921}]
[{"$f":"配送情報書!A926","v":0},{"$f":"配送情報書!AB926","v":0},{"$f":"配送情報書!AA926","v":0},{"$f":"配送情報書!AC926","v":0},{"$f":"INDEX(医療機関マスタ!$A:$A,MATCH(F924,医療機関マスタ!$B:$B,0),1)","v":"AH0000001"},{"$f":"INDEX(医療機関マスタ!$B:$B,MATCH(\"*\"&MID(注文書!$D$17,IFERROR(FIND(\" \",注文書!$D$17),IFERROR(FIND(\"　\",注文書!$D$17),0))+1,10)&\"*\",医療機関マスタ!$C:$C,0),1)","v":"医療法人社団斗南堂　八王子クリニック"},{"$f":"配送情報書!X926","v":""},{"$f":"配送情報書!Z926","v":"00:00:00"},{"$f":"配送情報書!$V926","v":""},"転記不要",null,null,null,{"$f":"配送情報書!T926","v":0},{"$f":"COUNTIF($A$3:A924,A924)","v":922}]
[{"$f":"配送情報書!A927","v":0},{"$f":"配送情報書!AB927","v":0},{"$f":"配送情報書!AA927","v":0},{"$f":"配送情報書!AC927","v":0},{"$f":"INDEX(医療機関マスタ!$A:$A,MATCH(F925,医療機関マスタ!$B:$B,0),1)","v":"AH0000001"},{"$f":"INDEX(医療機関マスタ!$B:$B,MATCH(\"*\"&MID(注文書!$D$17,IFERROR(FIND(\" \",注文書!$D$17),IFERROR(FIND(\"　\",注文書!$D$17),0))+1,10)&\"*\",医療機関マスタ!$C:$C,0),1)","v":"医療法人社団斗南堂　八王子クリニック"},{"$f":"配送情報書!X927","v":""},{"$f":"配送情報書!Z927","v":"00:00:00"},{"$f":"配送情報書!$V927","v":""},"転記不要",null,null,null,{"$f":"配送情報書!T927","v":0},{"$f":"COUNTIF($A$3:A925,A925)","v":923}]
[{"$f":"配送情報書!A928","v":0},{"$f":"配送情報書!AB928","v":0},{"$f":"配送情報書!AA928","v":0},{"$f":"配送情報書!AC928","v":0},{"$f":"INDEX(医療機関マスタ!$A:$A,MATCH(F926,医療機関マスタ!$B:$B,0),1)","v":"AH0000001"},{"$f":"INDEX(医療機関マスタ!$B:$B,MATCH(\"*\"&MID(注文書!$D$17,IFERROR(FIND(\" \",注文書!$D$17),IFERROR(FIND(\"　\",注文書!$D$17),0))+1,10)&\"*\",医療機関マスタ!$C:$C,0),1)","v":"医療法人社団斗南堂　八王子クリニック"},{"$f":"配送情報書!X928","v":""},{"$f":"配送情報書!Z928","v":"00:00:00"},{"$f":"配送情報書!$V928","v":""},"転記不要",null,null,null,{"$f":"配送情報書!T928","v":0},{"$f":"COUNTIF($A$3:A926,A926)","v":924}]
[{"$f":"配送情報書!A929","v":0},{"$f":"配送情報書!AB929","v":0},{"$f":"配送情報書!AA929","v":0},{"$f":"配送情報書!AC929","v":0},{"$f":"INDEX(医療機関マスタ!$A:$A,MATCH(F927,医療機関マスタ!$B:$B,0),1)","v":"AH0000001"},{"$f":"INDEX(医療機関マスタ!$B:$B,MATCH(\"*\"&MID(注文書!$D$17,IFERROR(FIND(\" \",注文書!$D$17),IFERROR(FIND(\"　\",注文書!$D$17),0))+1,10)&\"*\",医療機関マスタ!$C:$C,0),1)","v":"医療法人社団斗南堂　八王子クリニック"},{"$f":"配送情報書!X929","v":""},{"$f":"配送情報書!Z929","v":"00:00:00"},{"$f":"配送情報書!$V929","v":""},"転記不要",null,null,null,{"$f":"配送情報書!T929","v":0},{"$f":"COUNTIF($A$3:A927,A927)","v":925}]
[{"$f":"配送情報書!A930","v":0},{"$f":"配送情報書!AB930","v":0},{"$f":"配送情報書!AA930","v":0},{"$f":"配送情報書!AC930","v":0},{"$f":"INDEX(医療機関マスタ!$A:$A,MATCH(F928,医療機関マスタ!$B:$B,0),1)","v":"AH0000001"},{"$f":"INDEX(医療機関マスタ!$B:$B,MATCH(\"*\"&MID(注文書!$D$17,IFERROR(FIND(\" \",注文書!$D$17),IFERROR(FIND(\"　\",注文書!$D$17),0))+1,10)&\"*\",医療機関マスタ!$C:$C,0),1)","v":"医療法人社団斗南堂　八王子クリニック"},{"$f":"配送情報書!X930","v":""},{"$f":"配送情報書!Z930","v":"00:00:00"},{"$f":"配送情報書!$V930","v":""},"転記不要",null,null,null,{"$f":"配送情報書!T930","v":0},{"$f":"COUNTIF($A$3:A928,A928)","v":926}]
[{"$f":"配送情報書!A931","v":0},{"$f":"配送情報書!AB931","v":0},{"$f":"配送情報書!AA931","v":0},{"$f":"配送情報書!AC931","v":0},{"$f":"INDEX(医療機関マスタ!$A:$A,MATCH(F929,医療機関マスタ!$B:$B,0),1)","v":"AH0000001"},{"$f":"INDEX(医療機関マスタ!$B:$B,MATCH(\"*\"&MID(注文書!$D$17,IFERROR(FIND(\" \",注文書!$D$17),IFERROR(FIND(\"　\",注文書!$D$17),0))+1,10)&\"*\",医療機関マスタ!$C:$C,0),1)","v":"医療法人社団斗南堂　八王子クリニック"},{"$f":"配送情報書!X931","v":""},{"$f":"配送情報書!Z931","v":"00:00:00"},{"$f":"配送情報書!$V931","v":""},"転記不要",null,null,null,{"$f":"配送情報書!T931","v":0},{"$f":"COUNTIF($A$3:A929,A929)","v":927}]
[{"$f":"配送情報書!A932","v":0},{"$f":"配送情報書!AB932","v":0},{"$f":"配送情報書!AA932","v":0},{"$f":"配送情報書!AC932","v":0},{"$f":"INDEX(医療機関マスタ!$A:$A,MATCH(F930,医療機関マスタ!$B:$B,0),1)","v":"AH0000001"},{"$f":"INDEX(医療機関マスタ!$B:$B,MATCH(\"*\"&MID(注文書!$D$17,IFERROR(FIND(\" \",注文書!$D$17),IFERROR(FIND(\"　\",注文書!$D$17),0))+1,10)&\"*\",医療機関マスタ!$C:$C,0),1)","v":"医療法人社団斗南堂　八王子クリニック"},{"$f":"配送情報書!X932","v":""},{"$f":"配送情報書!Z932","v":"00:00:00"},{"$f":"配送情報書!$V932","v":""},"転記不要",null,null,null,{"$f":"配送情報書!T932","v":0},{"$f":"COUNTIF($A$3:A930,A930)","v":928}]
[{"$f":"配送情報書!A933","v":0},{"$f":"配送情報書!AB933","v":0},{"$f":"配送情報書!AA933","v":0},{"$f":"配送情報書!AC933","v":0},{"$f":"INDEX(医療機関マスタ!$A:$A,MATCH(F931,医療機関マスタ!$B:$B,0),1)","v":"AH0000001"},{"$f":"INDEX(医療機関マスタ!$B:$B,MATCH(\"*\"&MID(注文書!$D$17,IFERROR(FIND(\" \",注文書!$D$17),IFERROR(FIND(\"　\",注文書!$D$17),0))+1,10)&\"*\",医療機関マスタ!$C:$C,0),1)","v":"医療法人社団斗南堂　八王子クリニック"},{"$f":"配送情報書!X933","v":""},{"$f":"配送情報書!Z933","v":"00:00:00"},{"$f":"配送情報書!$V933","v":""},"転記不要",null,null,null,{"$f":"配送情報書!T933","v":0},{"$f":"COUNTIF($A$3:A931,A931)","v":929}]
[{"$f":"配送情報書!A934","v":0},{"$f":"配送情報書!AB934","v":0},{"$f":"配送情報書!AA934","v":0},{"$f":"配送情報書!AC934","v":0},{"$f":"INDEX(医療機関マスタ!$A:$A,MATCH(F932,医療機関マスタ!$B:$B,0),1)","v":"AH0000001"},{"$f":"INDEX(医療機関マスタ!$B:$B,MATCH(\"*\"&MID(注文書!$D$17,IFERROR(FIND(\" \",注文書!$D$17),IFERROR(FIND(\"　\",注文書!$D$17),0))+1,10)&\"*\",医療機関マスタ!$C:$C,0),1)","v":"医療法人社団斗南堂　八王子クリニック"},{"$f":"配送情報書!X934","v":""},{"$f":"配送情報書!Z934","v":"00:00:00"},{"$f":"配送情報書!$V934","v":""},"転記不要",null,null,null,{"$f":"配送情報書!T934","v":0},{"$f":"COUNTIF($A$3:A932,A932)","v":930}]
[{"$f":"配送情報書!A935","v":0},{"$f":"配送情報書!AB935","v":0},{"$f":"配送情報書!AA935","v":0},{"$f":"配送情報書!AC935","v":0},{"$f":"INDEX(医療機関マスタ!$A:$A,MATCH(F933,医療機関マスタ!$B:$B,0),1)","v":"AH0000001"},{"$f":"INDEX(医療機関マスタ!$B:$B,MATCH(\"*\"&MID(注文書!$D$17,IFERROR(FIND(\" \",注文書!$D$17),IFERROR(FIND(\"　\",注文書!$D$17),0))+1,10)&\"*\",医療機関マスタ!$C:$C,0),1)","v":"医療法人社団斗南堂　八王子クリニック"},{"$f":"配送情報書!X935","v":""},{"$f":"配送情報書!Z935","v":"00:00:00"},{"$f":"配送情報書!$V935","v":""},"転記不要",null,null,null,{"$f":"配送情報書!T935","v":0},{"$f":"COUNTIF($A$3:A933,A933)","v":931}]
[{"$f":"配送情報書!A936","v":0},{"$f":"配送情報書!AB936","v":0},{"$f":"配送情報書!AA936","v":0},{"$f":"配送情報書!AC936","v":0},{"$f":"INDEX(医療機関マスタ!$A:$A,MATCH(F934,医療機関マスタ!$B:$B,0),1)","v":"AH0000001"},{"$f":"INDEX(医療機関マスタ!$B:$B,MATCH(\"*\"&MID(注文書!$D$17,IFERROR(FIND(\" \",注文書!$D$17),IFERROR(FIND(\"　\",注文書!$D$17),0))+1,10)&\"*\",医療機関マスタ!$C:$C,0),1)","v":"医療法人社団斗南堂　八王子クリニック"},{"$f":"配送情報書!X936","v":""},{"$f":"配送情報書!Z936","v":"00:00:00"},{"$f":"配送情報書!$V936","v":""},"転記不要",null,null,null,{"$f":"配送情報書!T936","v":0},{"$f":"COUNTIF($A$3:A934,A934)","v":932}]
[{"$f":"配送情報書!A937","v":0},{"$f":"配送情報書!AB937","v":0},{"$f":"配送情報書!AA937","v":0},{"$f":"配送情報書!AC937","v":0},{"$f":"INDEX(医療機関マスタ!$A:$A,MATCH(F935,医療機関マスタ!$B:$B,0),1)","v":"AH0000001"},{"$f":"INDEX(医療機関マスタ!$B:$B,MATCH(\"*\"&MID(注文書!$D$17,IFERROR(FIND(\" \",注文書!$D$17),IFERROR(FIND(\"　\",注文書!$D$17),0))+1,10)&\"*\",医療機関マスタ!$C:$C,0),1)","v":"医療法人社団斗南堂　八王子クリニック"},{"$f":"配送情報書!X937","v":""},{"$f":"配送情報書!Z937","v":"00:00:00"},{"$f":"配送情報書!$V937","v":""},"転記不要",null,null,null,{"$f":"配送情報書!T937","v":0},{"$f":"COUNTIF($A$3:A935,A935)","v":933}]
[{"$f":"配送情報書!A938","v":0},{"$f":"配送情報書!AB938","v":0},{"$f":"配送情報書!AA938","v":0},{"$f":"配送情報書!AC938","v":0},{"$f":"INDEX(医療機関マスタ!$A:$A,MATCH(F936,医療機関マスタ!$B:$B,0),1)","v":"AH0000001"},{"$f":"INDEX(医療機関マスタ!$B:$B,MATCH(\"*\"&MID(注文書!$D$17,IFERROR(FIND(\" \",注文書!$D$17),IFERROR(FIND(\"　\",注文書!$D$17),0))+1,10)&\"*\",医療機関マスタ!$C:$C,0),1)","v":"医療法人社団斗南堂　八王子クリニック"},{"$f":"配送情報書!X938","v":""},{"$f":"配送情報書!Z938","v":"00:00:00"},{"$f":"配送情報書!$V938","v":""},"転記不要",null,null,null,{"$f":"配送情報書!T938","v":0},{"$f":"COUNTIF($A$3:A936,A936)","v":934}]
[{"$f":"配送情報書!A939","v":0},{"$f":"配送情報書!AB939","v":0},{"$f":"配送情報書!AA939","v":0},{"$f":"配送情報書!AC939","v":0},{"$f":"INDEX(医療機関マスタ!$A:$A,MATCH(F937,医療機関マスタ!$B:$B,0),1)","v":"AH0000001"},{"$f":"INDEX(医療機関マスタ!$B:$B,MATCH(\"*\"&MID(注文書!$D$17,IFERROR(FIND(\" \",注文書!$D$17),IFERROR(FIND(\"　\",注文書!$D$17),0))+1,10)&\"*\",医療機関マスタ!$C:$C,0),1)","v":"医療法人社団斗南堂　八王子クリニック"},{"$f":"配送情報書!X939","v":""},{"$f":"配送情報書!Z939","v":"00:00:00"},{"$f":"配送情報書!$V939","v":""},"転記不要",null,null,null,{"$f":"配送情報書!T939","v":0},{"$f":"COUNTIF($A$3:A937,A937)","v":935}]
[{"$f":"配送情報書!A940","v":0},{"$f":"配送情報書!AB940","v":0},{"$f":"配送情報書!AA940","v":0},{"$f":"配送情報書!AC940","v":0},{"$f":"INDEX(医療機関マスタ!$A:$A,MATCH(F938,医療機関マスタ!$B:$B,0),1)","v":"AH0000001"},{"$f":"INDEX(医療機関マスタ!$B:$B,MATCH(\"*\"&MID(注文書!$D$17,IFERROR(FIND(\" \",注文書!$D$17),IFERROR(FIND(\"　\",注文書!$D$17),0))+1,10)&\"*\",医療機関マスタ!$C:$C,0),1)","v":"医療法人社団斗南堂　八王子クリニック"},{"$f":"配送情報書!X940","v":""},{"$f":"配送情報書!Z940","v":"00:00:00"},{"$f":"配送情報書!$V940","v":""},"転記不要",null,null,null,{"$f":"配送情報書!T940","v":0},{"$f":"COUNTIF($A$3:A938,A938)","v":936}]
[{"$f":"配送情報書!A941","v":0},{"$f":"配送情報書!AB941","v":0},{"$f":"配送情報書!AA941","v":0},{"$f":"配送情報書!AC941","v":0},{"$f":"INDEX(医療機関マスタ!$A:$A,MATCH(F939,医療機関マスタ!$B:$B,0),1)","v":"AH0000001"},{"$f":"INDEX(医療機関マスタ!$B:$B,MATCH(\"*\"&MID(注文書!$D$17,IFERROR(FIND(\" \",注文書!$D$17),IFERROR(FIND(\"　\",注文書!$D$17),0))+1,10)&\"*\",医療機関マスタ!$C:$C,0),1)","v":"医療法人社団斗南堂　八王子クリニック"},{"$f":"配送情報書!X941","v":""},{"$f":"配送情報書!Z941","v":"00:00:00"},{"$f":"配送情報書!$V941","v":""},"転記不要",null,null,null,{"$f":"配送情報書!T941","v":0},{"$f":"COUNTIF($A$3:A939,A939)","v":937}]
[{"$f":"配送情報書!A942","v":0},{"$f":"配送情報書!AB942","v":0},{"$f":"配送情報書!AA942","v":0},{"$f":"配送情報書!AC942","v":0},{"$f":"INDEX(医療機関マスタ!$A:$A,MATCH(F940,医療機関マスタ!$B:$B,0),1)","v":"AH0000001"},{"$f":"INDEX(医療機関マスタ!$B:$B,MATCH(\"*\"&MID(注文書!$D$17,IFERROR(FIND(\" \",注文書!$D$17),IFERROR(FIND(\"　\",注文書!$D$17),0))+1,10)&\"*\",医療機関マスタ!$C:$C,0),1)","v":"医療法人社団斗南堂　八王子クリニック"},{"$f":"配送情報書!X942","v":""},{"$f":"配送情報書!Z942","v":"00:00:00"},{"$f":"配送情報書!$V942","v":""},"転記不要",null,null,null,{"$f":"配送情報書!T942","v":0},{"$f":"COUNTIF($A$3:A940,A940)","v":938}]
[{"$f":"配送情報書!A943","v":0},{"$f":"配送情報書!AB943","v":0},{"$f":"配送情報書!AA943","v":0},{"$f":"配送情報書!AC943","v":0},{"$f":"INDEX(医療機関マスタ!$A:$A,MATCH(F941,医療機関マスタ!$B:$B,0),1)","v":"AH0000001"},{"$f":"INDEX(医療機関マスタ!$B:$B,MATCH(\"*\"&MID(注文書!$D$17,IFERROR(FIND(\" \",注文書!$D$17),IFERROR(FIND(\"　\",注文書!$D$17),0))+1,10)&\"*\",医療機関マスタ!$C:$C,0),1)","v":"医療法人社団斗南堂　八王子クリニック"},{"$f":"配送情報書!X943","v":""},{"$f":"配送情報書!Z943","v":"00:00:00"},{"$f":"配送情報書!$V943","v":""},"転記不要",null,null,null,{"$f":"配送情報書!T943","v":0},{"$f":"COUNTIF($A$3:A941,A941)","v":939}]
[{"$f":"配送情報書!A944","v":0},{"$f":"配送情報書!AB944","v":0},{"$f":"配送情報書!AA944","v":0},{"$f":"配送情報書!AC944","v":0},{"$f":"INDEX(医療機関マスタ!$A:$A,MATCH(F942,医療機関マスタ!$B:$B,0),1)","v":"AH0000001"},{"$f":"INDEX(医療機関マスタ!$B:$B,MATCH(\"*\"&MID(注文書!$D$17,IFERROR(FIND(\" \",注文書!$D$17),IFERROR(FIND(\"　\",注文書!$D$17),0))+1,10)&\"*\",医療機関マスタ!$C:$C,0),1)","v":"医療法人社団斗南堂　八王子クリニック"},{"$f":"配送情報書!X944","v":""},{"$f":"配送情報書!Z944","v":"00:00:00"},{"$f":"配送情報書!$V944","v":""},"転記不要",null,null,null,{"$f":"配送情報書!T944","v":0},{"$f":"COUNTIF($A$3:A942,A942)","v":940}]
[{"$f":"配送情報書!A945","v":0},{"$f":"配送情報書!AB945","v":0},{"$f":"配送情報書!AA945","v":0},{"$f":"配送情報書!AC945","v":0},{"$f":"INDEX(医療機関マスタ!$A:$A,MATCH(F943,医療機関マスタ!$B:$B,0),1)","v":"AH0000001"},{"$f":"INDEX(医療機関マスタ!$B:$B,MATCH(\"*\"&MID(注文書!$D$17,IFERROR(FIND(\" \",注文書!$D$17),IFERROR(FIND(\"　\",注文書!$D$17),0))+1,10)&\"*\",医療機関マスタ!$C:$C,0),1)","v":"医療法人社団斗南堂　八王子クリニック"},{"$f":"配送情報書!X945","v":""},{"$f":"配送情報書!Z945","v":"00:00:00"},{"$f":"配送情報書!$V945","v":""},"転記不要",null,null,null,{"$f":"配送情報書!T945","v":0},{"$f":"COUNTIF($A$3:A943,A943)","v":941}]
[{"$f":"配送情報書!A946","v":0},{"$f":"配送情報書!AB946","v":0},{"$f":"配送情報書!AA946","v":0},{"$f":"配送情報書!AC946","v":0},{"$f":"INDEX(医療機関マスタ!$A:$A,MATCH(F944,医療機関マスタ!$B:$B,0),1)","v":"AH0000001"},{"$f":"INDEX(医療機関マスタ!$B:$B,MATCH(\"*\"&MID(注文書!$D$17,IFERROR(FIND(\" \",注文書!$D$17),IFERROR(FIND(\"　\",注文書!$D$17),0))+1,10)&\"*\",医療機関マスタ!$C:$C,0),1)","v":"医療法人社団斗南堂　八王子クリニック"},{"$f":"配送情報書!X946","v":""},{"$f":"配送情報書!Z946","v":"00:00:00"},{"$f":"配送情報書!$V946","v":""},"転記不要",null,null,null,{"$f":"配送情報書!T946","v":0},{"$f":"COUNTIF($A$3:A944,A944)","v":942}]
[{"$f":"配送情報書!A947","v":0},{"$f":"配送情報書!AB947","v":0},{"$f":"配送情報書!AA947","v":0},{"$f":"配送情報書!AC947","v":0},{"$f":"INDEX(医療機関マスタ!$A:$A,MATCH(F945,医療機関マスタ!$B:$B,0),1)","v":"AH0000001"},{"$f":"INDEX(医療機関マスタ!$B:$B,MATCH(\"*\"&MID(注文書!$D$17,IFERROR(FIND(\" \",注文書!$D$17),IFERROR(FIND(\"　\",注文書!$D$17),0))+1,10)&\"*\",医療機関マスタ!$C:$C,0),1)","v":"医療法人社団斗南堂　八王子クリニック"},{"$f":"配送情報書!X947","v":""},{"$f":"配送情報書!Z947","v":"00:00:00"},{"$f":"配送情報書!$V947","v":""},"転記不要",null,null,null,{"$f":"配送情報書!T947","v":0},{"$f":"COUNTIF($A$3:A945,A945)","v":943}]
[{"$f":"配送情報書!A948","v":0},{"$f":"配送情報書!AB948","v":0},{"$f":"配送情報書!AA948","v":0},{"$f":"配送情報書!AC948","v":0},{"$f":"INDEX(医療機関マスタ!$A:$A,MATCH(F946,医療機関マスタ!$B:$B,0),1)","v":"AH0000001"},{"$f":"INDEX(医療機関マスタ!$B:$B,MATCH(\"*\"&MID(注文書!$D$17,IFERROR(FIND(\" \",注文書!$D$17),IFERROR(FIND(\"　\",注文書!$D$17),0))+1,10)&\"*\",医療機関マスタ!$C:$C,0),1)","v":"医療法人社団斗南堂　八王子クリニック"},{"$f":"配送情報書!X948","v":""},{"$f":"配送情報書!Z948","v":"00:00:00"},{"$f":"配送情報書!$V948","v":""},"転記不要",null,null,null,{"$f":"配送情報書!T948","v":0},{"$f":"COUNTIF($A$3:A946,A946)","v":944}]
[{"$f":"配送情報書!A949","v":0},{"$f":"配送情報書!AB949","v":0},{"$f":"配送情報書!AA949","v":0},{"$f":"配送情報書!AC949","v":0},{"$f":"INDEX(医療機関マスタ!$A:$A,MATCH(F947,医療機関マスタ!$B:$B,0),1)","v":"AH0000001"},{"$f":"INDEX(医療機関マスタ!$B:$B,MATCH(\"*\"&MID(注文書!$D$17,IFERROR(FIND(\" \",注文書!$D$17),IFERROR(FIND(\"　\",注文書!$D$17),0))+1,10)&\"*\",医療機関マスタ!$C:$C,0),1)","v":"医療法人社団斗南堂　八王子クリニック"},{"$f":"配送情報書!X949","v":""},{"$f":"配送情報書!Z949","v":"00:00:00"},{"$f":"配送情報書!$V949","v":""},"転記不要",null,null,null,{"$f":"配送情報書!T949","v":0},{"$f":"COUNTIF($A$3:A947,A947)","v":945}]
[{"$f":"配送情報書!A950","v":0},{"$f":"配送情報書!AB950","v":0},{"$f":"配送情報書!AA950","v":0},{"$f":"配送情報書!AC950","v":0},{"$f":"INDEX(医療機関マスタ!$A:$A,MATCH(F948,医療機関マスタ!$B:$B,0),1)","v":"AH0000001"},{"$f":"INDEX(医療機関マスタ!$B:$B,MATCH(\"*\"&MID(注文書!$D$17,IFERROR(FIND(\" \",注文書!$D$17),IFERROR(FIND(\"　\",注文書!$D$17),0))+1,10)&\"*\",医療機関マスタ!$C:$C,0),1)","v":"医療法人社団斗南堂　八王子クリニック"},{"$f":"配送情報書!X950","v":""},{"$f":"配送情報書!Z950","v":"00:00:00"},{"$f":"配送情報書!$V950","v":""},"転記不要",null,null,null,{"$f":"配送情報書!T950","v":0},{"$f":"COUNTIF($A$3:A948,A948)","v":946}]
[{"$f":"配送情報書!A951","v":0},{"$f":"配送情報書!AB951","v":0},{"$f":"配送情報書!AA951","v":0},{"$f":"配送情報書!AC951","v":0},{"$f":"INDEX(医療機関マスタ!$A:$A,MATCH(F949,医療機関マスタ!$B:$B,0),1)","v":"AH0000001"},{"$f":"INDEX(医療機関マスタ!$B:$B,MATCH(\"*\"&MID(注文書!$D$17,IFERROR(FIND(\" \",注文書!$D$17),IFERROR(FIND(\"　\",注文書!$D$17),0))+1,10)&\"*\",医療機関マスタ!$C:$C,0),1)","v":"医療法人社団斗南堂　八王子クリニック"},{"$f":"配送情報書!X951","v":""},{"$f":"配送情報書!Z951","v":"00:00:00"},{"$f":"配送情報書!$V951","v":""},"転記不要",null,null,null,{"$f":"配送情報書!T951","v":0},{"$f":"COUNTIF($A$3:A949,A949)","v":947}]
[{"$f":"配送情報書!A952","v":0},{"$f":"配送情報書!AB952","v":0},{"$f":"配送情報書!AA952","v":0},{"$f":"配送情報書!AC952","v":0},{"$f":"INDEX(医療機関マスタ!$A:$A,MATCH(F950,医療機関マスタ!$B:$B,0),1)","v":"AH0000001"},{"$f":"INDEX(医療機関マスタ!$B:$B,MATCH(\"*\"&MID(注文書!$D$17,IFERROR(FIND(\" \",注文書!$D$17),IFERROR(FIND(\"　\",注文書!$D$17),0))+1,10)&\"*\",医療機関マスタ!$C:$C,0),1)","v":"医療法人社団斗南堂　八王子クリニック"},{"$f":"配送情報書!X952","v":""},{"$f":"配送情報書!Z952","v":"00:00:00"},{"$f":"配送情報書!$V952","v":""},"転記不要",null,null,null,{"$f":"配送情報書!T952","v":0},{"$f":"COUNTIF($A$3:A950,A950)","v":948}]
[{"$f":"配送情報書!A953","v":0},{"$f":"配送情報書!AB953","v":0},{"$f":"配送情報書!AA953","v":0},{"$f":"配送情報書!AC953","v":0},{"$f":"INDEX(医療機関マスタ!$A:$A,MATCH(F951,医療機関マスタ!$B:$B,0),1)","v":"AH0000001"},{"$f":"INDEX(医療機関マスタ!$B:$B,MATCH(\"*\"&MID(注文書!$D$17,IFERROR(FIND(\" \",注文書!$D$17),IFERROR(FIND(\"　\",注文書!$D$17),0))+1,10)&\"*\",医療機関マスタ!$C:$C,0),1)","v":"医療法人社団斗南堂　八王子クリニック"},{"$f":"配送情報書!X953","v":""},{"$f":"配送情報書!Z953","v":"00:00:00"},{"$f":"配送情報書!$V953","v":""},"転記不要",null,null,null,{"$f":"配送情報書!T953","v":0},{"$f":"COUNTIF($A$3:A951,A951)","v":949}]
[{"$f":"配送情報書!A954","v":0},{"$f":"配送情報書!AB954","v":0},{"$f":"配送情報書!AA954","v":0},{"$f":"配送情報書!AC954","v":0},{"$f":"INDEX(医療機関マスタ!$A:$A,MATCH(F952,医療機関マスタ!$B:$B,0),1)","v":"AH0000001"},{"$f":"INDEX(医療機関マスタ!$B:$B,MATCH(\"*\"&MID(注文書!$D$17,IFERROR(FIND(\" \",注文書!$D$17),IFERROR(FIND(\"　\",注文書!$D$17),0))+1,10)&\"*\",医療機関マスタ!$C:$C,0),1)","v":"医療法人社団斗南堂　八王子クリニック"},{"$f":"配送情報書!X954","v":""},{"$f":"配送情報書!Z954","v":"00:00:00"},{"$f":"配送情報書!$V954","v":""},"転記不要",null,null,null,{"$f":"配送情報書!T954","v":0},{"$f":"COUNTIF($A$3:A952,A952)","v":950}]
[{"$f":"配送情報書!A955","v":0},{"$f":"配送情報書!AB955","v":0},{"$f":"配送情報書!AA955","v":0},{"$f":"配送情報書!AC955","v":0},{"$f":"INDEX(医療機関マスタ!$A:$A,MATCH(F953,医療機関マスタ!$B:$B,0),1)","v":"AH0000001"},{"$f":"INDEX(医療機関マスタ!$B:$B,MATCH(\"*\"&MID(注文書!$D$17,IFERROR(FIND(\" \",注文書!$D$17),IFERROR(FIND(\"　\",注文書!$D$17),0))+1,10)&\"*\",医療機関マスタ!$C:$C,0),1)","v":"医療法人社団斗南堂　八王子クリニック"},{"$f":"配送情報書!X955","v":""},{"$f":"配送情報書!Z955","v":"00:00:00"},{"$f":"配送情報書!$V955","v":""},"転記不要",null,null,null,{"$f":"配送情報書!T955","v":0},{"$f":"COUNTIF($A$3:A953,A953)","v":951}]
[{"$f":"配送情報書!A956","v":0},{"$f":"配送情報書!AB956","v":0},{"$f":"配送情報書!AA956","v":0},{"$f":"配送情報書!AC956","v":0},{"$f":"INDEX(医療機関マスタ!$A:$A,MATCH(F954,医療機関マスタ!$B:$B,0),1)","v":"AH0000001"},{"$f":"INDEX(医療機関マスタ!$B:$B,MATCH(\"*\"&MID(注文書!$D$17,IFERROR(FIND(\" \",注文書!$D$17),IFERROR(FIND(\"　\",注文書!$D$17),0))+1,10)&\"*\",医療機関マスタ!$C:$C,0),1)","v":"医療法人社団斗南堂　八王子クリニック"},{"$f":"配送情報書!X956","v":""},{"$f":"配送情報書!Z956","v":"00:00:00"},{"$f":"配送情報書!$V956","v":""},"転記不要",null,null,null,{"$f":"配送情報書!T956","v":0},{"$f":"COUNTIF($A$3:A954,A954)","v":952}]
[{"$f":"配送情報書!A957","v":0},{"$f":"配送情報書!AB957","v":0},{"$f":"配送情報書!AA957","v":0},{"$f":"配送情報書!AC957","v":0},{"$f":"INDEX(医療機関マスタ!$A:$A,MATCH(F955,医療機関マスタ!$B:$B,0),1)","v":"AH0000001"},{"$f":"INDEX(医療機関マスタ!$B:$B,MATCH(\"*\"&MID(注文書!$D$17,IFERROR(FIND(\" \",注文書!$D$17),IFERROR(FIND(\"　\",注文書!$D$17),0))+1,10)&\"*\",医療機関マスタ!$C:$C,0),1)","v":"医療法人社団斗南堂　八王子クリニック"},{"$f":"配送情報書!X957","v":""},{"$f":"配送情報書!Z957","v":"00:00:00"},{"$f":"配送情報書!$V957","v":""},"転記不要",null,null,null,{"$f":"配送情報書!T957","v":0},{"$f":"COUNTIF($A$3:A955,A955)","v":953}]
[{"$f":"配送情報書!A958","v":0},{"$f":"配送情報書!AB958","v":0},{"$f":"配送情報書!AA958","v":0},{"$f":"配送情報書!AC958","v":0},{"$f":"INDEX(医療機関マスタ!$A:$A,MATCH(F956,医療機関マスタ!$B:$B,0),1)","v":"AH0000001"},{"$f":"INDEX(医療機関マスタ!$B:$B,MATCH(\"*\"&MID(注文書!$D$17,IFERROR(FIND(\" \",注文書!$D$17),IFERROR(FIND(\"　\",注文書!$D$17),0))+1,10)&\"*\",医療機関マスタ!$C:$C,0),1)","v":"医療法人社団斗南堂　八王子クリニック"},{"$f":"配送情報書!X958","v":""},{"$f":"配送情報書!Z958","v":"00:00:00"},{"$f":"配送情報書!$V958","v":""},"転記不要",null,null,null,{"$f":"配送情報書!T958","v":0},{"$f":"COUNTIF($A$3:A956,A956)","v":954}]
[{"$f":"配送情報書!A959","v":0},{"$f":"配送情報書!AB959","v":0},{"$f":"配送情報書!AA959","v":0},{"$f":"配送情報書!AC959","v":0},{"$f":"INDEX(医療機関マスタ!$A:$A,MATCH(F957,医療機関マスタ!$B:$B,0),1)","v":"AH0000001"},{"$f":"INDEX(医療機関マスタ!$B:$B,MATCH(\"*\"&MID(注文書!$D$17,IFERROR(FIND(\" \",注文書!$D$17),IFERROR(FIND(\"　\",注文書!$D$17),0))+1,10)&\"*\",医療機関マスタ!$C:$C,0),1)","v":"医療法人社団斗南堂　八王子クリニック"},{"$f":"配送情報書!X959","v":""},{"$f":"配送情報書!Z959","v":"00:00:00"},{"$f":"配送情報書!$V959","v":""},"転記不要",null,null,null,{"$f":"配送情報書!T959","v":0},{"$f":"COUNTIF($A$3:A957,A957)","v":955}]
[{"$f":"配送情報書!A960","v":0},{"$f":"配送情報書!AB960","v":0},{"$f":"配送情報書!AA960","v":0},{"$f":"配送情報書!AC960","v":0},{"$f":"INDEX(医療機関マスタ!$A:$A,MATCH(F958,医療機関マスタ!$B:$B,0),1)","v":"AH0000001"},{"$f":"INDEX(医療機関マスタ!$B:$B,MATCH(\"*\"&MID(注文書!$D$17,IFERROR(FIND(\" \",注文書!$D$17),IFERROR(FIND(\"　\",注文書!$D$17),0))+1,10)&\"*\",医療機関マスタ!$C:$C,0),1)","v":"医療法人社団斗南堂　八王子クリニック"},{"$f":"配送情報書!X960","v":""},{"$f":"配送情報書!Z960","v":"00:00:00"},{"$f":"配送情報書!$V960","v":""},"転記不要",null,null,null,{"$f":"配送情報書!T960","v":0},{"$f":"COUNTIF($A$3:A958,A958)","v":956}]
[{"$f":"配送情報書!A961","v":0},{"$f":"配送情報書!AB961","v":0},{"$f":"配送情報書!AA961","v":0},{"$f":"配送情報書!AC961","v":0},{"$f":"INDEX(医療機関マスタ!$A:$A,MATCH(F959,医療機関マスタ!$B:$B,0),1)","v":"AH0000001"},{"$f":"INDEX(医療機関マスタ!$B:$B,MATCH(\"*\"&MID(注文書!$D$17,IFERROR(FIND(\" \",注文書!$D$17),IFERROR(FIND(\"　\",注文書!$D$17),0))+1,10)&\"*\",医療機関マスタ!$C:$C,0),1)","v":"医療法人社団斗南堂　八王子クリニック"},{"$f":"配送情報書!X961","v":""},{"$f":"配送情報書!Z961","v":"00:00:00"},{"$f":"配送情報書!$V961","v":""},"転記不要",null,null,null,{"$f":"配送情報書!T961","v":0},{"$f":"COUNTIF($A$3:A959,A959)","v":957}]
[{"$f":"配送情報書!A962","v":0},{"$f":"配送情報書!AB962","v":0},{"$f":"配送情報書!AA962","v":0},{"$f":"配送情報書!AC962","v":0},{"$f":"INDEX(医療機関マスタ!$A:$A,MATCH(F960,医療機関マスタ!$B:$B,0),1)","v":"AH0000001"},{"$f":"INDEX(医療機関マスタ!$B:$B,MATCH(\"*\"&MID(注文書!$D$17,IFERROR(FIND(\" \",注文書!$D$17),IFERROR(FIND(\"　\",注文書!$D$17),0))+1,10)&\"*\",医療機関マスタ!$C:$C,0),1)","v":"医療法人社団斗南堂　八王子クリニック"},{"$f":"配送情報書!X962","v":""},{"$f":"配送情報書!Z962","v":"00:00:00"},{"$f":"配送情報書!$V962","v":""},"転記不要",null,null,null,{"$f":"配送情報書!T962","v":0},{"$f":"COUNTIF($A$3:A960,A960)","v":958}]
[{"$f":"配送情報書!A963","v":0},{"$f":"配送情報書!AB963","v":0},{"$f":"配送情報書!AA963","v":0},{"$f":"配送情報書!AC963","v":0},{"$f":"INDEX(医療機関マスタ!$A:$A,MATCH(F961,医療機関マスタ!$B:$B,0),1)","v":"AH0000001"},{"$f":"INDEX(医療機関マスタ!$B:$B,MATCH(\"*\"&MID(注文書!$D$17,IFERROR(FIND(\" \",注文書!$D$17),IFERROR(FIND(\"　\",注文書!$D$17),0))+1,10)&\"*\",医療機関マスタ!$C:$C,0),1)","v":"医療法人社団斗南堂　八王子クリニック"},{"$f":"配送情報書!X963","v":""},{"$f":"配送情報書!Z963","v":"00:00:00"},{"$f":"配送情報書!$V963","v":""},"転記不要",null,null,null,{"$f":"配送情報書!T963","v":0},{"$f":"COUNTIF($A$3:A961,A961)","v":959}]
[{"$f":"配送情報書!A964","v":0},{"$f":"配送情報書!AB964","v":0},{"$f":"配送情報書!AA964","v":0},{"$f":"配送情報書!AC964","v":0},{"$f":"INDEX(医療機関マスタ!$A:$A,MATCH(F962,医療機関マスタ!$B:$B,0),1)","v":"AH0000001"},{"$f":"INDEX(医療機関マスタ!$B:$B,MATCH(\"*\"&MID(注文書!$D$17,IFERROR(FIND(\" \",注文書!$D$17),IFERROR(FIND(\"　\",注文書!$D$17),0))+1,10)&\"*\",医療機関マスタ!$C:$C,0),1)","v":"医療法人社団斗南堂　八王子クリニック"},{"$f":"配送情報書!X964","v":""},{"$f":"配送情報書!Z964","v":"00:00:00"},{"$f":"配送情報書!$V964","v":""},"転記不要",null,null,null,{"$f":"配送情報書!T964","v":0},{"$f":"COUNTIF($A$3:A962,A962)","v":960}]
[{"$f":"配送情報書!A965","v":0},{"$f":"配送情報書!AB965","v":0},{"$f":"配送情報書!AA965","v":0},{"$f":"配送情報書!AC965","v":0},{"$f":"INDEX(医療機関マスタ!$A:$A,MATCH(F963,医療機関マスタ!$B:$B,0),1)","v":"AH0000001"},{"$f":"INDEX(医療機関マスタ!$B:$B,MATCH(\"*\"&MID(注文書!$D$17,IFERROR(FIND(\" \",注文書!$D$17),IFERROR(FIND(\"　\",注文書!$D$17),0))+1,10)&\"*\",医療機関マスタ!$C:$C,0),1)","v":"医療法人社団斗南堂　八王子クリニック"},{"$f":"配送情報書!X965","v":""},{"$f":"配送情報書!Z965","v":"00:00:00"},{"$f":"配送情報書!$V965","v":""},"転記不要",null,null,null,{"$f":"配送情報書!T965","v":0},{"$f":"COUNTIF($A$3:A963,A963)","v":961}]
[{"$f":"配送情報書!A966","v":0},{"$f":"配送情報書!AB966","v":0},{"$f":"配送情報書!AA966","v":0},{"$f":"配送情報書!AC966","v":0},{"$f":"INDEX(医療機関マスタ!$A:$A,MATCH(F964,医療機関マスタ!$B:$B,0),1)","v":"AH0000001"},{"$f":"INDEX(医療機関マスタ!$B:$B,MATCH(\"*\"&MID(注文書!$D$17,IFERROR(FIND(\" \",注文書!$D$17),IFERROR(FIND(\"　\",注文書!$D$17),0))+1,10)&\"*\",医療機関マスタ!$C:$C,0),1)","v":"医療法人社団斗南堂　八王子クリニック"},{"$f":"配送情報書!X966","v":""},{"$f":"配送情報書!Z966","v":"00:00:00"},{"$f":"配送情報書!$V966","v":""},{"$f":"IF(AND(N964>0,O964=1),SUMIFS($N:$N,$A:$A,A964),\"転記不要\")","v":"転記不要"},null,null,null,{"$f":"配送情報書!T966","v":0},{"$f":"COUNTIF($A$3:A964,A964)","v":962}]
[{"$f":"配送情報書!A967","v":0},{"$f":"配送情報書!AB967","v":0},{"$f":"配送情報書!AA967","v":0},{"$f":"配送情報書!AC967","v":0},{"$f":"INDEX(医療機関マスタ!$A:$A,MATCH(F965,医療機関マスタ!$B:$B,0),1)","v":"AH0000001"},{"$f":"INDEX(医療機関マスタ!$B:$B,MATCH(\"*\"&MID(注文書!$D$17,IFERROR(FIND(\" \",注文書!$D$17),IFERROR(FIND(\"　\",注文書!$D$17),0))+1,10)&\"*\",医療機関マスタ!$C:$C,0),1)","v":"医療法人社団斗南堂　八王子クリニック"},{"$f":"配送情報書!X967","v":""},{"$f":"配送情報書!Z967","v":"00:00:00"},{"$f":"配送情報書!$V967","v":""},"転記不要",null,null,null,{"$f":"配送情報書!T967","v":0},{"$f":"COUNTIF($A$3:A965,A965)","v":963}]
[{"$f":"配送情報書!A968","v":0},{"$f":"配送情報書!AB968","v":0},{"$f":"配送情報書!AA968","v":0},{"$f":"配送情報書!AC968","v":0},{"$f":"INDEX(医療機関マスタ!$A:$A,MATCH(F966,医療機関マスタ!$B:$B,0),1)","v":"AH0000001"},{"$f":"INDEX(医療機関マスタ!$B:$B,MATCH(\"*\"&MID(注文書!$D$17,IFERROR(FIND(\" \",注文書!$D$17),IFERROR(FIND(\"　\",注文書!$D$17),0))+1,10)&\"*\",医療機関マスタ!$C:$C,0),1)","v":"医療法人社団斗南堂　八王子クリニック"},{"$f":"配送情報書!X968","v":""},{"$f":"配送情報書!Z968","v":"00:00:00"},{"$f":"配送情報書!$V968","v":""},"転記不要",null,null,null,{"$f":"配送情報書!T968","v":0},{"$f":"COUNTIF($A$3:A966,A966)","v":964}]
[{"$f":"配送情報書!A969","v":0},{"$f":"配送情報書!AB969","v":0},{"$f":"配送情報書!AA969","v":0},{"$f":"配送情報書!AC969","v":0},{"$f":"INDEX(医療機関マスタ!$A:$A,MATCH(F967,医療機関マスタ!$B:$B,0),1)","v":"AH0000001"},{"$f":"INDEX(医療機関マスタ!$B:$B,MATCH(\"*\"&MID(注文書!$D$17,IFERROR(FIND(\" \",注文書!$D$17),IFERROR(FIND(\"　\",注文書!$D$17),0))+1,10)&\"*\",医療機関マスタ!$C:$C,0),1)","v":"医療法人社団斗南堂　八王子クリニック"},{"$f":"配送情報書!X969","v":""},{"$f":"配送情報書!Z969","v":"00:00:00"},{"$f":"配送情報書!$V969","v":""},"転記不要",null,null,null,{"$f":"配送情報書!T969","v":0},{"$f":"COUNTIF($A$3:A967,A967)","v":965}]
[{"$f":"配送情報書!A970","v":0},{"$f":"配送情報書!AB970","v":0},{"$f":"配送情報書!AA970","v":0},{"$f":"配送情報書!AC970","v":0},{"$f":"INDEX(医療機関マスタ!$A:$A,MATCH(F968,医療機関マスタ!$B:$B,0),1)","v":"AH0000001"},{"$f":"INDEX(医療機関マスタ!$B:$B,MATCH(\"*\"&MID(注文書!$D$17,IFERROR(FIND(\" \",注文書!$D$17),IFERROR(FIND(\"　\",注文書!$D$17),0))+1,10)&\"*\",医療機関マスタ!$C:$C,0),1)","v":"医療法人社団斗南堂　八王子クリニック"},{"$f":"配送情報書!X970","v":""},{"$f":"配送情報書!Z970","v":"00:00:00"},{"$f":"配送情報書!$V970","v":""},"転記不要",null,null,null,{"$f":"配送情報書!T970","v":0},{"$f":"COUNTIF($A$3:A968,A968)","v":966}]
[{"$f":"配送情報書!A971","v":0},{"$f":"配送情報書!AB971","v":0},{"$f":"配送情報書!AA971","v":0},{"$f":"配送情報書!AC971","v":0},{"$f":"INDEX(医療機関マスタ!$A:$A,MATCH(F969,医療機関マスタ!$B:$B,0),1)","v":"AH0000001"},{"$f":"INDEX(医療機関マスタ!$B:$B,MATCH(\"*\"&MID(注文書!$D$17,IFERROR(FIND(\" \",注文書!$D$17),IFERROR(FIND(\"　\",注文書!$D$17),0))+1,10)&\"*\",医療機関マスタ!$C:$C,0),1)","v":"医療法人社団斗南堂　八王子クリニック"},{"$f":"配送情報書!X971","v":""},{"$f":"配送情報書!Z971","v":"00:00:00"},{"$f":"配送情報書!$V971","v":""},"転記不要",null,null,null,{"$f":"配送情報書!T971","v":0},{"$f":"COUNTIF($A$3:A969,A969)","v":967}]
[{"$f":"配送情報書!A972","v":0},{"$f":"配送情報書!AB972","v":0},{"$f":"配送情報書!AA972","v":0},{"$f":"配送情報書!AC972","v":0},{"$f":"INDEX(医療機関マスタ!$A:$A,MATCH(F970,医療機関マスタ!$B:$B,0),1)","v":"AH0000001"},{"$f":"INDEX(医療機関マスタ!$B:$B,MATCH(\"*\"&MID(注文書!$D$17,IFERROR(FIND(\" \",注文書!$D$17),IFERROR(FIND(\"　\",注文書!$D$17),0))+1,10)&\"*\",医療機関マスタ!$C:$C,0),1)","v":"医療法人社団斗南堂　八王子クリニック"},{"$f":"配送情報書!X972","v":""},{"$f":"配送情報書!Z972","v":"00:00:00"},{"$f":"配送情報書!$V972","v":""},"転記不要",null,null,null,{"$f":"配送情報書!T972","v":0},{"$f":"COUNTIF($A$3:A970,A970)","v":968}]
[{"$f":"配送情報書!A973","v":0},{"$f":"配送情報書!AB973","v":0},{"$f":"配送情報書!AA973","v":0},{"$f":"配送情報書!AC973","v":0},{"$f":"INDEX(医療機関マスタ!$A:$A,MATCH(F971,医療機関マスタ!$B:$B,0),1)","v":"AH0000001"},{"$f":"INDEX(医療機関マスタ!$B:$B,MATCH(\"*\"&MID(注文書!$D$17,IFERROR(FIND(\" \",注文書!$D$17),IFERROR(FIND(\"　\",注文書!$D$17),0))+1,10)&\"*\",医療機関マスタ!$C:$C,0),1)","v":"医療法人社団斗南堂　八王子クリニック"},{"$f":"配送情報書!X973","v":""},{"$f":"配送情報書!Z973","v":"00:00:00"},{"$f":"配送情報書!$V973","v":""},"転記不要",null,null,null,{"$f":"配送情報書!T973","v":0},{"$f":"COUNTIF($A$3:A971,A971)","v":969}]
[{"$f":"配送情報書!A974","v":0},{"$f":"配送情報書!AB974","v":0},{"$f":"配送情報書!AA974","v":0},{"$f":"配送情報書!AC974","v":0},{"$f":"INDEX(医療機関マスタ!$A:$A,MATCH(F972,医療機関マスタ!$B:$B,0),1)","v":"AH0000001"},{"$f":"INDEX(医療機関マスタ!$B:$B,MATCH(\"*\"&MID(注文書!$D$17,IFERROR(FIND(\" \",注文書!$D$17),IFERROR(FIND(\"　\",注文書!$D$17),0))+1,10)&\"*\",医療機関マスタ!$C:$C,0),1)","v":"医療法人社団斗南堂　八王子クリニック"},{"$f":"配送情報書!X974","v":""},{"$f":"配送情報書!Z974","v":"00:00:00"},{"$f":"配送情報書!$V974","v":""},"転記不要",null,null,null,{"$f":"配送情報書!T974","v":0},{"$f":"COUNTIF($A$3:A972,A972)","v":970}]
[{"$f":"配送情報書!A975","v":0},{"$f":"配送情報書!AB975","v":0},{"$f":"配送情報書!AA975","v":0},{"$f":"配送情報書!AC975","v":0},{"$f":"INDEX(医療機関マスタ!$A:$A,MATCH(F973,医療機関マスタ!$B:$B,0),1)","v":"AH0000001"},{"$f":"INDEX(医療機関マスタ!$B:$B,MATCH(\"*\"&MID(注文書!$D$17,IFERROR(FIND(\" \",注文書!$D$17),IFERROR(FIND(\"　\",注文書!$D$17),0))+1,10)&\"*\",医療機関マスタ!$C:$C,0),1)","v":"医療法人社団斗南堂　八王子クリニック"},{"$f":"配送情報書!X975","v":""},{"$f":"配送情報書!Z975","v":"00:00:00"},{"$f":"配送情報書!$V975","v":""},"転記不要",null,null,null,{"$f":"配送情報書!T975","v":0},{"$f":"COUNTIF($A$3:A973,A973)","v":971}]
[{"$f":"配送情報書!A976","v":0},{"$f":"配送情報書!AB976","v":0},{"$f":"配送情報書!AA976","v":0},{"$f":"配送情報書!AC976","v":0},{"$f":"INDEX(医療機関マスタ!$A:$A,MATCH(F974,医療機関マスタ!$B:$B,0),1)","v":"AH0000001"},{"$f":"INDEX(医療機関マスタ!$B:$B,MATCH(\"*\"&MID(注文書!$D$17,IFERROR(FIND(\" \",注文書!$D$17),IFERROR(FIND(\"　\",注文書!$D$17),0))+1,10)&\"*\",医療機関マスタ!$C:$C,0),1)","v":"医療法人社団斗南堂　八王子クリニック"},{"$f":"配送情報書!X976","v":""},{"$f":"配送情報書!Z976","v":"00:00:00"},{"$f":"配送情報書!$V976","v":""},"転記不要",null,null,null,{"$f":"配送情報書!T976","v":0},{"$f":"COUNTIF($A$3:A974,A974)","v":972}]
[{"$f":"配送情報書!A977","v":0},{"$f":"配送情報書!AB977","v":0},{"$f":"配送情報書!AA977","v":0},{"$f":"配送情報書!AC977","v":0},{"$f":"INDEX(医療機関マスタ!$A:$A,MATCH(F975,医療機関マスタ!$B:$B,0),1)","v":"AH0000001"},{"$f":"INDEX(医療機関マスタ!$B:$B,MATCH(\"*\"&MID(注文書!$D$17,IFERROR(FIND(\" \",注文書!$D$17),IFERROR(FIND(\"　\",注文書!$D$17),0))+1,10)&\"*\",医療機関マスタ!$C:$C,0),1)","v":"医療法人社団斗南堂　八王子クリニック"},{"$f":"配送情報書!X977","v":""},{"$f":"配送情報書!Z977","v":"00:00:00"},{"$f":"配送情報書!$V977","v":""},"転記不要",null,null,null,{"$f":"配送情報書!T977","v":0},{"$f":"COUNTIF($A$3:A975,A975)","v":973}]
[{"$f":"配送情報書!A978","v":0},{"$f":"配送情報書!AB978","v":0},{"$f":"配送情報書!AA978","v":0},{"$f":"配送情報書!AC978","v":0},{"$f":"INDEX(医療機関マスタ!$A:$A,MATCH(F976,医療機関マスタ!$B:$B,0),1)","v":"AH0000001"},{"$f":"INDEX(医療機関マスタ!$B:$B,MATCH(\"*\"&MID(注文書!$D$17,IFERROR(FIND(\" \",注文書!$D$17),IFERROR(FIND(\"　\",注文書!$D$17),0))+1,10)&\"*\",医療機関マスタ!$C:$C,0),1)","v":"医療法人社団斗南堂　八王子クリニック"},{"$f":"配送情報書!X978","v":""},{"$f":"配送情報書!Z978","v":"00:00:00"},{"$f":"配送情報書!$V978","v":""},"転記不要",null,null,null,{"$f":"配送情報書!T978","v":0},{"$f":"COUNTIF($A$3:A976,A976)","v":974}]
[{"$f":"配送情報書!A979","v":0},{"$f":"配送情報書!AB979","v":0},{"$f":"配送情報書!AA979","v":0},{"$f":"配送情報書!AC979","v":0},{"$f":"INDEX(医療機関マスタ!$A:$A,MATCH(F977,医療機関マスタ!$B:$B,0),1)","v":"AH0000001"},{"$f":"INDEX(医療機関マスタ!$B:$B,MATCH(\"*\"&MID(注文書!$D$17,IFERROR(FIND(\" \",注文書!$D$17),IFERROR(FIND(\"　\",注文書!$D$17),0))+1,10)&\"*\",医療機関マスタ!$C:$C,0),1)","v":"医療法人社団斗南堂　八王子クリニック"},{"$f":"配送情報書!X979","v":""},{"$f":"配送情報書!Z979","v":"00:00:00"},{"$f":"配送情報書!$V979","v":""},"転記不要",null,null,null,{"$f":"配送情報書!T979","v":0},{"$f":"COUNTIF($A$3:A977,A977)","v":975}]
[{"$f":"配送情報書!A980","v":0},{"$f":"配送情報書!AB980","v":0},{"$f":"配送情報書!AA980","v":0},{"$f":"配送情報書!AC980","v":0},{"$f":"INDEX(医療機関マスタ!$A:$A,MATCH(F978,医療機関マスタ!$B:$B,0),1)","v":"AH0000001"},{"$f":"INDEX(医療機関マスタ!$B:$B,MATCH(\"*\"&MID(注文書!$D$17,IFERROR(FIND(\" \",注文書!$D$17),IFERROR(FIND(\"　\",注文書!$D$17),0))+1,10)&\"*\",医療機関マスタ!$C:$C,0),1)","v":"医療法人社団斗南堂　八王子クリニック"},{"$f":"配送情報書!X980","v":""},{"$f":"配送情報書!Z980","v":"00:00:00"},{"$f":"配送情報書!$V980","v":""},"転記不要",null,null,null,{"$f":"配送情報書!T980","v":0},{"$f":"COUNTIF($A$3:A978,A978)","v":976}]
[{"$f":"配送情報書!A981","v":0},{"$f":"配送情報書!AB981","v":0},{"$f":"配送情報書!AA981","v":0},{"$f":"配送情報書!AC981","v":0},{"$f":"INDEX(医療機関マスタ!$A:$A,MATCH(F979,医療機関マスタ!$B:$B,0),1)","v":"AH0000001"},{"$f":"INDEX(医療機関マスタ!$B:$B,MATCH(\"*\"&MID(注文書!$D$17,IFERROR(FIND(\" \",注文書!$D$17),IFERROR(FIND(\"　\",注文書!$D$17),0))+1,10)&\"*\",医療機関マスタ!$C:$C,0),1)","v":"医療法人社団斗南堂　八王子クリニック"},{"$f":"配送情報書!X981","v":""},{"$f":"配送情報書!Z981","v":"00:00:00"},{"$f":"配送情報書!$V981","v":""},"転記不要",null,null,null,{"$f":"配送情報書!T981","v":0},{"$f":"COUNTIF($A$3:A979,A979)","v":977}]
[{"$f":"配送情報書!A982","v":0},{"$f":"配送情報書!AB982","v":0},{"$f":"配送情報書!AA982","v":0},{"$f":"配送情報書!AC982","v":0},{"$f":"INDEX(医療機関マスタ!$A:$A,MATCH(F980,医療機関マスタ!$B:$B,0),1)","v":"AH0000001"},{"$f":"INDEX(医療機関マスタ!$B:$B,MATCH(\"*\"&MID(注文書!$D$17,IFERROR(FIND(\" \",注文書!$D$17),IFERROR(FIND(\"　\",注文書!$D$17),0))+1,10)&\"*\",医療機関マスタ!$C:$C,0),1)","v":"医療法人社団斗南堂　八王子クリニック"},{"$f":"配送情報書!X982","v":""},{"$f":"配送情報書!Z982","v":"00:00:00"},{"$f":"配送情報書!$V982","v":""},"転記不要",null,null,null,{"$f":"配送情報書!T982","v":0},{"$f":"COUNTIF($A$3:A980,A980)","v":978}]
[{"$f":"配送情報書!A983","v":0},{"$f":"配送情報書!AB983","v":0},{"$f":"配送情報書!AA983","v":0},{"$f":"配送情報書!AC983","v":0},{"$f":"INDEX(医療機関マスタ!$A:$A,MATCH(F981,医療機関マスタ!$B:$B,0),1)","v":"AH0000001"},{"$f":"INDEX(医療機関マスタ!$B:$B,MATCH(\"*\"&MID(注文書!$D$17,IFERROR(FIND(\" \",注文書!$D$17),IFERROR(FIND(\"　\",注文書!$D$17),0))+1,10)&\"*\",医療機関マスタ!$C:$C,0),1)","v":"医療法人社団斗南堂　八王子クリニック"},{"$f":"配送情報書!X983","v":""},{"$f":"配送情報書!Z983","v":"00:00:00"},{"$f":"配送情報書!$V983","v":""},"転記不要",null,null,null,{"$f":"配送情報書!T983","v":0},{"$f":"COUNTIF($A$3:A981,A981)","v":979}]
[{"$f":"配送情報書!A984","v":0},{"$f":"配送情報書!AB984","v":0},{"$f":"配送情報書!AA984","v":0},{"$f":"配送情報書!AC984","v":0},{"$f":"INDEX(医療機関マスタ!$A:$A,MATCH(F982,医療機関マスタ!$B:$B,0),1)","v":"AH0000001"},{"$f":"INDEX(医療機関マスタ!$B:$B,MATCH(\"*\"&MID(注文書!$D$17,IFERROR(FIND(\" \",注文書!$D$17),IFERROR(FIND(\"　\",注文書!$D$17),0))+1,10)&\"*\",医療機関マスタ!$C:$C,0),1)","v":"医療法人社団斗南堂　八王子クリニック"},{"$f":"配送情報書!X984","v":""},{"$f":"配送情報書!Z984","v":"00:00:00"},{"$f":"配送情報書!$V984","v":""},"転記不要",null,null,null,{"$f":"配送情報書!T984","v":0},{"$f":"COUNTIF($A$3:A982,A982)","v":980}]
[{"$f":"配送情報書!A985","v":0},{"$f":"配送情報書!AB985","v":0},{"$f":"配送情報書!AA985","v":0},{"$f":"配送情報書!AC985","v":0},{"$f":"INDEX(医療機関マスタ!$A:$A,MATCH(F983,医療機関マスタ!$B:$B,0),1)","v":"AH0000001"},{"$f":"INDEX(医療機関マスタ!$B:$B,MATCH(\"*\"&MID(注文書!$D$17,IFERROR(FIND(\" \",注文書!$D$17),IFERROR(FIND(\"　\",注文書!$D$17),0))+1,10)&\"*\",医療機関マスタ!$C:$C,0),1)","v":"医療法人社団斗南堂　八王子クリニック"},{"$f":"配送情報書!X985","v":""},{"$f":"配送情報書!Z985","v":"00:00:00"},{"$f":"配送情報書!$V985","v":""},"転記不要",null,null,null,{"$f":"配送情報書!T985","v":0},{"$f":"COUNTIF($A$3:A983,A983)","v":981}]
[{"$f":"配送情報書!A986","v":0},{"$f":"配送情報書!AB986","v":0},{"$f":"配送情報書!AA986","v":0},{"$f":"配送情報書!AC986","v":0},{"$f":"INDEX(医療機関マスタ!$A:$A,MATCH(F984,医療機関マスタ!$B:$B,0),1)","v":"AH0000001"},{"$f":"INDEX(医療機関マスタ!$B:$B,MATCH(\"*\"&MID(注文書!$D$17,IFERROR(FIND(\" \",注文書!$D$17),IFERROR(FIND(\"　\",注文書!$D$17),0))+1,10)&\"*\",医療機関マスタ!$C:$C,0),1)","v":"医療法人社団斗南堂　八王子クリニック"},{"$f":"配送情報書!X986","v":""},{"$f":"配送情報書!Z986","v":"00:00:00"},{"$f":"配送情報書!$V986","v":""},"転記不要",null,null,null,{"$f":"配送情報書!T986","v":0},{"$f":"COUNTIF($A$3:A984,A984)","v":982}]
[{"$f":"配送情報書!A987","v":0},{"$f":"配送情報書!AB987","v":0},{"$f":"配送情報書!AA987","v":0},{"$f":"配送情報書!AC987","v":0},{"$f":"INDEX(医療機関マスタ!$A:$A,MATCH(F985,医療機関マスタ!$B:$B,0),1)","v":"AH0000001"},{"$f":"INDEX(医療機関マスタ!$B:$B,MATCH(\"*\"&MID(注文書!$D$17,IFERROR(FIND(\" \",注文書!$D$17),IFERROR(FIND(\"　\",注文書!$D$17),0))+1,10)&\"*\",医療機関マスタ!$C:$C,0),1)","v":"医療法人社団斗南堂　八王子クリニック"},{"$f":"配送情報書!X987","v":""},{"$f":"配送情報書!Z987","v":"00:00:00"},{"$f":"配送情報書!$V987","v":""},"転記不要",null,null,null,{"$f":"配送情報書!T987","v":0},{"$f":"COUNTIF($A$3:A985,A985)","v":983}]
[{"$f":"配送情報書!A988","v":0},{"$f":"配送情報書!AB988","v":0},{"$f":"配送情報書!AA988","v":0},{"$f":"配送情報書!AC988","v":0},{"$f":"INDEX(医療機関マスタ!$A:$A,MATCH(F986,医療機関マスタ!$B:$B,0),1)","v":"AH0000001"},{"$f":"INDEX(医療機関マスタ!$B:$B,MATCH(\"*\"&MID(注文書!$D$17,IFERROR(FIND(\" \",注文書!$D$17),IFERROR(FIND(\"　\",注文書!$D$17),0))+1,10)&\"*\",医療機関マスタ!$C:$C,0),1)","v":"医療法人社団斗南堂　八王子クリニック"},{"$f":"配送情報書!X988","v":""},{"$f":"配送情報書!Z988","v":"00:00:00"},{"$f":"配送情報書!$V988","v":""},"転記不要",null,null,null,{"$f":"配送情報書!T988","v":0},{"$f":"COUNTIF($A$3:A986,A986)","v":984}]
[{"$f":"配送情報書!A989","v":0},{"$f":"配送情報書!AB989","v":0},{"$f":"配送情報書!AA989","v":0},{"$f":"配送情報書!AC989","v":0},{"$f":"INDEX(医療機関マスタ!$A:$A,MATCH(F987,医療機関マスタ!$B:$B,0),1)","v":"AH0000001"},{"$f":"INDEX(医療機関マスタ!$B:$B,MATCH(\"*\"&MID(注文書!$D$17,IFERROR(FIND(\" \",注文書!$D$17),IFERROR(FIND(\"　\",注文書!$D$17),0))+1,10)&\"*\",医療機関マスタ!$C:$C,0),1)","v":"医療法人社団斗南堂　八王子クリニック"},{"$f":"配送情報書!X989","v":""},{"$f":"配送情報書!Z989","v":"00:00:00"},{"$f":"配送情報書!$V989","v":""},"転記不要",null,null,null,{"$f":"配送情報書!T989","v":0},{"$f":"COUNTIF($A$3:A987,A987)","v":985}]
[{"$f":"配送情報書!A990","v":0},{"$f":"配送情報書!AB990","v":0},{"$f":"配送情報書!AA990","v":0},{"$f":"配送情報書!AC990","v":0},{"$f":"INDEX(医療機関マスタ!$A:$A,MATCH(F988,医療機関マスタ!$B:$B,0),1)","v":"AH0000001"},{"$f":"INDEX(医療機関マスタ!$B:$B,MATCH(\"*\"&MID(注文書!$D$17,IFERROR(FIND(\" \",注文書!$D$17),IFERROR(FIND(\"　\",注文書!$D$17),0))+1,10)&\"*\",医療機関マスタ!$C:$C,0),1)","v":"医療法人社団斗南堂　八王子クリニック"},{"$f":"配送情報書!X990","v":""},{"$f":"配送情報書!Z990","v":"00:00:00"},{"$f":"配送情報書!$V990","v":""},"転記不要",null,null,null,{"$f":"配送情報書!T990","v":0},{"$f":"COUNTIF($A$3:A988,A988)","v":986}]
[{"$f":"配送情報書!A991","v":0},{"$f":"配送情報書!AB991","v":0},{"$f":"配送情報書!AA991","v":0},{"$f":"配送情報書!AC991","v":0},{"$f":"INDEX(医療機関マスタ!$A:$A,MATCH(F989,医療機関マスタ!$B:$B,0),1)","v":"AH0000001"},{"$f":"INDEX(医療機関マスタ!$B:$B,MATCH(\"*\"&MID(注文書!$D$17,IFERROR(FIND(\" \",注文書!$D$17),IFERROR(FIND(\"　\",注文書!$D$17),0))+1,10)&\"*\",医療機関マスタ!$C:$C,0),1)","v":"医療法人社団斗南堂　八王子クリニック"},{"$f":"配送情報書!X991","v":""},{"$f":"配送情報書!Z991","v":"00:00:00"},{"$f":"配送情報書!$V991","v":""},"転記不要",null,null,null,{"$f":"配送情報書!T991","v":0},{"$f":"COUNTIF($A$3:A989,A989)","v":987}]
[{"$f":"配送情報書!A992","v":0},{"$f":"配送情報書!AB992","v":0},{"$f":"配送情報書!AA992","v":0},{"$f":"配送情報書!AC992","v":0},{"$f":"INDEX(医療機関マスタ!$A:$A,MATCH(F990,医療機関マスタ!$B:$B,0),1)","v":"AH0000001"},{"$f":"INDEX(医療機関マスタ!$B:$B,MATCH(\"*\"&MID(注文書!$D$17,IFERROR(FIND(\" \",注文書!$D$17),IFERROR(FIND(\"　\",注文書!$D$17),0))+1,10)&\"*\",医療機関マスタ!$C:$C,0),1)","v":"医療法人社団斗南堂　八王子クリニック"},{"$f":"配送情報書!X992","v":""},{"$f":"配送情報書!Z992","v":"00:00:00"},{"$f":"配送情報書!$V992","v":""},"転記不要",null,null,null,{"$f":"配送情報書!T992","v":0},{"$f":"COUNTIF($A$3:A990,A990)","v":988}]
[{"$f":"配送情報書!A993","v":0},{"$f":"配送情報書!AB993","v":0},{"$f":"配送情報書!AA993","v":0},{"$f":"配送情報書!AC993","v":0},{"$f":"INDEX(医療機関マスタ!$A:$A,MATCH(F991,医療機関マスタ!$B:$B,0),1)","v":"AH0000001"},{"$f":"INDEX(医療機関マスタ!$B:$B,MATCH(\"*\"&MID(注文書!$D$17,IFERROR(FIND(\" \",注文書!$D$17),IFERROR(FIND(\"　\",注文書!$D$17),0))+1,10)&\"*\",医療機関マスタ!$C:$C,0),1)","v":"医療法人社団斗南堂　八王子クリニック"},{"$f":"配送情報書!X993","v":""},{"$f":"配送情報書!Z993","v":"00:00:00"},{"$f":"配送情報書!$V993","v":""},"転記不要",null,null,null,{"$f":"配送情報書!T993","v":0},{"$f":"COUNTIF($A$3:A991,A991)","v":989}]
[{"$f":"配送情報書!A994","v":0},{"$f":"配送情報書!AB994","v":0},{"$f":"配送情報書!AA994","v":0},{"$f":"配送情報書!AC994","v":0},{"$f":"INDEX(医療機関マスタ!$A:$A,MATCH(F992,医療機関マスタ!$B:$B,0),1)","v":"AH0000001"},{"$f":"INDEX(医療機関マスタ!$B:$B,MATCH(\"*\"&MID(注文書!$D$17,IFERROR(FIND(\" \",注文書!$D$17),IFERROR(FIND(\"　\",注文書!$D$17),0))+1,10)&\"*\",医療機関マスタ!$C:$C,0),1)","v":"医療法人社団斗南堂　八王子クリニック"},{"$f":"配送情報書!X994","v":""},{"$f":"配送情報書!Z994","v":"00:00:00"},{"$f":"配送情報書!$V994","v":""},"転記不要",null,null,null,{"$f":"配送情報書!T994","v":0},{"$f":"COUNTIF($A$3:A992,A992)","v":990}]
[{"$f":"配送情報書!A995","v":0},{"$f":"配送情報書!AB995","v":0},{"$f":"配送情報書!AA995","v":0},{"$f":"配送情報書!AC995","v":0},{"$f":"INDEX(医療機関マスタ!$A:$A,MATCH(F993,医療機関マスタ!$B:$B,0),1)","v":"AH0000001"},{"$f":"INDEX(医療機関マスタ!$B:$B,MATCH(\"*\"&MID(注文書!$D$17,IFERROR(FIND(\" \",注文書!$D$17),IFERROR(FIND(\"　\",注文書!$D$17),0))+1,10)&\"*\",医療機関マスタ!$C:$C,0),1)","v":"医療法人社団斗南堂　八王子クリニック"},{"$f":"配送情報書!X995","v":""},{"$f":"配送情報書!Z995","v":"00:00:00"},{"$f":"配送情報書!$V995","v":""},"転記不要",null,null,null,{"$f":"配送情報書!T995","v":0},{"$f":"COUNTIF($A$3:A993,A993)","v":991}]
[{"$f":"配送情報書!A996","v":0},{"$f":"配送情報書!AB996","v":0},{"$f":"配送情報書!AA996","v":0},{"$f":"配送情報書!AC996","v":0},{"$f":"INDEX(医療機関マスタ!$A:$A,MATCH(F994,医療機関マスタ!$B:$B,0),1)","v":"AH0000001"},{"$f":"INDEX(医療機関マスタ!$B:$B,MATCH(\"*\"&MID(注文書!$D$17,IFERROR(FIND(\" \",注文書!$D$17),IFERROR(FIND(\"　\",注文書!$D$17),0))+1,10)&\"*\",医療機関マスタ!$C:$C,0),1)","v":"医療法人社団斗南堂　八王子クリニック"},{"$f":"配送情報書!X996","v":""},{"$f":"配送情報書!Z996","v":"00:00:00"},{"$f":"配送情報書!$V996","v":""},"転記不要",null,null,null,{"$f":"配送情報書!T996","v":0},{"$f":"COUNTIF($A$3:A994,A994)","v":992}]
[{"$f":"配送情報書!A997","v":0},{"$f":"配送情報書!AB997","v":0},{"$f":"配送情報書!AA997","v":0},{"$f":"配送情報書!AC997","v":0},{"$f":"INDEX(医療機関マスタ!$A:$A,MATCH(F995,医療機関マスタ!$B:$B,0),1)","v":"AH0000001"},{"$f":"INDEX(医療機関マスタ!$B:$B,MATCH(\"*\"&MID(注文書!$D$17,IFERROR(FIND(\" \",注文書!$D$17),IFERROR(FIND(\"　\",注文書!$D$17),0))+1,10)&\"*\",医療機関マスタ!$C:$C,0),1)","v":"医療法人社団斗南堂　八王子クリニック"},{"$f":"配送情報書!X997","v":""},{"$f":"配送情報書!Z997","v":"00:00:00"},{"$f":"配送情報書!$V997","v":""},"転記不要",null,null,null,{"$f":"配送情報書!T997","v":0},{"$f":"COUNTIF($A$3:A995,A995)","v":993}]
[{"$f":"配送情報書!A998","v":0},{"$f":"配送情報書!AB998","v":0},{"$f":"配送情報書!AA998","v":0},{"$f":"配送情報書!AC998","v":0},{"$f":"INDEX(医療機関マスタ!$A:$A,MATCH(F996,医療機関マスタ!$B:$B,0),1)","v":"AH0000001"},{"$f":"INDEX(医療機関マスタ!$B:$B,MATCH(\"*\"&MID(注文書!$D$17,IFERROR(FIND(\" \",注文書!$D$17),IFERROR(FIND(\"　\",注文書!$D$17),0))+1,10)&\"*\",医療機関マスタ!$C:$C,0),1)","v":"医療法人社団斗南堂　八王子クリニック"},{"$f":"配送情報書!X998","v":""},{"$f":"配送情報書!Z998","v":"00:00:00"},{"$f":"配送情報書!$V998","v":""},"転記不要",null,null,null,{"$f":"配送情報書!T998","v":0},{"$f":"COUNTIF($A$3:A996,A996)","v":994}]
[{"$f":"配送情報書!A999","v":0},{"$f":"配送情報書!AB999","v":0},{"$f":"配送情報書!AA999","v":0},{"$f":"配送情報書!AC999","v":0},{"$f":"INDEX(医療機関マスタ!$A:$A,MATCH(F997,医療機関マスタ!$B:$B,0),1)","v":"AH0000001"},{"$f":"INDEX(医療機関マスタ!$B:$B,MATCH(\"*\"&MID(注文書!$D$17,IFERROR(FIND(\" \",注文書!$D$17),IFERROR(FIND(\"　\",注文書!$D$17),0))+1,10)&\"*\",医療機関マスタ!$C:$C,0),1)","v":"医療法人社団斗南堂　八王子クリニック"},{"$f":"配送情報書!X999","v":""},{"$f":"配送情報書!Z999","v":"00:00:00"},{"$f":"配送情報書!$V999","v":""},"転記不要",null,null,null,{"$f":"配送情報書!T999","v":0},{"$f":"COUNTIF($A$3:A997,A997)","v":995}]
[{"$f":"配送情報書!A1000","v":0},{"$f":"配送情報書!AB1000","v":0},{"$f":"配送情報書!AA1000","v":0},{"$f":"配送情報書!AC1000","v":0},{"$f":"INDEX(医療機関マスタ!$A:$A,MATCH(F998,医療機関マスタ!$B:$B,0),1)","v":"AH0000001"},{"$f":"INDEX(医療機関マスタ!$B:$B,MATCH(\"*\"&MID(注文書!$D$17,IFERROR(FIND(\" \",注文書!$D$17),IFERROR(FIND(\"　\",注文書!$D$17),0))+1,10)&\"*\",医療機関マスタ!$C:$C,0),1)","v":"医療法人社団斗南堂　八王子クリニック"},{"$f":"配送情報書!X1000","v":""},{"$f":"配送情報書!Z1000","v":"00:00:00"},{"$f":"配送情報書!$V1000","v":""},"転記不要",null,null,null,{"$f":"配送情報書!T1000","v":0},{"$f":"COUNTIF($A$3:A998,A998)","v":996}]
["*","*","*","*","*","*","*","*","*","*","*","*",null,"*","*"]

{"sheet":"出荷連携用","index":7,"n_rows":256,"n_cols":47,"rows_kept":256,"cut":false,"hidden":true,"merged":[]}
[null,null,null,null,"注文数","必要行数","端数",null,null,null,null,null,"別紙納入場所からリンク"]
[null,null,null,null,{"$f":"注文書!D22+注文書!D23","v":0},{"$f":"ROUNDUP(E2/120,0)","v":0},{"$f":"IF(E2=0,0,E2-(F2-1)*120)","v":0},{"$f":"\"※\"&F2&\"行連携必要。1行\"&G2&\"キット、他120キット\"","v":"※0行連携必要。1行0キット、他120キット"},null,null,null,null,"注文書からリンク"]
[null,null,null,null,{"$f":"IF(E2>30000,\"注意!3万より多い数は、数式未対応、追加行必要\",\"\")","v":""}]
[null,null,null,null,"出荷連携情報ファイルにコピペする情報",null,null,null,null,null,null,null,null,null,null,null,null,null,"団体名＋氏名"]
["返送資材","通知日","担当","モール注文番号","モール注文日時","ショップID","店舗様用メモ","注文者氏名","注文者国名","注文者郵便番号","都道府県","市区町村","町名・番地以降","注文者メールアドレス","注文者電話番号","決済方法区分","注文備考","カスタマー備考","送付先氏名","送付先国名","送付先郵便番号","送付先都道府県","送付先市区町村","送付先町名・番地以降","送付先電話番号","配送方法","お届け指定日","お届け指定時間帯","配送サービス種別","配送備考","倉庫備考","配送料","配送料税率","決済手数料","決済手数料税率","ラッピング手数料","ラッピング手数料税率","ポイント利用額","クーポン利用額","ギフト備考","SKUコード","商品名","注文個数","商品単価","消費税","税率","税込別"]
[{"$f":"IF(配送情報書!W5=\"個別返送\",配送情報書!T5,\"\")","v":""},null,null,null,null,60072,null,{"$f":"S6","v":"　"},null,{"$f":"U6","v":0},0,0,0,null,{"$f":"Y6","v":0},"請求書払い",null,null,{"$f":"配送情報書!M5&\"　\"&配送情報書!N5","v":"　"},null,{"$f":"配送情報書!O5","v":0},{"$f":"配送情報書!P5","v":0},{"$f":"配送情報書!Q5","v":0},{"$f":"配送情報書!R5","v":0},{"$f":"配送情報書!S5","v":0},{"$f":"IF(AQ6=1,\"メール便（RSL）\",\"宅配便（RSL）\")","v":"宅配便（RSL）"},{"$f":"TEXT(配送情報書!X5,\"yyyy/m/d\")","v":"1900/1/0"},1214,"通常",null,null,null,null,null,null,null,null,null,null,null,{"$f":"IF(配送情報書!V5=\"通常方式\",5901010002,IF(配送情報書!V5=\"プーリング方式（4検体）\",5901010003,\"\"))","v":""},{"$f":"IF(AO6=5901010002,\"【法人/通常】新型コロナウイルス唾液PCR検査キット 5901010002\",IF(AO6=5901010003,\"【法人/プーリング】新型コロナウイルス唾液PCR検査キット 5901010003\",\"\"))","v":""},{"$f":"配送情報書!T5","v":0},0]
[{"$f":"IF(配送情報書!W6=\"個別返送\",配送情報書!T6,\"\")","v":""},null,null,null,null,60072,null,{"$f":"S7","v":"　"},null,0,0,0,0,null,{"$f":"Y7","v":0},"請求書払い",null,null,{"$f":"配送情報書!M6&\"　\"&配送情報書!N6","v":"　"},null,{"$f":"配送情報書!O6","v":0},{"$f":"配送情報書!P6","v":0},{"$f":"配送情報書!Q6","v":0},{"$f":"配送情報書!R6","v":0},{"$f":"配送情報書!S6","v":0},{"$f":"IF(AQ7=1,\"メール便（RSL）\",\"宅配便（RSL）\")","v":"宅配便（RSL）"},{"$f":"TEXT(配送情報書!X6,\"yyyy/m/d\")","v":"1900/1/0"},1214,"通常",null,null,null,null,null,null,null,null,null,null,null,{"$f":"IF(配送情報書!V6=\"通常方式\",5901010002,IF(配送情報書!V6=\"プーリング方式（4検体）\",5901010003,\"\"))","v":""},"",{"$f":"配送情報書!T6","v":0},0]
[{"$f":"IF(配送情報書!W7=\"個別返送\",配送情報書!T7,\"\")","v":""},null,null,null,null,60072,null,{"$f":"S8","v":"　"},null,{"$f":"U8","v":0},{"$f":"V8","v":0},{"$f":"W8","v":0},{"$f":"X8","v":0},null,{"$f":"Y8","v":0},"請求書払い",null,null,{"$f":"配送情報書!M7&\"　\"&配送情報書!N7","v":"　"},null,{"$f":"配送情報書!O7","v":0},{"$f":"配送情報書!P7","v":0},{"$f":"配送情報書!Q7","v":0},{"$f":"配送情報書!R7","v":0},{"$f":"配送情報書!S7","v":0},"宅配便（RSL）",{"$f":"TEXT(配送情報書!X7,\"yyyy/m/d\")","v":"1900/1/0"},1214,"通常",null,null,null,null,null,null,null,null,null,null,null,{"$f":"IF(配送情報書!V7=\"通常方式\",5901010002,IF(配送情報書!V7=\"プーリング方式（4検体）\",5901010003,\"\"))","v":""},"",{"$f":"配送情報書!T7","v":0},0]
[{"$f":"IF(配送情報書!W8=\"個別返送\",配送情報書!T8,\"\")","v":""},null,null,null,null,60072,null,"　",null,0,0,0,0,null,0,"請求書払い",null,null,{"$f":"配送情報書!M8&\"　\"&配送情報書!N8","v":"　"},null,{"$f":"配送情報書!O8","v":0},{"$f":"配送情報書!P8","v":0},{"$f":"配送情報書!Q8","v":0},{"$f":"配送情報書!R8","v":0},{"$f":"配送情報書!S8","v":0},"宅配便（RSL）",{"$f":"TEXT(配送情報書!X8,\"yyyy/m/d\")","v":"1900/1/0"},1214,"通常",null,null,null,null,null,null,null,null,null,null,null,{"$f":"IF(配送情報書!V8=\"通常方式\",5901010002,IF(配送情報書!V8=\"プーリング方式（4検体）\",5901010003,\"\"))","v":""},"",{"$f":"配送情報書!T8","v":0},0]
[{"$f":"IF(配送情報書!W9=\"個別返送\",配送情報書!T9,\"\")","v":""},null,null,null,null,60072,null,"　",null,0,0,0,0,null,0,"請求書払い",null,null,{"$f":"配送情報書!M9&\"　\"&配送情報書!N9","v":"　"},null,{"$f":"配送情報書!O9","v":0},{"$f":"配送情報書!P9","v":0},{"$f":"配送情報書!Q9","v":0},{"$f":"配送情報書!R9","v":0},{"$f":"配送情報書!S9","v":0},"宅配便（RSL）",{"$f":"TEXT(配送情報書!X9,\"yyyy/m/d\")","v":"1900/1/0"},1214,"通常",null,null,null,null,null,null,null,null,null,null,null,{"$f":"IF(配送情報書!V9=\"通常方式\",5901010002,IF(配送情報書!V9=\"プーリング方式（4検体）\",5901010003,\"\"))","v":""},"",{"$f":"配送情報書!T9","v":0},0]
[{"$f":"IF(配送情報書!W10=\"個別返送\",配送情報書!T10,\"\")","v":""},null,null,null,null,60072,null,"　",null,0,0,0,0,null,0,"請求書払い",null,null,{"$f":"配送情報書!M10&\"　\"&配送情報書!N10","v":"　"},null,{"$f":"配送情報書!O10","v":0},{"$f":"配送情報書!P10","v":0},{"$f":"配送情報書!Q10","v":0},{"$f":"配送情報書!R10","v":0},{"$f":"配送情報書!S10","v":0},"宅配便（RSL）",{"$f":"TEXT(配送情報書!X10,\"yyyy/m/d\")","v":"1900/1/0"},1214,"通常",null,null,null,null,null,null,null,null,null,null,null,{"$f":"IF(配送情報書!V10=\"通常方式\",5901010002,IF(配送情報書!V10=\"プーリング方式（4検体）\",5901010003,\"\"))","v":""},"",{"$f":"配送情報書!T10","v":0},0]
[{"$f":"IF(配送情報書!W11=\"個別返送\",配送情報書!T11,\"\")","v":""},null,null,null,null,60072,null,"　",null,0,0,0,0,null,0,"請求書払い",null,null,{"$f":"配送情報書!M11&\"　\"&配送情報書!N11","v":"　"},null,{"$f":"配送情報書!O11","v":0},{"$f":"配送情報書!P11","v":0},{"$f":"配送情報書!Q11","v":0},{"$f":"配送情報書!R11","v":0},{"$f":"配送情報書!S11","v":0},"宅配便（RSL）",{"$f":"TEXT(配送情報書!X11,\"yyyy/m/d\")","v":"1900/1/0"},1214,"通常",null,null,null,null,null,null,null,null,null,null,null,{"$f":"IF(配送情報書!V11=\"通常方式\",5901010002,IF(配送情報書!V11=\"プーリング方式（4検体）\",5901010003,\"\"))","v":""},"",{"$f":"配送情報書!T11","v":0},0]
[{"$f":"IF(配送情報書!W12=\"個別返送\",配送情報書!T12,\"\")","v":""},null,null,null,null,60072,null,"　",null,0,0,0,0,null,0,"請求書払い",null,null,{"$f":"配送情報書!M12&\"　\"&配送情報書!N12","v":"　"},null,{"$f":"配送情報書!O12","v":0},{"$f":"配送情報書!P12","v":0},{"$f":"配送情報書!Q12","v":0},{"$f":"配送情報書!R12","v":0},{"$f":"配送情報書!S12","v":0},"宅配便（RSL）",{"$f":"TEXT(配送情報書!X12,\"yyyy/m/d\")","v":""},1214,"通常",null,null,null,null,null,null,null,null,null,null,null,{"$f":"IF(配送情報書!V12=\"通常方式\",5901010002,IF(配送情報書!V12=\"プーリング方式（4検体）\",5901010003,\"\"))","v":""},"",{"$f":"配送情報書!T12","v":0},0]
[{"$f":"IF(配送情報書!W13=\"個別返送\",配送情報書!T13,\"\")","v":""},null,null,null,null,60072,null,"　",null,0,0,0,0,null,0,"請求書払い",null,null,{"$f":"配送情報書!M13&\"　\"&配送情報書!N13","v":"　"},null,{"$f":"配送情報書!O13","v":0},{"$f":"配送情報書!P13","v":0},{"$f":"配送情報書!Q13","v":0},{"$f":"配送情報書!R13","v":0},{"$f":"配送情報書!S13","v":0},"宅配便（RSL）",{"$f":"TEXT(配送情報書!X13,\"yyyy/m/d\")","v":""},1214,"通常",null,null,null,null,null,null,null,null,null,null,null,{"$f":"IF(配送情報書!V13=\"通常方式\",5901010002,IF(配送情報書!V13=\"プーリング方式（4検体）\",5901010003,\"\"))","v":""},"",{"$f":"配送情報書!T13","v":0},0]
[{"$f":"IF(配送情報書!W14=\"個別返送\",配送情報書!T14,\"\")","v":""},null,null,null,null,60072,null,"　",null,0,0,0,0,null,0,"請求書払い",null,null,{"$f":"配送情報書!M14&\"　\"&配送情報書!N14","v":"　"},null,{"$f":"配送情報書!O14","v":0},{"$f":"配送情報書!P14","v":0},{"$f":"配送情報書!Q14","v":0},{"$f":"配送情報書!R14","v":0},{"$f":"配送情報書!S14","v":0},"宅配便（RSL）",{"$f":"TEXT(配送情報書!X14,\"yyyy/m/d\")","v":""},1214,"通常",null,null,null,null,null,null,null,null,null,null,null,{"$f":"IF(配送情報書!V14=\"通常方式\",5901010002,IF(配送情報書!V14=\"プーリング方式（4検体）\",5901010003,\"\"))","v":""},"",{"$f":"配送情報書!T14","v":0},0]
[{"$f":"IF(配送情報書!W15=\"個別返送\",配送情報書!T15,\"\")","v":""},null,null,null,null,60072,null,"　",null,0,0,0,0,null,0,"請求書払い",null,null,{"$f":"配送情報書!M15&\"　\"&配送情報書!N15","v":"　"},null,{"$f":"配送情報書!O15","v":0},{"$f":"配送情報書!P15","v":0},{"$f":"配送情報書!Q15","v":0},{"$f":"配送情報書!R15","v":0},{"$f":"配送情報書!S15","v":0},"宅配便（RSL）",{"$f":"TEXT(配送情報書!X15,\"yyyy/m/d\")","v":""},1214,"通常",null,null,null,null,null,null,null,null,null,null,null,{"$f":"IF(配送情報書!V15=\"通常方式\",5901010002,IF(配送情報書!V15=\"プーリング方式（4検体）\",5901010003,\"\"))","v":""},"",{"$f":"配送情報書!T15","v":0},0]
[{"$f":"IF(配送情報書!W16=\"個別返送\",配送情報書!T16,\"\")","v":""},null,null,null,null,60072,null,"　",null,0,0,0,0,null,0,"請求書払い",null,null,{"$f":"配送情報書!M16&\"　\"&配送情報書!N16","v":"　"},null,{"$f":"配送情報書!O16","v":0},{"$f":"配送情報書!P16","v":0},{"$f":"配送情報書!Q16","v":0},{"$f":"配送情報書!R16","v":0},{"$f":"配送情報書!S16","v":0},"宅配便（RSL）",{"$f":"TEXT(配送情報書!X16,\"yyyy/m/d\")","v":""},1214,"通常",null,null,null,null,null,null,null,null,null,null,null,{"$f":"IF(配送情報書!V16=\"通常方式\",5901010002,IF(配送情報書!V16=\"プーリング方式（4検体）\",5901010003,\"\"))","v":""},"",{"$f":"配送情報書!T16","v":0},0]
[{"$f":"IF(配送情報書!W17=\"個別返送\",配送情報書!T17,\"\")","v":""},null,null,null,null,60072,null,"　",null,0,0,0,0,null,0,"請求書払い",null,null,{"$f":"配送情報書!M17&\"　\"&配送情報書!N17","v":"　"},null,{"$f":"配送情報書!O17","v":0},{"$f":"配送情報書!P17","v":0},{"$f":"配送情報書!Q17","v":0},{"$f":"配送情報書!R17","v":0},{"$f":"配送情報書!S17","v":0},"宅配便（RSL）",{"$f":"TEXT(配送情報書!X17,\"yyyy/m/d\")","v":""},1214,"通常",null,null,null,null,null,null,null,null,null,null,null,{"$f":"IF(配送情報書!V17=\"通常方式\",5901010002,IF(配送情報書!V17=\"プーリング方式（4検体）\",5901010003,\"\"))","v":""},"",{"$f":"配送情報書!T17","v":0},0]
[{"$f":"IF(配送情報書!W18=\"個別返送\",配送情報書!T18,\"\")","v":""},null,null,null,null,60072,null,"　",null,0,0,0,0,null,0,"請求書払い",null,null,{"$f":"配送情報書!M18&\"　\"&配送情報書!N18","v":"　"},null,{"$f":"配送情報書!O18","v":0},{"$f":"配送情報書!P18","v":0},{"$f":"配送情報書!Q18","v":0},{"$f":"配送情報書!R18","v":0},{"$f":"配送情報書!S18","v":0},"宅配便（RSL）",{"$f":"TEXT(配送情報書!X18,\"yyyy/m/d\")","v":""},1214,"通常",null,null,null,null,null,null,null,null,null,null,null,{"$f":"IF(配送情報書!V18=\"通常方式\",5901010002,IF(配送情報書!V18=\"プーリング方式（4検体）\",5901010003,\"\"))","v":""},"",{"$f":"配送情報書!T18","v":0},0]
[{"$f":"IF(配送情報書!W19=\"個別返送\",配送情報書!T19,\"\")","v":""},null,null,null,null,60072,null,"　",null,0,0,0,0,null,0,"請求書払い",null,null,{"$f":"配送情報書!M19&\"　\"&配送情報書!N19","v":"　"},null,{"$f":"配送情報書!O19","v":0},{"$f":"配送情報書!P19","v":0},{"$f":"配送情報書!Q19","v":0},{"$f":"配送情報書!R19","v":0},{"$f":"配送情報書!S19","v":0},"宅配便（RSL）",{"$f":"TEXT(配送情報書!X19,\"yyyy/m/d\")","v":""},1214,"通常",null,null,null,null,null,null,null,null,null,null,null,{"$f":"IF(配送情報書!V19=\"通常方式\",5901010002,IF(配送情報書!V19=\"プーリング方式（4検体）\",5901010003,\"\"))","v":""},"",{"$f":"配送情報書!T19","v":0},0]
[{"$f":"IF(配送情報書!W20=\"個別返送\",配送情報書!T20,\"\")","v":""},null,null,null,null,60072,null,"　",null,0,0,0,0,null,0,"請求書払い",null,null,{"$f":"配送情報書!M20&\"　\"&配送情報書!N20","v":"　"},null,{"$f":"配送情報書!O20","v":0},{"$f":"配送情報書!P20","v":0},{"$f":"配送情報書!Q20","v":0},{"$f":"配送情報書!R20","v":0},{"$f":"配送情報書!S20","v":0},"宅配便（RSL）",{"$f":"TEXT(配送情報書!X20,\"yyyy/m/d\")","v":""},1214,"通常",null,null,null,null,null,null,null,null,null,null,null,{"$f":"IF(配送情報書!V20=\"通常方式\",5901010002,IF(配送情報書!V20=\"プーリング方式（4検体）\",5901010003,\"\"))","v":""},"",{"$f":"配送情報書!T20","v":0},0]
[{"$f":"IF(配送情報書!W21=\"個別返送\",配送情報書!T21,\"\")","v":""},null,null,null,null,60072,null,"　",null,0,0,0,0,null,0,"請求書払い",null,null,{"$f":"配送情報書!M21&\"　\"&配送情報書!N21","v":"　"},null,{"$f":"配送情報書!O21","v":0},{"$f":"配送情報書!P21","v":0},{"$f":"配送情報書!Q21","v":0},{"$f":"配送情報書!R21","v":0},{"$f":"配送情報書!S21","v":0},"宅配便（RSL）",{"$f":"TEXT(配送情報書!X21,\"yyyy/m/d\")","v":""},1214,"通常",null,null,null,null,null,null,null,null,null,null,null,{"$f":"IF(配送情報書!V21=\"通常方式\",5901010002,IF(配送情報書!V21=\"プーリング方式（4検体）\",5901010003,\"\"))","v":""},"",{"$f":"配送情報書!T21","v":0},0]
[{"$f":"IF(配送情報書!W22=\"個別返送\",配送情報書!T22,\"\")","v":""},null,null,null,null,60072,null,"　",null,0,0,0,0,null,0,"請求書払い",null,null,{"$f":"配送情報書!M22&\"　\"&配送情報書!N22","v":"　"},null,{"$f":"配送情報書!O22","v":0},{"$f":"配送情報書!P22","v":0},{"$f":"配送情報書!Q22","v":0},{"$f":"配送情報書!R22","v":0},{"$f":"配送情報書!S22","v":0},"宅配便（RSL）",{"$f":"TEXT(配送情報書!X22,\"yyyy/m/d\")","v":""},1214,"通常",null,null,null,null,null,null,null,null,null,null,null,{"$f":"IF(配送情報書!V22=\"通常方式\",5901010002,IF(配送情報書!V22=\"プーリング方式（4検体）\",5901010003,\"\"))","v":""},"",{"$f":"配送情報書!T22","v":0},0]
[{"$f":"IF(配送情報書!W23=\"個別返送\",配送情報書!T23,\"\")","v":""},null,null,null,null,60072,null,"　",null,0,0,0,0,null,0,"請求書払い",null,null,{"$f":"配送情報書!M23&\"　\"&配送情報書!N23","v":"　"},null,{"$f":"配送情報書!O23","v":0},{"$f":"配送情報書!P23","v":0},{"$f":"配送情報書!Q23","v":0},{"$f":"配送情報書!R23","v":0},{"$f":"配送情報書!S23","v":0},"宅配便（RSL）",{"$f":"TEXT(配送情報書!X23,\"yyyy/m/d\")","v":""},1214,"通常",null,null,null,null,null,null,null,null,null,null,null,{"$f":"IF(配送情報書!V23=\"通常方式\",5901010002,IF(配送情報書!V23=\"プーリング方式（4検体）\",5901010003,\"\"))","v":""},"",{"$f":"配送情報書!T23","v":0},0]
[{"$f":"IF(配送情報書!W24=\"個別返送\",配送情報書!T24,\"\")","v":""},null,null,null,null,60072,null,"　",null,0,0,0,0,null,0,"請求書払い",null,null,{"$f":"配送情報書!M24&\"　\"&配送情報書!N24","v":"　"},null,{"$f":"配送情報書!O24","v":0},{"$f":"配送情報書!P24","v":0},{"$f":"配送情報書!Q24","v":0},{"$f":"配送情報書!R24","v":0},{"$f":"配送情報書!S24","v":0},"宅配便（RSL）",{"$f":"TEXT(配送情報書!X24,\"yyyy/m/d\")","v":""},1214,"通常",null,null,null,null,null,null,null,null,null,null,null,{"$f":"IF(配送情報書!V24=\"通常方式\",5901010002,IF(配送情報書!V24=\"プーリング方式（4検体）\",5901010003,\"\"))","v":""},"",{"$f":"配送情報書!T24","v":0},0]
[{"$f":"IF(配送情報書!W25=\"個別返送\",配送情報書!T25,\"\")","v":""},null,null,null,null,60072,null,"　",null,0,0,0,0,null,0,"請求書払い",null,null,{"$f":"配送情報書!M25&\"　\"&配送情報書!N25","v":"　"},null,{"$f":"配送情報書!O25","v":0},{"$f":"配送情報書!P25","v":0},{"$f":"配送情報書!Q25","v":0},{"$f":"配送情報書!R25","v":0},{"$f":"配送情報書!S25","v":0},"宅配便（RSL）",{"$f":"TEXT(配送情報書!X25,\"yyyy/m/d\")","v":""},1214,"通常",null,null,null,null,null,null,null,null,null,null,null,{"$f":"IF(配送情報書!V25=\"通常方式\",5901010002,IF(配送情報書!V25=\"プーリング方式（4検体）\",5901010003,\"\"))","v":""},"",{"$f":"配送情報書!T25","v":0},0]
[{"$f":"IF(配送情報書!W26=\"個別返送\",配送情報書!T26,\"\")","v":""},null,null,null,null,60072,null,"　",null,0,0,0,0,null,0,"請求書払い",null,null,{"$f":"配送情報書!M26&\"　\"&配送情報書!N26","v":"　"},null,{"$f":"配送情報書!O26","v":0},{"$f":"配送情報書!P26","v":0},{"$f":"配送情報書!Q26","v":0},{"$f":"配送情報書!R26","v":0},{"$f":"配送情報書!S26","v":0},"宅配便（RSL）",{"$f":"TEXT(配送情報書!X26,\"yyyy/m/d\")","v":""},1214,"通常",null,null,null,null,null,null,null,null,null,null,null,{"$f":"IF(配送情報書!V26=\"通常方式\",5901010002,IF(配送情報書!V26=\"プーリング方式（4検体）\",5901010003,\"\"))","v":""},"",{"$f":"配送情報書!T26","v":0},0]
[{"$f":"IF(配送情報書!W27=\"個別返送\",配送情報書!T27,\"\")","v":""},null,null,null,null,60072,null,"　",null,0,0,0,0,null,0,"請求書払い",null,null,{"$f":"配送情報書!M27&\"　\"&配送情報書!N27","v":"　"},null,{"$f":"配送情報書!O27","v":0},{"$f":"配送情報書!P27","v":0},{"$f":"配送情報書!Q27","v":0},{"$f":"配送情報書!R27","v":0},{"$f":"配送情報書!S27","v":0},"宅配便（RSL）",{"$f":"TEXT(配送情報書!X27,\"yyyy/m/d\")","v":""},1214,"通常",null,null,null,null,null,null,null,null,null,null,null,{"$f":"IF(配送情報書!V27=\"通常方式\",5901010002,IF(配送情報書!V27=\"プーリング方式（4検体）\",5901010003,\"\"))","v":""},"",{"$f":"配送情報書!T27","v":0},0]
[{"$f":"IF(配送情報書!W28=\"個別返送\",配送情報書!T28,\"\")","v":""},null,null,null,null,60072,null,"　",null,0,0,0,0,null,0,"請求書払い",null,null,{"$f":"配送情報書!M28&\"　\"&配送情報書!N28","v":"　"},null,{"$f":"配送情報書!O28","v":0},{"$f":"配送情報書!P28","v":0},{"$f":"配送情報書!Q28","v":0},{"$f":"配送情報書!R28","v":0},{"$f":"配送情報書!S28","v":0},"宅配便（RSL）",{"$f":"TEXT(配送情報書!X28,\"yyyy/m/d\")","v":""},1214,"通常",null,null,null,null,null,null,null,null,null,null,null,{"$f":"IF(配送情報書!V28=\"通常方式\",5901010002,IF(配送情報書!V28=\"プーリング方式（4検体）\",5901010003,\"\"))","v":""},"",{"$f":"配送情報書!T28","v":0},0]
[{"$f":"IF(配送情報書!W29=\"個別返送\",配送情報書!T29,\"\")","v":""},null,null,null,null,60072,null,"　",null,0,0,0,0,null,0,"請求書払い",null,null,{"$f":"配送情報書!M29&\"　\"&配送情報書!N29","v":"　"},null,{"$f":"配送情報書!O29","v":0},{"$f":"配送情報書!P29","v":0},{"$f":"配送情報書!Q29","v":0},{"$f":"配送情報書!R29","v":0},{"$f":"配送情報書!S29","v":0},"宅配便（RSL）",{"$f":"TEXT(配送情報書!X29,\"yyyy/m/d\")","v":""},1214,"通常",null,null,null,null,null,null,null,null,null,null,null,{"$f":"IF(配送情報書!V29=\"通常方式\",5901010002,IF(配送情報書!V29=\"プーリング方式（4検体）\",5901010003,\"\"))","v":""},"",{"$f":"配送情報書!T29","v":0},0]
[{"$f":"IF(配送情報書!W30=\"個別返送\",配送情報書!T30,\"\")","v":""},null,null,null,null,60072,null,"　",null,0,0,0,0,null,0,"請求書払い",null,null,{"$f":"配送情報書!M30&\"　\"&配送情報書!N30","v":"　"},null,{"$f":"配送情報書!O30","v":0},{"$f":"配送情報書!P30","v":0},{"$f":"配送情報書!Q30","v":0},{"$f":"配送情報書!R30","v":0},{"$f":"配送情報書!S30","v":0},"宅配便（RSL）",{"$f":"TEXT(配送情報書!X30,\"yyyy/m/d\")","v":""},1214,"通常",null,null,null,null,null,null,null,null,null,null,null,{"$f":"IF(配送情報書!V30=\"通常方式\",5901010002,IF(配送情報書!V30=\"プーリング方式（4検体）\",5901010003,\"\"))","v":""},"",{"$f":"配送情報書!T30","v":0},0]
[{"$f":"IF(配送情報書!W31=\"個別返送\",配送情報書!T31,\"\")","v":""},null,null,null,null,60072,null,"　",null,0,0,0,0,null,0,"請求書払い",null,null,{"$f":"配送情報書!M31&\"　\"&配送情報書!N31","v":"　"},null,{"$f":"配送情報書!O31","v":0},{"$f":"配送情報書!P31","v":0},{"$f":"配送情報書!Q31","v":0},{"$f":"配送情報書!R31","v":0},{"$f":"配送情報書!S31","v":0},"宅配便（RSL）",{"$f":"TEXT(配送情報書!X31,\"yyyy/m/d\")","v":""},1214,"通常",null,null,null,null,null,null,null,null,null,null,null,{"$f":"IF(配送情報書!V31=\"通常方式\",5901010002,IF(配送情報書!V31=\"プーリング方式（4検体）\",5901010003,\"\"))","v":""},"",{"$f":"配送情報書!T31","v":0},0]
[{"$f":"IF(配送情報書!W32=\"個別返送\",配送情報書!T32,\"\")","v":""},null,null,null,null,60072,null,"　",null,0,0,0,0,null,0,"請求書払い",null,null,{"$f":"配送情報書!M32&\"　\"&配送情報書!N32","v":"　"},null,{"$f":"配送情報書!O32","v":0},{"$f":"配送情報書!P32","v":0},{"$f":"配送情報書!Q32","v":0},{"$f":"配送情報書!R32","v":0},{"$f":"配送情報書!S32","v":0},"宅配便（RSL）",{"$f":"TEXT(配送情報書!X32,\"yyyy/m/d\")","v":""},1214,"通常",null,null,null,null,null,null,null,null,null,null,null,{"$f":"IF(配送情報書!V32=\"通常方式\",5901010002,IF(配送情報書!V32=\"プーリング方式（4検体）\",5901010003,\"\"))","v":""},"",{"$f":"配送情報書!T32","v":0},0]
[{"$f":"IF(配送情報書!W33=\"個別返送\",配送情報書!T33,\"\")","v":""},null,null,null,null,60072,null,"　",null,0,0,0,0,null,0,"請求書払い",null,null,{"$f":"配送情報書!M33&\"　\"&配送情報書!N33","v":"　"},null,{"$f":"配送情報書!O33","v":0},{"$f":"配送情報書!P33","v":0},{"$f":"配送情報書!Q33","v":0},{"$f":"配送情報書!R33","v":0},{"$f":"配送情報書!S33","v":0},"宅配便（RSL）",{"$f":"TEXT(配送情報書!X33,\"yyyy/m/d\")","v":""},1214,"通常",null,null,null,null,null,null,null,null,null,null,null,{"$f":"IF(配送情報書!V33=\"通常方式\",5901010002,IF(配送情報書!V33=\"プーリング方式（4検体）\",5901010003,\"\"))","v":""},"",{"$f":"配送情報書!T33","v":0},0]
[{"$f":"IF(配送情報書!W34=\"個別返送\",配送情報書!T34,\"\")","v":""},null,null,null,null,60072,null,"　",null,0,0,0,0,null,0,"請求書払い",null,null,{"$f":"配送情報書!M34&\"　\"&配送情報書!N34","v":"　"},null,{"$f":"配送情報書!O34","v":0},{"$f":"配送情報書!P34","v":0},{"$f":"配送情報書!Q34","v":0},{"$f":"配送情報書!R34","v":0},{"$f":"配送情報書!S34","v":0},"宅配便（RSL）",{"$f":"TEXT(配送情報書!X34,\"yyyy/m/d\")","v":""},1214,"通常",null,null,null,null,null,null,null,null,null,null,null,{"$f":"IF(配送情報書!V34=\"通常方式\",5901010002,IF(配送情報書!V34=\"プーリング方式（4検体）\",5901010003,\"\"))","v":""},"",{"$f":"配送情報書!T34","v":0},0]
[{"$f":"IF(配送情報書!W35=\"個別返送\",配送情報書!T35,\"\")","v":""},null,null,null,null,60072,null,"　",null,0,0,0,0,null,0,"請求書払い",null,null,{"$f":"配送情報書!M35&\"　\"&配送情報書!N35","v":"　"},null,{"$f":"配送情報書!O35","v":0},{"$f":"配送情報書!P35","v":0},{"$f":"配送情報書!Q35","v":0},{"$f":"配送情報書!R35","v":0},{"$f":"配送情報書!S35","v":0},"宅配便（RSL）",{"$f":"TEXT(配送情報書!X35,\"yyyy/m/d\")","v":""},1214,"通常",null,null,null,null,null,null,null,null,null,null,null,{"$f":"IF(配送情報書!V35=\"通常方式\",5901010002,IF(配送情報書!V35=\"プーリング方式（4検体）\",5901010003,\"\"))","v":""},"",{"$f":"配送情報書!T35","v":0},0]
[{"$f":"IF(配送情報書!W36=\"個別返送\",配送情報書!T36,\"\")","v":""},null,null,null,null,60072,null,"　",null,0,0,0,0,null,0,"請求書払い",null,null,{"$f":"配送情報書!M36&\"　\"&配送情報書!N36","v":"　"},null,{"$f":"配送情報書!O36","v":0},{"$f":"配送情報書!P36","v":0},{"$f":"配送情報書!Q36","v":0},{"$f":"配送情報書!R36","v":0},{"$f":"配送情報書!S36","v":0},"宅配便（RSL）",{"$f":"TEXT(配送情報書!X36,\"yyyy/m/d\")","v":""},1214,"通常",null,null,null,null,null,null,null,null,null,null,null,{"$f":"IF(配送情報書!V36=\"通常方式\",5901010002,IF(配送情報書!V36=\"プーリング方式（4検体）\",5901010003,\"\"))","v":""},"",{"$f":"配送情報書!T36","v":0},0]
[{"$f":"IF(配送情報書!W37=\"個別返送\",配送情報書!T37,\"\")","v":""},null,null,null,null,60072,null,"　",null,0,0,0,0,null,0,"請求書払い",null,null,{"$f":"配送情報書!M37&\"　\"&配送情報書!N37","v":"　"},null,{"$f":"配送情報書!O37","v":0},{"$f":"配送情報書!P37","v":0},{"$f":"配送情報書!Q37","v":0},{"$f":"配送情報書!R37","v":0},{"$f":"配送情報書!S37","v":0},"宅配便（RSL）",{"$f":"TEXT(配送情報書!X37,\"yyyy/m/d\")","v":""},1214,"通常",null,null,null,null,null,null,null,null,null,null,null,{"$f":"IF(配送情報書!V37=\"通常方式\",5901010002,IF(配送情報書!V37=\"プーリング方式（4検体）\",5901010003,\"\"))","v":""},"",{"$f":"配送情報書!T37","v":0},0]
[{"$f":"IF(配送情報書!W38=\"個別返送\",配送情報書!T38,\"\")","v":""},null,null,null,null,60072,null,"　",null,0,0,0,0,null,0,"請求書払い",null,null,{"$f":"配送情報書!M38&\"　\"&配送情報書!N38","v":"　"},null,{"$f":"配送情報書!O38","v":0},{"$f":"配送情報書!P38","v":0},{"$f":"配送情報書!Q38","v":0},{"$f":"配送情報書!R38","v":0},{"$f":"配送情報書!S38","v":0},"宅配便（RSL）",{"$f":"TEXT(配送情報書!X38,\"yyyy/m/d\")","v":""},1214,"通常",null,null,null,null,null,null,null,null,null,null,null,{"$f":"IF(配送情報書!V38=\"通常方式\",5901010002,IF(配送情報書!V38=\"プーリング方式（4検体）\",5901010003,\"\"))","v":""},"",{"$f":"配送情報書!T38","v":0},0]
[{"$f":"IF(配送情報書!W39=\"個別返送\",配送情報書!T39,\"\")","v":""},null,null,null,null,60072,null,"　",null,0,0,0,0,null,0,"請求書払い",null,null,{"$f":"配送情報書!M39&\"　\"&配送情報書!N39","v":"　"},null,{"$f":"配送情報書!O39","v":0},{"$f":"配送情報書!P39","v":0},{"$f":"配送情報書!Q39","v":0},{"$f":"配送情報書!R39","v":0},{"$f":"配送情報書!S39","v":0},"宅配便（RSL）",{"$f":"TEXT(配送情報書!X39,\"yyyy/m/d\")","v":""},1214,"通常",null,null,null,null,null,null,null,null,null,null,null,{"$f":"IF(配送情報書!V39=\"通常方式\",5901010002,IF(配送情報書!V39=\"プーリング方式（4検体）\",5901010003,\"\"))","v":""},"",{"$f":"配送情報書!T39","v":0},0]
[{"$f":"IF(配送情報書!W40=\"個別返送\",配送情報書!T40,\"\")","v":""},null,null,null,null,60072,null,{"$f":"S41","v":"　"},null,{"$f":"U41","v":0},0,0,0,null,{"$f":"Y41","v":0},"請求書払い",null,null,{"$f":"配送情報書!M40&\"　\"&配送情報書!N40","v":"　"},null,{"$f":"配送情報書!O40","v":0},{"$f":"配送情報書!P40","v":0},{"$f":"配送情報書!Q40","v":0},{"$f":"配送情報書!R40","v":0},{"$f":"配送情報書!S40","v":0},"宅配便（RSL）",{"$f":"TEXT(配送情報書!X40,\"yyyy/m/d\")","v":""},1214,"通常",null,null,null,null,null,null,null,null,null,null,null,{"$f":"IF(配送情報書!V40=\"通常方式\",5901010002,IF(配送情報書!V40=\"プーリング方式（4検体）\",5901010003,\"\"))","v":""},"",{"$f":"配送情報書!T40","v":0},0]
[{"$f":"IF(配送情報書!W41=\"個別返送\",配送情報書!T41,\"\")","v":""},null,null,null,null,60072,null,{"$f":"S42","v":"　"},null,0,0,0,0,null,{"$f":"Y42","v":0},"請求書払い",null,null,{"$f":"配送情報書!M41&\"　\"&配送情報書!N41","v":"　"},null,{"$f":"配送情報書!O41","v":0},{"$f":"配送情報書!P41","v":0},{"$f":"配送情報書!Q41","v":0},{"$f":"配送情報書!R41","v":0},{"$f":"配送情報書!S41","v":0},"宅配便（RSL）",{"$f":"TEXT(配送情報書!X41,\"yyyy/m/d\")","v":""},1214,"通常",null,null,null,null,null,null,null,null,null,null,null,{"$f":"IF(配送情報書!V41=\"通常方式\",5901010002,IF(配送情報書!V41=\"プーリング方式（4検体）\",5901010003,\"\"))","v":""},"",{"$f":"配送情報書!T41","v":0},0]
[{"$f":"IF(配送情報書!W42=\"個別返送\",配送情報書!T42,\"\")","v":""},null,null,null,null,60072,null,{"$f":"S43","v":"　"},null,{"$f":"U43","v":0},{"$f":"V43","v":0},{"$f":"W43","v":0},{"$f":"X43","v":0},null,{"$f":"Y43","v":0},"請求書払い",null,null,{"$f":"配送情報書!M42&\"　\"&配送情報書!N42","v":"　"},null,{"$f":"配送情報書!O42","v":0},{"$f":"配送情報書!P42","v":0},{"$f":"配送情報書!Q42","v":0},{"$f":"配送情報書!R42","v":0},{"$f":"配送情報書!S42","v":0},"宅配便（RSL）",{"$f":"TEXT(配送情報書!X42,\"yyyy/m/d\")","v":""},1214,"通常",null,null,null,null,null,null,null,null,null,null,null,{"$f":"IF(配送情報書!V42=\"通常方式\",5901010002,IF(配送情報書!V42=\"プーリング方式（4検体）\",5901010003,\"\"))","v":""},"",{"$f":"配送情報書!T42","v":0},0]
[{"$f":"IF(配送情報書!W43=\"個別返送\",配送情報書!T43,\"\")","v":""},null,null,null,null,60072,null,"　",null,0,0,0,0,null,0,"請求書払い",null,null,{"$f":"配送情報書!M43&\"　\"&配送情報書!N43","v":"　"},null,{"$f":"配送情報書!O43","v":0},{"$f":"配送情報書!P43","v":0},{"$f":"配送情報書!Q43","v":0},{"$f":"配送情報書!R43","v":0},{"$f":"配送情報書!S43","v":0},"宅配便（RSL）",{"$f":"TEXT(配送情報書!X43,\"yyyy/m/d\")","v":""},1214,"通常",null,null,null,null,null,null,null,null,null,null,null,{"$f":"IF(配送情報書!V43=\"通常方式\",5901010002,IF(配送情報書!V43=\"プーリング方式（4検体）\",5901010003,\"\"))","v":""},"",{"$f":"配送情報書!T43","v":0},0]
[{"$f":"IF(配送情報書!W44=\"個別返送\",配送情報書!T44,\"\")","v":""},null,null,null,null,60072,null,"　",null,0,0,0,0,null,0,"請求書払い",null,null,{"$f":"配送情報書!M44&\"　\"&配送情報書!N44","v":"　"},null,{"$f":"配送情報書!O44","v":0},{"$f":"配送情報書!P44","v":0},{"$f":"配送情報書!Q44","v":0},{"$f":"配送情報書!R44","v":0},{"$f":"配送情報書!S44","v":0},"宅配便（RSL）",{"$f":"TEXT(配送情報書!X44,\"yyyy/m/d\")","v":""},1214,"通常",null,null,null,null,null,null,null,null,null,null,null,{"$f":"IF(配送情報書!V44=\"通常方式\",5901010002,IF(配送情報書!V44=\"プーリング方式（4検体）\",5901010003,\"\"))","v":""},"",{"$f":"配送情報書!T44","v":0},0]
[{"$f":"IF(配送情報書!W45=\"個別返送\",配送情報書!T45,\"\")","v":""},null,null,null,null,60072,null,"　",null,0,0,0,0,null,0,"請求書払い",null,null,{"$f":"配送情報書!M45&\"　\"&配送情報書!N45","v":"　"},null,{"$f":"配送情報書!O45","v":0},{"$f":"配送情報書!P45","v":0},{"$f":"配送情報書!Q45","v":0},{"$f":"配送情報書!R45","v":0},{"$f":"配送情報書!S45","v":0},"宅配便（RSL）",{"$f":"TEXT(配送情報書!X45,\"yyyy/m/d\")","v":""},1214,"通常",null,null,null,null,null,null,null,null,null,null,null,{"$f":"IF(配送情報書!V45=\"通常方式\",5901010002,IF(配送情報書!V45=\"プーリング方式（4検体）\",5901010003,\"\"))","v":""},"",{"$f":"配送情報書!T45","v":0},0]
[{"$f":"IF(配送情報書!W46=\"個別返送\",配送情報書!T46,\"\")","v":""},null,null,null,null,60072,null,"　",null,0,0,0,0,null,0,"請求書払い",null,null,{"$f":"配送情報書!M46&\"　\"&配送情報書!N46","v":"　"},null,{"$f":"配送情報書!O46","v":0},{"$f":"配送情報書!P46","v":0},{"$f":"配送情報書!Q46","v":0},{"$f":"配送情報書!R46","v":0},{"$f":"配送情報書!S46","v":0},"宅配便（RSL）",{"$f":"TEXT(配送情報書!X46,\"yyyy/m/d\")","v":""},1214,"通常",null,null,null,null,null,null,null,null,null,null,null,{"$f":"IF(配送情報書!V46=\"通常方式\",5901010002,IF(配送情報書!V46=\"プーリング方式（4検体）\",5901010003,\"\"))","v":""},"",{"$f":"配送情報書!T46","v":0},0]
[{"$f":"IF(配送情報書!W47=\"個別返送\",配送情報書!T47,\"\")","v":""},null,null,null,null,60072,null,"　",null,0,0,0,0,null,0,"請求書払い",null,null,{"$f":"配送情報書!M47&\"　\"&配送情報書!N47","v":"　"},null,{"$f":"配送情報書!O47","v":0},{"$f":"配送情報書!P47","v":0},{"$f":"配送情報書!Q47","v":0},{"$f":"配送情報書!R47","v":0},{"$f":"配送情報書!S47","v":0},"宅配便（RSL）",{"$f":"TEXT(配送情報書!X47,\"yyyy/m/d\")","v":""},1214,"通常",null,null,null,null,null,null,null,null,null,null,null,{"$f":"IF(配送情報書!V47=\"通常方式\",5901010002,IF(配送情報書!V47=\"プーリング方式（4検体）\",5901010003,\"\"))","v":""},"",{"$f":"配送情報書!T47","v":0},0]
[{"$f":"IF(配送情報書!W48=\"個別返送\",配送情報書!T48,\"\")","v":""},null,null,null,null,60072,null,"　",null,0,0,0,0,null,0,"請求書払い",null,null,{"$f":"配送情報書!M48&\"　\"&配送情報書!N48","v":"　"},null,{"$f":"配送情報書!O48","v":0},{"$f":"配送情報書!P48","v":0},{"$f":"配送情報書!Q48","v":0},{"$f":"配送情報書!R48","v":0},{"$f":"配送情報書!S48","v":0},"宅配便（RSL）",{"$f":"TEXT(配送情報書!X48,\"yyyy/m/d\")","v":""},1214,"通常",null,null,null,null,null,null,null,null,null,null,null,{"$f":"IF(配送情報書!V48=\"通常方式\",5901010002,IF(配送情報書!V48=\"プーリング方式（4検体）\",5901010003,\"\"))","v":""},"",{"$f":"配送情報書!T48","v":0},0]
[{"$f":"IF(配送情報書!W49=\"個別返送\",配送情報書!T49,\"\")","v":""},null,null,null,null,60072,null,"　",null,0,0,0,0,null,0,"請求書払い",null,null,{"$f":"配送情報書!M49&\"　\"&配送情報書!N49","v":"　"},null,{"$f":"配送情報書!O49","v":0},{"$f":"配送情報書!P49","v":0},{"$f":"配送情報書!Q49","v":0},{"$f":"配送情報書!R49","v":0},{"$f":"配送情報書!S49","v":0},"宅配便（RSL）",{"$f":"TEXT(配送情報書!X49,\"yyyy/m/d\")","v":""},1214,"通常",null,null,null,null,null,null,null,null,null,null,null,{"$f":"IF(配送情報書!V49=\"通常方式\",5901010002,IF(配送情報書!V49=\"プーリング方式（4検体）\",5901010003,\"\"))","v":""},"",{"$f":"配送情報書!T49","v":0},0]
[{"$f":"IF(配送情報書!W50=\"個別返送\",配送情報書!T50,\"\")","v":""},null,null,null,null,60072,null,{"$f":"S51","v":"　"},null,{"$f":"U51","v":0},{"$f":"V51","v":0},{"$f":"W51","v":0},{"$f":"X51","v":0},null,{"$f":"Y51","v":0},"請求書払い",null,null,{"$f":"配送情報書!M50&\"　\"&配送情報書!N50","v":"　"},{"$f":"IF($F$2>=ROW()-5,IF(T50=\"\",\"\",T50),\"\")","v":""},{"$f":"配送情報書!O50","v":0},{"$f":"配送情報書!P50","v":0},{"$f":"配送情報書!Q50","v":0},{"$f":"配送情報書!R50","v":0},{"$f":"配送情報書!S50","v":0},"宅配便（RSL）",{"$f":"TEXT(配送情報書!X50,\"yyyy/m/d\")","v":""},1214,"通常",null,null,null,null,null,null,null,null,null,null,null,{"$f":"IF(配送情報書!V50=\"通常方式\",5901010002,IF(配送情報書!V50=\"プーリング方式（4検体）\",5901010003,\"\"))","v":""},"",{"$f":"配送情報書!T50","v":0},0]
[{"$f":"IF(配送情報書!W51=\"個別返送\",配送情報書!T51,\"\")","v":""},null,null,null,null,60072,null,"　",null,0,0,0,0,null,0,"請求書払い",null,null,{"$f":"配送情報書!M51&\"　\"&配送情報書!N51","v":"　"},{"$f":"IF($F$2>=ROW()-5,IF(T51=\"\",\"\",T51),\"\")","v":""},{"$f":"配送情報書!O51","v":0},{"$f":"配送情報書!P51","v":0},{"$f":"配送情報書!Q51","v":0},{"$f":"配送情報書!R51","v":0},{"$f":"配送情報書!S51","v":0},"宅配便（RSL）",{"$f":"TEXT(配送情報書!X51,\"yyyy/m/d\")","v":""},1214,"通常",null,null,null,null,null,null,null,null,null,null,null,{"$f":"IF(配送情報書!V51=\"通常方式\",5901010002,IF(配送情報書!V51=\"プーリング方式（4検体）\",5901010003,\"\"))","v":""},"",{"$f":"配送情報書!T51","v":0},0]
[{"$f":"IF(配送情報書!W52=\"個別返送\",配送情報書!T52,\"\")","v":""},null,null,null,null,60072,null,"　",null,0,0,0,0,null,0,"請求書払い",null,null,{"$f":"配送情報書!M52&\"　\"&配送情報書!N52","v":"　"},{"$f":"IF($F$2>=ROW()-5,IF(T52=\"\",\"\",T52),\"\")","v":""},{"$f":"配送情報書!O52","v":0},{"$f":"配送情報書!P52","v":0},{"$f":"配送情報書!Q52","v":0},{"$f":"配送情報書!R52","v":0},{"$f":"配送情報書!S52","v":0},"宅配便（RSL）",{"$f":"TEXT(配送情報書!X52,\"yyyy/m/d\")","v":""},1214,"通常",null,null,null,null,null,null,null,null,null,null,null,{"$f":"IF(配送情報書!V52=\"通常方式\",5901010002,IF(配送情報書!V52=\"プーリング方式（4検体）\",5901010003,\"\"))","v":""},"",{"$f":"配送情報書!T52","v":0},0]
[{"$f":"IF(配送情報書!W53=\"個別返送\",配送情報書!T53,\"\")","v":""},null,null,null,null,60072,null,"　",null,0,0,0,0,null,0,"請求書払い",null,null,{"$f":"配送情報書!M53&\"　\"&配送情報書!N53","v":"　"},{"$f":"IF($F$2>=ROW()-5,IF(T53=\"\",\"\",T53),\"\")","v":""},{"$f":"配送情報書!O53","v":0},{"$f":"配送情報書!P53","v":0},{"$f":"配送情報書!Q53","v":0},{"$f":"配送情報書!R53","v":0},{"$f":"配送情報書!S53","v":0},"宅配便（RSL）",{"$f":"TEXT(配送情報書!X53,\"yyyy/m/d\")","v":""},1214,"通常",null,null,null,null,null,null,null,null,null,null,null,{"$f":"IF(配送情報書!V53=\"通常方式\",5901010002,IF(配送情報書!V53=\"プーリング方式（4検体）\",5901010003,\"\"))","v":""},"",{"$f":"配送情報書!T53","v":0},0]
[{"$f":"IF(配送情報書!W54=\"個別返送\",配送情報書!T54,\"\")","v":""},null,null,null,null,60072,null,"　",null,0,0,0,0,null,0,"請求書払い",null,null,{"$f":"配送情報書!M54&\"　\"&配送情報書!N54","v":"　"},{"$f":"IF($F$2>=ROW()-5,IF(T54=\"\",\"\",T54),\"\")","v":""},{"$f":"配送情報書!O54","v":0},{"$f":"配送情報書!P54","v":0},{"$f":"配送情報書!Q54","v":0},{"$f":"配送情報書!R54","v":0},{"$f":"配送情報書!S54","v":0},"宅配便（RSL）",{"$f":"TEXT(配送情報書!X54,\"yyyy/m/d\")","v":""},1214,"通常",null,null,null,null,null,null,null,null,null,null,null,{"$f":"IF(配送情報書!V54=\"通常方式\",5901010002,IF(配送情報書!V54=\"プーリング方式（4検体）\",5901010003,\"\"))","v":""},"",{"$f":"配送情報書!T54","v":0},0]
[{"$f":"IF(配送情報書!W55=\"個別返送\",配送情報書!T55,\"\")","v":""},null,null,null,null,60072,null,"　",null,0,0,0,0,null,0,"請求書払い",null,null,{"$f":"配送情報書!M55&\"　\"&配送情報書!N55","v":"　"},"",{"$f":"配送情報書!O55","v":0},{"$f":"配送情報書!P55","v":0},{"$f":"配送情報書!Q55","v":0},{"$f":"配送情報書!R55","v":0},{"$f":"配送情報書!S55","v":0},"宅配便（RSL）",{"$f":"TEXT(配送情報書!X55,\"yyyy/m/d\")","v":""},1214,"通常",null,null,null,null,null,null,null,null,null,null,null,{"$f":"IF(配送情報書!V55=\"通常方式\",5901010002,IF(配送情報書!V55=\"プーリング方式（4検体）\",5901010003,\"\"))","v":""},"",{"$f":"配送情報書!T55","v":0},0]
[{"$f":"IF(配送情報書!W56=\"個別返送\",配送情報書!T56,\"\")","v":""},null,null,null,null,60072,null,"　",null,0,0,0,0,null,0,"請求書払い",null,null,{"$f":"配送情報書!M56&\"　\"&配送情報書!N56","v":"　"},"",{"$f":"配送情報書!O56","v":0},{"$f":"配送情報書!P56","v":0},{"$f":"配送情報書!Q56","v":0},{"$f":"配送情報書!R56","v":0},{"$f":"配送情報書!S56","v":0},"宅配便（RSL）",{"$f":"TEXT(配送情報書!X56,\"yyyy/m/d\")","v":""},1214,"通常",null,null,null,null,null,null,null,null,null,null,null,{"$f":"IF(配送情報書!V56=\"通常方式\",5901010002,IF(配送情報書!V56=\"プーリング方式（4検体）\",5901010003,\"\"))","v":""},"",{"$f":"配送情報書!T56","v":0},0]
[{"$f":"IF(配送情報書!W57=\"個別返送\",配送情報書!T57,\"\")","v":""},null,null,null,null,60072,null,"　",null,0,0,0,0,null,0,"請求書払い",null,null,{"$f":"配送情報書!M57&\"　\"&配送情報書!N57","v":"　"},"",{"$f":"配送情報書!O57","v":0},{"$f":"配送情報書!P57","v":0},{"$f":"配送情報書!Q57","v":0},{"$f":"配送情報書!R57","v":0},{"$f":"配送情報書!S57","v":0},"宅配便（RSL）",{"$f":"TEXT(配送情報書!X57,\"yyyy/m/d\")","v":""},1214,"通常",null,null,null,null,null,null,null,null,null,null,null,{"$f":"IF(配送情報書!V57=\"通常方式\",5901010002,IF(配送情報書!V57=\"プーリング方式（4検体）\",5901010003,\"\"))","v":""},"",{"$f":"配送情報書!T57","v":0},0]
[{"$f":"IF(配送情報書!W58=\"個別返送\",配送情報書!T58,\"\")","v":""},null,null,null,null,60072,null,"　",null,0,0,0,0,null,0,"請求書払い",null,null,{"$f":"配送情報書!M58&\"　\"&配送情報書!N58","v":"　"},"",{"$f":"配送情報書!O58","v":0},{"$f":"配送情報書!P58","v":0},{"$f":"配送情報書!Q58","v":0},{"$f":"配送情報書!R58","v":0},{"$f":"配送情報書!S58","v":0},"宅配便（RSL）",{"$f":"TEXT(配送情報書!X58,\"yyyy/m/d\")","v":""},1214,"通常",null,null,null,null,null,null,null,null,null,null,null,{"$f":"IF(配送情報書!V58=\"通常方式\",5901010002,IF(配送情報書!V58=\"プーリング方式（4検体）\",5901010003,\"\"))","v":""},"",{"$f":"配送情報書!T58","v":0},0]
[{"$f":"IF(配送情報書!W59=\"個別返送\",配送情報書!T59,\"\")","v":""},null,null,null,null,60072,null,"　",null,0,0,0,0,null,0,"請求書払い",null,null,{"$f":"配送情報書!M59&\"　\"&配送情報書!N59","v":"　"},"",{"$f":"配送情報書!O59","v":0},{"$f":"配送情報書!P59","v":0},{"$f":"配送情報書!Q59","v":0},{"$f":"配送情報書!R59","v":0},{"$f":"配送情報書!S59","v":0},"宅配便（RSL）",{"$f":"TEXT(配送情報書!X59,\"yyyy/m/d\")","v":""},1214,"通常",null,null,null,null,null,null,null,null,null,null,null,{"$f":"IF(配送情報書!V59=\"通常方式\",5901010002,IF(配送情報書!V59=\"プーリング方式（4検体）\",5901010003,\"\"))","v":""},"",{"$f":"配送情報書!T59","v":0},0]
[{"$f":"IF(配送情報書!W60=\"個別返送\",配送情報書!T60,\"\")","v":""},null,null,null,null,60072,null,"　",null,0,0,0,0,null,0,"請求書払い",null,null,{"$f":"配送情報書!M60&\"　\"&配送情報書!N60","v":"　"},"",{"$f":"配送情報書!O60","v":0},{"$f":"配送情報書!P60","v":0},{"$f":"配送情報書!Q60","v":0},{"$f":"配送情報書!R60","v":0},{"$f":"配送情報書!S60","v":0},"宅配便（RSL）",{"$f":"TEXT(配送情報書!X60,\"yyyy/m/d\")","v":""},1214,"通常",null,null,null,null,null,null,null,null,null,null,null,{"$f":"IF(配送情報書!V60=\"通常方式\",5901010002,IF(配送情報書!V60=\"プーリング方式（4検体）\",5901010003,\"\"))","v":""},"",{"$f":"配送情報書!T60","v":0},0]
[{"$f":"IF(配送情報書!W61=\"個別返送\",配送情報書!T61,\"\")","v":""},null,null,null,null,60072,null,"　",null,0,0,0,0,null,0,"請求書払い",null,null,{"$f":"配送情報書!M61&\"　\"&配送情報書!N61","v":"　"},"",{"$f":"配送情報書!O61","v":0},{"$f":"配送情報書!P61","v":0},{"$f":"配送情報書!Q61","v":0},{"$f":"配送情報書!R61","v":0},{"$f":"配送情報書!S61","v":0},"宅配便（RSL）",{"$f":"TEXT(配送情報書!X61,\"yyyy/m/d\")","v":""},1214,"通常",null,null,null,null,null,null,null,null,null,null,null,{"$f":"IF(配送情報書!V61=\"通常方式\",5901010002,IF(配送情報書!V61=\"プーリング方式（4検体）\",5901010003,\"\"))","v":""},"",{"$f":"配送情報書!T61","v":0},0]
[{"$f":"IF(配送情報書!W62=\"個別返送\",配送情報書!T62,\"\")","v":""},null,null,null,null,60072,null,"　",null,0,0,0,0,null,0,"請求書払い",null,null,{"$f":"配送情報書!M62&\"　\"&配送情報書!N62","v":"　"},"",{"$f":"配送情報書!O62","v":0},{"$f":"配送情報書!P62","v":0},{"$f":"配送情報書!Q62","v":0},{"$f":"配送情報書!R62","v":0},{"$f":"配送情報書!S62","v":0},"宅配便（RSL）",{"$f":"TEXT(配送情報書!X62,\"yyyy/m/d\")","v":""},1214,"通常",null,null,null,null,null,null,null,null,null,null,null,{"$f":"IF(配送情報書!V62=\"通常方式\",5901010002,IF(配送情報書!V62=\"プーリング方式（4検体）\",5901010003,\"\"))","v":""},"",{"$f":"配送情報書!T62","v":0},0]
[{"$f":"IF(配送情報書!W63=\"個別返送\",配送情報書!T63,\"\")","v":""},null,null,null,null,60072,null,"　",null,0,0,0,0,null,0,"請求書払い",null,null,{"$f":"配送情報書!M63&\"　\"&配送情報書!N63","v":"　"},"",{"$f":"配送情報書!O63","v":0},{"$f":"配送情報書!P63","v":0},{"$f":"配送情報書!Q63","v":0},{"$f":"配送情報書!R63","v":0},{"$f":"配送情報書!S63","v":0},"宅配便（RSL）",{"$f":"TEXT(配送情報書!X63,\"yyyy/m/d\")","v":""},1214,"通常",null,null,null,null,null,null,null,null,null,null,null,{"$f":"IF(配送情報書!V63=\"通常方式\",5901010002,IF(配送情報書!V63=\"プーリング方式（4検体）\",5901010003,\"\"))","v":""},"",{"$f":"配送情報書!T63","v":0},0]
[{"$f":"IF(配送情報書!W64=\"個別返送\",配送情報書!T64,\"\")","v":""},null,null,null,null,60072,null,"　",null,0,0,0,0,null,0,"請求書払い",null,null,{"$f":"配送情報書!M64&\"　\"&配送情報書!N64","v":"　"},"",{"$f":"配送情報書!O64","v":0},{"$f":"配送情報書!P64","v":0},{"$f":"配送情報書!Q64","v":0},{"$f":"配送情報書!R64","v":0},{"$f":"配送情報書!S64","v":0},"宅配便（RSL）",{"$f":"TEXT(配送情報書!X64,\"yyyy/m/d\")","v":""},1214,"通常",null,null,null,null,null,null,null,null,null,null,null,{"$f":"IF(配送情報書!V64=\"通常方式\",5901010002,IF(配送情報書!V64=\"プーリング方式（4検体）\",5901010003,\"\"))","v":""},"",{"$f":"配送情報書!T64","v":0},0]
[{"$f":"IF(配送情報書!W65=\"個別返送\",配送情報書!T65,\"\")","v":""},null,null,null,null,60072,null,"　",null,0,0,0,0,null,0,"請求書払い",null,null,{"$f":"配送情報書!M65&\"　\"&配送情報書!N65","v":"　"},"",{"$f":"配送情報書!O65","v":0},{"$f":"配送情報書!P65","v":0},{"$f":"配送情報書!Q65","v":0},{"$f":"配送情報書!R65","v":0},{"$f":"配送情報書!S65","v":0},"宅配便（RSL）",{"$f":"TEXT(配送情報書!X65,\"yyyy/m/d\")","v":""},1214,"通常",null,null,null,null,null,null,null,null,null,null,null,{"$f":"IF(配送情報書!V65=\"通常方式\",5901010002,IF(配送情報書!V65=\"プーリング方式（4検体）\",5901010003,\"\"))","v":""},"",{"$f":"配送情報書!T65","v":0},0]
[{"$f":"IF(配送情報書!W66=\"個別返送\",配送情報書!T66,\"\")","v":""},null,null,null,null,60072,null,"　",null,0,0,0,0,null,0,"請求書払い",null,null,{"$f":"配送情報書!M66&\"　\"&配送情報書!N66","v":"　"},"",{"$f":"配送情報書!O66","v":0},{"$f":"配送情報書!P66","v":0},{"$f":"配送情報書!Q66","v":0},{"$f":"配送情報書!R66","v":0},{"$f":"配送情報書!S66","v":0},"宅配便（RSL）",{"$f":"TEXT(配送情報書!X66,\"yyyy/m/d\")","v":""},1214,"通常",null,null,null,null,null,null,null,null,null,null,null,{"$f":"IF(配送情報書!V66=\"通常方式\",5901010002,IF(配送情報書!V66=\"プーリング方式（4検体）\",5901010003,\"\"))","v":""},"",{"$f":"配送情報書!T66","v":0},0]
[{"$f":"IF(配送情報書!W67=\"個別返送\",配送情報書!T67,\"\")","v":""},null,null,null,null,60072,null,"　",null,0,0,0,0,null,0,"請求書払い",null,null,{"$f":"配送情報書!M67&\"　\"&配送情報書!N67","v":"　"},"",{"$f":"配送情報書!O67","v":0},{"$f":"配送情報書!P67","v":0},{"$f":"配送情報書!Q67","v":0},{"$f":"配送情報書!R67","v":0},{"$f":"配送情報書!S67","v":0},"宅配便（RSL）",{"$f":"TEXT(配送情報書!X67,\"yyyy/m/d\")","v":""},1214,"通常",null,null,null,null,null,null,null,null,null,null,null,{"$f":"IF(配送情報書!V67=\"通常方式\",5901010002,IF(配送情報書!V67=\"プーリング方式（4検体）\",5901010003,\"\"))","v":""},"",{"$f":"配送情報書!T67","v":0},0]
[{"$f":"IF(配送情報書!W68=\"個別返送\",配送情報書!T68,\"\")","v":""},null,null,null,null,60072,null,"　",null,0,0,0,0,null,0,"請求書払い",null,null,{"$f":"配送情報書!M68&\"　\"&配送情報書!N68","v":"　"},"",{"$f":"配送情報書!O68","v":0},{"$f":"配送情報書!P68","v":0},{"$f":"配送情報書!Q68","v":0},{"$f":"配送情報書!R68","v":0},{"$f":"配送情報書!S68","v":0},"宅配便（RSL）",{"$f":"TEXT(配送情報書!X68,\"yyyy/m/d\")","v":""},1214,"通常",null,null,null,null,null,null,null,null,null,null,null,{"$f":"IF(配送情報書!V68=\"通常方式\",5901010002,IF(配送情報書!V68=\"プーリング方式（4検体）\",5901010003,\"\"))","v":""},"",{"$f":"配送情報書!T68","v":0},0]
[{"$f":"IF(配送情報書!W69=\"個別返送\",配送情報書!T69,\"\")","v":""},null,null,null,null,60072,null,"　",null,0,0,0,0,null,0,"請求書払い",null,null,{"$f":"配送情報書!M69&\"　\"&配送情報書!N69","v":"　"},"",{"$f":"配送情報書!O69","v":0},{"$f":"配送情報書!P69","v":0},{"$f":"配送情報書!Q69","v":0},{"$f":"配送情報書!R69","v":0},{"$f":"配送情報書!S69","v":0},"宅配便（RSL）",{"$f":"TEXT(配送情報書!X69,\"yyyy/m/d\")","v":""},1214,"通常",null,null,null,null,null,null,null,null,null,null,null,{"$f":"IF(配送情報書!V69=\"通常方式\",5901010002,IF(配送情報書!V69=\"プーリング方式（4検体）\",5901010003,\"\"))","v":""},{"$f":"IF(AO70=5901010002,\"【法人/通常】新型コロナウイルス唾液PCR検査キット 5901010002\",IF(AO70=5901010003,\"【法人/プーリング】新型コロナウイルス唾液PCR検査キット 5901010003\",\"\"))","v":""},{"$f":"配送情報書!T69","v":0},0]
[{"$f":"IF(配送情報書!W70=\"個別返送\",配送情報書!T70,\"\")","v":""},null,null,null,null,60072,null,"　",null,0,0,0,0,null,0,"請求書払い",null,null,{"$f":"配送情報書!M70&\"　\"&配送情報書!N70","v":"　"},{"$f":"IF($F$2>=ROW()-5,IF(T70=\"\",\"\",T70),\"\")","v":""},{"$f":"配送情報書!O70","v":0},{"$f":"配送情報書!P70","v":0},{"$f":"配送情報書!Q70","v":0},{"$f":"配送情報書!R70","v":0},{"$f":"配送情報書!S70","v":0},{"$f":"IF(AQ71=1,\"メール便（RSL）\",\"宅配便（RSL）\")","v":"宅配便（RSL）"},{"$f":"TEXT(配送情報書!X70,\"yyyy/m/d\")","v":""},1214,"通常",null,null,null,null,null,null,null,null,null,null,null,{"$f":"IF(配送情報書!V70=\"通常方式\",5901010002,IF(配送情報書!V70=\"プーリング方式（4検体）\",5901010003,\"\"))","v":""},"",{"$f":"配送情報書!T70","v":0},0]
[{"$f":"IF(配送情報書!W71=\"個別返送\",配送情報書!T71,\"\")","v":""},null,null,null,null,60072,null,"　",null,0,0,0,0,null,0,"請求書払い",null,null,{"$f":"配送情報書!M71&\"　\"&配送情報書!N71","v":"　"},{"$f":"IF($F$2>=ROW()-5,IF(T71=\"\",\"\",T71),\"\")","v":""},{"$f":"配送情報書!O71","v":0},{"$f":"配送情報書!P71","v":0},{"$f":"配送情報書!Q71","v":0},{"$f":"配送情報書!R71","v":0},{"$f":"配送情報書!S71","v":0},"宅配便（RSL）",{"$f":"TEXT(配送情報書!X71,\"yyyy/m/d\")","v":""},1214,"通常",null,null,null,null,null,null,null,null,null,null,null,{"$f":"IF(配送情報書!V71=\"通常方式\",5901010002,IF(配送情報書!V71=\"プーリング方式（4検体）\",5901010003,\"\"))","v":""},"",{"$f":"配送情報書!T71","v":0},0]
[{"$f":"IF(配送情報書!W72=\"個別返送\",配送情報書!T72,\"\")","v":""},null,null,null,null,60072,null,"　",null,0,0,0,0,null,0,"請求書払い",null,null,{"$f":"配送情報書!M72&\"　\"&配送情報書!N72","v":"　"},"",{"$f":"配送情報書!O72","v":0},{"$f":"配送情報書!P72","v":0},{"$f":"配送情報書!Q72","v":0},{"$f":"配送情報書!R72","v":0},{"$f":"配送情報書!S72","v":0},"宅配便（RSL）",{"$f":"TEXT(配送情報書!X72,\"yyyy/m/d\")","v":""},1214,"通常",null,null,null,null,null,null,null,null,null,null,null,{"$f":"IF(配送情報書!V72=\"通常方式\",5901010002,IF(配送情報書!V72=\"プーリング方式（4検体）\",5901010003,\"\"))","v":""},"",{"$f":"配送情報書!T72","v":0},0]
[{"$f":"IF(配送情報書!W73=\"個別返送\",配送情報書!T73,\"\")","v":""},null,null,null,null,60072,null,"　",null,0,0,0,0,null,0,"請求書払い",null,null,{"$f":"配送情報書!M73&\"　\"&配送情報書!N73","v":"　"},"",{"$f":"配送情報書!O73","v":0},{"$f":"配送情報書!P73","v":0},{"$f":"配送情報書!Q73","v":0},{"$f":"配送情報書!R73","v":0},{"$f":"配送情報書!S73","v":0},"宅配便（RSL）",{"$f":"TEXT(配送情報書!X73,\"yyyy/m/d\")","v":""},1214,"通常",null,null,null,null,null,null,null,null,null,null,null,{"$f":"IF(配送情報書!V73=\"通常方式\",5901010002,IF(配送情報書!V73=\"プーリング方式（4検体）\",5901010003,\"\"))","v":""},"",{"$f":"配送情報書!T73","v":0},0]
[{"$f":"IF(配送情報書!W74=\"個別返送\",配送情報書!T74,\"\")","v":""},null,null,null,null,60072,null,"　",null,0,0,0,0,null,0,"請求書払い",null,null,{"$f":"配送情報書!M74&\"　\"&配送情報書!N74","v":"　"},"",{"$f":"配送情報書!O74","v":0},{"$f":"配送情報書!P74","v":0},{"$f":"配送情報書!Q74","v":0},{"$f":"配送情報書!R74","v":0},{"$f":"配送情報書!S74","v":0},"宅配便（RSL）",{"$f":"TEXT(配送情報書!X74,\"yyyy/m/d\")","v":""},1214,"通常",null,null,null,null,null,null,null,null,null,null,null,{"$f":"IF(配送情報書!V74=\"通常方式\",5901010002,IF(配送情報書!V74=\"プーリング方式（4検体）\",5901010003,\"\"))","v":""},"",{"$f":"配送情報書!T74","v":0},0]
[{"$f":"IF(配送情報書!W75=\"個別返送\",配送情報書!T75,\"\")","v":""},null,null,null,null,60072,null,"　",null,0,0,0,0,null,0,"請求書払い",null,null,{"$f":"配送情報書!M75&\"　\"&配送情報書!N75","v":"　"},"",{"$f":"配送情報書!O75","v":0},{"$f":"配送情報書!P75","v":0},{"$f":"配送情報書!Q75","v":0},{"$f":"配送情報書!R75","v":0},{"$f":"配送情報書!S75","v":0},"宅配便（RSL）",{"$f":"TEXT(配送情報書!X75,\"yyyy/m/d\")","v":""},1214,"通常",null,null,null,null,null,null,null,null,null,null,null,{"$f":"IF(配送情報書!V75=\"通常方式\",5901010002,IF(配送情報書!V75=\"プーリング方式（4検体）\",5901010003,\"\"))","v":""},"",{"$f":"配送情報書!T75","v":0},0]
[{"$f":"IF(配送情報書!W76=\"個別返送\",配送情報書!T76,\"\")","v":""},null,null,null,null,60072,null,"　",null,0,0,0,0,null,0,"請求書払い",null,null,{"$f":"配送情報書!M76&\"　\"&配送情報書!N76","v":"　"},"",{"$f":"配送情報書!O76","v":0},{"$f":"配送情報書!P76","v":0},{"$f":"配送情報書!Q76","v":0},{"$f":"配送情報書!R76","v":0},{"$f":"配送情報書!S76","v":0},"宅配便（RSL）",{"$f":"TEXT(配送情報書!X76,\"yyyy/m/d\")","v":""},1214,"通常",null,null,null,null,null,null,null,null,null,null,null,{"$f":"IF(配送情報書!V76=\"通常方式\",5901010002,IF(配送情報書!V76=\"プーリング方式（4検体）\",5901010003,\"\"))","v":""},"",{"$f":"配送情報書!T76","v":0},0]
[{"$f":"IF(配送情報書!W77=\"個別返送\",配送情報書!T77,\"\")","v":""},null,null,null,null,60072,null,"　",null,0,0,0,0,null,0,"請求書払い",null,null,{"$f":"配送情報書!M77&\"　\"&配送情報書!N77","v":"　"},"",{"$f":"配送情報書!O77","v":0},{"$f":"配送情報書!P77","v":0},{"$f":"配送情報書!Q77","v":0},{"$f":"配送情報書!R77","v":0},{"$f":"配送情報書!S77","v":0},"宅配便（RSL）",{"$f":"TEXT(配送情報書!X77,\"yyyy/m/d\")","v":""},1214,"通常",null,null,null,null,null,null,null,null,null,null,null,{"$f":"IF(配送情報書!V77=\"通常方式\",5901010002,IF(配送情報書!V77=\"プーリング方式（4検体）\",5901010003,\"\"))","v":""},"",{"$f":"配送情報書!T77","v":0},0]
[{"$f":"IF(配送情報書!W78=\"個別返送\",配送情報書!T78,\"\")","v":""},null,null,null,null,60072,null,"　",null,0,0,0,0,null,0,"請求書払い",null,null,{"$f":"配送情報書!M78&\"　\"&配送情報書!N78","v":"　"},"",{"$f":"配送情報書!O78","v":0},{"$f":"配送情報書!P78","v":0},{"$f":"配送情報書!Q78","v":0},{"$f":"配送情報書!R78","v":0},{"$f":"配送情報書!S78","v":0},"宅配便（RSL）",{"$f":"TEXT(配送情報書!X78,\"yyyy/m/d\")","v":""},1214,"通常",null,null,null,null,null,null,null,null,null,null,null,{"$f":"IF(配送情報書!V78=\"通常方式\",5901010002,IF(配送情報書!V78=\"プーリング方式（4検体）\",5901010003,\"\"))","v":""},"",{"$f":"配送情報書!T78","v":0},0]
[{"$f":"IF(配送情報書!W79=\"個別返送\",配送情報書!T79,\"\")","v":""},null,null,null,null,60072,null,"　",null,0,0,0,0,null,0,"請求書払い",null,null,{"$f":"配送情報書!M79&\"　\"&配送情報書!N79","v":"　"},"",{"$f":"配送情報書!O79","v":0},{"$f":"配送情報書!P79","v":0},{"$f":"配送情報書!Q79","v":0},{"$f":"配送情報書!R79","v":0},{"$f":"配送情報書!S79","v":0},"宅配便（RSL）",{"$f":"TEXT(配送情報書!X79,\"yyyy/m/d\")","v":""},1214,"通常",null,null,null,null,null,null,null,null,null,null,null,{"$f":"IF(配送情報書!V79=\"通常方式\",5901010002,IF(配送情報書!V79=\"プーリング方式（4検体）\",5901010003,\"\"))","v":""},"",{"$f":"配送情報書!T79","v":0},0]
[{"$f":"IF(配送情報書!W80=\"個別返送\",配送情報書!T80,\"\")","v":""},null,null,null,null,60072,null,"　",null,0,0,0,0,null,0,"請求書払い",null,null,{"$f":"配送情報書!M80&\"　\"&配送情報書!N80","v":"　"},"",{"$f":"配送情報書!O80","v":0},{"$f":"配送情報書!P80","v":0},{"$f":"配送情報書!Q80","v":0},{"$f":"配送情報書!R80","v":0},{"$f":"配送情報書!S80","v":0},"宅配便（RSL）",{"$f":"TEXT(配送情報書!X80,\"yyyy/m/d\")","v":""},1214,"通常",null,null,null,null,null,null,null,null,null,null,null,{"$f":"IF(配送情報書!V80=\"通常方式\",5901010002,IF(配送情報書!V80=\"プーリング方式（4検体）\",5901010003,\"\"))","v":""},"",{"$f":"配送情報書!T80","v":0},0]
[{"$f":"IF(配送情報書!W81=\"個別返送\",配送情報書!T81,\"\")","v":""},null,null,null,null,60072,null,"　",null,0,0,0,0,null,0,"請求書払い",null,null,{"$f":"配送情報書!M81&\"　\"&配送情報書!N81","v":"　"},"",{"$f":"配送情報書!O81","v":0},{"$f":"配送情報書!P81","v":0},{"$f":"配送情報書!Q81","v":0},{"$f":"配送情報書!R81","v":0},{"$f":"配送情報書!S81","v":0},"宅配便（RSL）",{"$f":"TEXT(配送情報書!X81,\"yyyy/m/d\")","v":""},1214,"通常",null,null,null,null,null,null,null,null,null,null,null,{"$f":"IF(配送情報書!V81=\"通常方式\",5901010002,IF(配送情報書!V81=\"プーリング方式（4検体）\",5901010003,\"\"))","v":""},"",{"$f":"配送情報書!T81","v":0},0]
[{"$f":"IF(配送情報書!W82=\"個別返送\",配送情報書!T82,\"\")","v":""},null,null,null,null,60072,null,"　",null,0,0,0,0,null,0,"請求書払い",null,null,{"$f":"配送情報書!M82&\"　\"&配送情報書!N82","v":"　"},"",{"$f":"配送情報書!O82","v":0},{"$f":"配送情報書!P82","v":0},{"$f":"配送情報書!Q82","v":0},{"$f":"配送情報書!R82","v":0},{"$f":"配送情報書!S82","v":0},"宅配便（RSL）",{"$f":"TEXT(配送情報書!X82,\"yyyy/m/d\")","v":""},1214,"通常",null,null,null,null,null,null,null,null,null,null,null,{"$f":"IF(配送情報書!V82=\"通常方式\",5901010002,IF(配送情報書!V82=\"プーリング方式（4検体）\",5901010003,\"\"))","v":""},"",{"$f":"配送情報書!T82","v":0},0]
[{"$f":"IF(配送情報書!W83=\"個別返送\",配送情報書!T83,\"\")","v":""},null,null,null,null,60072,null,"　",null,0,0,0,0,null,0,"請求書払い",null,null,{"$f":"配送情報書!M83&\"　\"&配送情報書!N83","v":"　"},"",{"$f":"配送情報書!O83","v":0},{"$f":"配送情報書!P83","v":0},{"$f":"配送情報書!Q83","v":0},{"$f":"配送情報書!R83","v":0},{"$f":"配送情報書!S83","v":0},"宅配便（RSL）",{"$f":"TEXT(配送情報書!X83,\"yyyy/m/d\")","v":""},1214,"通常",null,null,null,null,null,null,null,null,null,null,null,{"$f":"IF(配送情報書!V83=\"通常方式\",5901010002,IF(配送情報書!V83=\"プーリング方式（4検体）\",5901010003,\"\"))","v":""},"",{"$f":"配送情報書!T83","v":0},0]
[{"$f":"IF(配送情報書!W84=\"個別返送\",配送情報書!T84,\"\")","v":""},null,null,null,null,60072,null,"　",null,0,0,0,0,null,0,"請求書払い",null,null,{"$f":"配送情報書!M84&\"　\"&配送情報書!N84","v":"　"},"",{"$f":"配送情報書!O84","v":0},{"$f":"配送情報書!P84","v":0},{"$f":"配送情報書!Q84","v":0},{"$f":"配送情報書!R84","v":0},{"$f":"配送情報書!S84","v":0},"宅配便（RSL）",{"$f":"TEXT(配送情報書!X84,\"yyyy/m/d\")","v":""},1214,"通常",null,null,null,null,null,null,null,null,null,null,null,{"$f":"IF(配送情報書!V84=\"通常方式\",5901010002,IF(配送情報書!V84=\"プーリング方式（4検体）\",5901010003,\"\"))","v":""},"",{"$f":"配送情報書!T84","v":0},0]
[{"$f":"IF(配送情報書!W85=\"個別返送\",配送情報書!T85,\"\")","v":""},null,null,null,null,60072,null,"　",null,0,0,0,0,null,0,"請求書払い",null,null,{"$f":"配送情報書!M85&\"　\"&配送情報書!N85","v":"　"},"",{"$f":"配送情報書!O85","v":0},{"$f":"配送情報書!P85","v":0},{"$f":"配送情報書!Q85","v":0},{"$f":"配送情報書!R85","v":0},{"$f":"配送情報書!S85","v":0},"宅配便（RSL）",{"$f":"TEXT(配送情報書!X85,\"yyyy/m/d\")","v":""},1214,"通常",null,null,null,null,null,null,null,null,null,null,null,{"$f":"IF(配送情報書!V85=\"通常方式\",5901010002,IF(配送情報書!V85=\"プーリング方式（4検体）\",5901010003,\"\"))","v":""},"",{"$f":"配送情報書!T85","v":0},0]
[{"$f":"IF(配送情報書!W86=\"個別返送\",配送情報書!T86,\"\")","v":""},null,null,null,null,60072,null,"　",null,0,0,0,0,null,0,"請求書払い",null,null,{"$f":"配送情報書!M86&\"　\"&配送情報書!N86","v":"　"},{"$f":"IF($F$2>=ROW()-5,IF(T86=\"\",\"\",T86),\"\")","v":""},{"$f":"配送情報書!O86","v":0},{"$f":"配送情報書!P86","v":0},{"$f":"配送情報書!Q86","v":0},{"$f":"配送情報書!R86","v":0},{"$f":"配送情報書!S86","v":0},"宅配便（RSL）",{"$f":"TEXT(配送情報書!X86,\"yyyy/m/d\")","v":""},1214,"通常",null,null,null,null,null,null,null,null,null,null,null,{"$f":"IF(配送情報書!V86=\"通常方式\",5901010002,IF(配送情報書!V86=\"プーリング方式（4検体）\",5901010003,\"\"))","v":""},"",{"$f":"配送情報書!T86","v":0},0]
[{"$f":"IF(配送情報書!W87=\"個別返送\",配送情報書!T87,\"\")","v":""},null,null,null,null,60072,null,"　",null,0,0,0,0,null,0,"請求書払い",null,null,{"$f":"配送情報書!M87&\"　\"&配送情報書!N87","v":"　"},"",{"$f":"配送情報書!O87","v":0},{"$f":"配送情報書!P87","v":0},{"$f":"配送情報書!Q87","v":0},{"$f":"配送情報書!R87","v":0},{"$f":"配送情報書!S87","v":0},"宅配便（RSL）",{"$f":"TEXT(配送情報書!X87,\"yyyy/m/d\")","v":""},1214,"通常",null,null,null,null,null,null,null,null,null,null,null,{"$f":"IF(配送情報書!V87=\"通常方式\",5901010002,IF(配送情報書!V87=\"プーリング方式（4検体）\",5901010003,\"\"))","v":""},"",{"$f":"配送情報書!T87","v":0},0]
[{"$f":"IF(配送情報書!W88=\"個別返送\",配送情報書!T88,\"\")","v":""},null,null,null,null,60072,null,"　",null,0,0,0,0,null,0,"請求書払い",null,null,{"$f":"配送情報書!M88&\"　\"&配送情報書!N88","v":"　"},"",{"$f":"配送情報書!O88","v":0},{"$f":"配送情報書!P88","v":0},{"$f":"配送情報書!Q88","v":0},{"$f":"配送情報書!R88","v":0},{"$f":"配送情報書!S88","v":0},"宅配便（RSL）",{"$f":"TEXT(配送情報書!X88,\"yyyy/m/d\")","v":""},1214,"通常",null,null,null,null,null,null,null,null,null,null,null,{"$f":"IF(配送情報書!V88=\"通常方式\",5901010002,IF(配送情報書!V88=\"プーリング方式（4検体）\",5901010003,\"\"))","v":""},"",{"$f":"配送情報書!T88","v":0},0]
[{"$f":"IF(配送情報書!W89=\"個別返送\",配送情報書!T89,\"\")","v":""},null,null,null,null,60072,null,"　",null,0,0,0,0,null,0,"請求書払い",null,null,{"$f":"配送情報書!M89&\"　\"&配送情報書!N89","v":"　"},"",{"$f":"配送情報書!O89","v":0},{"$f":"配送情報書!P89","v":0},{"$f":"配送情報書!Q89","v":0},{"$f":"配送情報書!R89","v":0},{"$f":"配送情報書!S89","v":0},"宅配便（RSL）",{"$f":"TEXT(配送情報書!X89,\"yyyy/m/d\")","v":""},1214,"通常",null,null,null,null,null,null,null,null,null,null,null,{"$f":"IF(配送情報書!V89=\"通常方式\",5901010002,IF(配送情報書!V89=\"プーリング方式（4検体）\",5901010003,\"\"))","v":""},"",{"$f":"配送情報書!T89","v":0},0]
[{"$f":"IF(配送情報書!W90=\"個別返送\",配送情報書!T90,\"\")","v":""},null,null,null,null,60072,null,"　",null,0,0,0,0,null,0,"請求書払い",null,null,{"$f":"配送情報書!M90&\"　\"&配送情報書!N90","v":"　"},"",{"$f":"配送情報書!O90","v":0},{"$f":"配送情報書!P90","v":0},{"$f":"配送情報書!Q90","v":0},{"$f":"配送情報書!R90","v":0},{"$f":"配送情報書!S90","v":0},"宅配便（RSL）",{"$f":"TEXT(配送情報書!X90,\"yyyy/m/d\")","v":""},1214,"通常",null,null,null,null,null,null,null,null,null,null,null,{"$f":"IF(配送情報書!V90=\"通常方式\",5901010002,IF(配送情報書!V90=\"プーリング方式（4検体）\",5901010003,\"\"))","v":""},"",{"$f":"配送情報書!T90","v":0},0]
[{"$f":"IF(配送情報書!W91=\"個別返送\",配送情報書!T91,\"\")","v":""},null,null,null,null,60072,null,"　",null,0,0,0,0,null,0,"請求書払い",null,null,{"$f":"配送情報書!M91&\"　\"&配送情報書!N91","v":"　"},"",{"$f":"配送情報書!O91","v":0},{"$f":"配送情報書!P91","v":0},{"$f":"配送情報書!Q91","v":0},{"$f":"配送情報書!R91","v":0},{"$f":"配送情報書!S91","v":0},"宅配便（RSL）",{"$f":"TEXT(配送情報書!X91,\"yyyy/m/d\")","v":""},1214,"通常",null,null,null,null,null,null,null,null,null,null,null,{"$f":"IF(配送情報書!V91=\"通常方式\",5901010002,IF(配送情報書!V91=\"プーリング方式（4検体）\",5901010003,\"\"))","v":""},"",{"$f":"配送情報書!T91","v":0},0]
[{"$f":"IF(配送情報書!W92=\"個別返送\",配送情報書!T92,\"\")","v":""},null,null,null,null,60072,null,"　",null,0,0,0,0,null,0,"請求書払い",null,null,{"$f":"配送情報書!M92&\"　\"&配送情報書!N92","v":"　"},"",{"$f":"配送情報書!O92","v":0},{"$f":"配送情報書!P92","v":0},{"$f":"配送情報書!Q92","v":0},{"$f":"配送情報書!R92","v":0},{"$f":"配送情報書!S92","v":0},"宅配便（RSL）",{"$f":"TEXT(配送情報書!X92,\"yyyy/m/d\")","v":""},1214,"通常",null,null,null,null,null,null,null,null,null,null,null,{"$f":"IF(配送情報書!V92=\"通常方式\",5901010002,IF(配送情報書!V92=\"プーリング方式（4検体）\",5901010003,\"\"))","v":""},"",{"$f":"配送情報書!T92","v":0},0]
[{"$f":"IF(配送情報書!W93=\"個別返送\",配送情報書!T93,\"\")","v":""},null,null,null,null,60072,null,"　",null,0,0,0,0,null,0,"請求書払い",null,null,{"$f":"配送情報書!M93&\"　\"&配送情報書!N93","v":"　"},"",{"$f":"配送情報書!O93","v":0},{"$f":"配送情報書!P93","v":0},{"$f":"配送情報書!Q93","v":0},{"$f":"配送情報書!R93","v":0},{"$f":"配送情報書!S93","v":0},"宅配便（RSL）",{"$f":"TEXT(配送情報書!X93,\"yyyy/m/d\")","v":""},1214,"通常",null,null,null,null,null,null,null,null,null,null,null,{"$f":"IF(配送情報書!V93=\"通常方式\",5901010002,IF(配送情報書!V93=\"プーリング方式（4検体）\",5901010003,\"\"))","v":""},"",{"$f":"配送情報書!T93","v":0},0]
[{"$f":"IF(配送情報書!W94=\"個別返送\",配送情報書!T94,\"\")","v":""},null,null,null,null,60072,null,"　",null,0,0,0,0,null,0,"請求書払い",null,null,{"$f":"配送情報書!M94&\"　\"&配送情報書!N94","v":"　"},"",{"$f":"配送情報書!O94","v":0},{"$f":"配送情報書!P94","v":0},{"$f":"配送情報書!Q94","v":0},{"$f":"配送情報書!R94","v":0},{"$f":"配送情報書!S94","v":0},"宅配便（RSL）",{"$f":"TEXT(配送情報書!X94,\"yyyy/m/d\")","v":""},1214,"通常",null,null,null,null,null,null,null,null,null,null,null,{"$f":"IF(配送情報書!V94=\"通常方式\",5901010002,IF(配送情報書!V94=\"プーリング方式（4検体）\",5901010003,\"\"))","v":""},"",{"$f":"配送情報書!T94","v":0},0]
[{"$f":"IF(配送情報書!W95=\"個別返送\",配送情報書!T95,\"\")","v":""},null,null,null,null,60072,null,"　",null,0,0,0,0,null,0,"請求書払い",null,null,{"$f":"配送情報書!M95&\"　\"&配送情報書!N95","v":"　"},"",{"$f":"配送情報書!O95","v":0},{"$f":"配送情報書!P95","v":0},{"$f":"配送情報書!Q95","v":0},{"$f":"配送情報書!R95","v":0},{"$f":"配送情報書!S95","v":0},"宅配便（RSL）",{"$f":"TEXT(配送情報書!X95,\"yyyy/m/d\")","v":""},1214,"通常",null,null,null,null,null,null,null,null,null,null,null,{"$f":"IF(配送情報書!V95=\"通常方式\",5901010002,IF(配送情報書!V95=\"プーリング方式（4検体）\",5901010003,\"\"))","v":""},"",{"$f":"配送情報書!T95","v":0},0]
[{"$f":"IF(配送情報書!W96=\"個別返送\",配送情報書!T96,\"\")","v":""},null,null,null,null,60072,null,"　",null,0,0,0,0,null,0,"請求書払い",null,null,{"$f":"配送情報書!M96&\"　\"&配送情報書!N96","v":"　"},"",{"$f":"配送情報書!O96","v":0},{"$f":"配送情報書!P96","v":0},{"$f":"配送情報書!Q96","v":0},{"$f":"配送情報書!R96","v":0},{"$f":"配送情報書!S96","v":0},"宅配便（RSL）",{"$f":"TEXT(配送情報書!X96,\"yyyy/m/d\")","v":""},1214,"通常",null,null,null,null,null,null,null,null,null,null,null,{"$f":"IF(配送情報書!V96=\"通常方式\",5901010002,IF(配送情報書!V96=\"プーリング方式（4検体）\",5901010003,\"\"))","v":""},"",{"$f":"配送情報書!T96","v":0},0]
[{"$f":"IF(配送情報書!W97=\"個別返送\",配送情報書!T97,\"\")","v":""},null,null,null,null,60072,null,"　",null,0,0,0,0,null,0,"請求書払い",null,null,{"$f":"配送情報書!M97&\"　\"&配送情報書!N97","v":"　"},"",{"$f":"配送情報書!O97","v":0},{"$f":"配送情報書!P97","v":0},{"$f":"配送情報書!Q97","v":0},{"$f":"配送情報書!R97","v":0},{"$f":"配送情報書!S97","v":0},"宅配便（RSL）",{"$f":"TEXT(配送情報書!X97,\"yyyy/m/d\")","v":""},1214,"通常",null,null,null,null,null,null,null,null,null,null,null,{"$f":"IF(配送情報書!V97=\"通常方式\",5901010002,IF(配送情報書!V97=\"プーリング方式（4検体）\",5901010003,\"\"))","v":""},"",{"$f":"配送情報書!T97","v":0},0]
[{"$f":"IF(配送情報書!W98=\"個別返送\",配送情報書!T98,\"\")","v":""},null,null,null,null,60072,null,"　",null,0,0,0,0,null,0,"請求書払い",null,null,{"$f":"配送情報書!M98&\"　\"&配送情報書!N98","v":"　"},"",{"$f":"配送情報書!O98","v":0},{"$f":"配送情報書!P98","v":0},{"$f":"配送情報書!Q98","v":0},{"$f":"配送情報書!R98","v":0},{"$f":"配送情報書!S98","v":0},"宅配便（RSL）",{"$f":"TEXT(配送情報書!X98,\"yyyy/m/d\")","v":""},1214,"通常",null,null,null,null,null,null,null,null,null,null,null,{"$f":"IF(配送情報書!V98=\"通常方式\",5901010002,IF(配送情報書!V98=\"プーリング方式（4検体）\",5901010003,\"\"))","v":""},"",{"$f":"配送情報書!T98","v":0},0]
[{"$f":"IF(配送情報書!W99=\"個別返送\",配送情報書!T99,\"\")","v":""},null,null,null,null,60072,null,"　",null,0,0,0,0,null,0,"請求書払い",null,null,{"$f":"配送情報書!M99&\"　\"&配送情報書!N99","v":"　"},"",{"$f":"配送情報書!O99","v":0},{"$f":"配送情報書!P99","v":0},{"$f":"配送情報書!Q99","v":0},{"$f":"配送情報書!R99","v":0},{"$f":"配送情報書!S99","v":0},"宅配便（RSL）",{"$f":"TEXT(配送情報書!X99,\"yyyy/m/d\")","v":""},1214,"通常",null,null,null,null,null,null,null,null,null,null,null,{"$f":"IF(配送情報書!V99=\"通常方式\",5901010002,IF(配送情報書!V99=\"プーリング方式（4検体）\",5901010003,\"\"))","v":""},"",{"$f":"配送情報書!T99","v":0},0]
[{"$f":"IF(配送情報書!W100=\"個別返送\",配送情報書!T100,\"\")","v":""},null,null,null,null,60072,null,"　",null,0,0,0,0,null,0,"請求書払い",null,null,{"$f":"配送情報書!M100&\"　\"&配送情報書!N100","v":"　"},"",{"$f":"配送情報書!O100","v":0},{"$f":"配送情報書!P100","v":0},{"$f":"配送情報書!Q100","v":0},{"$f":"配送情報書!R100","v":0},{"$f":"配送情報書!S100","v":0},"宅配便（RSL）",{"$f":"TEXT(配送情報書!X100,\"yyyy/m/d\")","v":""},1214,"通常",null,null,null,null,null,null,null,null,null,null,null,{"$f":"IF(配送情報書!V100=\"通常方式\",5901010002,IF(配送情報書!V100=\"プーリング方式（4検体）\",5901010003,\"\"))","v":""},"",{"$f":"配送情報書!T100","v":0},0]
[{"$f":"IF(配送情報書!W101=\"個別返送\",配送情報書!T101,\"\")","v":""},null,null,null,null,60072,null,"　",null,0,0,0,0,null,0,"請求書払い",null,null,{"$f":"配送情報書!M101&\"　\"&配送情報書!N101","v":"　"},{"$f":"IF($F$2>=ROW()-5,IF(T101=\"\",\"\",T101),\"\")","v":""},{"$f":"配送情報書!O101","v":0},{"$f":"配送情報書!P101","v":0},{"$f":"配送情報書!Q101","v":0},{"$f":"配送情報書!R101","v":0},{"$f":"配送情報書!S101","v":0},"宅配便（RSL）",{"$f":"TEXT(配送情報書!X101,\"yyyy/m/d\")","v":""},1214,"通常",null,null,null,null,null,null,null,null,null,null,null,{"$f":"IF(配送情報書!V101=\"通常方式\",5901010002,IF(配送情報書!V101=\"プーリング方式（4検体）\",5901010003,\"\"))","v":""},"",{"$f":"配送情報書!T101","v":0},0]
[{"$f":"IF(配送情報書!W102=\"個別返送\",配送情報書!T102,\"\")","v":""},null,null,null,null,60072,null,"　",null,0,0,0,0,null,0,"請求書払い",null,null,{"$f":"配送情報書!M102&\"　\"&配送情報書!N102","v":"　"},{"$f":"IF($F$2>=ROW()-5,IF(T102=\"\",\"\",T102),\"\")","v":""},{"$f":"配送情報書!O102","v":0},{"$f":"配送情報書!P102","v":0},{"$f":"配送情報書!Q102","v":0},{"$f":"配送情報書!R102","v":0},{"$f":"配送情報書!S102","v":0},"宅配便（RSL）",{"$f":"TEXT(配送情報書!X102,\"yyyy/m/d\")","v":""},1214,"通常",null,null,null,null,null,null,null,null,null,null,null,{"$f":"IF(配送情報書!V102=\"通常方式\",5901010002,IF(配送情報書!V102=\"プーリング方式（4検体）\",5901010003,\"\"))","v":""},"",{"$f":"配送情報書!T102","v":0},0]
[{"$f":"IF(配送情報書!W103=\"個別返送\",配送情報書!T103,\"\")","v":""},null,null,null,null,60072,null,"　",null,0,0,0,0,null,0,"請求書払い",null,null,{"$f":"配送情報書!M103&\"　\"&配送情報書!N103","v":"　"},{"$f":"IF($F$2>=ROW()-5,IF(T103=\"\",\"\",T103),\"\")","v":""},{"$f":"配送情報書!O103","v":0},{"$f":"配送情報書!P103","v":0},{"$f":"配送情報書!Q103","v":0},{"$f":"配送情報書!R103","v":0},{"$f":"配送情報書!S103","v":0},"宅配便（RSL）",{"$f":"TEXT(配送情報書!X103,\"yyyy/m/d\")","v":""},1214,"通常",null,null,null,null,null,null,null,null,null,null,null,{"$f":"IF(配送情報書!V103=\"通常方式\",5901010002,IF(配送情報書!V103=\"プーリング方式（4検体）\",5901010003,\"\"))","v":""},"",{"$f":"配送情報書!T103","v":0},0]
[{"$f":"IF(配送情報書!W104=\"個別返送\",配送情報書!T104,\"\")","v":""},null,null,null,null,60072,null,"　",null,0,0,0,0,null,0,"請求書払い",null,null,{"$f":"配送情報書!M104&\"　\"&配送情報書!N104","v":"　"},"",{"$f":"配送情報書!O104","v":0},{"$f":"配送情報書!P104","v":0},{"$f":"配送情報書!Q104","v":0},{"$f":"配送情報書!R104","v":0},{"$f":"配送情報書!S104","v":0},"宅配便（RSL）",{"$f":"TEXT(配送情報書!X104,\"yyyy/m/d\")","v":""},1214,"通常",null,null,null,null,null,null,null,null,null,null,null,{"$f":"IF(配送情報書!V104=\"通常方式\",5901010002,IF(配送情報書!V104=\"プーリング方式（4検体）\",5901010003,\"\"))","v":""},"",{"$f":"配送情報書!T104","v":0},0]
[{"$f":"IF(配送情報書!W105=\"個別返送\",配送情報書!T105,\"\")","v":""},null,null,null,null,60072,null,"　",null,0,0,0,0,null,0,"請求書払い",null,null,{"$f":"配送情報書!M105&\"　\"&配送情報書!N105","v":"　"},"",{"$f":"配送情報書!O105","v":0},{"$f":"配送情報書!P105","v":0},{"$f":"配送情報書!Q105","v":0},{"$f":"配送情報書!R105","v":0},{"$f":"配送情報書!S105","v":0},"宅配便（RSL）",{"$f":"TEXT(配送情報書!X105,\"yyyy/m/d\")","v":""},1214,"通常",null,null,null,null,null,null,null,null,null,null,null,{"$f":"IF(配送情報書!V105=\"通常方式\",5901010002,IF(配送情報書!V105=\"プーリング方式（4検体）\",5901010003,\"\"))","v":""},"",{"$f":"配送情報書!T105","v":0},0]
[{"$f":"IF(配送情報書!W106=\"個別返送\",配送情報書!T106,\"\")","v":""},null,null,null,null,60072,null,"　",null,0,0,0,0,null,0,"請求書払い",null,null,{"$f":"配送情報書!M106&\"　\"&配送情報書!N106","v":"　"},"",{"$f":"配送情報書!O106","v":0},{"$f":"配送情報書!P106","v":0},{"$f":"配送情報書!Q106","v":0},{"$f":"配送情報書!R106","v":0},{"$f":"配送情報書!S106","v":0},"宅配便（RSL）",{"$f":"TEXT(配送情報書!X106,\"yyyy/m/d\")","v":""},1214,"通常",null,null,null,null,null,null,null,null,null,null,null,{"$f":"IF(配送情報書!V106=\"通常方式\",5901010002,IF(配送情報書!V106=\"プーリング方式（4検体）\",5901010003,\"\"))","v":""},"",{"$f":"配送情報書!T106","v":0},0]
[{"$f":"IF(配送情報書!W107=\"個別返送\",配送情報書!T107,\"\")","v":""},null,null,null,null,60072,null,"　",null,0,0,0,0,null,0,"請求書払い",null,null,{"$f":"配送情報書!M107&\"　\"&配送情報書!N107","v":"　"},"",{"$f":"配送情報書!O107","v":0},{"$f":"配送情報書!P107","v":0},{"$f":"配送情報書!Q107","v":0},{"$f":"配送情報書!R107","v":0},{"$f":"配送情報書!S107","v":0},"宅配便（RSL）",{"$f":"TEXT(配送情報書!X107,\"yyyy/m/d\")","v":""},1214,"通常",null,null,null,null,null,null,null,null,null,null,null,{"$f":"IF(配送情報書!V107=\"通常方式\",5901010002,IF(配送情報書!V107=\"プーリング方式（4検体）\",5901010003,\"\"))","v":""},"",{"$f":"配送情報書!T107","v":0},0]
[{"$f":"IF(配送情報書!W108=\"個別返送\",配送情報書!T108,\"\")","v":""},null,null,null,null,60072,null,"　",null,0,0,0,0,null,0,"請求書払い",null,null,{"$f":"配送情報書!M108&\"　\"&配送情報書!N108","v":"　"},"",{"$f":"配送情報書!O108","v":0},{"$f":"配送情報書!P108","v":0},{"$f":"配送情報書!Q108","v":0},{"$f":"配送情報書!R108","v":0},{"$f":"配送情報書!S108","v":0},"宅配便（RSL）",{"$f":"TEXT(配送情報書!X108,\"yyyy/m/d\")","v":""},1214,"通常",null,null,null,null,null,null,null,null,null,null,null,{"$f":"IF(配送情報書!V108=\"通常方式\",5901010002,IF(配送情報書!V108=\"プーリング方式（4検体）\",5901010003,\"\"))","v":""},"",{"$f":"配送情報書!T108","v":0},0]
[{"$f":"IF(配送情報書!W109=\"個別返送\",配送情報書!T109,\"\")","v":""},null,null,null,null,60072,null,"　",null,0,0,0,0,null,0,"請求書払い",null,null,{"$f":"配送情報書!M109&\"　\"&配送情報書!N109","v":"　"},"",{"$f":"配送情報書!O109","v":0},{"$f":"配送情報書!P109","v":0},{"$f":"配送情報書!Q109","v":0},{"$f":"配送情報書!R109","v":0},{"$f":"配送情報書!S109","v":0},"宅配便（RSL）",{"$f":"TEXT(配送情報書!X109,\"yyyy/m/d\")","v":""},1214,"通常",null,null,null,null,null,null,null,null,null,null,null,{"$f":"IF(配送情報書!V109=\"通常方式\",5901010002,IF(配送情報書!V109=\"プーリング方式（4検体）\",5901010003,\"\"))","v":""},"",{"$f":"配送情報書!T109","v":0},0]
[{"$f":"IF(配送情報書!W110=\"個別返送\",配送情報書!T110,\"\")","v":""},null,null,null,null,60072,null,"　",null,0,0,0,0,null,0,"請求書払い",null,null,{"$f":"配送情報書!M110&\"　\"&配送情報書!N110","v":"　"},"",{"$f":"配送情報書!O110","v":0},{"$f":"配送情報書!P110","v":0},{"$f":"配送情報書!Q110","v":0},{"$f":"配送情報書!R110","v":0},{"$f":"配送情報書!S110","v":0},"宅配便（RSL）",{"$f":"TEXT(配送情報書!X110,\"yyyy/m/d\")","v":""},1214,"通常",null,null,null,null,null,null,null,null,null,null,null,{"$f":"IF(配送情報書!V110=\"通常方式\",5901010002,IF(配送情報書!V110=\"プーリング方式（4検体）\",5901010003,\"\"))","v":""},"",{"$f":"配送情報書!T110","v":0},0]
[{"$f":"IF(配送情報書!W111=\"個別返送\",配送情報書!T111,\"\")","v":""},null,null,null,null,60072,null,"　",null,0,0,0,0,null,0,"請求書払い",null,null,{"$f":"配送情報書!M111&\"　\"&配送情報書!N111","v":"　"},"",{"$f":"配送情報書!O111","v":0},{"$f":"配送情報書!P111","v":0},{"$f":"配送情報書!Q111","v":0},{"$f":"配送情報書!R111","v":0},{"$f":"配送情報書!S111","v":0},"宅配便（RSL）",{"$f":"TEXT(配送情報書!X111,\"yyyy/m/d\")","v":""},1214,"通常",null,null,null,null,null,null,null,null,null,null,null,{"$f":"IF(配送情報書!V111=\"通常方式\",5901010002,IF(配送情報書!V111=\"プーリング方式（4検体）\",5901010003,\"\"))","v":""},"",{"$f":"配送情報書!T111","v":0},0]
[{"$f":"IF(配送情報書!W112=\"個別返送\",配送情報書!T112,\"\")","v":""},null,null,null,null,60072,null,"　",null,0,0,0,0,null,0,"請求書払い",null,null,{"$f":"配送情報書!M112&\"　\"&配送情報書!N112","v":"　"},"",{"$f":"配送情報書!O112","v":0},{"$f":"配送情報書!P112","v":0},{"$f":"配送情報書!Q112","v":0},{"$f":"配送情報書!R112","v":0},{"$f":"配送情報書!S112","v":0},"宅配便（RSL）",{"$f":"TEXT(配送情報書!X112,\"yyyy/m/d\")","v":""},1214,"通常",null,null,null,null,null,null,null,null,null,null,null,{"$f":"IF(配送情報書!V112=\"通常方式\",5901010002,IF(配送情報書!V112=\"プーリング方式（4検体）\",5901010003,\"\"))","v":""},"",{"$f":"配送情報書!T112","v":0},0]
[{"$f":"IF(配送情報書!W113=\"個別返送\",配送情報書!T113,\"\")","v":""},null,null,null,null,60072,null,"　",null,0,0,0,0,null,0,"請求書払い",null,null,{"$f":"配送情報書!M113&\"　\"&配送情報書!N113","v":"　"},"",{"$f":"配送情報書!O113","v":0},{"$f":"配送情報書!P113","v":0},{"$f":"配送情報書!Q113","v":0},{"$f":"配送情報書!R113","v":0},{"$f":"配送情報書!S113","v":0},"宅配便（RSL）",{"$f":"TEXT(配送情報書!X113,\"yyyy/m/d\")","v":""},1214,"通常",null,null,null,null,null,null,null,null,null,null,null,{"$f":"IF(配送情報書!V113=\"通常方式\",5901010002,IF(配送情報書!V113=\"プーリング方式（4検体）\",5901010003,\"\"))","v":""},"",{"$f":"配送情報書!T113","v":0},0]
[{"$f":"IF(配送情報書!W114=\"個別返送\",配送情報書!T114,\"\")","v":""},null,null,null,null,60072,null,{"$f":"S115","v":"　"},null,{"$f":"U115","v":0},{"$f":"V115","v":0},{"$f":"W115","v":0},{"$f":"X115","v":0},null,{"$f":"Y115","v":0},"請求書払い",null,null,{"$f":"配送情報書!M114&\"　\"&配送情報書!N114","v":"　"},"",{"$f":"配送情報書!O114","v":0},{"$f":"配送情報書!P114","v":0},{"$f":"配送情報書!Q114","v":0},{"$f":"配送情報書!R114","v":0},{"$f":"配送情報書!S114","v":0},"宅配便（RSL）",{"$f":"TEXT(配送情報書!X114,\"yyyy/m/d\")","v":""},1214,"通常",null,null,null,null,null,null,null,null,null,null,null,{"$f":"IF(配送情報書!V114=\"通常方式\",5901010002,IF(配送情報書!V114=\"プーリング方式（4検体）\",5901010003,\"\"))","v":""},"",{"$f":"配送情報書!T114","v":0},0]
[{"$f":"IF(配送情報書!W115=\"個別返送\",配送情報書!T115,\"\")","v":""},null,null,null,null,60072,null,"　",null,0,0,0,0,null,0,"請求書払い",null,null,{"$f":"配送情報書!M115&\"　\"&配送情報書!N115","v":"　"},"",{"$f":"配送情報書!O115","v":0},{"$f":"配送情報書!P115","v":0},{"$f":"配送情報書!Q115","v":0},{"$f":"配送情報書!R115","v":0},{"$f":"配送情報書!S115","v":0},"宅配便（RSL）",{"$f":"TEXT(配送情報書!X115,\"yyyy/m/d\")","v":""},1214,"通常",null,null,null,null,null,null,null,null,null,null,null,{"$f":"IF(配送情報書!V115=\"通常方式\",5901010002,IF(配送情報書!V115=\"プーリング方式（4検体）\",5901010003,\"\"))","v":""},"",{"$f":"配送情報書!T115","v":0},0]
[{"$f":"IF(配送情報書!W116=\"個別返送\",配送情報書!T116,\"\")","v":""},null,null,null,null,60072,null,"　",null,0,0,0,0,null,0,"請求書払い",null,null,{"$f":"配送情報書!M116&\"　\"&配送情報書!N116","v":"　"},"",{"$f":"配送情報書!O116","v":0},{"$f":"配送情報書!P116","v":0},{"$f":"配送情報書!Q116","v":0},{"$f":"配送情報書!R116","v":0},{"$f":"配送情報書!S116","v":0},"宅配便（RSL）",{"$f":"TEXT(配送情報書!X116,\"yyyy/m/d\")","v":""},1214,"通常",null,null,null,null,null,null,null,null,null,null,null,{"$f":"IF(配送情報書!V116=\"通常方式\",5901010002,IF(配送情報書!V116=\"プーリング方式（4検体）\",5901010003,\"\"))","v":""},"",{"$f":"配送情報書!T116","v":0},0]
[{"$f":"IF(配送情報書!W117=\"個別返送\",配送情報書!T117,\"\")","v":""},null,null,null,null,60072,null,"　",null,0,0,0,0,null,0,"請求書払い",null,null,{"$f":"配送情報書!M117&\"　\"&配送情報書!N117","v":"　"},"",{"$f":"配送情報書!O117","v":0},{"$f":"配送情報書!P117","v":0},{"$f":"配送情報書!Q117","v":0},{"$f":"配送情報書!R117","v":0},{"$f":"配送情報書!S117","v":0},"宅配便（RSL）",{"$f":"TEXT(配送情報書!X117,\"yyyy/m/d\")","v":""},1214,"通常",null,null,null,null,null,null,null,null,null,null,null,{"$f":"IF(配送情報書!V117=\"通常方式\",5901010002,IF(配送情報書!V117=\"プーリング方式（4検体）\",5901010003,\"\"))","v":""},"",{"$f":"配送情報書!T117","v":0},0]
[{"$f":"IF(配送情報書!W118=\"個別返送\",配送情報書!T118,\"\")","v":""},null,null,null,null,60072,null,"　",null,0,0,0,0,null,0,"請求書払い",null,null,{"$f":"配送情報書!M118&\"　\"&配送情報書!N118","v":"　"},{"$f":"IF($F$2>=ROW()-5,IF(T118=\"\",\"\",T118),\"\")","v":""},{"$f":"配送情報書!O118","v":0},{"$f":"配送情報書!P118","v":0},{"$f":"配送情報書!Q118","v":0},{"$f":"配送情報書!R118","v":0},{"$f":"配送情報書!S118","v":0},"宅配便（RSL）",{"$f":"TEXT(配送情報書!X118,\"yyyy/m/d\")","v":""},1214,"通常",null,null,null,null,null,null,null,null,null,null,null,{"$f":"IF(配送情報書!V118=\"通常方式\",5901010002,IF(配送情報書!V118=\"プーリング方式（4検体）\",5901010003,\"\"))","v":""},"",{"$f":"配送情報書!T118","v":0},0]
[{"$f":"IF(配送情報書!W119=\"個別返送\",配送情報書!T119,\"\")","v":""},null,null,null,null,60072,null,"　",null,0,0,0,0,null,0,"請求書払い",null,null,{"$f":"配送情報書!M119&\"　\"&配送情報書!N119","v":"　"},"",{"$f":"配送情報書!O119","v":0},{"$f":"配送情報書!P119","v":0},{"$f":"配送情報書!Q119","v":0},{"$f":"配送情報書!R119","v":0},{"$f":"配送情報書!S119","v":0},"宅配便（RSL）",{"$f":"TEXT(配送情報書!X119,\"yyyy/m/d\")","v":""},1214,"通常",null,null,null,null,null,null,null,null,null,null,null,{"$f":"IF(配送情報書!V119=\"通常方式\",5901010002,IF(配送情報書!V119=\"プーリング方式（4検体）\",5901010003,\"\"))","v":""},"",{"$f":"配送情報書!T119","v":0},0]
[{"$f":"IF(配送情報書!W120=\"個別返送\",配送情報書!T120,\"\")","v":""},null,null,null,null,60072,null,"　",null,0,0,0,0,null,0,"請求書払い",null,null,{"$f":"配送情報書!M120&\"　\"&配送情報書!N120","v":"　"},"",{"$f":"配送情報書!O120","v":0},{"$f":"配送情報書!P120","v":0},{"$f":"配送情報書!Q120","v":0},{"$f":"配送情報書!R120","v":0},{"$f":"配送情報書!S120","v":0},"宅配便（RSL）",{"$f":"TEXT(配送情報書!X120,\"yyyy/m/d\")","v":""},1214,"通常",null,null,null,null,null,null,null,null,null,null,null,{"$f":"IF(配送情報書!V120=\"通常方式\",5901010002,IF(配送情報書!V120=\"プーリング方式（4検体）\",5901010003,\"\"))","v":""},"",{"$f":"配送情報書!T120","v":0},0]
[{"$f":"IF(配送情報書!W121=\"個別返送\",配送情報書!T121,\"\")","v":""},null,null,null,null,60072,null,"　",null,0,0,0,0,null,0,"請求書払い",null,null,{"$f":"配送情報書!M121&\"　\"&配送情報書!N121","v":"　"},"",{"$f":"配送情報書!O121","v":0},{"$f":"配送情報書!P121","v":0},{"$f":"配送情報書!Q121","v":0},{"$f":"配送情報書!R121","v":0},{"$f":"配送情報書!S121","v":0},"宅配便（RSL）",{"$f":"TEXT(配送情報書!X121,\"yyyy/m/d\")","v":""},1214,"通常",null,null,null,null,null,null,null,null,null,null,null,{"$f":"IF(配送情報書!V121=\"通常方式\",5901010002,IF(配送情報書!V121=\"プーリング方式（4検体）\",5901010003,\"\"))","v":""},"",{"$f":"配送情報書!T121","v":0},0]
[{"$f":"IF(配送情報書!W122=\"個別返送\",配送情報書!T122,\"\")","v":""},null,null,null,null,60072,null,"　",null,0,0,0,0,null,0,"請求書払い",null,null,{"$f":"配送情報書!M122&\"　\"&配送情報書!N122","v":"　"},"",{"$f":"配送情報書!O122","v":0},{"$f":"配送情報書!P122","v":0},{"$f":"配送情報書!Q122","v":0},{"$f":"配送情報書!R122","v":0},{"$f":"配送情報書!S122","v":0},"宅配便（RSL）",{"$f":"TEXT(配送情報書!X122,\"yyyy/m/d\")","v":""},1214,"通常",null,null,null,null,null,null,null,null,null,null,null,{"$f":"IF(配送情報書!V122=\"通常方式\",5901010002,IF(配送情報書!V122=\"プーリング方式（4検体）\",5901010003,\"\"))","v":""},"",{"$f":"配送情報書!T122","v":0},0]
[{"$f":"IF(配送情報書!W123=\"個別返送\",配送情報書!T123,\"\")","v":""},null,null,null,null,60072,null,"　",null,0,0,0,0,null,0,"請求書払い",null,null,{"$f":"配送情報書!M123&\"　\"&配送情報書!N123","v":"　"},"",{"$f":"配送情報書!O123","v":0},{"$f":"配送情報書!P123","v":0},{"$f":"配送情報書!Q123","v":0},{"$f":"配送情報書!R123","v":0},{"$f":"配送情報書!S123","v":0},"宅配便（RSL）",{"$f":"TEXT(配送情報書!X123,\"yyyy/m/d\")","v":""},1214,"通常",null,null,null,null,null,null,null,null,null,null,null,{"$f":"IF(配送情報書!V123=\"通常方式\",5901010002,IF(配送情報書!V123=\"プーリング方式（4検体）\",5901010003,\"\"))","v":""},"",{"$f":"配送情報書!T123","v":0},0]
[{"$f":"IF(配送情報書!W124=\"個別返送\",配送情報書!T124,\"\")","v":""},null,null,null,null,60072,null,"　",null,0,0,0,0,null,0,"請求書払い",null,null,{"$f":"配送情報書!M124&\"　\"&配送情報書!N124","v":"　"},"",{"$f":"配送情報書!O124","v":0},{"$f":"配送情報書!P124","v":0},{"$f":"配送情報書!Q124","v":0},{"$f":"配送情報書!R124","v":0},{"$f":"配送情報書!S124","v":0},"宅配便（RSL）",{"$f":"TEXT(配送情報書!X124,\"yyyy/m/d\")","v":""},1214,"通常",null,null,null,null,null,null,null,null,null,null,null,{"$f":"IF(配送情報書!V124=\"通常方式\",5901010002,IF(配送情報書!V124=\"プーリング方式（4検体）\",5901010003,\"\"))","v":""},"",{"$f":"配送情報書!T124","v":0},0]
[{"$f":"IF(配送情報書!W125=\"個別返送\",配送情報書!T125,\"\")","v":""},null,null,null,null,60072,null,"　",null,0,0,0,0,null,0,"請求書払い",null,null,{"$f":"配送情報書!M125&\"　\"&配送情報書!N125","v":"　"},"",{"$f":"配送情報書!O125","v":0},{"$f":"配送情報書!P125","v":0},{"$f":"配送情報書!Q125","v":0},{"$f":"配送情報書!R125","v":0},{"$f":"配送情報書!S125","v":0},"宅配便（RSL）",{"$f":"TEXT(配送情報書!X125,\"yyyy/m/d\")","v":""},1214,"通常",null,null,null,null,null,null,null,null,null,null,null,{"$f":"IF(配送情報書!V125=\"通常方式\",5901010002,IF(配送情報書!V125=\"プーリング方式（4検体）\",5901010003,\"\"))","v":""},"",{"$f":"配送情報書!T125","v":0},0]
[{"$f":"IF(配送情報書!W126=\"個別返送\",配送情報書!T126,\"\")","v":""},null,null,null,null,60072,null,"　",null,0,0,0,0,null,0,"請求書払い",null,null,{"$f":"配送情報書!M126&\"　\"&配送情報書!N126","v":"　"},"",{"$f":"配送情報書!O126","v":0},{"$f":"配送情報書!P126","v":0},{"$f":"配送情報書!Q126","v":0},{"$f":"配送情報書!R126","v":0},{"$f":"配送情報書!S126","v":0},"宅配便（RSL）",{"$f":"TEXT(配送情報書!X126,\"yyyy/m/d\")","v":""},1214,"通常",null,null,null,null,null,null,null,null,null,null,null,{"$f":"IF(配送情報書!V126=\"通常方式\",5901010002,IF(配送情報書!V126=\"プーリング方式（4検体）\",5901010003,\"\"))","v":""},"",{"$f":"配送情報書!T126","v":0},0]
[{"$f":"IF(配送情報書!W127=\"個別返送\",配送情報書!T127,\"\")","v":""},null,null,null,null,60072,null,"　",null,0,0,0,0,null,0,"請求書払い",null,null,{"$f":"配送情報書!M127&\"　\"&配送情報書!N127","v":"　"},"",{"$f":"配送情報書!O127","v":0},{"$f":"配送情報書!P127","v":0},{"$f":"配送情報書!Q127","v":0},{"$f":"配送情報書!R127","v":0},{"$f":"配送情報書!S127","v":0},"宅配便（RSL）",{"$f":"TEXT(配送情報書!X127,\"yyyy/m/d\")","v":""},1214,"通常",null,null,null,null,null,null,null,null,null,null,null,{"$f":"IF(配送情報書!V127=\"通常方式\",5901010002,IF(配送情報書!V127=\"プーリング方式（4検体）\",5901010003,\"\"))","v":""},"",{"$f":"配送情報書!T127","v":0},0]
[{"$f":"IF(配送情報書!W128=\"個別返送\",配送情報書!T128,\"\")","v":""},null,null,null,null,60072,null,"　",null,0,0,0,0,null,0,"請求書払い",null,null,{"$f":"配送情報書!M128&\"　\"&配送情報書!N128","v":"　"},"",{"$f":"配送情報書!O128","v":0},{"$f":"配送情報書!P128","v":0},{"$f":"配送情報書!Q128","v":0},{"$f":"配送情報書!R128","v":0},{"$f":"配送情報書!S128","v":0},"宅配便（RSL）",{"$f":"TEXT(配送情報書!X128,\"yyyy/m/d\")","v":""},1214,"通常",null,null,null,null,null,null,null,null,null,null,null,{"$f":"IF(配送情報書!V128=\"通常方式\",5901010002,IF(配送情報書!V128=\"プーリング方式（4検体）\",5901010003,\"\"))","v":""},"",{"$f":"配送情報書!T128","v":0},0]
[{"$f":"IF(配送情報書!W129=\"個別返送\",配送情報書!T129,\"\")","v":""},null,null,null,null,60072,null,"　",null,0,0,0,0,null,0,"請求書払い",null,null,{"$f":"配送情報書!M129&\"　\"&配送情報書!N129","v":"　"},"",{"$f":"配送情報書!O129","v":0},{"$f":"配送情報書!P129","v":0},{"$f":"配送情報書!Q129","v":0},{"$f":"配送情報書!R129","v":0},{"$f":"配送情報書!S129","v":0},"宅配便（RSL）",{"$f":"TEXT(配送情報書!X129,\"yyyy/m/d\")","v":""},1214,"通常",null,null,null,null,null,null,null,null,null,null,null,{"$f":"IF(配送情報書!V129=\"通常方式\",5901010002,IF(配送情報書!V129=\"プーリング方式（4検体）\",5901010003,\"\"))","v":""},"",{"$f":"配送情報書!T129","v":0},0]
[{"$f":"IF(配送情報書!W130=\"個別返送\",配送情報書!T130,\"\")","v":""},null,null,null,null,60072,null,"　",null,0,0,0,0,null,0,"請求書払い",null,null,{"$f":"配送情報書!M130&\"　\"&配送情報書!N130","v":"　"},"",{"$f":"配送情報書!O130","v":0},{"$f":"配送情報書!P130","v":0},{"$f":"配送情報書!Q130","v":0},{"$f":"配送情報書!R130","v":0},{"$f":"配送情報書!S130","v":0},"宅配便（RSL）",{"$f":"TEXT(配送情報書!X130,\"yyyy/m/d\")","v":""},1214,"通常",null,null,null,null,null,null,null,null,null,null,null,{"$f":"IF(配送情報書!V130=\"通常方式\",5901010002,IF(配送情報書!V130=\"プーリング方式（4検体）\",5901010003,\"\"))","v":""},"",{"$f":"配送情報書!T130","v":0},0]
[{"$f":"IF(配送情報書!W131=\"個別返送\",配送情報書!T131,\"\")","v":""},null,null,null,null,60072,null,"　",null,0,0,0,0,null,0,"請求書払い",null,null,{"$f":"配送情報書!M131&\"　\"&配送情報書!N131","v":"　"},"",{"$f":"配送情報書!O131","v":0},{"$f":"配送情報書!P131","v":0},{"$f":"配送情報書!Q131","v":0},{"$f":"配送情報書!R131","v":0},{"$f":"配送情報書!S131","v":0},"宅配便（RSL）",{"$f":"TEXT(配送情報書!X131,\"yyyy/m/d\")","v":""},1214,"通常",null,null,null,null,null,null,null,null,null,null,null,{"$f":"IF(配送情報書!V131=\"通常方式\",5901010002,IF(配送情報書!V131=\"プーリング方式（4検体）\",5901010003,\"\"))","v":""},"",{"$f":"配送情報書!T131","v":0},0]
[{"$f":"IF(配送情報書!W132=\"個別返送\",配送情報書!T132,\"\")","v":""},null,null,null,null,60072,null,"　",null,0,0,0,0,null,0,"請求書払い",null,null,{"$f":"配送情報書!M132&\"　\"&配送情報書!N132","v":"　"},"",{"$f":"配送情報書!O132","v":0},{"$f":"配送情報書!P132","v":0},{"$f":"配送情報書!Q132","v":0},{"$f":"配送情報書!R132","v":0},{"$f":"配送情報書!S132","v":0},"宅配便（RSL）",{"$f":"TEXT(配送情報書!X132,\"yyyy/m/d\")","v":""},1214,"通常",null,null,null,null,null,null,null,null,null,null,null,{"$f":"IF(配送情報書!V132=\"通常方式\",5901010002,IF(配送情報書!V132=\"プーリング方式（4検体）\",5901010003,\"\"))","v":""},"",{"$f":"配送情報書!T132","v":0},0]
[{"$f":"IF(配送情報書!W133=\"個別返送\",配送情報書!T133,\"\")","v":""},null,null,null,null,60072,null,"　",null,0,0,0,0,null,0,"請求書払い",null,null,{"$f":"配送情報書!M133&\"　\"&配送情報書!N133","v":"　"},"",{"$f":"配送情報書!O133","v":0},{"$f":"配送情報書!P133","v":0},{"$f":"配送情報書!Q133","v":0},{"$f":"配送情報書!R133","v":0},{"$f":"配送情報書!S133","v":0},"宅配便（RSL）",{"$f":"TEXT(配送情報書!X133,\"yyyy/m/d\")","v":""},1214,"通常",null,null,null,null,null,null,null,null,null,null,null,{"$f":"IF(配送情報書!V133=\"通常方式\",5901010002,IF(配送情報書!V133=\"プーリング方式（4検体）\",5901010003,\"\"))","v":""},{"$f":"IF(AO134=5901010002,\"【法人/通常】新型コロナウイルス唾液PCR検査キット 5901010002\",IF(AO134=5901010003,\"【法人/プーリング】新型コロナウイルス唾液PCR検査キット 5901010003\",\"\"))","v":""},{"$f":"配送情報書!T133","v":0},0]
[{"$f":"IF(配送情報書!W134=\"個別返送\",配送情報書!T134,\"\")","v":""},null,null,null,null,60072,null,"　",null,0,0,0,0,null,0,"請求書払い",null,null,{"$f":"配送情報書!M134&\"　\"&配送情報書!N134","v":"　"},{"$f":"IF($F$2>=ROW()-5,IF(T134=\"\",\"\",T134),\"\")","v":""},{"$f":"配送情報書!O134","v":0},{"$f":"配送情報書!P134","v":0},{"$f":"配送情報書!Q134","v":0},{"$f":"配送情報書!R134","v":0},{"$f":"配送情報書!S134","v":0},{"$f":"IF(AQ135=1,\"メール便（RSL）\",\"宅配便（RSL）\")","v":"宅配便（RSL）"},{"$f":"TEXT(配送情報書!X134,\"yyyy/m/d\")","v":""},1214,"通常",null,null,null,null,null,null,null,null,null,null,null,{"$f":"IF(配送情報書!V134=\"通常方式\",5901010002,IF(配送情報書!V134=\"プーリング方式（4検体）\",5901010003,\"\"))","v":""},"",{"$f":"配送情報書!T134","v":0},0]
[{"$f":"IF(配送情報書!W135=\"個別返送\",配送情報書!T135,\"\")","v":""},null,null,null,null,60072,null,"　",null,0,0,0,0,null,0,"請求書払い",null,null,{"$f":"配送情報書!M135&\"　\"&配送情報書!N135","v":"　"},{"$f":"IF($F$2>=ROW()-5,IF(T135=\"\",\"\",T135),\"\")","v":""},{"$f":"配送情報書!O135","v":0},{"$f":"配送情報書!P135","v":0},{"$f":"配送情報書!Q135","v":0},{"$f":"配送情報書!R135","v":0},{"$f":"配送情報書!S135","v":0},"宅配便（RSL）",{"$f":"TEXT(配送情報書!X135,\"yyyy/m/d\")","v":""},1214,"通常",null,null,null,null,null,null,null,null,null,null,null,{"$f":"IF(配送情報書!V135=\"通常方式\",5901010002,IF(配送情報書!V135=\"プーリング方式（4検体）\",5901010003,\"\"))","v":""},"",{"$f":"配送情報書!T135","v":0},0]
[{"$f":"IF(配送情報書!W136=\"個別返送\",配送情報書!T136,\"\")","v":""},null,null,null,null,60072,null,"　",null,0,0,0,0,null,0,"請求書払い",null,null,{"$f":"配送情報書!M136&\"　\"&配送情報書!N136","v":"　"},"",{"$f":"配送情報書!O136","v":0},{"$f":"配送情報書!P136","v":0},{"$f":"配送情報書!Q136","v":0},{"$f":"配送情報書!R136","v":0},{"$f":"配送情報書!S136","v":0},"宅配便（RSL）",{"$f":"TEXT(配送情報書!X136,\"yyyy/m/d\")","v":""},1214,"通常",null,null,null,null,null,null,null,null,null,null,null,{"$f":"IF(配送情報書!V136=\"通常方式\",5901010002,IF(配送情報書!V136=\"プーリング方式（4検体）\",5901010003,\"\"))","v":""},"",{"$f":"配送情報書!T136","v":0},0]
[{"$f":"IF(配送情報書!W137=\"個別返送\",配送情報書!T137,\"\")","v":""},null,null,null,null,60072,null,"　",null,0,0,0,0,null,0,"請求書払い",null,null,{"$f":"配送情報書!M137&\"　\"&配送情報書!N137","v":"　"},"",{"$f":"配送情報書!O137","v":0},{"$f":"配送情報書!P137","v":0},{"$f":"配送情報書!Q137","v":0},{"$f":"配送情報書!R137","v":0},{"$f":"配送情報書!S137","v":0},"宅配便（RSL）",{"$f":"TEXT(配送情報書!X137,\"yyyy/m/d\")","v":""},1214,"通常",null,null,null,null,null,null,null,null,null,null,null,{"$f":"IF(配送情報書!V137=\"通常方式\",5901010002,IF(配送情報書!V137=\"プーリング方式（4検体）\",5901010003,\"\"))","v":""},"",{"$f":"配送情報書!T137","v":0},0]
[{"$f":"IF(配送情報書!W138=\"個別返送\",配送情報書!T138,\"\")","v":""},null,null,null,null,60072,null,"　",null,0,0,0,0,null,0,"請求書払い",null,null,{"$f":"配送情報書!M138&\"　\"&配送情報書!N138","v":"　"},"",{"$f":"配送情報書!O138","v":0},{"$f":"配送情報書!P138","v":0},{"$f":"配送情報書!Q138","v":0},{"$f":"配送情報書!R138","v":0},{"$f":"配送情報書!S138","v":0},"宅配便（RSL）",{"$f":"TEXT(配送情報書!X138,\"yyyy/m/d\")","v":""},1214,"通常",null,null,null,null,null,null,null,null,null,null,null,{"$f":"IF(配送情報書!V138=\"通常方式\",5901010002,IF(配送情報書!V138=\"プーリング方式（4検体）\",5901010003,\"\"))","v":""},"",{"$f":"配送情報書!T138","v":0},0]
[{"$f":"IF(配送情報書!W139=\"個別返送\",配送情報書!T139,\"\")","v":""},null,null,null,null,60072,null,"　",null,0,0,0,0,null,0,"請求書払い",null,null,{"$f":"配送情報書!M139&\"　\"&配送情報書!N139","v":"　"},"",{"$f":"配送情報書!O139","v":0},{"$f":"配送情報書!P139","v":0},{"$f":"配送情報書!Q139","v":0},{"$f":"配送情報書!R139","v":0},{"$f":"配送情報書!S139","v":0},"宅配便（RSL）",{"$f":"TEXT(配送情報書!X139,\"yyyy/m/d\")","v":""},1214,"通常",null,null,null,null,null,null,null,null,null,null,null,{"$f":"IF(配送情報書!V139=\"通常方式\",5901010002,IF(配送情報書!V139=\"プーリング方式（4検体）\",5901010003,\"\"))","v":""},"",{"$f":"配送情報書!T139","v":0},0]
[{"$f":"IF(配送情報書!W140=\"個別返送\",配送情報書!T140,\"\")","v":""},null,null,null,null,60072,null,"　",null,0,0,0,0,null,0,"請求書払い",null,null,{"$f":"配送情報書!M140&\"　\"&配送情報書!N140","v":"　"},"",{"$f":"配送情報書!O140","v":0},{"$f":"配送情報書!P140","v":0},{"$f":"配送情報書!Q140","v":0},{"$f":"配送情報書!R140","v":0},{"$f":"配送情報書!S140","v":0},"宅配便（RSL）",{"$f":"TEXT(配送情報書!X140,\"yyyy/m/d\")","v":""},1214,"通常",null,null,null,null,null,null,null,null,null,null,null,{"$f":"IF(配送情報書!V140=\"通常方式\",5901010002,IF(配送情報書!V140=\"プーリング方式（4検体）\",5901010003,\"\"))","v":""},"",{"$f":"配送情報書!T140","v":0},0]
[{"$f":"IF(配送情報書!W141=\"個別返送\",配送情報書!T141,\"\")","v":""},null,null,null,null,60072,null,"　",null,0,0,0,0,null,0,"請求書払い",null,null,{"$f":"配送情報書!M141&\"　\"&配送情報書!N141","v":"　"},"",{"$f":"配送情報書!O141","v":0},{"$f":"配送情報書!P141","v":0},{"$f":"配送情報書!Q141","v":0},{"$f":"配送情報書!R141","v":0},{"$f":"配送情報書!S141","v":0},"宅配便（RSL）",{"$f":"TEXT(配送情報書!X141,\"yyyy/m/d\")","v":""},1214,"通常",null,null,null,null,null,null,null,null,null,null,null,{"$f":"IF(配送情報書!V141=\"通常方式\",5901010002,IF(配送情報書!V141=\"プーリング方式（4検体）\",5901010003,\"\"))","v":""},"",{"$f":"配送情報書!T141","v":0},0]
[{"$f":"IF(配送情報書!W142=\"個別返送\",配送情報書!T142,\"\")","v":""},null,null,null,null,60072,null,"　",null,0,0,0,0,null,0,"請求書払い",null,null,{"$f":"配送情報書!M142&\"　\"&配送情報書!N142","v":"　"},"",{"$f":"配送情報書!O142","v":0},{"$f":"配送情報書!P142","v":0},{"$f":"配送情報書!Q142","v":0},{"$f":"配送情報書!R142","v":0},{"$f":"配送情報書!S142","v":0},"宅配便（RSL）",{"$f":"TEXT(配送情報書!X142,\"yyyy/m/d\")","v":""},1214,"通常",null,null,null,null,null,null,null,null,null,null,null,{"$f":"IF(配送情報書!V142=\"通常方式\",5901010002,IF(配送情報書!V142=\"プーリング方式（4検体）\",5901010003,\"\"))","v":""},"",{"$f":"配送情報書!T142","v":0},0]
[{"$f":"IF(配送情報書!W143=\"個別返送\",配送情報書!T143,\"\")","v":""},null,null,null,null,60072,null,"　",null,0,0,0,0,null,0,"請求書払い",null,null,{"$f":"配送情報書!M143&\"　\"&配送情報書!N143","v":"　"},"",{"$f":"配送情報書!O143","v":0},{"$f":"配送情報書!P143","v":0},{"$f":"配送情報書!Q143","v":0},{"$f":"配送情報書!R143","v":0},{"$f":"配送情報書!S143","v":0},"宅配便（RSL）",{"$f":"TEXT(配送情報書!X143,\"yyyy/m/d\")","v":""},1214,"通常",null,null,null,null,null,null,null,null,null,null,null,{"$f":"IF(配送情報書!V143=\"通常方式\",5901010002,IF(配送情報書!V143=\"プーリング方式（4検体）\",5901010003,\"\"))","v":""},"",{"$f":"配送情報書!T143","v":0},0]
[{"$f":"IF(配送情報書!W144=\"個別返送\",配送情報書!T144,\"\")","v":""},null,null,null,null,60072,null,"　",null,0,0,0,0,null,0,"請求書払い",null,null,{"$f":"配送情報書!M144&\"　\"&配送情報書!N144","v":"　"},"",{"$f":"配送情報書!O144","v":0},{"$f":"配送情報書!P144","v":0},{"$f":"配送情報書!Q144","v":0},{"$f":"配送情報書!R144","v":0},{"$f":"配送情報書!S144","v":0},"宅配便（RSL）",{"$f":"TEXT(配送情報書!X144,\"yyyy/m/d\")","v":""},1214,"通常",null,null,null,null,null,null,null,null,null,null,null,{"$f":"IF(配送情報書!V144=\"通常方式\",5901010002,IF(配送情報書!V144=\"プーリング方式（4検体）\",5901010003,\"\"))","v":""},"",{"$f":"配送情報書!T144","v":0},0]
[{"$f":"IF(配送情報書!W145=\"個別返送\",配送情報書!T145,\"\")","v":""},null,null,null,null,60072,null,"　",null,0,0,0,0,null,0,"請求書払い",null,null,{"$f":"配送情報書!M145&\"　\"&配送情報書!N145","v":"　"},"",{"$f":"配送情報書!O145","v":0},{"$f":"配送情報書!P145","v":0},{"$f":"配送情報書!Q145","v":0},{"$f":"配送情報書!R145","v":0},{"$f":"配送情報書!S145","v":0},"宅配便（RSL）",{"$f":"TEXT(配送情報書!X145,\"yyyy/m/d\")","v":""},1214,"通常",null,null,null,null,null,null,null,null,null,null,null,{"$f":"IF(配送情報書!V145=\"通常方式\",5901010002,IF(配送情報書!V145=\"プーリング方式（4検体）\",5901010003,\"\"))","v":""},"",{"$f":"配送情報書!T145","v":0},0]
[{"$f":"IF(配送情報書!W146=\"個別返送\",配送情報書!T146,\"\")","v":""},null,null,null,null,60072,null,"　",null,0,0,0,0,null,0,"請求書払い",null,null,{"$f":"配送情報書!M146&\"　\"&配送情報書!N146","v":"　"},"",{"$f":"配送情報書!O146","v":0},{"$f":"配送情報書!P146","v":0},{"$f":"配送情報書!Q146","v":0},{"$f":"配送情報書!R146","v":0},{"$f":"配送情報書!S146","v":0},"宅配便（RSL）",{"$f":"TEXT(配送情報書!X146,\"yyyy/m/d\")","v":""},1214,"通常",null,null,null,null,null,null,null,null,null,null,null,{"$f":"IF(配送情報書!V146=\"通常方式\",5901010002,IF(配送情報書!V146=\"プーリング方式（4検体）\",5901010003,\"\"))","v":""},"",{"$f":"配送情報書!T146","v":0},0]
[{"$f":"IF(配送情報書!W147=\"個別返送\",配送情報書!T147,\"\")","v":""},null,null,null,null,60072,null,"　",null,0,0,0,0,null,0,"請求書払い",null,null,{"$f":"配送情報書!M147&\"　\"&配送情報書!N147","v":"　"},"",{"$f":"配送情報書!O147","v":0},{"$f":"配送情報書!P147","v":0},{"$f":"配送情報書!Q147","v":0},{"$f":"配送情報書!R147","v":0},{"$f":"配送情報書!S147","v":0},"宅配便（RSL）",{"$f":"TEXT(配送情報書!X147,\"yyyy/m/d\")","v":""},1214,"通常",null,null,null,null,null,null,null,null,null,null,null,{"$f":"IF(配送情報書!V147=\"通常方式\",5901010002,IF(配送情報書!V147=\"プーリング方式（4検体）\",5901010003,\"\"))","v":""},"",{"$f":"配送情報書!T147","v":0},0]
[{"$f":"IF(配送情報書!W148=\"個別返送\",配送情報書!T148,\"\")","v":""},null,null,null,null,60072,null,"　",null,0,0,0,0,null,0,"請求書払い",null,null,{"$f":"配送情報書!M148&\"　\"&配送情報書!N148","v":"　"},"",{"$f":"配送情報書!O148","v":0},{"$f":"配送情報書!P148","v":0},{"$f":"配送情報書!Q148","v":0},{"$f":"配送情報書!R148","v":0},{"$f":"配送情報書!S148","v":0},"宅配便（RSL）",{"$f":"TEXT(配送情報書!X148,\"yyyy/m/d\")","v":""},1214,"通常",null,null,null,null,null,null,null,null,null,null,null,{"$f":"IF(配送情報書!V148=\"通常方式\",5901010002,IF(配送情報書!V148=\"プーリング方式（4検体）\",5901010003,\"\"))","v":""},"",{"$f":"配送情報書!T148","v":0},0]
[{"$f":"IF(配送情報書!W149=\"個別返送\",配送情報書!T149,\"\")","v":""},null,null,null,null,60072,null,"　",null,0,0,0,0,null,0,"請求書払い",null,null,{"$f":"配送情報書!M149&\"　\"&配送情報書!N149","v":"　"},"",{"$f":"配送情報書!O149","v":0},{"$f":"配送情報書!P149","v":0},{"$f":"配送情報書!Q149","v":0},{"$f":"配送情報書!R149","v":0},{"$f":"配送情報書!S149","v":0},"宅配便（RSL）",{"$f":"TEXT(配送情報書!X149,\"yyyy/m/d\")","v":""},1214,"通常",null,null,null,null,null,null,null,null,null,null,null,{"$f":"IF(配送情報書!V149=\"通常方式\",5901010002,IF(配送情報書!V149=\"プーリング方式（4検体）\",5901010003,\"\"))","v":""},"",{"$f":"配送情報書!T149","v":0},0]
[{"$f":"IF(配送情報書!W150=\"個別返送\",配送情報書!T150,\"\")","v":""},null,null,null,null,60072,null,"　",null,0,0,0,0,null,0,"請求書払い",null,null,{"$f":"配送情報書!M150&\"　\"&配送情報書!N150","v":"　"},{"$f":"IF($F$2>=ROW()-5,IF(T150=\"\",\"\",T150),\"\")","v":""},{"$f":"配送情報書!O150","v":0},{"$f":"配送情報書!P150","v":0},{"$f":"配送情報書!Q150","v":0},{"$f":"配送情報書!R150","v":0},{"$f":"配送情報書!S150","v":0},"宅配便（RSL）",{"$f":"TEXT(配送情報書!X150,\"yyyy/m/d\")","v":""},1214,"通常",null,null,null,null,null,null,null,null,null,null,null,{"$f":"IF(配送情報書!V150=\"通常方式\",5901010002,IF(配送情報書!V150=\"プーリング方式（4検体）\",5901010003,\"\"))","v":""},"",{"$f":"配送情報書!T150","v":0},0]
[{"$f":"IF(配送情報書!W151=\"個別返送\",配送情報書!T151,\"\")","v":""},null,null,null,null,60072,null,"　",null,0,0,0,0,null,0,"請求書払い",null,null,{"$f":"配送情報書!M151&\"　\"&配送情報書!N151","v":"　"},"",{"$f":"配送情報書!O151","v":0},{"$f":"配送情報書!P151","v":0},{"$f":"配送情報書!Q151","v":0},{"$f":"配送情報書!R151","v":0},{"$f":"配送情報書!S151","v":0},"宅配便（RSL）",{"$f":"TEXT(配送情報書!X151,\"yyyy/m/d\")","v":""},1214,"通常",null,null,null,null,null,null,null,null,null,null,null,{"$f":"IF(配送情報書!V151=\"通常方式\",5901010002,IF(配送情報書!V151=\"プーリング方式（4検体）\",5901010003,\"\"))","v":""},"",{"$f":"配送情報書!T151","v":0},0]
[{"$f":"IF(配送情報書!W152=\"個別返送\",配送情報書!T152,\"\")","v":""},null,null,null,null,60072,null,"　",null,0,0,0,0,null,0,"請求書払い",null,null,{"$f":"配送情報書!M152&\"　\"&配送情報書!N152","v":"　"},"",{"$f":"配送情報書!O152","v":0},{"$f":"配送情報書!P152","v":0},{"$f":"配送情報書!Q152","v":0},{"$f":"配送情報書!R152","v":0},{"$f":"配送情報書!S152","v":0},"宅配便（RSL）",{"$f":"TEXT(配送情報書!X152,\"yyyy/m/d\")","v":""},1214,"通常",null,null,null,null,null,null,null,null,null,null,null,{"$f":"IF(配送情報書!V152=\"通常方式\",5901010002,IF(配送情報書!V152=\"プーリング方式（4検体）\",5901010003,\"\"))","v":""},"",{"$f":"配送情報書!T152","v":0},0]
[{"$f":"IF(配送情報書!W153=\"個別返送\",配送情報書!T153,\"\")","v":""},null,null,null,null,60072,null,"　",null,0,0,0,0,null,0,"請求書払い",null,null,{"$f":"配送情報書!M153&\"　\"&配送情報書!N153","v":"　"},"",{"$f":"配送情報書!O153","v":0},{"$f":"配送情報書!P153","v":0},{"$f":"配送情報書!Q153","v":0},{"$f":"配送情報書!R153","v":0},{"$f":"配送情報書!S153","v":0},"宅配便（RSL）",{"$f":"TEXT(配送情報書!X153,\"yyyy/m/d\")","v":""},1214,"通常",null,null,null,null,null,null,null,null,null,null,null,{"$f":"IF(配送情報書!V153=\"通常方式\",5901010002,IF(配送情報書!V153=\"プーリング方式（4検体）\",5901010003,\"\"))","v":""},"",{"$f":"配送情報書!T153","v":0},0]
[{"$f":"IF(配送情報書!W154=\"個別返送\",配送情報書!T154,\"\")","v":""},null,null,null,null,60072,null,"　",null,0,0,0,0,null,0,"請求書払い",null,null,{"$f":"配送情報書!M154&\"　\"&配送情報書!N154","v":"　"},"",{"$f":"配送情報書!O154","v":0},{"$f":"配送情報書!P154","v":0},{"$f":"配送情報書!Q154","v":0},{"$f":"配送情報書!R154","v":0},{"$f":"配送情報書!S154","v":0},"宅配便（RSL）",{"$f":"TEXT(配送情報書!X154,\"yyyy/m/d\")","v":""},1214,"通常",null,null,null,null,null,null,null,null,null,null,null,{"$f":"IF(配送情報書!V154=\"通常方式\",5901010002,IF(配送情報書!V154=\"プーリング方式（4検体）\",5901010003,\"\"))","v":""},"",{"$f":"配送情報書!T154","v":0},0]
[{"$f":"IF(配送情報書!W155=\"個別返送\",配送情報書!T155,\"\")","v":""},null,null,null,null,60072,null,"　",null,0,0,0,0,null,0,"請求書払い",null,null,{"$f":"配送情報書!M155&\"　\"&配送情報書!N155","v":"　"},"",{"$f":"配送情報書!O155","v":0},{"$f":"配送情報書!P155","v":0},{"$f":"配送情報書!Q155","v":0},{"$f":"配送情報書!R155","v":0},{"$f":"配送情報書!S155","v":0},"宅配便（RSL）",{"$f":"TEXT(配送情報書!X155,\"yyyy/m/d\")","v":""},1214,"通常",null,null,null,null,null,null,null,null,null,null,null,{"$f":"IF(配送情報書!V155=\"通常方式\",5901010002,IF(配送情報書!V155=\"プーリング方式（4検体）\",5901010003,\"\"))","v":""},"",{"$f":"配送情報書!T155","v":0},0]
[{"$f":"IF(配送情報書!W156=\"個別返送\",配送情報書!T156,\"\")","v":""},null,null,null,null,60072,null,"　",null,0,0,0,0,null,0,"請求書払い",null,null,{"$f":"配送情報書!M156&\"　\"&配送情報書!N156","v":"　"},"",{"$f":"配送情報書!O156","v":0},{"$f":"配送情報書!P156","v":0},{"$f":"配送情報書!Q156","v":0},{"$f":"配送情報書!R156","v":0},{"$f":"配送情報書!S156","v":0},"宅配便（RSL）",{"$f":"TEXT(配送情報書!X156,\"yyyy/m/d\")","v":""},1214,"通常",null,null,null,null,null,null,null,null,null,null,null,{"$f":"IF(配送情報書!V156=\"通常方式\",5901010002,IF(配送情報書!V156=\"プーリング方式（4検体）\",5901010003,\"\"))","v":""},"",{"$f":"配送情報書!T156","v":0},0]
[{"$f":"IF(配送情報書!W157=\"個別返送\",配送情報書!T157,\"\")","v":""},null,null,null,null,60072,null,"　",null,0,0,0,0,null,0,"請求書払い",null,null,{"$f":"配送情報書!M157&\"　\"&配送情報書!N157","v":"　"},"",{"$f":"配送情報書!O157","v":0},{"$f":"配送情報書!P157","v":0},{"$f":"配送情報書!Q157","v":0},{"$f":"配送情報書!R157","v":0},{"$f":"配送情報書!S157","v":0},"宅配便（RSL）",{"$f":"TEXT(配送情報書!X157,\"yyyy/m/d\")","v":""},1214,"通常",null,null,null,null,null,null,null,null,null,null,null,{"$f":"IF(配送情報書!V157=\"通常方式\",5901010002,IF(配送情報書!V157=\"プーリング方式（4検体）\",5901010003,\"\"))","v":""},"",{"$f":"配送情報書!T157","v":0},0]
[{"$f":"IF(配送情報書!W158=\"個別返送\",配送情報書!T158,\"\")","v":""},null,null,null,null,60072,null,"　",null,0,0,0,0,null,0,"請求書払い",null,null,{"$f":"配送情報書!M158&\"　\"&配送情報書!N158","v":"　"},"",{"$f":"配送情報書!O158","v":0},{"$f":"配送情報書!P158","v":0},{"$f":"配送情報書!Q158","v":0},{"$f":"配送情報書!R158","v":0},{"$f":"配送情報書!S158","v":0},"宅配便（RSL）",{"$f":"TEXT(配送情報書!X158,\"yyyy/m/d\")","v":""},1214,"通常",null,null,null,null,null,null,null,null,null,null,null,{"$f":"IF(配送情報書!V158=\"通常方式\",5901010002,IF(配送情報書!V158=\"プーリング方式（4検体）\",5901010003,\"\"))","v":""},"",{"$f":"配送情報書!T158","v":0},0]
[{"$f":"IF(配送情報書!W159=\"個別返送\",配送情報書!T159,\"\")","v":""},null,null,null,null,60072,null,"　",null,0,0,0,0,null,0,"請求書払い",null,null,{"$f":"配送情報書!M159&\"　\"&配送情報書!N159","v":"　"},"",{"$f":"配送情報書!O159","v":0},{"$f":"配送情報書!P159","v":0},{"$f":"配送情報書!Q159","v":0},{"$f":"配送情報書!R159","v":0},{"$f":"配送情報書!S159","v":0},"宅配便（RSL）",{"$f":"TEXT(配送情報書!X159,\"yyyy/m/d\")","v":""},1214,"通常",null,null,null,null,null,null,null,null,null,null,null,{"$f":"IF(配送情報書!V159=\"通常方式\",5901010002,IF(配送情報書!V159=\"プーリング方式（4検体）\",5901010003,\"\"))","v":""},"",{"$f":"配送情報書!T159","v":0},0]
[{"$f":"IF(配送情報書!W160=\"個別返送\",配送情報書!T160,\"\")","v":""},null,null,null,null,60072,null,"　",null,0,0,0,0,null,0,"請求書払い",null,null,{"$f":"配送情報書!M160&\"　\"&配送情報書!N160","v":"　"},"",{"$f":"配送情報書!O160","v":0},{"$f":"配送情報書!P160","v":0},{"$f":"配送情報書!Q160","v":0},{"$f":"配送情報書!R160","v":0},{"$f":"配送情報書!S160","v":0},"宅配便（RSL）",{"$f":"TEXT(配送情報書!X160,\"yyyy/m/d\")","v":""},1214,"通常",null,null,null,null,null,null,null,null,null,null,null,{"$f":"IF(配送情報書!V160=\"通常方式\",5901010002,IF(配送情報書!V160=\"プーリング方式（4検体）\",5901010003,\"\"))","v":""},"",{"$f":"配送情報書!T160","v":0},0]
[{"$f":"IF(配送情報書!W161=\"個別返送\",配送情報書!T161,\"\")","v":""},null,null,null,null,60072,null,"　",null,0,0,0,0,null,0,"請求書払い",null,null,{"$f":"配送情報書!M161&\"　\"&配送情報書!N161","v":"　"},"",{"$f":"配送情報書!O161","v":0},{"$f":"配送情報書!P161","v":0},{"$f":"配送情報書!Q161","v":0},{"$f":"配送情報書!R161","v":0},{"$f":"配送情報書!S161","v":0},"宅配便（RSL）",{"$f":"TEXT(配送情報書!X161,\"yyyy/m/d\")","v":""},1214,"通常",null,null,null,null,null,null,null,null,null,null,null,{"$f":"IF(配送情報書!V161=\"通常方式\",5901010002,IF(配送情報書!V161=\"プーリング方式（4検体）\",5901010003,\"\"))","v":""},"",{"$f":"配送情報書!T161","v":0},0]
[{"$f":"IF(配送情報書!W162=\"個別返送\",配送情報書!T162,\"\")","v":""},null,null,null,null,60072,null,"　",null,0,0,0,0,null,0,"請求書払い",null,null,{"$f":"配送情報書!M162&\"　\"&配送情報書!N162","v":"　"},"",{"$f":"配送情報書!O162","v":0},{"$f":"配送情報書!P162","v":0},{"$f":"配送情報書!Q162","v":0},{"$f":"配送情報書!R162","v":0},{"$f":"配送情報書!S162","v":0},"宅配便（RSL）",{"$f":"TEXT(配送情報書!X162,\"yyyy/m/d\")","v":""},1214,"通常",null,null,null,null,null,null,null,null,null,null,null,{"$f":"IF(配送情報書!V162=\"通常方式\",5901010002,IF(配送情報書!V162=\"プーリング方式（4検体）\",5901010003,\"\"))","v":""},"",{"$f":"配送情報書!T162","v":0},0]
[{"$f":"IF(配送情報書!W163=\"個別返送\",配送情報書!T163,\"\")","v":""},null,null,null,null,60072,null,"　",null,0,0,0,0,null,0,"請求書払い",null,null,{"$f":"配送情報書!M163&\"　\"&配送情報書!N163","v":"　"},"",{"$f":"配送情報書!O163","v":0},{"$f":"配送情報書!P163","v":0},{"$f":"配送情報書!Q163","v":0},{"$f":"配送情報書!R163","v":0},{"$f":"配送情報書!S163","v":0},"宅配便（RSL）",{"$f":"TEXT(配送情報書!X163,\"yyyy/m/d\")","v":""},1214,"通常",null,null,null,null,null,null,null,null,null,null,null,{"$f":"IF(配送情報書!V163=\"通常方式\",5901010002,IF(配送情報書!V163=\"プーリング方式（4検体）\",5901010003,\"\"))","v":""},"",{"$f":"配送情報書!T163","v":0},0]
[{"$f":"IF(配送情報書!W164=\"個別返送\",配送情報書!T164,\"\")","v":""},null,null,null,null,60072,null,"　",null,0,0,0,0,null,0,"請求書払い",null,null,{"$f":"配送情報書!M164&\"　\"&配送情報書!N164","v":"　"},"",{"$f":"配送情報書!O164","v":0},{"$f":"配送情報書!P164","v":0},{"$f":"配送情報書!Q164","v":0},{"$f":"配送情報書!R164","v":0},{"$f":"配送情報書!S164","v":0},"宅配便（RSL）",{"$f":"TEXT(配送情報書!X164,\"yyyy/m/d\")","v":""},1214,"通常",null,null,null,null,null,null,null,null,null,null,null,{"$f":"IF(配送情報書!V164=\"通常方式\",5901010002,IF(配送情報書!V164=\"プーリング方式（4検体）\",5901010003,\"\"))","v":""},"",{"$f":"配送情報書!T164","v":0},0]
[{"$f":"IF(配送情報書!W165=\"個別返送\",配送情報書!T165,\"\")","v":""},null,null,null,null,60072,null,"　",null,0,0,0,0,null,0,"請求書払い",null,null,{"$f":"配送情報書!M165&\"　\"&配送情報書!N165","v":"　"},{"$f":"IF($F$2>=ROW()-5,IF(T165=\"\",\"\",T165),\"\")","v":""},{"$f":"配送情報書!O165","v":0},{"$f":"配送情報書!P165","v":0},{"$f":"配送情報書!Q165","v":0},{"$f":"配送情報書!R165","v":0},{"$f":"配送情報書!S165","v":0},"宅配便（RSL）",{"$f":"TEXT(配送情報書!X165,\"yyyy/m/d\")","v":""},1214,"通常",null,null,null,null,null,null,null,null,null,null,null,{"$f":"IF(配送情報書!V165=\"通常方式\",5901010002,IF(配送情報書!V165=\"プーリング方式（4検体）\",5901010003,\"\"))","v":""},"",{"$f":"配送情報書!T165","v":0},0]
[{"$f":"IF(配送情報書!W166=\"個別返送\",配送情報書!T166,\"\")","v":""},null,null,null,null,60072,null,"　",null,0,0,0,0,null,0,"請求書払い",null,null,{"$f":"配送情報書!M166&\"　\"&配送情報書!N166","v":"　"},{"$f":"IF($F$2>=ROW()-5,IF(T166=\"\",\"\",T166),\"\")","v":""},{"$f":"配送情報書!O166","v":0},{"$f":"配送情報書!P166","v":0},{"$f":"配送情報書!Q166","v":0},{"$f":"配送情報書!R166","v":0},{"$f":"配送情報書!S166","v":0},"宅配便（RSL）",{"$f":"TEXT(配送情報書!X166,\"yyyy/m/d\")","v":""},1214,"通常",null,null,null,null,null,null,null,null,null,null,null,{"$f":"IF(配送情報書!V166=\"通常方式\",5901010002,IF(配送情報書!V166=\"プーリング方式（4検体）\",5901010003,\"\"))","v":""},"",{"$f":"配送情報書!T166","v":0},0]
[{"$f":"IF(配送情報書!W167=\"個別返送\",配送情報書!T167,\"\")","v":""},null,null,null,null,60072,null,"　",null,0,0,0,0,null,0,"請求書払い",null,null,{"$f":"配送情報書!M167&\"　\"&配送情報書!N167","v":"　"},{"$f":"IF($F$2>=ROW()-5,IF(T167=\"\",\"\",T167),\"\")","v":""},{"$f":"配送情報書!O167","v":0},{"$f":"配送情報書!P167","v":0},{"$f":"配送情報書!Q167","v":0},{"$f":"配送情報書!R167","v":0},{"$f":"配送情報書!S167","v":0},"宅配便（RSL）",{"$f":"TEXT(配送情報書!X167,\"yyyy/m/d\")","v":""},1214,"通常",null,null,null,null,null,null,null,null,null,null,null,{"$f":"IF(配送情報書!V167=\"通常方式\",5901010002,IF(配送情報書!V167=\"プーリング方式（4検体）\",5901010003,\"\"))","v":""},"",{"$f":"配送情報書!T167","v":0},0]
[{"$f":"IF(配送情報書!W168=\"個別返送\",配送情報書!T168,\"\")","v":""},null,null,null,null,60072,null,"　",null,0,0,0,0,null,0,"請求書払い",null,null,{"$f":"配送情報書!M168&\"　\"&配送情報書!N168","v":"　"},"",{"$f":"配送情報書!O168","v":0},{"$f":"配送情報書!P168","v":0},{"$f":"配送情報書!Q168","v":0},{"$f":"配送情報書!R168","v":0},{"$f":"配送情報書!S168","v":0},"宅配便（RSL）",{"$f":"TEXT(配送情報書!X168,\"yyyy/m/d\")","v":""},1214,"通常",null,null,null,null,null,null,null,null,null,null,null,{"$f":"IF(配送情報書!V168=\"通常方式\",5901010002,IF(配送情報書!V168=\"プーリング方式（4検体）\",5901010003,\"\"))","v":""},"",{"$f":"配送情報書!T168","v":0},0]
[{"$f":"IF(配送情報書!W169=\"個別返送\",配送情報書!T169,\"\")","v":""},null,null,null,null,60072,null,"　",null,0,0,0,0,null,0,"請求書払い",null,null,{"$f":"配送情報書!M169&\"　\"&配送情報書!N169","v":"　"},"",{"$f":"配送情報書!O169","v":0},{"$f":"配送情報書!P169","v":0},{"$f":"配送情報書!Q169","v":0},{"$f":"配送情報書!R169","v":0},{"$f":"配送情報書!S169","v":0},"宅配便（RSL）",{"$f":"TEXT(配送情報書!X169,\"yyyy/m/d\")","v":""},1214,"通常",null,null,null,null,null,null,null,null,null,null,null,{"$f":"IF(配送情報書!V169=\"通常方式\",5901010002,IF(配送情報書!V169=\"プーリング方式（4検体）\",5901010003,\"\"))","v":""},"",{"$f":"配送情報書!T169","v":0},0]
[{"$f":"IF(配送情報書!W170=\"個別返送\",配送情報書!T170,\"\")","v":""},null,null,null,null,60072,null,"　",null,0,0,0,0,null,0,"請求書払い",null,null,{"$f":"配送情報書!M170&\"　\"&配送情報書!N170","v":"　"},"",{"$f":"配送情報書!O170","v":0},{"$f":"配送情報書!P170","v":0},{"$f":"配送情報書!Q170","v":0},{"$f":"配送情報書!R170","v":0},{"$f":"配送情報書!S170","v":0},"宅配便（RSL）",{"$f":"TEXT(配送情報書!X170,\"yyyy/m/d\")","v":""},1214,"通常",null,null,null,null,null,null,null,null,null,null,null,{"$f":"IF(配送情報書!V170=\"通常方式\",5901010002,IF(配送情報書!V170=\"プーリング方式（4検体）\",5901010003,\"\"))","v":""},"",{"$f":"配送情報書!T170","v":0},0]
[{"$f":"IF(配送情報書!W171=\"個別返送\",配送情報書!T171,\"\")","v":""},null,null,null,null,60072,null,"　",null,0,0,0,0,null,0,"請求書払い",null,null,{"$f":"配送情報書!M171&\"　\"&配送情報書!N171","v":"　"},"",{"$f":"配送情報書!O171","v":0},{"$f":"配送情報書!P171","v":0},{"$f":"配送情報書!Q171","v":0},{"$f":"配送情報書!R171","v":0},{"$f":"配送情報書!S171","v":0},"宅配便（RSL）",{"$f":"TEXT(配送情報書!X171,\"yyyy/m/d\")","v":""},1214,"通常",null,null,null,null,null,null,null,null,null,null,null,{"$f":"IF(配送情報書!V171=\"通常方式\",5901010002,IF(配送情報書!V171=\"プーリング方式（4検体）\",5901010003,\"\"))","v":""},"",{"$f":"配送情報書!T171","v":0},0]
[{"$f":"IF(配送情報書!W172=\"個別返送\",配送情報書!T172,\"\")","v":""},null,null,null,null,60072,null,"　",null,0,0,0,0,null,0,"請求書払い",null,null,{"$f":"配送情報書!M172&\"　\"&配送情報書!N172","v":"　"},"",{"$f":"配送情報書!O172","v":0},{"$f":"配送情報書!P172","v":0},{"$f":"配送情報書!Q172","v":0},{"$f":"配送情報書!R172","v":0},{"$f":"配送情報書!S172","v":0},"宅配便（RSL）",{"$f":"TEXT(配送情報書!X172,\"yyyy/m/d\")","v":""},1214,"通常",null,null,null,null,null,null,null,null,null,null,null,{"$f":"IF(配送情報書!V172=\"通常方式\",5901010002,IF(配送情報書!V172=\"プーリング方式（4検体）\",5901010003,\"\"))","v":""},"",{"$f":"配送情報書!T172","v":0},0]
[{"$f":"IF(配送情報書!W173=\"個別返送\",配送情報書!T173,\"\")","v":""},null,null,null,null,60072,null,"　",null,0,0,0,0,null,0,"請求書払い",null,null,{"$f":"配送情報書!M173&\"　\"&配送情報書!N173","v":"　"},"",{"$f":"配送情報書!O173","v":0},{"$f":"配送情報書!P173","v":0},{"$f":"配送情報書!Q173","v":0},{"$f":"配送情報書!R173","v":0},{"$f":"配送情報書!S173","v":0},"宅配便（RSL）",{"$f":"TEXT(配送情報書!X173,\"yyyy/m/d\")","v":""},1214,"通常",null,null,null,null,null,null,null,null,null,null,null,{"$f":"IF(配送情報書!V173=\"通常方式\",5901010002,IF(配送情報書!V173=\"プーリング方式（4検体）\",5901010003,\"\"))","v":""},"",{"$f":"配送情報書!T173","v":0},0]
[{"$f":"IF(配送情報書!W174=\"個別返送\",配送情報書!T174,\"\")","v":""},null,null,null,null,60072,null,"　",null,0,0,0,0,null,0,"請求書払い",null,null,{"$f":"配送情報書!M174&\"　\"&配送情報書!N174","v":"　"},"",{"$f":"配送情報書!O174","v":0},{"$f":"配送情報書!P174","v":0},{"$f":"配送情報書!Q174","v":0},{"$f":"配送情報書!R174","v":0},{"$f":"配送情報書!S174","v":0},"宅配便（RSL）",{"$f":"TEXT(配送情報書!X174,\"yyyy/m/d\")","v":""},1214,"通常",null,null,null,null,null,null,null,null,null,null,null,{"$f":"IF(配送情報書!V174=\"通常方式\",5901010002,IF(配送情報書!V174=\"プーリング方式（4検体）\",5901010003,\"\"))","v":""},"",{"$f":"配送情報書!T174","v":0},0]
[{"$f":"IF(配送情報書!W175=\"個別返送\",配送情報書!T175,\"\")","v":""},null,null,null,null,60072,null,"　",null,0,0,0,0,null,0,"請求書払い",null,null,{"$f":"配送情報書!M175&\"　\"&配送情報書!N175","v":"　"},"",{"$f":"配送情報書!O175","v":0},{"$f":"配送情報書!P175","v":0},{"$f":"配送情報書!Q175","v":0},{"$f":"配送情報書!R175","v":0},{"$f":"配送情報書!S175","v":0},"宅配便（RSL）",{"$f":"TEXT(配送情報書!X175,\"yyyy/m/d\")","v":""},1214,"通常",null,null,null,null,null,null,null,null,null,null,null,{"$f":"IF(配送情報書!V175=\"通常方式\",5901010002,IF(配送情報書!V175=\"プーリング方式（4検体）\",5901010003,\"\"))","v":""},"",{"$f":"配送情報書!T175","v":0},0]
[{"$f":"IF(配送情報書!W176=\"個別返送\",配送情報書!T176,\"\")","v":""},null,null,null,null,60072,null,"　",null,0,0,0,0,null,0,"請求書払い",null,null,{"$f":"配送情報書!M176&\"　\"&配送情報書!N176","v":"　"},"",{"$f":"配送情報書!O176","v":0},{"$f":"配送情報書!P176","v":0},{"$f":"配送情報書!Q176","v":0},{"$f":"配送情報書!R176","v":0},{"$f":"配送情報書!S176","v":0},"宅配便（RSL）",{"$f":"TEXT(配送情報書!X176,\"yyyy/m/d\")","v":""},1214,"通常",null,null,null,null,null,null,null,null,null,null,null,{"$f":"IF(配送情報書!V176=\"通常方式\",5901010002,IF(配送情報書!V176=\"プーリング方式（4検体）\",5901010003,\"\"))","v":""},"",{"$f":"配送情報書!T176","v":0},0]
[{"$f":"IF(配送情報書!W177=\"個別返送\",配送情報書!T177,\"\")","v":""},null,null,null,null,60072,null,"　",null,0,0,0,0,null,0,"請求書払い",null,null,{"$f":"配送情報書!M177&\"　\"&配送情報書!N177","v":"　"},"",{"$f":"配送情報書!O177","v":0},{"$f":"配送情報書!P177","v":0},{"$f":"配送情報書!Q177","v":0},{"$f":"配送情報書!R177","v":0},{"$f":"配送情報書!S177","v":0},"宅配便（RSL）",{"$f":"TEXT(配送情報書!X177,\"yyyy/m/d\")","v":""},1214,"通常",null,null,null,null,null,null,null,null,null,null,null,{"$f":"IF(配送情報書!V177=\"通常方式\",5901010002,IF(配送情報書!V177=\"プーリング方式（4検体）\",5901010003,\"\"))","v":""},"",{"$f":"配送情報書!T177","v":0},0]
[{"$f":"IF(配送情報書!W178=\"個別返送\",配送情報書!T178,\"\")","v":""},null,null,null,null,60072,null,{"$f":"S179","v":"　"},null,{"$f":"U179","v":0},{"$f":"V179","v":0},{"$f":"W179","v":0},{"$f":"X179","v":0},null,{"$f":"Y179","v":0},"請求書払い",null,null,{"$f":"配送情報書!M178&\"　\"&配送情報書!N178","v":"　"},"",{"$f":"配送情報書!O178","v":0},{"$f":"配送情報書!P178","v":0},{"$f":"配送情報書!Q178","v":0},{"$f":"配送情報書!R178","v":0},{"$f":"配送情報書!S178","v":0},"宅配便（RSL）",{"$f":"TEXT(配送情報書!X178,\"yyyy/m/d\")","v":""},1214,"通常",null,null,null,null,null,null,null,null,null,null,null,{"$f":"IF(配送情報書!V178=\"通常方式\",5901010002,IF(配送情報書!V178=\"プーリング方式（4検体）\",5901010003,\"\"))","v":""},"",{"$f":"配送情報書!T178","v":0},0]
[{"$f":"IF(配送情報書!W179=\"個別返送\",配送情報書!T179,\"\")","v":""},null,null,null,null,60072,null,"　",null,0,0,0,0,null,0,"請求書払い",null,null,{"$f":"配送情報書!M179&\"　\"&配送情報書!N179","v":"　"},"",{"$f":"配送情報書!O179","v":0},{"$f":"配送情報書!P179","v":0},{"$f":"配送情報書!Q179","v":0},{"$f":"配送情報書!R179","v":0},{"$f":"配送情報書!S179","v":0},"宅配便（RSL）",{"$f":"TEXT(配送情報書!X179,\"yyyy/m/d\")","v":""},1214,"通常",null,null,null,null,null,null,null,null,null,null,null,{"$f":"IF(配送情報書!V179=\"通常方式\",5901010002,IF(配送情報書!V179=\"プーリング方式（4検体）\",5901010003,\"\"))","v":""},"",{"$f":"配送情報書!T179","v":0},0]
[{"$f":"IF(配送情報書!W180=\"個別返送\",配送情報書!T180,\"\")","v":""},null,null,null,null,60072,null,"　",null,0,0,0,0,null,0,"請求書払い",null,null,{"$f":"配送情報書!M180&\"　\"&配送情報書!N180","v":"　"},"",{"$f":"配送情報書!O180","v":0},{"$f":"配送情報書!P180","v":0},{"$f":"配送情報書!Q180","v":0},{"$f":"配送情報書!R180","v":0},{"$f":"配送情報書!S180","v":0},"宅配便（RSL）",{"$f":"TEXT(配送情報書!X180,\"yyyy/m/d\")","v":""},1214,"通常",null,null,null,null,null,null,null,null,null,null,null,{"$f":"IF(配送情報書!V180=\"通常方式\",5901010002,IF(配送情報書!V180=\"プーリング方式（4検体）\",5901010003,\"\"))","v":""},"",{"$f":"配送情報書!T180","v":0},0]
[{"$f":"IF(配送情報書!W181=\"個別返送\",配送情報書!T181,\"\")","v":""},null,null,null,null,60072,null,"　",null,0,0,0,0,null,0,"請求書払い",null,null,{"$f":"配送情報書!M181&\"　\"&配送情報書!N181","v":"　"},"",{"$f":"配送情報書!O181","v":0},{"$f":"配送情報書!P181","v":0},{"$f":"配送情報書!Q181","v":0},{"$f":"配送情報書!R181","v":0},{"$f":"配送情報書!S181","v":0},"宅配便（RSL）",{"$f":"TEXT(配送情報書!X181,\"yyyy/m/d\")","v":""},1214,"通常",null,null,null,null,null,null,null,null,null,null,null,{"$f":"IF(配送情報書!V181=\"通常方式\",5901010002,IF(配送情報書!V181=\"プーリング方式（4検体）\",5901010003,\"\"))","v":""},"",{"$f":"配送情報書!T181","v":0},0]
[{"$f":"IF(配送情報書!W182=\"個別返送\",配送情報書!T182,\"\")","v":""},null,null,null,null,60072,null,"　",null,0,0,0,0,null,0,"請求書払い",null,null,{"$f":"配送情報書!M182&\"　\"&配送情報書!N182","v":"　"},{"$f":"IF($F$2>=ROW()-5,IF(T182=\"\",\"\",T182),\"\")","v":""},{"$f":"配送情報書!O182","v":0},{"$f":"配送情報書!P182","v":0},{"$f":"配送情報書!Q182","v":0},{"$f":"配送情報書!R182","v":0},{"$f":"配送情報書!S182","v":0},"宅配便（RSL）",{"$f":"TEXT(配送情報書!X182,\"yyyy/m/d\")","v":""},1214,"通常",null,null,null,null,null,null,null,null,null,null,null,{"$f":"IF(配送情報書!V182=\"通常方式\",5901010002,IF(配送情報書!V182=\"プーリング方式（4検体）\",5901010003,\"\"))","v":""},"",{"$f":"配送情報書!T182","v":0},0]
[{"$f":"IF(配送情報書!W183=\"個別返送\",配送情報書!T183,\"\")","v":""},null,null,null,null,60072,null,"　",null,0,0,0,0,null,0,"請求書払い",null,null,{"$f":"配送情報書!M183&\"　\"&配送情報書!N183","v":"　"},"",{"$f":"配送情報書!O183","v":0},{"$f":"配送情報書!P183","v":0},{"$f":"配送情報書!Q183","v":0},{"$f":"配送情報書!R183","v":0},{"$f":"配送情報書!S183","v":0},"宅配便（RSL）",{"$f":"TEXT(配送情報書!X183,\"yyyy/m/d\")","v":""},1214,"通常",null,null,null,null,null,null,null,null,null,null,null,{"$f":"IF(配送情報書!V183=\"通常方式\",5901010002,IF(配送情報書!V183=\"プーリング方式（4検体）\",5901010003,\"\"))","v":""},"",{"$f":"配送情報書!T183","v":0},0]
[{"$f":"IF(配送情報書!W184=\"個別返送\",配送情報書!T184,\"\")","v":""},null,null,null,null,60072,null,"　",null,0,0,0,0,null,0,"請求書払い",null,null,{"$f":"配送情報書!M184&\"　\"&配送情報書!N184","v":"　"},"",{"$f":"配送情報書!O184","v":0},{"$f":"配送情報書!P184","v":0},{"$f":"配送情報書!Q184","v":0},{"$f":"配送情報書!R184","v":0},{"$f":"配送情報書!S184","v":0},"宅配便（RSL）",{"$f":"TEXT(配送情報書!X184,\"yyyy/m/d\")","v":""},1214,"通常",null,null,null,null,null,null,null,null,null,null,null,{"$f":"IF(配送情報書!V184=\"通常方式\",5901010002,IF(配送情報書!V184=\"プーリング方式（4検体）\",5901010003,\"\"))","v":""},"",{"$f":"配送情報書!T184","v":0},0]
[{"$f":"IF(配送情報書!W185=\"個別返送\",配送情報書!T185,\"\")","v":""},null,null,null,null,60072,null,"　",null,0,0,0,0,null,0,"請求書払い",null,null,{"$f":"配送情報書!M185&\"　\"&配送情報書!N185","v":"　"},"",{"$f":"配送情報書!O185","v":0},{"$f":"配送情報書!P185","v":0},{"$f":"配送情報書!Q185","v":0},{"$f":"配送情報書!R185","v":0},{"$f":"配送情報書!S185","v":0},"宅配便（RSL）",{"$f":"TEXT(配送情報書!X185,\"yyyy/m/d\")","v":""},1214,"通常",null,null,null,null,null,null,null,null,null,null,null,{"$f":"IF(配送情報書!V185=\"通常方式\",5901010002,IF(配送情報書!V185=\"プーリング方式（4検体）\",5901010003,\"\"))","v":""},"",{"$f":"配送情報書!T185","v":0},0]
[{"$f":"IF(配送情報書!W186=\"個別返送\",配送情報書!T186,\"\")","v":""},null,null,null,null,60072,null,"　",null,0,0,0,0,null,0,"請求書払い",null,null,{"$f":"配送情報書!M186&\"　\"&配送情報書!N186","v":"　"},"",{"$f":"配送情報書!O186","v":0},{"$f":"配送情報書!P186","v":0},{"$f":"配送情報書!Q186","v":0},{"$f":"配送情報書!R186","v":0},{"$f":"配送情報書!S186","v":0},"宅配便（RSL）",{"$f":"TEXT(配送情報書!X186,\"yyyy/m/d\")","v":""},1214,"通常",null,null,null,null,null,null,null,null,null,null,null,{"$f":"IF(配送情報書!V186=\"通常方式\",5901010002,IF(配送情報書!V186=\"プーリング方式（4検体）\",5901010003,\"\"))","v":""},"",{"$f":"配送情報書!T186","v":0},0]
[{"$f":"IF(配送情報書!W187=\"個別返送\",配送情報書!T187,\"\")","v":""},null,null,null,null,60072,null,"　",null,0,0,0,0,null,0,"請求書払い",null,null,{"$f":"配送情報書!M187&\"　\"&配送情報書!N187","v":"　"},"",{"$f":"配送情報書!O187","v":0},{"$f":"配送情報書!P187","v":0},{"$f":"配送情報書!Q187","v":0},{"$f":"配送情報書!R187","v":0},{"$f":"配送情報書!S187","v":0},"宅配便（RSL）",{"$f":"TEXT(配送情報書!X187,\"yyyy/m/d\")","v":""},1214,"通常",null,null,null,null,null,null,null,null,null,null,null,{"$f":"IF(配送情報書!V187=\"通常方式\",5901010002,IF(配送情報書!V187=\"プーリング方式（4検体）\",5901010003,\"\"))","v":""},"",{"$f":"配送情報書!T187","v":0},0]
[{"$f":"IF(配送情報書!W188=\"個別返送\",配送情報書!T188,\"\")","v":""},null,null,null,null,60072,null,"　",null,0,0,0,0,null,0,"請求書払い",null,null,{"$f":"配送情報書!M188&\"　\"&配送情報書!N188","v":"　"},"",{"$f":"配送情報書!O188","v":0},{"$f":"配送情報書!P188","v":0},{"$f":"配送情報書!Q188","v":0},{"$f":"配送情報書!R188","v":0},{"$f":"配送情報書!S188","v":0},"宅配便（RSL）",{"$f":"TEXT(配送情報書!X188,\"yyyy/m/d\")","v":""},1214,"通常",null,null,null,null,null,null,null,null,null,null,null,{"$f":"IF(配送情報書!V188=\"通常方式\",5901010002,IF(配送情報書!V188=\"プーリング方式（4検体）\",5901010003,\"\"))","v":""},"",{"$f":"配送情報書!T188","v":0},0]
[{"$f":"IF(配送情報書!W189=\"個別返送\",配送情報書!T189,\"\")","v":""},null,null,null,null,60072,null,"　",null,0,0,0,0,null,0,"請求書払い",null,null,{"$f":"配送情報書!M189&\"　\"&配送情報書!N189","v":"　"},"",{"$f":"配送情報書!O189","v":0},{"$f":"配送情報書!P189","v":0},{"$f":"配送情報書!Q189","v":0},{"$f":"配送情報書!R189","v":0},{"$f":"配送情報書!S189","v":0},"宅配便（RSL）",{"$f":"TEXT(配送情報書!X189,\"yyyy/m/d\")","v":""},1214,"通常",null,null,null,null,null,null,null,null,null,null,null,{"$f":"IF(配送情報書!V189=\"通常方式\",5901010002,IF(配送情報書!V189=\"プーリング方式（4検体）\",5901010003,\"\"))","v":""},"",{"$f":"配送情報書!T189","v":0},0]
[{"$f":"IF(配送情報書!W190=\"個別返送\",配送情報書!T190,\"\")","v":""},null,null,null,null,60072,null,"　",null,0,0,0,0,null,0,"請求書払い",null,null,{"$f":"配送情報書!M190&\"　\"&配送情報書!N190","v":"　"},"",{"$f":"配送情報書!O190","v":0},{"$f":"配送情報書!P190","v":0},{"$f":"配送情報書!Q190","v":0},{"$f":"配送情報書!R190","v":0},{"$f":"配送情報書!S190","v":0},"宅配便（RSL）",{"$f":"TEXT(配送情報書!X190,\"yyyy/m/d\")","v":""},1214,"通常",null,null,null,null,null,null,null,null,null,null,null,{"$f":"IF(配送情報書!V190=\"通常方式\",5901010002,IF(配送情報書!V190=\"プーリング方式（4検体）\",5901010003,\"\"))","v":""},"",{"$f":"配送情報書!T190","v":0},0]
[{"$f":"IF(配送情報書!W191=\"個別返送\",配送情報書!T191,\"\")","v":""},null,null,null,null,60072,null,"　",null,0,0,0,0,null,0,"請求書払い",null,null,{"$f":"配送情報書!M191&\"　\"&配送情報書!N191","v":"　"},"",{"$f":"配送情報書!O191","v":0},{"$f":"配送情報書!P191","v":0},{"$f":"配送情報書!Q191","v":0},{"$f":"配送情報書!R191","v":0},{"$f":"配送情報書!S191","v":0},"宅配便（RSL）",{"$f":"TEXT(配送情報書!X191,\"yyyy/m/d\")","v":""},1214,"通常",null,null,null,null,null,null,null,null,null,null,null,{"$f":"IF(配送情報書!V191=\"通常方式\",5901010002,IF(配送情報書!V191=\"プーリング方式（4検体）\",5901010003,\"\"))","v":""},"",{"$f":"配送情報書!T191","v":0},0]
[{"$f":"IF(配送情報書!W192=\"個別返送\",配送情報書!T192,\"\")","v":""},null,null,null,null,60072,null,"　",null,0,0,0,0,null,0,"請求書払い",null,null,{"$f":"配送情報書!M192&\"　\"&配送情報書!N192","v":"　"},"",{"$f":"配送情報書!O192","v":0},{"$f":"配送情報書!P192","v":0},{"$f":"配送情報書!Q192","v":0},{"$f":"配送情報書!R192","v":0},{"$f":"配送情報書!S192","v":0},"宅配便（RSL）",{"$f":"TEXT(配送情報書!X192,\"yyyy/m/d\")","v":""},1214,"通常",null,null,null,null,null,null,null,null,null,null,null,{"$f":"IF(配送情報書!V192=\"通常方式\",5901010002,IF(配送情報書!V192=\"プーリング方式（4検体）\",5901010003,\"\"))","v":""},"",{"$f":"配送情報書!T192","v":0},0]
[{"$f":"IF(配送情報書!W193=\"個別返送\",配送情報書!T193,\"\")","v":""},null,null,null,null,60072,null,"　",null,0,0,0,0,null,0,"請求書払い",null,null,{"$f":"配送情報書!M193&\"　\"&配送情報書!N193","v":"　"},"",{"$f":"配送情報書!O193","v":0},{"$f":"配送情報書!P193","v":0},{"$f":"配送情報書!Q193","v":0},{"$f":"配送情報書!R193","v":0},{"$f":"配送情報書!S193","v":0},"宅配便（RSL）",{"$f":"TEXT(配送情報書!X193,\"yyyy/m/d\")","v":""},1214,"通常",null,null,null,null,null,null,null,null,null,null,null,{"$f":"IF(配送情報書!V193=\"通常方式\",5901010002,IF(配送情報書!V193=\"プーリング方式（4検体）\",5901010003,\"\"))","v":""},"",{"$f":"配送情報書!T193","v":0},0]
[{"$f":"IF(配送情報書!W194=\"個別返送\",配送情報書!T194,\"\")","v":""},null,null,null,null,60072,null,"　",null,0,0,0,0,null,0,"請求書払い",null,null,{"$f":"配送情報書!M194&\"　\"&配送情報書!N194","v":"　"},"",{"$f":"配送情報書!O194","v":0},{"$f":"配送情報書!P194","v":0},{"$f":"配送情報書!Q194","v":0},{"$f":"配送情報書!R194","v":0},{"$f":"配送情報書!S194","v":0},"宅配便（RSL）",{"$f":"TEXT(配送情報書!X194,\"yyyy/m/d\")","v":""},1214,"通常",null,null,null,null,null,null,null,null,null,null,null,{"$f":"IF(配送情報書!V194=\"通常方式\",5901010002,IF(配送情報書!V194=\"プーリング方式（4検体）\",5901010003,\"\"))","v":""},"",{"$f":"配送情報書!T194","v":0},0]
[{"$f":"IF(配送情報書!W195=\"個別返送\",配送情報書!T195,\"\")","v":""},null,null,null,null,60072,null,"　",null,0,0,0,0,null,0,"請求書払い",null,null,{"$f":"配送情報書!M195&\"　\"&配送情報書!N195","v":"　"},"",{"$f":"配送情報書!O195","v":0},{"$f":"配送情報書!P195","v":0},{"$f":"配送情報書!Q195","v":0},{"$f":"配送情報書!R195","v":0},{"$f":"配送情報書!S195","v":0},"宅配便（RSL）",{"$f":"TEXT(配送情報書!X195,\"yyyy/m/d\")","v":""},1214,"通常",null,null,null,null,null,null,null,null,null,null,null,{"$f":"IF(配送情報書!V195=\"通常方式\",5901010002,IF(配送情報書!V195=\"プーリング方式（4検体）\",5901010003,\"\"))","v":""},"",{"$f":"配送情報書!T195","v":0},0]
[{"$f":"IF(配送情報書!W196=\"個別返送\",配送情報書!T196,\"\")","v":""},null,null,null,null,60072,null,"　",null,0,0,0,0,null,0,"請求書払い",null,null,{"$f":"配送情報書!M196&\"　\"&配送情報書!N196","v":"　"},"",{"$f":"配送情報書!O196","v":0},{"$f":"配送情報書!P196","v":0},{"$f":"配送情報書!Q196","v":0},{"$f":"配送情報書!R196","v":0},{"$f":"配送情報書!S196","v":0},"宅配便（RSL）",{"$f":"TEXT(配送情報書!X196,\"yyyy/m/d\")","v":""},1214,"通常",null,null,null,null,null,null,null,null,null,null,null,{"$f":"IF(配送情報書!V196=\"通常方式\",5901010002,IF(配送情報書!V196=\"プーリング方式（4検体）\",5901010003,\"\"))","v":""},"",{"$f":"配送情報書!T196","v":0},0]
[{"$f":"IF(配送情報書!W197=\"個別返送\",配送情報書!T197,\"\")","v":""},null,null,null,null,60072,null,"　",null,0,0,0,0,null,0,"請求書払い",null,null,{"$f":"配送情報書!M197&\"　\"&配送情報書!N197","v":"　"},"",{"$f":"配送情報書!O197","v":0},{"$f":"配送情報書!P197","v":0},{"$f":"配送情報書!Q197","v":0},{"$f":"配送情報書!R197","v":0},{"$f":"配送情報書!S197","v":0},"宅配便（RSL）",{"$f":"TEXT(配送情報書!X197,\"yyyy/m/d\")","v":""},1214,"通常",null,null,null,null,null,null,null,null,null,null,null,{"$f":"IF(配送情報書!V197=\"通常方式\",5901010002,IF(配送情報書!V197=\"プーリング方式（4検体）\",5901010003,\"\"))","v":""},{"$f":"IF(AO198=5901010002,\"【法人/通常】新型コロナウイルス唾液PCR検査キット 5901010002\",IF(AO198=5901010003,\"【法人/プーリング】新型コロナウイルス唾液PCR検査キット 5901010003\",\"\"))","v":""},{"$f":"配送情報書!T197","v":0},0]
[{"$f":"IF(配送情報書!W198=\"個別返送\",配送情報書!T198,\"\")","v":""},null,null,null,null,60072,null,"　",null,0,0,0,0,null,0,"請求書払い",null,null,{"$f":"配送情報書!M198&\"　\"&配送情報書!N198","v":"　"},{"$f":"IF($F$2>=ROW()-5,IF(T198=\"\",\"\",T198),\"\")","v":""},{"$f":"配送情報書!O198","v":0},{"$f":"配送情報書!P198","v":0},{"$f":"配送情報書!Q198","v":0},{"$f":"配送情報書!R198","v":0},{"$f":"配送情報書!S198","v":0},{"$f":"IF(AQ199=1,\"メール便（RSL）\",\"宅配便（RSL）\")","v":"宅配便（RSL）"},{"$f":"TEXT(配送情報書!X198,\"yyyy/m/d\")","v":""},1214,"通常",null,null,null,null,null,null,null,null,null,null,null,{"$f":"IF(配送情報書!V198=\"通常方式\",5901010002,IF(配送情報書!V198=\"プーリング方式（4検体）\",5901010003,\"\"))","v":""},"",{"$f":"配送情報書!T198","v":0},0]
[{"$f":"IF(配送情報書!W199=\"個別返送\",配送情報書!T199,\"\")","v":""},null,null,null,null,60072,null,"　",null,0,0,0,0,null,0,"請求書払い",null,null,{"$f":"配送情報書!M199&\"　\"&配送情報書!N199","v":"　"},{"$f":"IF($F$2>=ROW()-5,IF(T199=\"\",\"\",T199),\"\")","v":""},{"$f":"配送情報書!O199","v":0},{"$f":"配送情報書!P199","v":0},{"$f":"配送情報書!Q199","v":0},{"$f":"配送情報書!R199","v":0},{"$f":"配送情報書!S199","v":0},"宅配便（RSL）",{"$f":"TEXT(配送情報書!X199,\"yyyy/m/d\")","v":""},1214,"通常",null,null,null,null,null,null,null,null,null,null,null,{"$f":"IF(配送情報書!V199=\"通常方式\",5901010002,IF(配送情報書!V199=\"プーリング方式（4検体）\",5901010003,\"\"))","v":""},"",{"$f":"配送情報書!T199","v":0},0]
[{"$f":"IF(配送情報書!W200=\"個別返送\",配送情報書!T200,\"\")","v":""},null,null,null,null,60072,null,"　",null,0,0,0,0,null,0,"請求書払い",null,null,{"$f":"配送情報書!M200&\"　\"&配送情報書!N200","v":"　"},"",{"$f":"配送情報書!O200","v":0},{"$f":"配送情報書!P200","v":0},{"$f":"配送情報書!Q200","v":0},{"$f":"配送情報書!R200","v":0},{"$f":"配送情報書!S200","v":0},"宅配便（RSL）",{"$f":"TEXT(配送情報書!X200,\"yyyy/m/d\")","v":""},1214,"通常",null,null,null,null,null,null,null,null,null,null,null,{"$f":"IF(配送情報書!V200=\"通常方式\",5901010002,IF(配送情報書!V200=\"プーリング方式（4検体）\",5901010003,\"\"))","v":""},"",{"$f":"配送情報書!T200","v":0},0]
[{"$f":"IF(配送情報書!W201=\"個別返送\",配送情報書!T201,\"\")","v":""},null,null,null,null,60072,null,"　",null,0,0,0,0,null,0,"請求書払い",null,null,{"$f":"配送情報書!M201&\"　\"&配送情報書!N201","v":"　"},"",{"$f":"配送情報書!O201","v":0},{"$f":"配送情報書!P201","v":0},{"$f":"配送情報書!Q201","v":0},{"$f":"配送情報書!R201","v":0},{"$f":"配送情報書!S201","v":0},"宅配便（RSL）",{"$f":"TEXT(配送情報書!X201,\"yyyy/m/d\")","v":""},1214,"通常",null,null,null,null,null,null,null,null,null,null,null,{"$f":"IF(配送情報書!V201=\"通常方式\",5901010002,IF(配送情報書!V201=\"プーリング方式（4検体）\",5901010003,\"\"))","v":""},"",{"$f":"配送情報書!T201","v":0},0]
[{"$f":"IF(配送情報書!W202=\"個別返送\",配送情報書!T202,\"\")","v":""},null,null,null,null,60072,null,"　",null,0,0,0,0,null,0,"請求書払い",null,null,{"$f":"配送情報書!M202&\"　\"&配送情報書!N202","v":"　"},"",{"$f":"配送情報書!O202","v":0},{"$f":"配送情報書!P202","v":0},{"$f":"配送情報書!Q202","v":0},{"$f":"配送情報書!R202","v":0},{"$f":"配送情報書!S202","v":0},"宅配便（RSL）",{"$f":"TEXT(配送情報書!X202,\"yyyy/m/d\")","v":""},1214,"通常",null,null,null,null,null,null,null,null,null,null,null,{"$f":"IF(配送情報書!V202=\"通常方式\",5901010002,IF(配送情報書!V202=\"プーリング方式（4検体）\",5901010003,\"\"))","v":""},"",{"$f":"配送情報書!T202","v":0},0]
[{"$f":"IF(配送情報書!W203=\"個別返送\",配送情報書!T203,\"\")","v":""},null,null,null,null,60072,null,"　",null,0,0,0,0,null,0,"請求書払い",null,null,{"$f":"配送情報書!M203&\"　\"&配送情報書!N203","v":"　"},"",{"$f":"配送情報書!O203","v":0},{"$f":"配送情報書!P203","v":0},{"$f":"配送情報書!Q203","v":0},{"$f":"配送情報書!R203","v":0},{"$f":"配送情報書!S203","v":0},"宅配便（RSL）",{"$f":"TEXT(配送情報書!X203,\"yyyy/m/d\")","v":""},1214,"通常",null,null,null,null,null,null,null,null,null,null,null,{"$f":"IF(配送情報書!V203=\"通常方式\",5901010002,IF(配送情報書!V203=\"プーリング方式（4検体）\",5901010003,\"\"))","v":""},"",{"$f":"配送情報書!T203","v":0},0]
[{"$f":"IF(配送情報書!W204=\"個別返送\",配送情報書!T204,\"\")","v":""},null,null,null,null,60072,null,"　",null,0,0,0,0,null,0,"請求書払い",null,null,{"$f":"配送情報書!M204&\"　\"&配送情報書!N204","v":"　"},"",{"$f":"配送情報書!O204","v":0},{"$f":"配送情報書!P204","v":0},{"$f":"配送情報書!Q204","v":0},{"$f":"配送情報書!R204","v":0},{"$f":"配送情報書!S204","v":0},"宅配便（RSL）",{"$f":"TEXT(配送情報書!X204,\"yyyy/m/d\")","v":""},1214,"通常",null,null,null,null,null,null,null,null,null,null,null,{"$f":"IF(配送情報書!V204=\"通常方式\",5901010002,IF(配送情報書!V204=\"プーリング方式（4検体）\",5901010003,\"\"))","v":""},"",{"$f":"配送情報書!T204","v":0},0]
[{"$f":"IF(配送情報書!W205=\"個別返送\",配送情報書!T205,\"\")","v":""},null,null,null,null,60072,null,"　",null,0,0,0,0,null,0,"請求書払い",null,null,{"$f":"配送情報書!M205&\"　\"&配送情報書!N205","v":"　"},"",{"$f":"配送情報書!O205","v":0},{"$f":"配送情報書!P205","v":0},{"$f":"配送情報書!Q205","v":0},{"$f":"配送情報書!R205","v":0},{"$f":"配送情報書!S205","v":0},"宅配便（RSL）",{"$f":"TEXT(配送情報書!X205,\"yyyy/m/d\")","v":""},1214,"通常",null,null,null,null,null,null,null,null,null,null,null,{"$f":"IF(配送情報書!V205=\"通常方式\",5901010002,IF(配送情報書!V205=\"プーリング方式（4検体）\",5901010003,\"\"))","v":""},"",{"$f":"配送情報書!T205","v":0},0]
[{"$f":"IF(配送情報書!W206=\"個別返送\",配送情報書!T206,\"\")","v":""},null,null,null,null,60072,null,"　",null,0,0,0,0,null,0,"請求書払い",null,null,{"$f":"配送情報書!M206&\"　\"&配送情報書!N206","v":"　"},"",{"$f":"配送情報書!O206","v":0},{"$f":"配送情報書!P206","v":0},{"$f":"配送情報書!Q206","v":0},{"$f":"配送情報書!R206","v":0},{"$f":"配送情報書!S206","v":0},"宅配便（RSL）",{"$f":"TEXT(配送情報書!X206,\"yyyy/m/d\")","v":""},1214,"通常",null,null,null,null,null,null,null,null,null,null,null,{"$f":"IF(配送情報書!V206=\"通常方式\",5901010002,IF(配送情報書!V206=\"プーリング方式（4検体）\",5901010003,\"\"))","v":""},"",{"$f":"配送情報書!T206","v":0},0]
[{"$f":"IF(配送情報書!W207=\"個別返送\",配送情報書!T207,\"\")","v":""},null,null,null,null,60072,null,"　",null,0,0,0,0,null,0,"請求書払い",null,null,{"$f":"配送情報書!M207&\"　\"&配送情報書!N207","v":"　"},"",{"$f":"配送情報書!O207","v":0},{"$f":"配送情報書!P207","v":0},{"$f":"配送情報書!Q207","v":0},{"$f":"配送情報書!R207","v":0},{"$f":"配送情報書!S207","v":0},"宅配便（RSL）",{"$f":"TEXT(配送情報書!X207,\"yyyy/m/d\")","v":""},1214,"通常",null,null,null,null,null,null,null,null,null,null,null,{"$f":"IF(配送情報書!V207=\"通常方式\",5901010002,IF(配送情報書!V207=\"プーリング方式（4検体）\",5901010003,\"\"))","v":""},"",{"$f":"配送情報書!T207","v":0},0]
[{"$f":"IF(配送情報書!W208=\"個別返送\",配送情報書!T208,\"\")","v":""},null,null,null,null,60072,null,"　",null,0,0,0,0,null,0,"請求書払い",null,null,{"$f":"配送情報書!M208&\"　\"&配送情報書!N208","v":"　"},"",{"$f":"配送情報書!O208","v":0},{"$f":"配送情報書!P208","v":0},{"$f":"配送情報書!Q208","v":0},{"$f":"配送情報書!R208","v":0},{"$f":"配送情報書!S208","v":0},"宅配便（RSL）",{"$f":"TEXT(配送情報書!X208,\"yyyy/m/d\")","v":""},1214,"通常",null,null,null,null,null,null,null,null,null,null,null,{"$f":"IF(配送情報書!V208=\"通常方式\",5901010002,IF(配送情報書!V208=\"プーリング方式（4検体）\",5901010003,\"\"))","v":""},"",{"$f":"配送情報書!T208","v":0},0]
[{"$f":"IF(配送情報書!W209=\"個別返送\",配送情報書!T209,\"\")","v":""},null,null,null,null,60072,null,"　",null,0,0,0,0,null,0,"請求書払い",null,null,{"$f":"配送情報書!M209&\"　\"&配送情報書!N209","v":"　"},"",{"$f":"配送情報書!O209","v":0},{"$f":"配送情報書!P209","v":0},{"$f":"配送情報書!Q209","v":0},{"$f":"配送情報書!R209","v":0},{"$f":"配送情報書!S209","v":0},"宅配便（RSL）",{"$f":"TEXT(配送情報書!X209,\"yyyy/m/d\")","v":""},1214,"通常",null,null,null,null,null,null,null,null,null,null,null,{"$f":"IF(配送情報書!V209=\"通常方式\",5901010002,IF(配送情報書!V209=\"プーリング方式（4検体）\",5901010003,\"\"))","v":""},"",{"$f":"配送情報書!T209","v":0},0]
[{"$f":"IF(配送情報書!W210=\"個別返送\",配送情報書!T210,\"\")","v":""},null,null,null,null,60072,null,"　",null,0,0,0,0,null,0,"請求書払い",null,null,{"$f":"配送情報書!M210&\"　\"&配送情報書!N210","v":"　"},"",{"$f":"配送情報書!O210","v":0},{"$f":"配送情報書!P210","v":0},{"$f":"配送情報書!Q210","v":0},{"$f":"配送情報書!R210","v":0},{"$f":"配送情報書!S210","v":0},"宅配便（RSL）",{"$f":"TEXT(配送情報書!X210,\"yyyy/m/d\")","v":""},1214,"通常",null,null,null,null,null,null,null,null,null,null,null,{"$f":"IF(配送情報書!V210=\"通常方式\",5901010002,IF(配送情報書!V210=\"プーリング方式（4検体）\",5901010003,\"\"))","v":""},"",{"$f":"配送情報書!T210","v":0},0]
[{"$f":"IF(配送情報書!W211=\"個別返送\",配送情報書!T211,\"\")","v":""},null,null,null,null,60072,null,"　",null,0,0,0,0,null,0,"請求書払い",null,null,{"$f":"配送情報書!M211&\"　\"&配送情報書!N211","v":"　"},"",{"$f":"配送情報書!O211","v":0},{"$f":"配送情報書!P211","v":0},{"$f":"配送情報書!Q211","v":0},{"$f":"配送情報書!R211","v":0},{"$f":"配送情報書!S211","v":0},"宅配便（RSL）",{"$f":"TEXT(配送情報書!X211,\"yyyy/m/d\")","v":""},1214,"通常",null,null,null,null,null,null,null,null,null,null,null,{"$f":"IF(配送情報書!V211=\"通常方式\",5901010002,IF(配送情報書!V211=\"プーリング方式（4検体）\",5901010003,\"\"))","v":""},"",{"$f":"配送情報書!T211","v":0},0]
[{"$f":"IF(配送情報書!W212=\"個別返送\",配送情報書!T212,\"\")","v":""},null,null,null,null,60072,null,"　",null,0,0,0,0,null,0,"請求書払い",null,null,{"$f":"配送情報書!M212&\"　\"&配送情報書!N212","v":"　"},"",{"$f":"配送情報書!O212","v":0},{"$f":"配送情報書!P212","v":0},{"$f":"配送情報書!Q212","v":0},{"$f":"配送情報書!R212","v":0},{"$f":"配送情報書!S212","v":0},"宅配便（RSL）",{"$f":"TEXT(配送情報書!X212,\"yyyy/m/d\")","v":""},1214,"通常",null,null,null,null,null,null,null,null,null,null,null,{"$f":"IF(配送情報書!V212=\"通常方式\",5901010002,IF(配送情報書!V212=\"プーリング方式（4検体）\",5901010003,\"\"))","v":""},"",{"$f":"配送情報書!T212","v":0},0]
[{"$f":"IF(配送情報書!W213=\"個別返送\",配送情報書!T213,\"\")","v":""},null,null,null,null,60072,null,"　",null,0,0,0,0,null,0,"請求書払い",null,null,{"$f":"配送情報書!M213&\"　\"&配送情報書!N213","v":"　"},"",{"$f":"配送情報書!O213","v":0},{"$f":"配送情報書!P213","v":0},{"$f":"配送情報書!Q213","v":0},{"$f":"配送情報書!R213","v":0},{"$f":"配送情報書!S213","v":0},"宅配便（RSL）",{"$f":"TEXT(配送情報書!X213,\"yyyy/m/d\")","v":""},1214,"通常",null,null,null,null,null,null,null,null,null,null,null,{"$f":"IF(配送情報書!V213=\"通常方式\",5901010002,IF(配送情報書!V213=\"プーリング方式（4検体）\",5901010003,\"\"))","v":""},"",{"$f":"配送情報書!T213","v":0},0]
[{"$f":"IF(配送情報書!W214=\"個別返送\",配送情報書!T214,\"\")","v":""},null,null,null,null,60072,null,"　",null,0,0,0,0,null,0,"請求書払い",null,null,{"$f":"配送情報書!M214&\"　\"&配送情報書!N214","v":"　"},{"$f":"IF($F$2>=ROW()-5,IF(T214=\"\",\"\",T214),\"\")","v":""},{"$f":"配送情報書!O214","v":0},{"$f":"配送情報書!P214","v":0},{"$f":"配送情報書!Q214","v":0},{"$f":"配送情報書!R214","v":0},{"$f":"配送情報書!S214","v":0},"宅配便（RSL）",{"$f":"TEXT(配送情報書!X214,\"yyyy/m/d\")","v":""},1214,"通常",null,null,null,null,null,null,null,null,null,null,null,{"$f":"IF(配送情報書!V214=\"通常方式\",5901010002,IF(配送情報書!V214=\"プーリング方式（4検体）\",5901010003,\"\"))","v":""},"",{"$f":"配送情報書!T214","v":0},0]
[{"$f":"IF(配送情報書!W215=\"個別返送\",配送情報書!T215,\"\")","v":""},null,null,null,null,60072,null,"　",null,0,0,0,0,null,0,"請求書払い",null,null,{"$f":"配送情報書!M215&\"　\"&配送情報書!N215","v":"　"},"",{"$f":"配送情報書!O215","v":0},{"$f":"配送情報書!P215","v":0},{"$f":"配送情報書!Q215","v":0},{"$f":"配送情報書!R215","v":0},{"$f":"配送情報書!S215","v":0},"宅配便（RSL）",{"$f":"TEXT(配送情報書!X215,\"yyyy/m/d\")","v":""},1214,"通常",null,null,null,null,null,null,null,null,null,null,null,{"$f":"IF(配送情報書!V215=\"通常方式\",5901010002,IF(配送情報書!V215=\"プーリング方式（4検体）\",5901010003,\"\"))","v":""},"",{"$f":"配送情報書!T215","v":0},0]
[{"$f":"IF(配送情報書!W216=\"個別返送\",配送情報書!T216,\"\")","v":""},null,null,null,null,60072,null,"　",null,0,0,0,0,null,0,"請求書払い",null,null,{"$f":"配送情報書!M216&\"　\"&配送情報書!N216","v":"　"},"",{"$f":"配送情報書!O216","v":0},{"$f":"配送情報書!P216","v":0},{"$f":"配送情報書!Q216","v":0},{"$f":"配送情報書!R216","v":0},{"$f":"配送情報書!S216","v":0},"宅配便（RSL）",{"$f":"TEXT(配送情報書!X216,\"yyyy/m/d\")","v":""},1214,"通常",null,null,null,null,null,null,null,null,null,null,null,{"$f":"IF(配送情報書!V216=\"通常方式\",5901010002,IF(配送情報書!V216=\"プーリング方式（4検体）\",5901010003,\"\"))","v":""},"",{"$f":"配送情報書!T216","v":0},0]
[{"$f":"IF(配送情報書!W217=\"個別返送\",配送情報書!T217,\"\")","v":""},null,null,null,null,60072,null,"　",null,0,0,0,0,null,0,"請求書払い",null,null,{"$f":"配送情報書!M217&\"　\"&配送情報書!N217","v":"　"},"",{"$f":"配送情報書!O217","v":0},{"$f":"配送情報書!P217","v":0},{"$f":"配送情報書!Q217","v":0},{"$f":"配送情報書!R217","v":0},{"$f":"配送情報書!S217","v":0},"宅配便（RSL）",{"$f":"TEXT(配送情報書!X217,\"yyyy/m/d\")","v":""},1214,"通常",null,null,null,null,null,null,null,null,null,null,null,{"$f":"IF(配送情報書!V217=\"通常方式\",5901010002,IF(配送情報書!V217=\"プーリング方式（4検体）\",5901010003,\"\"))","v":""},"",{"$f":"配送情報書!T217","v":0},0]
[{"$f":"IF(配送情報書!W218=\"個別返送\",配送情報書!T218,\"\")","v":""},null,null,null,null,60072,null,"　",null,0,0,0,0,null,0,"請求書払い",null,null,{"$f":"配送情報書!M218&\"　\"&配送情報書!N218","v":"　"},"",{"$f":"配送情報書!O218","v":0},{"$f":"配送情報書!P218","v":0},{"$f":"配送情報書!Q218","v":0},{"$f":"配送情報書!R218","v":0},{"$f":"配送情報書!S218","v":0},"宅配便（RSL）",{"$f":"TEXT(配送情報書!X218,\"yyyy/m/d\")","v":""},1214,"通常",null,null,null,null,null,null,null,null,null,null,null,{"$f":"IF(配送情報書!V218=\"通常方式\",5901010002,IF(配送情報書!V218=\"プーリング方式（4検体）\",5901010003,\"\"))","v":""},"",{"$f":"配送情報書!T218","v":0},0]
[{"$f":"IF(配送情報書!W219=\"個別返送\",配送情報書!T219,\"\")","v":""},null,null,null,null,60072,null,"　",null,0,0,0,0,null,0,"請求書払い",null,null,{"$f":"配送情報書!M219&\"　\"&配送情報書!N219","v":"　"},"",{"$f":"配送情報書!O219","v":0},{"$f":"配送情報書!P219","v":0},{"$f":"配送情報書!Q219","v":0},{"$f":"配送情報書!R219","v":0},{"$f":"配送情報書!S219","v":0},"宅配便（RSL）",{"$f":"TEXT(配送情報書!X219,\"yyyy/m/d\")","v":""},1214,"通常",null,null,null,null,null,null,null,null,null,null,null,{"$f":"IF(配送情報書!V219=\"通常方式\",5901010002,IF(配送情報書!V219=\"プーリング方式（4検体）\",5901010003,\"\"))","v":""},"",{"$f":"配送情報書!T219","v":0},0]
[{"$f":"IF(配送情報書!W220=\"個別返送\",配送情報書!T220,\"\")","v":""},null,null,null,null,60072,null,"　",null,0,0,0,0,null,0,"請求書払い",null,null,{"$f":"配送情報書!M220&\"　\"&配送情報書!N220","v":"　"},"",{"$f":"配送情報書!O220","v":0},{"$f":"配送情報書!P220","v":0},{"$f":"配送情報書!Q220","v":0},{"$f":"配送情報書!R220","v":0},{"$f":"配送情報書!S220","v":0},"宅配便（RSL）",{"$f":"TEXT(配送情報書!X220,\"yyyy/m/d\")","v":""},1214,"通常",null,null,null,null,null,null,null,null,null,null,null,{"$f":"IF(配送情報書!V220=\"通常方式\",5901010002,IF(配送情報書!V220=\"プーリング方式（4検体）\",5901010003,\"\"))","v":""},"",{"$f":"配送情報書!T220","v":0},0]
[{"$f":"IF(配送情報書!W221=\"個別返送\",配送情報書!T221,\"\")","v":""},null,null,null,null,60072,null,"　",null,0,0,0,0,null,0,"請求書払い",null,null,{"$f":"配送情報書!M221&\"　\"&配送情報書!N221","v":"　"},"",{"$f":"配送情報書!O221","v":0},{"$f":"配送情報書!P221","v":0},{"$f":"配送情報書!Q221","v":0},{"$f":"配送情報書!R221","v":0},{"$f":"配送情報書!S221","v":0},"宅配便（RSL）",{"$f":"TEXT(配送情報書!X221,\"yyyy/m/d\")","v":""},1214,"通常",null,null,null,null,null,null,null,null,null,null,null,{"$f":"IF(配送情報書!V221=\"通常方式\",5901010002,IF(配送情報書!V221=\"プーリング方式（4検体）\",5901010003,\"\"))","v":""},"",{"$f":"配送情報書!T221","v":0},0]
[{"$f":"IF(配送情報書!W222=\"個別返送\",配送情報書!T222,\"\")","v":""},null,null,null,null,60072,null,"　",null,0,0,0,0,null,0,"請求書払い",null,null,{"$f":"配送情報書!M222&\"　\"&配送情報書!N222","v":"　"},"",{"$f":"配送情報書!O222","v":0},{"$f":"配送情報書!P222","v":0},{"$f":"配送情報書!Q222","v":0},{"$f":"配送情報書!R222","v":0},{"$f":"配送情報書!S222","v":0},"宅配便（RSL）",{"$f":"TEXT(配送情報書!X222,\"yyyy/m/d\")","v":""},1214,"通常",null,null,null,null,null,null,null,null,null,null,null,{"$f":"IF(配送情報書!V222=\"通常方式\",5901010002,IF(配送情報書!V222=\"プーリング方式（4検体）\",5901010003,\"\"))","v":""},"",{"$f":"配送情報書!T222","v":0},0]
[{"$f":"IF(配送情報書!W223=\"個別返送\",配送情報書!T223,\"\")","v":""},null,null,null,null,60072,null,"　",null,0,0,0,0,null,0,"請求書払い",null,null,{"$f":"配送情報書!M223&\"　\"&配送情報書!N223","v":"　"},"",{"$f":"配送情報書!O223","v":0},{"$f":"配送情報書!P223","v":0},{"$f":"配送情報書!Q223","v":0},{"$f":"配送情報書!R223","v":0},{"$f":"配送情報書!S223","v":0},"宅配便（RSL）",{"$f":"TEXT(配送情報書!X223,\"yyyy/m/d\")","v":""},1214,"通常",null,null,null,null,null,null,null,null,null,null,null,{"$f":"IF(配送情報書!V223=\"通常方式\",5901010002,IF(配送情報書!V223=\"プーリング方式（4検体）\",5901010003,\"\"))","v":""},"",{"$f":"配送情報書!T223","v":0},0]
[{"$f":"IF(配送情報書!W224=\"個別返送\",配送情報書!T224,\"\")","v":""},null,null,null,null,60072,null,"　",null,0,0,0,0,null,0,"請求書払い",null,null,{"$f":"配送情報書!M224&\"　\"&配送情報書!N224","v":"　"},"",{"$f":"配送情報書!O224","v":0},{"$f":"配送情報書!P224","v":0},{"$f":"配送情報書!Q224","v":0},{"$f":"配送情報書!R224","v":0},{"$f":"配送情報書!S224","v":0},"宅配便（RSL）",{"$f":"TEXT(配送情報書!X224,\"yyyy/m/d\")","v":""},1214,"通常",null,null,null,null,null,null,null,null,null,null,null,{"$f":"IF(配送情報書!V224=\"通常方式\",5901010002,IF(配送情報書!V224=\"プーリング方式（4検体）\",5901010003,\"\"))","v":""},"",{"$f":"配送情報書!T224","v":0},0]
[{"$f":"IF(配送情報書!W225=\"個別返送\",配送情報書!T225,\"\")","v":""},null,null,null,null,60072,null,"　",null,0,0,0,0,null,0,"請求書払い",null,null,{"$f":"配送情報書!M225&\"　\"&配送情報書!N225","v":"　"},"",{"$f":"配送情報書!O225","v":0},{"$f":"配送情報書!P225","v":0},{"$f":"配送情報書!Q225","v":0},{"$f":"配送情報書!R225","v":0},{"$f":"配送情報書!S225","v":0},"宅配便（RSL）",{"$f":"TEXT(配送情報書!X225,\"yyyy/m/d\")","v":""},1214,"通常",null,null,null,null,null,null,null,null,null,null,null,{"$f":"IF(配送情報書!V225=\"通常方式\",5901010002,IF(配送情報書!V225=\"プーリング方式（4検体）\",5901010003,\"\"))","v":""},"",{"$f":"配送情報書!T225","v":0},0]
[{"$f":"IF(配送情報書!W226=\"個別返送\",配送情報書!T226,\"\")","v":""},null,null,null,null,60072,null,"　",null,0,0,0,0,null,0,"請求書払い",null,null,{"$f":"配送情報書!M226&\"　\"&配送情報書!N226","v":"　"},"",{"$f":"配送情報書!O226","v":0},{"$f":"配送情報書!P226","v":0},{"$f":"配送情報書!Q226","v":0},{"$f":"配送情報書!R226","v":0},{"$f":"配送情報書!S226","v":0},"宅配便（RSL）",{"$f":"TEXT(配送情報書!X226,\"yyyy/m/d\")","v":""},1214,"通常",null,null,null,null,null,null,null,null,null,null,null,{"$f":"IF(配送情報書!V226=\"通常方式\",5901010002,IF(配送情報書!V226=\"プーリング方式（4検体）\",5901010003,\"\"))","v":""},"",{"$f":"配送情報書!T226","v":0},0]
[{"$f":"IF(配送情報書!W227=\"個別返送\",配送情報書!T227,\"\")","v":""},null,null,null,null,60072,null,"　",null,0,0,0,0,null,0,"請求書払い",null,null,{"$f":"配送情報書!M227&\"　\"&配送情報書!N227","v":"　"},"",{"$f":"配送情報書!O227","v":0},{"$f":"配送情報書!P227","v":0},{"$f":"配送情報書!Q227","v":0},{"$f":"配送情報書!R227","v":0},{"$f":"配送情報書!S227","v":0},"宅配便（RSL）",{"$f":"TEXT(配送情報書!X227,\"yyyy/m/d\")","v":""},1214,"通常",null,null,null,null,null,null,null,null,null,null,null,{"$f":"IF(配送情報書!V227=\"通常方式\",5901010002,IF(配送情報書!V227=\"プーリング方式（4検体）\",5901010003,\"\"))","v":""},"",{"$f":"配送情報書!T227","v":0},0]
[{"$f":"IF(配送情報書!W228=\"個別返送\",配送情報書!T228,\"\")","v":""},null,null,null,null,60072,null,"　",null,0,0,0,0,null,0,"請求書払い",null,null,{"$f":"配送情報書!M228&\"　\"&配送情報書!N228","v":"　"},"",{"$f":"配送情報書!O228","v":0},{"$f":"配送情報書!P228","v":0},{"$f":"配送情報書!Q228","v":0},{"$f":"配送情報書!R228","v":0},{"$f":"配送情報書!S228","v":0},"宅配便（RSL）",{"$f":"TEXT(配送情報書!X228,\"yyyy/m/d\")","v":""},1214,"通常",null,null,null,null,null,null,null,null,null,null,null,{"$f":"IF(配送情報書!V228=\"通常方式\",5901010002,IF(配送情報書!V228=\"プーリング方式（4検体）\",5901010003,\"\"))","v":""},"",{"$f":"配送情報書!T228","v":0},0]
[{"$f":"IF(配送情報書!W229=\"個別返送\",配送情報書!T229,\"\")","v":""},null,null,null,null,60072,null,"　",null,0,0,0,0,null,0,"請求書払い",null,null,{"$f":"配送情報書!M229&\"　\"&配送情報書!N229","v":"　"},{"$f":"IF($F$2>=ROW()-5,IF(T229=\"\",\"\",T229),\"\")","v":""},{"$f":"配送情報書!O229","v":0},{"$f":"配送情報書!P229","v":0},{"$f":"配送情報書!Q229","v":0},{"$f":"配送情報書!R229","v":0},{"$f":"配送情報書!S229","v":0},"宅配便（RSL）",{"$f":"TEXT(配送情報書!X229,\"yyyy/m/d\")","v":""},1214,"通常",null,null,null,null,null,null,null,null,null,null,null,{"$f":"IF(配送情報書!V229=\"通常方式\",5901010002,IF(配送情報書!V229=\"プーリング方式（4検体）\",5901010003,\"\"))","v":""},"",{"$f":"配送情報書!T229","v":0},0]
[{"$f":"IF(配送情報書!W230=\"個別返送\",配送情報書!T230,\"\")","v":""},null,null,null,null,60072,null,"　",null,0,0,0,0,null,0,"請求書払い",null,null,{"$f":"配送情報書!M230&\"　\"&配送情報書!N230","v":"　"},{"$f":"IF($F$2>=ROW()-5,IF(T230=\"\",\"\",T230),\"\")","v":""},{"$f":"配送情報書!O230","v":0},{"$f":"配送情報書!P230","v":0},{"$f":"配送情報書!Q230","v":0},{"$f":"配送情報書!R230","v":0},{"$f":"配送情報書!S230","v":0},"宅配便（RSL）",{"$f":"TEXT(配送情報書!X230,\"yyyy/m/d\")","v":""},1214,"通常",null,null,null,null,null,null,null,null,null,null,null,{"$f":"IF(配送情報書!V230=\"通常方式\",5901010002,IF(配送情報書!V230=\"プーリング方式（4検体）\",5901010003,\"\"))","v":""},"",{"$f":"配送情報書!T230","v":0},0]
[{"$f":"IF(配送情報書!W231=\"個別返送\",配送情報書!T231,\"\")","v":""},null,null,null,null,60072,null,"　",null,0,0,0,0,null,0,"請求書払い",null,null,{"$f":"配送情報書!M231&\"　\"&配送情報書!N231","v":"　"},{"$f":"IF($F$2>=ROW()-5,IF(T231=\"\",\"\",T231),\"\")","v":""},{"$f":"配送情報書!O231","v":0},{"$f":"配送情報書!P231","v":0},{"$f":"配送情報書!Q231","v":0},{"$f":"配送情報書!R231","v":0},{"$f":"配送情報書!S231","v":0},"宅配便（RSL）",{"$f":"TEXT(配送情報書!X231,\"yyyy/m/d\")","v":""},1214,"通常",null,null,null,null,null,null,null,null,null,null,null,{"$f":"IF(配送情報書!V231=\"通常方式\",5901010002,IF(配送情報書!V231=\"プーリング方式（4検体）\",5901010003,\"\"))","v":""},"",{"$f":"配送情報書!T231","v":0},0]
[{"$f":"IF(配送情報書!W232=\"個別返送\",配送情報書!T232,\"\")","v":""},null,null,null,null,60072,null,"　",null,0,0,0,0,null,0,"請求書払い",null,null,{"$f":"配送情報書!M232&\"　\"&配送情報書!N232","v":"　"},"",{"$f":"配送情報書!O232","v":0},{"$f":"配送情報書!P232","v":0},{"$f":"配送情報書!Q232","v":0},{"$f":"配送情報書!R232","v":0},{"$f":"配送情報書!S232","v":0},"宅配便（RSL）",{"$f":"TEXT(配送情報書!X232,\"yyyy/m/d\")","v":""},1214,"通常",null,null,null,null,null,null,null,null,null,null,null,{"$f":"IF(配送情報書!V232=\"通常方式\",5901010002,IF(配送情報書!V232=\"プーリング方式（4検体）\",5901010003,\"\"))","v":""},"",{"$f":"配送情報書!T232","v":0},0]
[{"$f":"IF(配送情報書!W233=\"個別返送\",配送情報書!T233,\"\")","v":""},null,null,null,null,60072,null,"　",null,0,0,0,0,null,0,"請求書払い",null,null,{"$f":"配送情報書!M233&\"　\"&配送情報書!N233","v":"　"},"",{"$f":"配送情報書!O233","v":0},{"$f":"配送情報書!P233","v":0},{"$f":"配送情報書!Q233","v":0},{"$f":"配送情報書!R233","v":0},{"$f":"配送情報書!S233","v":0},"宅配便（RSL）",{"$f":"TEXT(配送情報書!X233,\"yyyy/m/d\")","v":""},1214,"通常",null,null,null,null,null,null,null,null,null,null,null,{"$f":"IF(配送情報書!V233=\"通常方式\",5901010002,IF(配送情報書!V233=\"プーリング方式（4検体）\",5901010003,\"\"))","v":""},"",{"$f":"配送情報書!T233","v":0},0]
[{"$f":"IF(配送情報書!W234=\"個別返送\",配送情報書!T234,\"\")","v":""},null,null,null,null,60072,null,"　",null,0,0,0,0,null,0,"請求書払い",null,null,{"$f":"配送情報書!M234&\"　\"&配送情報書!N234","v":"　"},"",{"$f":"配送情報書!O234","v":0},{"$f":"配送情報書!P234","v":0},{"$f":"配送情報書!Q234","v":0},{"$f":"配送情報書!R234","v":0},{"$f":"配送情報書!S234","v":0},"宅配便（RSL）",{"$f":"TEXT(配送情報書!X234,\"yyyy/m/d\")","v":""},1214,"通常",null,null,null,null,null,null,null,null,null,null,null,{"$f":"IF(配送情報書!V234=\"通常方式\",5901010002,IF(配送情報書!V234=\"プーリング方式（4検体）\",5901010003,\"\"))","v":""},"",{"$f":"配送情報書!T234","v":0},0]
[{"$f":"IF(配送情報書!W235=\"個別返送\",配送情報書!T235,\"\")","v":""},null,null,null,null,60072,null,"　",null,0,0,0,0,null,0,"請求書払い",null,null,{"$f":"配送情報書!M235&\"　\"&配送情報書!N235","v":"　"},"",{"$f":"配送情報書!O235","v":0},{"$f":"配送情報書!P235","v":0},{"$f":"配送情報書!Q235","v":0},{"$f":"配送情報書!R235","v":0},{"$f":"配送情報書!S235","v":0},"宅配便（RSL）",{"$f":"TEXT(配送情報書!X235,\"yyyy/m/d\")","v":""},1214,"通常",null,null,null,null,null,null,null,null,null,null,null,{"$f":"IF(配送情報書!V235=\"通常方式\",5901010002,IF(配送情報書!V235=\"プーリング方式（4検体）\",5901010003,\"\"))","v":""},"",{"$f":"配送情報書!T235","v":0},0]
[{"$f":"IF(配送情報書!W236=\"個別返送\",配送情報書!T236,\"\")","v":""},null,null,null,null,60072,null,"　",null,0,0,0,0,null,0,"請求書払い",null,null,{"$f":"配送情報書!M236&\"　\"&配送情報書!N236","v":"　"},"",{"$f":"配送情報書!O236","v":0},{"$f":"配送情報書!P236","v":0},{"$f":"配送情報書!Q236","v":0},{"$f":"配送情報書!R236","v":0},{"$f":"配送情報書!S236","v":0},"宅配便（RSL）",{"$f":"TEXT(配送情報書!X236,\"yyyy/m/d\")","v":""},1214,"通常",null,null,null,null,null,null,null,null,null,null,null,{"$f":"IF(配送情報書!V236=\"通常方式\",5901010002,IF(配送情報書!V236=\"プーリング方式（4検体）\",5901010003,\"\"))","v":""},"",{"$f":"配送情報書!T236","v":0},0]
[{"$f":"IF(配送情報書!W237=\"個別返送\",配送情報書!T237,\"\")","v":""},null,null,null,null,60072,null,"　",null,0,0,0,0,null,0,"請求書払い",null,null,{"$f":"配送情報書!M237&\"　\"&配送情報書!N237","v":"　"},"",{"$f":"配送情報書!O237","v":0},{"$f":"配送情報書!P237","v":0},{"$f":"配送情報書!Q237","v":0},{"$f":"配送情報書!R237","v":0},{"$f":"配送情報書!S237","v":0},"宅配便（RSL）",{"$f":"TEXT(配送情報書!X237,\"yyyy/m/d\")","v":""},1214,"通常",null,null,null,null,null,null,null,null,null,null,null,{"$f":"IF(配送情報書!V237=\"通常方式\",5901010002,IF(配送情報書!V237=\"プーリング方式（4検体）\",5901010003,\"\"))","v":""},"",{"$f":"配送情報書!T237","v":0},0]
[{"$f":"IF(配送情報書!W238=\"個別返送\",配送情報書!T238,\"\")","v":""},null,null,null,null,60072,null,"　",null,0,0,0,0,null,0,"請求書払い",null,null,{"$f":"配送情報書!M238&\"　\"&配送情報書!N238","v":"　"},"",{"$f":"配送情報書!O238","v":0},{"$f":"配送情報書!P238","v":0},{"$f":"配送情報書!Q238","v":0},{"$f":"配送情報書!R238","v":0},{"$f":"配送情報書!S238","v":0},"宅配便（RSL）",{"$f":"TEXT(配送情報書!X238,\"yyyy/m/d\")","v":""},1214,"通常",null,null,null,null,null,null,null,null,null,null,null,{"$f":"IF(配送情報書!V238=\"通常方式\",5901010002,IF(配送情報書!V238=\"プーリング方式（4検体）\",5901010003,\"\"))","v":""},"",{"$f":"配送情報書!T238","v":0},0]
[{"$f":"IF(配送情報書!W239=\"個別返送\",配送情報書!T239,\"\")","v":""},null,null,null,null,60072,null,"　",null,0,0,0,0,null,0,"請求書払い",null,null,{"$f":"配送情報書!M239&\"　\"&配送情報書!N239","v":"　"},"",{"$f":"配送情報書!O239","v":0},{"$f":"配送情報書!P239","v":0},{"$f":"配送情報書!Q239","v":0},{"$f":"配送情報書!R239","v":0},{"$f":"配送情報書!S239","v":0},"宅配便（RSL）",{"$f":"TEXT(配送情報書!X239,\"yyyy/m/d\")","v":""},1214,"通常",null,null,null,null,null,null,null,null,null,null,null,{"$f":"IF(配送情報書!V239=\"通常方式\",5901010002,IF(配送情報書!V239=\"プーリング方式（4検体）\",5901010003,\"\"))","v":""},"",{"$f":"配送情報書!T239","v":0},0]
[{"$f":"IF(配送情報書!W240=\"個別返送\",配送情報書!T240,\"\")","v":""},null,null,null,null,60072,null,"　",null,0,0,0,0,null,0,"請求書払い",null,null,{"$f":"配送情報書!M240&\"　\"&配送情報書!N240","v":"　"},"",{"$f":"配送情報書!O240","v":0},{"$f":"配送情報書!P240","v":0},{"$f":"配送情報書!Q240","v":0},{"$f":"配送情報書!R240","v":0},{"$f":"配送情報書!S240","v":0},"宅配便（RSL）",{"$f":"TEXT(配送情報書!X240,\"yyyy/m/d\")","v":""},1214,"通常",null,null,null,null,null,null,null,null,null,null,null,{"$f":"IF(配送情報書!V240=\"通常方式\",5901010002,IF(配送情報書!V240=\"プーリング方式（4検体）\",5901010003,\"\"))","v":""},"",{"$f":"配送情報書!T240","v":0},0]
[{"$f":"IF(配送情報書!W241=\"個別返送\",配送情報書!T241,\"\")","v":""},null,null,null,null,60072,null,"　",null,0,0,0,0,null,0,"請求書払い",null,null,{"$f":"配送情報書!M241&\"　\"&配送情報書!N241","v":"　"},"",{"$f":"配送情報書!O241","v":0},{"$f":"配送情報書!P241","v":0},{"$f":"配送情報書!Q241","v":0},{"$f":"配送情報書!R241","v":0},{"$f":"配送情報書!S241","v":0},"宅配便（RSL）",{"$f":"TEXT(配送情報書!X241,\"yyyy/m/d\")","v":""},1214,"通常",null,null,null,null,null,null,null,null,null,null,null,{"$f":"IF(配送情報書!V241=\"通常方式\",5901010002,IF(配送情報書!V241=\"プーリング方式（4検体）\",5901010003,\"\"))","v":""},"",{"$f":"配送情報書!T241","v":0},0]
[{"$f":"IF(配送情報書!W242=\"個別返送\",配送情報書!T242,\"\")","v":""},null,null,null,null,60072,null,{"$f":"S243","v":"　"},null,{"$f":"U243","v":0},{"$f":"V243","v":0},{"$f":"W243","v":0},{"$f":"X243","v":0},null,{"$f":"Y243","v":0},"請求書払い",null,null,{"$f":"配送情報書!M242&\"　\"&配送情報書!N242","v":"　"},"",{"$f":"配送情報書!O242","v":0},{"$f":"配送情報書!P242","v":0},{"$f":"配送情報書!Q242","v":0},{"$f":"配送情報書!R242","v":0},{"$f":"配送情報書!S242","v":0},"宅配便（RSL）",{"$f":"TEXT(配送情報書!X242,\"yyyy/m/d\")","v":""},1214,"通常",null,null,null,null,null,null,null,null,null,null,null,{"$f":"IF(配送情報書!V242=\"通常方式\",5901010002,IF(配送情報書!V242=\"プーリング方式（4検体）\",5901010003,\"\"))","v":""},"",{"$f":"配送情報書!T242","v":0},0]
[{"$f":"IF(配送情報書!W243=\"個別返送\",配送情報書!T243,\"\")","v":""},null,null,null,null,60072,null,"　",null,0,0,0,0,null,0,"請求書払い",null,null,{"$f":"配送情報書!M243&\"　\"&配送情報書!N243","v":"　"},"",{"$f":"配送情報書!O243","v":0},{"$f":"配送情報書!P243","v":0},{"$f":"配送情報書!Q243","v":0},{"$f":"配送情報書!R243","v":0},{"$f":"配送情報書!S243","v":0},"宅配便（RSL）",{"$f":"TEXT(配送情報書!X243,\"yyyy/m/d\")","v":""},1214,"通常",null,null,null,null,null,null,null,null,null,null,null,{"$f":"IF(配送情報書!V243=\"通常方式\",5901010002,IF(配送情報書!V243=\"プーリング方式（4検体）\",5901010003,\"\"))","v":""},"",{"$f":"配送情報書!T243","v":0},0]
[{"$f":"IF(配送情報書!W244=\"個別返送\",配送情報書!T244,\"\")","v":""},null,null,null,null,60072,null,"　",null,0,0,0,0,null,0,"請求書払い",null,null,{"$f":"配送情報書!M244&\"　\"&配送情報書!N244","v":"　"},"",{"$f":"配送情報書!O244","v":0},{"$f":"配送情報書!P244","v":0},{"$f":"配送情報書!Q244","v":0},{"$f":"配送情報書!R244","v":0},{"$f":"配送情報書!S244","v":0},"宅配便（RSL）",{"$f":"TEXT(配送情報書!X244,\"yyyy/m/d\")","v":""},1214,"通常",null,null,null,null,null,null,null,null,null,null,null,{"$f":"IF(配送情報書!V244=\"通常方式\",5901010002,IF(配送情報書!V244=\"プーリング方式（4検体）\",5901010003,\"\"))","v":""},"",{"$f":"配送情報書!T244","v":0},0]
[{"$f":"IF(配送情報書!W245=\"個別返送\",配送情報書!T245,\"\")","v":""},null,null,null,null,60072,null,"　",null,0,0,0,0,null,0,"請求書払い",null,null,{"$f":"配送情報書!M245&\"　\"&配送情報書!N245","v":"　"},"",{"$f":"配送情報書!O245","v":0},{"$f":"配送情報書!P245","v":0},{"$f":"配送情報書!Q245","v":0},{"$f":"配送情報書!R245","v":0},{"$f":"配送情報書!S245","v":0},"宅配便（RSL）",{"$f":"TEXT(配送情報書!X245,\"yyyy/m/d\")","v":""},1214,"通常",null,null,null,null,null,null,null,null,null,null,null,{"$f":"IF(配送情報書!V245=\"通常方式\",5901010002,IF(配送情報書!V245=\"プーリング方式（4検体）\",5901010003,\"\"))","v":""},"",{"$f":"配送情報書!T245","v":0},0]
[{"$f":"IF(配送情報書!W246=\"個別返送\",配送情報書!T246,\"\")","v":""},null,null,null,null,60072,null,"　",null,0,0,0,0,null,0,"請求書払い",null,null,{"$f":"配送情報書!M246&\"　\"&配送情報書!N246","v":"　"},{"$f":"IF($F$2>=ROW()-5,IF(T246=\"\",\"\",T246),\"\")","v":""},{"$f":"配送情報書!O246","v":0},{"$f":"配送情報書!P246","v":0},{"$f":"配送情報書!Q246","v":0},{"$f":"配送情報書!R246","v":0},{"$f":"配送情報書!S246","v":0},"宅配便（RSL）",{"$f":"TEXT(配送情報書!X246,\"yyyy/m/d\")","v":""},1214,"通常",null,null,null,null,null,null,null,null,null,null,null,{"$f":"IF(配送情報書!V246=\"通常方式\",5901010002,IF(配送情報書!V246=\"プーリング方式（4検体）\",5901010003,\"\"))","v":""},"",{"$f":"配送情報書!T246","v":0},0]
[{"$f":"IF(配送情報書!W247=\"個別返送\",配送情報書!T247,\"\")","v":""},null,null,null,null,60072,null,"　",null,0,0,0,0,null,0,"請求書払い",null,null,{"$f":"配送情報書!M247&\"　\"&配送情報書!N247","v":"　"},"",{"$f":"配送情報書!O247","v":0},{"$f":"配送情報書!P247","v":0},{"$f":"配送情報書!Q247","v":0},{"$f":"配送情報書!R247","v":0},{"$f":"配送情報書!S247","v":0},"宅配便（RSL）",{"$f":"TEXT(配送情報書!X247,\"yyyy/m/d\")","v":""},1214,"通常",null,null,null,null,null,null,null,null,null,null,null,{"$f":"IF(配送情報書!V247=\"通常方式\",5901010002,IF(配送情報書!V247=\"プーリング方式（4検体）\",5901010003,\"\"))","v":""},"",{"$f":"配送情報書!T247","v":0},0]
[{"$f":"IF(配送情報書!W248=\"個別返送\",配送情報書!T248,\"\")","v":""},null,null,null,null,60072,null,"　",null,0,0,0,0,null,0,"請求書払い",null,null,{"$f":"配送情報書!M248&\"　\"&配送情報書!N248","v":"　"},"",{"$f":"配送情報書!O248","v":0},{"$f":"配送情報書!P248","v":0},{"$f":"配送情報書!Q248","v":0},{"$f":"配送情報書!R248","v":0},{"$f":"配送情報書!S248","v":0},"宅配便（RSL）",{"$f":"TEXT(配送情報書!X248,\"yyyy/m/d\")","v":""},1214,"通常",null,null,null,null,null,null,null,null,null,null,null,{"$f":"IF(配送情報書!V248=\"通常方式\",5901010002,IF(配送情報書!V248=\"プーリング方式（4検体）\",5901010003,\"\"))","v":""},"",{"$f":"配送情報書!T248","v":0},0]
[{"$f":"IF(配送情報書!W249=\"個別返送\",配送情報書!T249,\"\")","v":""},null,null,null,null,60072,null,"　",null,0,0,0,0,null,0,"請求書払い",null,null,{"$f":"配送情報書!M249&\"　\"&配送情報書!N249","v":"　"},"",{"$f":"配送情報書!O249","v":0},{"$f":"配送情報書!P249","v":0},{"$f":"配送情報書!Q249","v":0},{"$f":"配送情報書!R249","v":0},{"$f":"配送情報書!S249","v":0},"宅配便（RSL）",{"$f":"TEXT(配送情報書!X249,\"yyyy/m/d\")","v":""},1214,"通常",null,null,null,null,null,null,null,null,null,null,null,{"$f":"IF(配送情報書!V249=\"通常方式\",5901010002,IF(配送情報書!V249=\"プーリング方式（4検体）\",5901010003,\"\"))","v":""},"",{"$f":"配送情報書!T249","v":0},0]
[{"$f":"IF(配送情報書!W250=\"個別返送\",配送情報書!T250,\"\")","v":""},null,null,null,null,60072,null,"　",null,0,0,0,0,null,0,"請求書払い",null,null,{"$f":"配送情報書!M250&\"　\"&配送情報書!N250","v":"　"},"",{"$f":"配送情報書!O250","v":0},{"$f":"配送情報書!P250","v":0},{"$f":"配送情報書!Q250","v":0},{"$f":"配送情報書!R250","v":0},{"$f":"配送情報書!S250","v":0},"宅配便（RSL）",{"$f":"TEXT(配送情報書!X250,\"yyyy/m/d\")","v":""},1214,"通常",null,null,null,null,null,null,null,null,null,null,null,{"$f":"IF(配送情報書!V250=\"通常方式\",5901010002,IF(配送情報書!V250=\"プーリング方式（4検体）\",5901010003,\"\"))","v":""},"",{"$f":"配送情報書!T250","v":0},0]
[{"$f":"IF(配送情報書!W251=\"個別返送\",配送情報書!T251,\"\")","v":""},null,null,null,null,60072,null,"　",null,0,0,0,0,null,0,"請求書払い",null,null,{"$f":"配送情報書!M251&\"　\"&配送情報書!N251","v":"　"},"",{"$f":"配送情報書!O251","v":0},{"$f":"配送情報書!P251","v":0},{"$f":"配送情報書!Q251","v":0},{"$f":"配送情報書!R251","v":0},{"$f":"配送情報書!S251","v":0},"宅配便（RSL）",{"$f":"TEXT(配送情報書!X251,\"yyyy/m/d\")","v":""},1214,"通常",null,null,null,null,null,null,null,null,null,null,null,{"$f":"IF(配送情報書!V251=\"通常方式\",5901010002,IF(配送情報書!V251=\"プーリング方式（4検体）\",5901010003,\"\"))","v":""},"",{"$f":"配送情報書!T251","v":0},0]
[{"$f":"IF(配送情報書!W252=\"個別返送\",配送情報書!T252,\"\")","v":""},null,null,null,null,60072,null,"　",null,0,0,0,0,null,0,"請求書払い",null,null,{"$f":"配送情報書!M252&\"　\"&配送情報書!N252","v":"　"},"",{"$f":"配送情報書!O252","v":0},{"$f":"配送情報書!P252","v":0},{"$f":"配送情報書!Q252","v":0},{"$f":"配送情報書!R252","v":0},{"$f":"配送情報書!S252","v":0},"宅配便（RSL）",{"$f":"TEXT(配送情報書!X252,\"yyyy/m/d\")","v":""},1214,"通常",null,null,null,null,null,null,null,null,null,null,null,{"$f":"IF(配送情報書!V252=\"通常方式\",5901010002,IF(配送情報書!V252=\"プーリング方式（4検体）\",5901010003,\"\"))","v":""},"",{"$f":"配送情報書!T252","v":0},0]
[{"$f":"IF(配送情報書!W253=\"個別返送\",配送情報書!T253,\"\")","v":""},null,null,null,null,60072,null,"　",null,0,0,0,0,null,0,"請求書払い",null,null,{"$f":"配送情報書!M253&\"　\"&配送情報書!N253","v":"　"},"",{"$f":"配送情報書!O253","v":0},{"$f":"配送情報書!P253","v":0},{"$f":"配送情報書!Q253","v":0},{"$f":"配送情報書!R253","v":0},{"$f":"配送情報書!S253","v":0},"宅配便（RSL）",{"$f":"TEXT(配送情報書!X253,\"yyyy/m/d\")","v":""},1214,"通常",null,null,null,null,null,null,null,null,null,null,null,{"$f":"IF(配送情報書!V253=\"通常方式\",5901010002,IF(配送情報書!V253=\"プーリング方式（4検体）\",5901010003,\"\"))","v":""},"",{"$f":"配送情報書!T253","v":0},0]
[{"$f":"IF(配送情報書!W254=\"個別返送\",配送情報書!T254,\"\")","v":""},null,null,null,null,60072,null,"　",null,0,0,0,0,null,0,"請求書払い",null,null,{"$f":"配送情報書!M254&\"　\"&配送情報書!N254","v":"　"},"",{"$f":"配送情報書!O254","v":0},{"$f":"配送情報書!P254","v":0},{"$f":"配送情報書!Q254","v":0},{"$f":"配送情報書!R254","v":0},{"$f":"配送情報書!S254","v":0},"宅配便（RSL）",{"$f":"TEXT(配送情報書!X254,\"yyyy/m/d\")","v":""},1214,"通常",null,null,null,null,null,null,null,null,null,null,null,{"$f":"IF(配送情報書!V254=\"通常方式\",5901010002,IF(配送情報書!V254=\"プーリング方式（4検体）\",5901010003,\"\"))","v":""},"",{"$f":"配送情報書!T254","v":0},0]
["e","e","e","e","e","e","e","e","e","e","e","e","e","e","e","e","e","e","e","e","e","e","e","e","e","e","e","e","e","e","e","e","e","e","e","e","e","e","e","e","e","e","e","e","e","e","e"]

{"sheet":"RFBアカウント申請用","index":8,"n_rows":108,"n_cols":10,"rows_kept":108,"cut":false,"hidden":true,"merged":[]}
["■使用方法"]
["①「配送情報書」シートの「案件ID」列に案件IDを入力してください（入力すると本シート「案件ID(id) *」列に案件IDが入ります）"]
["②「案件ID(id) *」列が空欄の行のみ表示されるよう、フィルターで絞ってください"]
["③表示された行をコピーし、「RFBアカウント発行申請案件登録」ファイルに値貼付してください"]
[]
["→作業列","→コピー列",null,null,"手入力 or RFBアカウント申請用に貼付後手入力",null,null,null,null,"*"]
["No","案件ID(id) *","案件名(name) *\n団体名を入力","依頼日","記入者","ご担当者名","電話番号","メールアドレス",null,"*"]
[{"$f":"ROW()-8","v":0},{"$f":"IF(AND($F8=0,$H8=0),\"\",INDEX(配送情報書!$A:$BK,QUOTIENT($A8,4)+5,MATCH(\"案件ID\",配送情報書!$4:$4,0)))","v":""},{"$f":"IF(B8<>\"\",INDEX(配送情報書!$A:$BK,QUOTIENT($A8,4)+5,MATCH(\"受取者の企業名\",配送情報書!$4:$4,0)),\"\")","v":""},{"$f":"IF(B8<>\"\",TODAY(),\"\")","v":""},null,{"$f":"_xlfn.IFS(MOD($A8,4)=0,INDEX(配送情報書!$A:$BK,QUOTIENT($A8,4)+5,MATCH(\"名前②\",配送情報書!$4:$4,0)),\nMOD($A8,4)=1,INDEX(配送情報書!$A:$BK,QUOTIENT($A8,4)+5,MATCH(\"名前③\",配送情報書!$4:$4,0)),\nMOD($A8,4)=2,INDEX(配送情報書!$A:$BK,QUOTIENT($A8,4)+5,MATCH(\"名前④\",配送情報書!$4:$4,0)),\nMOD($A8,4)=3,INDEX(配送情報書!$A:$BK,QUOTIENT($A8,4)+5,MATCH(\"名前⑤\",配送情報書!$4:$4,0)))","v":0},{"$f":"IF(B8<>\"\",INDEX(配送情報書!$A:$BK,QUOTIENT($A8,4)+5,MATCH(\"電話番号（陽性者発生時の連絡用）\"&\"*\",配送情報書!$4:$4,0)),\"\")","v":""},{"$f":"_xlfn.IFS(MOD($A8,4)=0,INDEX(配送情報書!$A:$BK,QUOTIENT($A8,4)+5,MATCH(\"メール②\",配送情報書!$4:$4,0)),\nMOD($A8,4)=1,INDEX(配送情報書!$A:$BK,QUOTIENT($A8,4)+5,MATCH(\"メール③\",配送情報書!$4:$4,0)),\nMOD($A8,4)=2,INDEX(配送情報書!$A:$BK,QUOTIENT($A8,4)+5,MATCH(\"メール④\",配送情報書!$4:$4,0)),\nMOD($A8,4)=3,INDEX(配送情報書!$A:$BK,QUOTIENT($A8,4)+5,MATCH(\"メール⑤\",配送情報書!$4:$4,0)))","v":0},null,"*"]
[{"$f":"ROW()-8","v":1},{"$f":"IF(AND($F9=0,$H9=0),\"\",INDEX(配送情報書!$A:$BK,QUOTIENT($A9,4)+5,MATCH(\"案件ID\",配送情報書!$4:$4,0)))","v":""},{"$f":"IF(B9<>\"\",INDEX(配送情報書!$A:$BK,QUOTIENT($A9,4)+5,MATCH(\"受取者の企業名\",配送情報書!$4:$4,0)),\"\")","v":""},{"$f":"IF(B9<>\"\",TODAY(),\"\")","v":""},null,{"$f":"_xlfn.IFS(MOD($A9,4)=0,INDEX(配送情報書!$A:$BK,QUOTIENT($A9,4)+5,MATCH(\"名前②\",配送情報書!$4:$4,0)),\nMOD($A9,4)=1,INDEX(配送情報書!$A:$BK,QUOTIENT($A9,4)+5,MATCH(\"名前③\",配送情報書!$4:$4,0)),\nMOD($A9,4)=2,INDEX(配送情報書!$A:$BK,QUOTIENT($A9,4)+5,MATCH(\"名前④\",配送情報書!$4:$4,0)),\nMOD($A9,4)=3,INDEX(配送情報書!$A:$BK,QUOTIENT($A9,4)+5,MATCH(\"名前⑤\",配送情報書!$4:$4,0)))","v":0},{"$f":"IF(B9<>\"\",INDEX(配送情報書!$A:$BK,QUOTIENT($A9,4)+5,MATCH(\"電話番号（陽性者発生時の連絡用）\"&\"*\",配送情報書!$4:$4,0)),\"\")","v":""},{"$f":"_xlfn.IFS(MOD($A9,4)=0,INDEX(配送情報書!$A:$BK,QUOTIENT($A9,4)+5,MATCH(\"メール②\",配送情報書!$4:$4,0)),\nMOD($A9,4)=1,INDEX(配送情報書!$A:$BK,QUOTIENT($A9,4)+5,MATCH(\"メール③\",配送情報書!$4:$4,0)),\nMOD($A9,4)=2,INDEX(配送情報書!$A:$BK,QUOTIENT($A9,4)+5,MATCH(\"メール④\",配送情報書!$4:$4,0)),\nMOD($A9,4)=3,INDEX(配送情報書!$A:$BK,QUOTIENT($A9,4)+5,MATCH(\"メール⑤\",配送情報書!$4:$4,0)))","v":0},null,"*"]
[2,{"$f":"IF(AND($F10=0,$H10=0),\"\",INDEX(配送情報書!$A:$BK,QUOTIENT($A10,4)+5,MATCH(\"案件ID\",配送情報書!$4:$4,0)))","v":""},{"$f":"IF(B10<>\"\",INDEX(配送情報書!$A:$BK,QUOTIENT($A10,4)+5,MATCH(\"受取者の企業名\",配送情報書!$4:$4,0)),\"\")","v":""},"",null,{"$f":"_xlfn.IFS(MOD($A10,4)=0,INDEX(配送情報書!$A:$BK,QUOTIENT($A10,4)+5,MATCH(\"名前②\",配送情報書!$4:$4,0)),\nMOD($A10,4)=1,INDEX(配送情報書!$A:$BK,QUOTIENT($A10,4)+5,MATCH(\"名前③\",配送情報書!$4:$4,0)),\nMOD($A10,4)=2,INDEX(配送情報書!$A:$BK,QUOTIENT($A10,4)+5,MATCH(\"名前④\",配送情報書!$4:$4,0)),\nMOD($A10,4)=3,INDEX(配送情報書!$A:$BK,QUOTIENT($A10,4)+5,MATCH(\"名前⑤\",配送情報書!$4:$4,0)))","v":0},{"$f":"IF(B10<>\"\",INDEX(配送情報書!$A:$BK,QUOTIENT($A10,4)+5,MATCH(\"電話番号（陽性者発生時の連絡用）\"&\"*\",配送情報書!$4:$4,0)),\"\")","v":""},{"$f":"_xlfn.IFS(MOD($A10,4)=0,INDEX(配送情報書!$A:$BK,QUOTIENT($A10,4)+5,MATCH(\"メール②\",配送情報書!$4:$4,0)),\nMOD($A10,4)=1,INDEX(配送情報書!$A:$BK,QUOTIENT($A10,4)+5,MATCH(\"メール③\",配送情報書!$4:$4,0)),\nMOD($A10,4)=2,INDEX(配送情報書!$A:$BK,QUOTIENT($A10,4)+5,MATCH(\"メール④\",配送情報書!$4:$4,0)),\nMOD($A10,4)=3,INDEX(配送情報書!$A:$BK,QUOTIENT($A10,4)+5,MATCH(\"メール⑤\",配送情報書!$4:$4,0)))","v":0},null,"*"]
[3,{"$f":"IF(AND($F11=0,$H11=0),\"\",INDEX(配送情報書!$A:$BK,QUOTIENT($A11,4)+5,MATCH(\"案件ID\",配送情報書!$4:$4,0)))","v":""},{"$f":"IF(B11<>\"\",INDEX(配送情報書!$A:$BK,QUOTIENT($A11,4)+5,MATCH(\"受取者の企業名\",配送情報書!$4:$4,0)),\"\")","v":""},"",null,{"$f":"_xlfn.IFS(MOD($A11,4)=0,INDEX(配送情報書!$A:$BK,QUOTIENT($A11,4)+5,MATCH(\"名前②\",配送情報書!$4:$4,0)),\nMOD($A11,4)=1,INDEX(配送情報書!$A:$BK,QUOTIENT($A11,4)+5,MATCH(\"名前③\",配送情報書!$4:$4,0)),\nMOD($A11,4)=2,INDEX(配送情報書!$A:$BK,QUOTIENT($A11,4)+5,MATCH(\"名前④\",配送情報書!$4:$4,0)),\nMOD($A11,4)=3,INDEX(配送情報書!$A:$BK,QUOTIENT($A11,4)+5,MATCH(\"名前⑤\",配送情報書!$4:$4,0)))","v":0},{"$f":"IF(B11<>\"\",INDEX(配送情報書!$A:$BK,QUOTIENT($A11,4)+5,MATCH(\"電話番号（陽性者発生時の連絡用）\"&\"*\",配送情報書!$4:$4,0)),\"\")","v":""},{"$f":"_xlfn.IFS(MOD($A11,4)=0,INDEX(配送情報書!$A:$BK,QUOTIENT($A11,4)+5,MATCH(\"メール②\",配送情報書!$4:$4,0)),\nMOD($A11,4)=1,INDEX(配送情報書!$A:$BK,QUOTIENT($A11,4)+5,MATCH(\"メール③\",配送情報書!$4:$4,0)),\nMOD($A11,4)=2,INDEX(配送情報書!$A:$BK,QUOTIENT($A11,4)+5,MATCH(\"メール④\",配送情報書!$4:$4,0)),\nMOD($A11,4)=3,INDEX(配送情報書!$A:$BK,QUOTIENT($A11,4)+5,MATCH(\"メール⑤\",配送情報書!$4:$4,0)))","v":0},null,"*"]
[4,{"$f":"IF(AND($F12=0,$H12=0),\"\",INDEX(配送情報書!$A:$BK,QUOTIENT($A12,4)+5,MATCH(\"案件ID\",配送情報書!$4:$4,0)))","v":""},{"$f":"IF(B12<>\"\",INDEX(配送情報書!$A:$BK,QUOTIENT($A12,4)+5,MATCH(\"受取者の企業名\",配送情報書!$4:$4,0)),\"\")","v":""},"",null,{"$f":"_xlfn.IFS(MOD($A12,4)=0,INDEX(配送情報書!$A:$BK,QUOTIENT($A12,4)+5,MATCH(\"名前②\",配送情報書!$4:$4,0)),\nMOD($A12,4)=1,INDEX(配送情報書!$A:$BK,QUOTIENT($A12,4)+5,MATCH(\"名前③\",配送情報書!$4:$4,0)),\nMOD($A12,4)=2,INDEX(配送情報書!$A:$BK,QUOTIENT($A12,4)+5,MATCH(\"名前④\",配送情報書!$4:$4,0)),\nMOD($A12,4)=3,INDEX(配送情報書!$A:$BK,QUOTIENT($A12,4)+5,MATCH(\"名前⑤\",配送情報書!$4:$4,0)))","v":0},{"$f":"IF(B12<>\"\",INDEX(配送情報書!$A:$BK,QUOTIENT($A12,4)+5,MATCH(\"電話番号（陽性者発生時の連絡用）\"&\"*\",配送情報書!$4:$4,0)),\"\")","v":""},{"$f":"_xlfn.IFS(MOD($A12,4)=0,INDEX(配送情報書!$A:$BK,QUOTIENT($A12,4)+5,MATCH(\"メール②\",配送情報書!$4:$4,0)),\nMOD($A12,4)=1,INDEX(配送情報書!$A:$BK,QUOTIENT($A12,4)+5,MATCH(\"メール③\",配送情報書!$4:$4,0)),\nMOD($A12,4)=2,INDEX(配送情報書!$A:$BK,QUOTIENT($A12,4)+5,MATCH(\"メール④\",配送情報書!$4:$4,0)),\nMOD($A12,4)=3,INDEX(配送情報書!$A:$BK,QUOTIENT($A12,4)+5,MATCH(\"メール⑤\",配送情報書!$4:$4,0)))","v":0},null,"*"]
[5,{"$f":"IF(AND($F13=0,$H13=0),\"\",INDEX(配送情報書!$A:$BK,QUOTIENT($A13,4)+5,MATCH(\"案件ID\",配送情報書!$4:$4,0)))","v":""},{"$f":"IF(B13<>\"\",INDEX(配送情報書!$A:$BK,QUOTIENT($A13,4)+5,MATCH(\"受取者の企業名\",配送情報書!$4:$4,0)),\"\")","v":""},"",null,{"$f":"_xlfn.IFS(MOD($A13,4)=0,INDEX(配送情報書!$A:$BK,QUOTIENT($A13,4)+5,MATCH(\"名前②\",配送情報書!$4:$4,0)),\nMOD($A13,4)=1,INDEX(配送情報書!$A:$BK,QUOTIENT($A13,4)+5,MATCH(\"名前③\",配送情報書!$4:$4,0)),\nMOD($A13,4)=2,INDEX(配送情報書!$A:$BK,QUOTIENT($A13,4)+5,MATCH(\"名前④\",配送情報書!$4:$4,0)),\nMOD($A13,4)=3,INDEX(配送情報書!$A:$BK,QUOTIENT($A13,4)+5,MATCH(\"名前⑤\",配送情報書!$4:$4,0)))","v":0},{"$f":"IF(B13<>\"\",INDEX(配送情報書!$A:$BK,QUOTIENT($A13,4)+5,MATCH(\"電話番号（陽性者発生時の連絡用）\"&\"*\",配送情報書!$4:$4,0)),\"\")","v":""},{"$f":"_xlfn.IFS(MOD($A13,4)=0,INDEX(配送情報書!$A:$BK,QUOTIENT($A13,4)+5,MATCH(\"メール②\",配送情報書!$4:$4,0)),\nMOD($A13,4)=1,INDEX(配送情報書!$A:$BK,QUOTIENT($A13,4)+5,MATCH(\"メール③\",配送情報書!$4:$4,0)),\nMOD($A13,4)=2,INDEX(配送情報書!$A:$BK,QUOTIENT($A13,4)+5,MATCH(\"メール④\",配送情報書!$4:$4,0)),\nMOD($A13,4)=3,INDEX(配送情報書!$A:$BK,QUOTIENT($A13,4)+5,MATCH(\"メール⑤\",配送情報書!$4:$4,0)))","v":0},null,"*"]
[6,{"$f":"IF(AND($F14=0,$H14=0),\"\",INDEX(配送情報書!$A:$BK,QUOTIENT($A14,4)+5,MATCH(\"案件ID\",配送情報書!$4:$4,0)))","v":""},{"$f":"IF(B14<>\"\",INDEX(配送情報書!$A:$BK,QUOTIENT($A14,4)+5,MATCH(\"受取者の企業名\",配送情報書!$4:$4,0)),\"\")","v":""},"",null,{"$f":"_xlfn.IFS(MOD($A14,4)=0,INDEX(配送情報書!$A:$BK,QUOTIENT($A14,4)+5,MATCH(\"名前②\",配送情報書!$4:$4,0)),\nMOD($A14,4)=1,INDEX(配送情報書!$A:$BK,QUOTIENT($A14,4)+5,MATCH(\"名前③\",配送情報書!$4:$4,0)),\nMOD($A14,4)=2,INDEX(配送情報書!$A:$BK,QUOTIENT($A14,4)+5,MATCH(\"名前④\",配送情報書!$4:$4,0)),\nMOD($A14,4)=3,INDEX(配送情報書!$A:$BK,QUOTIENT($A14,4)+5,MATCH(\"名前⑤\",配送情報書!$4:$4,0)))","v":0},{"$f":"IF(B14<>\"\",INDEX(配送情報書!$A:$BK,QUOTIENT($A14,4)+5,MATCH(\"電話番号（陽性者発生時の連絡用）\"&\"*\",配送情報書!$4:$4,0)),\"\")","v":""},{"$f":"_xlfn.IFS(MOD($A14,4)=0,INDEX(配送情報書!$A:$BK,QUOTIENT($A14,4)+5,MATCH(\"メール②\",配送情報書!$4:$4,0)),\nMOD($A14,4)=1,INDEX(配送情報書!$A:$BK,QUOTIENT($A14,4)+5,MATCH(\"メール③\",配送情報書!$4:$4,0)),\nMOD($A14,4)=2,INDEX(配送情報書!$A:$BK,QUOTIENT($A14,4)+5,MATCH(\"メール④\",配送情報書!$4:$4,0)),\nMOD($A14,4)=3,INDEX(配送情報書!$A:$BK,QUOTIENT($A14,4)+5,MATCH(\"メール⑤\",配送情報書!$4:$4,0)))","v":0},null,"*"]
[7,{"$f":"IF(AND($F15=0,$H15=0),\"\",INDEX(配送情報書!$A:$BK,QUOTIENT($A15,4)+5,MATCH(\"案件ID\",配送情報書!$4:$4,0)))","v":""},{"$f":"IF(B15<>\"\",INDEX(配送情報書!$A:$BK,QUOTIENT($A15,4)+5,MATCH(\"受取者の企業名\",配送情報書!$4:$4,0)),\"\")","v":""},"",null,{"$f":"_xlfn.IFS(MOD($A15,4)=0,INDEX(配送情報書!$A:$BK,QUOTIENT($A15,4)+5,MATCH(\"名前②\",配送情報書!$4:$4,0)),\nMOD($A15,4)=1,INDEX(配送情報書!$A:$BK,QUOTIENT($A15,4)+5,MATCH(\"名前③\",配送情報書!$4:$4,0)),\nMOD($A15,4)=2,INDEX(配送情報書!$A:$BK,QUOTIENT($A15,4)+5,MATCH(\"名前④\",配送情報書!$4:$4,0)),\nMOD($A15,4)=3,INDEX(配送情報書!$A:$BK,QUOTIENT($A15,4)+5,MATCH(\"名前⑤\",配送情報書!$4:$4,0)))","v":0},{"$f":"IF(B15<>\"\",INDEX(配送情報書!$A:$BK,QUOTIENT($A15,4)+5,MATCH(\"電話番号（陽性者発生時の連絡用）\"&\"*\",配送情報書!$4:$4,0)),\"\")","v":""},{"$f":"_xlfn.IFS(MOD($A15,4)=0,INDEX(配送情報書!$A:$BK,QUOTIENT($A15,4)+5,MATCH(\"メール②\",配送情報書!$4:$4,0)),\nMOD($A15,4)=1,INDEX(配送情報書!$A:$BK,QUOTIENT($A15,4)+5,MATCH(\"メール③\",配送情報書!$4:$4,0)),\nMOD($A15,4)=2,INDEX(配送情報書!$A:$BK,QUOTIENT($A15,4)+5,MATCH(\"メール④\",配送情報書!$4:$4,0)),\nMOD($A15,4)=3,INDEX(配送情報書!$A:$BK,QUOTIENT($A15,4)+5,MATCH(\"メール⑤\",配送情報書!$4:$4,0)))","v":0},null,"*"]
[8,{"$f":"IF(AND($F16=0,$H16=0),\"\",INDEX(配送情報書!$A:$BK,QUOTIENT($A16,4)+5,MATCH(\"案件ID\",配送情報書!$4:$4,0)))","v":""},{"$f":"IF(B16<>\"\",INDEX(配送情報書!$A:$BK,QUOTIENT($A16,4)+5,MATCH(\"受取者の企業名\",配送情報書!$4:$4,0)),\"\")","v":""},"",null,{"$f":"_xlfn.IFS(MOD($A16,4)=0,INDEX(配送情報書!$A:$BK,QUOTIENT($A16,4)+5,MATCH(\"名前②\",配送情報書!$4:$4,0)),\nMOD($A16,4)=1,INDEX(配送情報書!$A:$BK,QUOTIENT($A16,4)+5,MATCH(\"名前③\",配送情報書!$4:$4,0)),\nMOD($A16,4)=2,INDEX(配送情報書!$A:$BK,QUOTIENT($A16,4)+5,MATCH(\"名前④\",配送情報書!$4:$4,0)),\nMOD($A16,4)=3,INDEX(配送情報書!$A:$BK,QUOTIENT($A16,4)+5,MATCH(\"名前⑤\",配送情報書!$4:$4,0)))","v":0},{"$f":"IF(B16<>\"\",INDEX(配送情報書!$A:$BK,QUOTIENT($A16,4)+5,MATCH(\"電話番号（陽性者発生時の連絡用）\"&\"*\",配送情報書!$4:$4,0)),\"\")","v":""},{"$f":"_xlfn.IFS(MOD($A16,4)=0,INDEX(配送情報書!$A:$BK,QUOTIENT($A16,4)+5,MATCH(\"メール②\",配送情報書!$4:$4,0)),\nMOD($A16,4)=1,INDEX(配送情報書!$A:$BK,QUOTIENT($A16,4)+5,MATCH(\"メール③\",配送情報書!$4:$4,0)),\nMOD($A16,4)=2,INDEX(配送情報書!$A:$BK,QUOTIENT($A16,4)+5,MATCH(\"メール④\",配送情報書!$4:$4,0)),\nMOD($A16,4)=3,INDEX(配送情報書!$A:$BK,QUOTIENT($A16,4)+5,MATCH(\"メール⑤\",配送情報書!$4:$4,0)))","v":0},null,"*"]
[9,{"$f":"IF(AND($F17=0,$H17=0),\"\",INDEX(配送情報書!$A:$BK,QUOTIENT($A17,4)+5,MATCH(\"案件ID\",配送情報書!$4:$4,0)))","v":""},{"$f":"IF(B17<>\"\",INDEX(配送情報書!$A:$BK,QUOTIENT($A17,4)+5,MATCH(\"受取者の企業名\",配送情報書!$4:$4,0)),\"\")","v":""},"",null,{"$f":"_xlfn.IFS(MOD($A17,4)=0,INDEX(配送情報書!$A:$BK,QUOTIENT($A17,4)+5,MATCH(\"名前②\",配送情報書!$4:$4,0)),\nMOD($A17,4)=1,INDEX(配送情報書!$A:$BK,QUOTIENT($A17,4)+5,MATCH(\"名前③\",配送情報書!$4:$4,0)),\nMOD($A17,4)=2,INDEX(配送情報書!$A:$BK,QUOTIENT($A17,4)+5,MATCH(\"名前④\",配送情報書!$4:$4,0)),\nMOD($A17,4)=3,INDEX(配送情報書!$A:$BK,QUOTIENT($A17,4)+5,MATCH(\"名前⑤\",配送情報書!$4:$4,0)))","v":0},{"$f":"IF(B17<>\"\",INDEX(配送情報書!$A:$BK,QUOTIENT($A17,4)+5,MATCH(\"電話番号（陽性者発生時の連絡用）\"&\"*\",配送情報書!$4:$4,0)),\"\")","v":""},{"$f":"_xlfn.IFS(MOD($A17,4)=0,INDEX(配送情報書!$A:$BK,QUOTIENT($A17,4)+5,MATCH(\"メール②\",配送情報書!$4:$4,0)),\nMOD($A17,4)=1,INDEX(配送情報書!$A:$BK,QUOTIENT($A17,4)+5,MATCH(\"メール③\",配送情報書!$4:$4,0)),\nMOD($A17,4)=2,INDEX(配送情報書!$A:$BK,QUOTIENT($A17,4)+5,MATCH(\"メール④\",配送情報書!$4:$4,0)),\nMOD($A17,4)=3,INDEX(配送情報書!$A:$BK,QUOTIENT($A17,4)+5,MATCH(\"メール⑤\",配送情報書!$4:$4,0)))","v":0},null,"*"]
[10,{"$f":"IF(AND($F18=0,$H18=0),\"\",INDEX(配送情報書!$A:$BK,QUOTIENT($A18,4)+5,MATCH(\"案件ID\",配送情報書!$4:$4,0)))","v":""},{"$f":"IF(B18<>\"\",INDEX(配送情報書!$A:$BK,QUOTIENT($A18,4)+5,MATCH(\"受取者の企業名\",配送情報書!$4:$4,0)),\"\")","v":""},"",null,{"$f":"_xlfn.IFS(MOD($A18,4)=0,INDEX(配送情報書!$A:$BK,QUOTIENT($A18,4)+5,MATCH(\"名前②\",配送情報書!$4:$4,0)),\nMOD($A18,4)=1,INDEX(配送情報書!$A:$BK,QUOTIENT($A18,4)+5,MATCH(\"名前③\",配送情報書!$4:$4,0)),\nMOD($A18,4)=2,INDEX(配送情報書!$A:$BK,QUOTIENT($A18,4)+5,MATCH(\"名前④\",配送情報書!$4:$4,0)),\nMOD($A18,4)=3,INDEX(配送情報書!$A:$BK,QUOTIENT($A18,4)+5,MATCH(\"名前⑤\",配送情報書!$4:$4,0)))","v":0},{"$f":"IF(B18<>\"\",INDEX(配送情報書!$A:$BK,QUOTIENT($A18,4)+5,MATCH(\"電話番号（陽性者発生時の連絡用）\"&\"*\",配送情報書!$4:$4,0)),\"\")","v":""},{"$f":"_xlfn.IFS(MOD($A18,4)=0,INDEX(配送情報書!$A:$BK,QUOTIENT($A18,4)+5,MATCH(\"メール②\",配送情報書!$4:$4,0)),\nMOD($A18,4)=1,INDEX(配送情報書!$A:$BK,QUOTIENT($A18,4)+5,MATCH(\"メール③\",配送情報書!$4:$4,0)),\nMOD($A18,4)=2,INDEX(配送情報書!$A:$BK,QUOTIENT($A18,4)+5,MATCH(\"メール④\",配送情報書!$4:$4,0)),\nMOD($A18,4)=3,INDEX(配送情報書!$A:$BK,QUOTIENT($A18,4)+5,MATCH(\"メール⑤\",配送情報書!$4:$4,0)))","v":0},null,"*"]
[11,{"$f":"IF(AND($F19=0,$H19=0),\"\",INDEX(配送情報書!$A:$BK,QUOTIENT($A19,4)+5,MATCH(\"案件ID\",配送情報書!$4:$4,0)))","v":""},{"$f":"IF(B19<>\"\",INDEX(配送情報書!$A:$BK,QUOTIENT($A19,4)+5,MATCH(\"受取者の企業名\",配送情報書!$4:$4,0)),\"\")","v":""},"",null,{"$f":"_xlfn.IFS(MOD($A19,4)=0,INDEX(配送情報書!$A:$BK,QUOTIENT($A19,4)+5,MATCH(\"名前②\",配送情報書!$4:$4,0)),\nMOD($A19,4)=1,INDEX(配送情報書!$A:$BK,QUOTIENT($A19,4)+5,MATCH(\"名前③\",配送情報書!$4:$4,0)),\nMOD($A19,4)=2,INDEX(配送情報書!$A:$BK,QUOTIENT($A19,4)+5,MATCH(\"名前④\",配送情報書!$4:$4,0)),\nMOD($A19,4)=3,INDEX(配送情報書!$A:$BK,QUOTIENT($A19,4)+5,MATCH(\"名前⑤\",配送情報書!$4:$4,0)))","v":0},{"$f":"IF(B19<>\"\",INDEX(配送情報書!$A:$BK,QUOTIENT($A19,4)+5,MATCH(\"電話番号（陽性者発生時の連絡用）\"&\"*\",配送情報書!$4:$4,0)),\"\")","v":""},{"$f":"_xlfn.IFS(MOD($A19,4)=0,INDEX(配送情報書!$A:$BK,QUOTIENT($A19,4)+5,MATCH(\"メール②\",配送情報書!$4:$4,0)),\nMOD($A19,4)=1,INDEX(配送情報書!$A:$BK,QUOTIENT($A19,4)+5,MATCH(\"メール③\",配送情報書!$4:$4,0)),\nMOD($A19,4)=2,INDEX(配送情報書!$A:$BK,QUOTIENT($A19,4)+5,MATCH(\"メール④\",配送情報書!$4:$4,0)),\nMOD($A19,4)=3,INDEX(配送情報書!$A:$BK,QUOTIENT($A19,4)+5,MATCH(\"メール⑤\",配送情報書!$4:$4,0)))","v":0},null,"*"]
[12,{"$f":"IF(AND($F20=0,$H20=0),\"\",INDEX(配送情報書!$A:$BK,QUOTIENT($A20,4)+5,MATCH(\"案件ID\",配送情報書!$4:$4,0)))","v":""},{"$f":"IF(B20<>\"\",INDEX(配送情報書!$A:$BK,QUOTIENT($A20,4)+5,MATCH(\"受取者の企業名\",配送情報書!$4:$4,0)),\"\")","v":""},"",null,{"$f":"_xlfn.IFS(MOD($A20,4)=0,INDEX(配送情報書!$A:$BK,QUOTIENT($A20,4)+5,MATCH(\"名前②\",配送情報書!$4:$4,0)),\nMOD($A20,4)=1,INDEX(配送情報書!$A:$BK,QUOTIENT($A20,4)+5,MATCH(\"名前③\",配送情報書!$4:$4,0)),\nMOD($A20,4)=2,INDEX(配送情報書!$A:$BK,QUOTIENT($A20,4)+5,MATCH(\"名前④\",配送情報書!$4:$4,0)),\nMOD($A20,4)=3,INDEX(配送情報書!$A:$BK,QUOTIENT($A20,4)+5,MATCH(\"名前⑤\",配送情報書!$4:$4,0)))","v":0},{"$f":"IF(B20<>\"\",INDEX(配送情報書!$A:$BK,QUOTIENT($A20,4)+5,MATCH(\"電話番号（陽性者発生時の連絡用）\"&\"*\",配送情報書!$4:$4,0)),\"\")","v":""},{"$f":"_xlfn.IFS(MOD($A20,4)=0,INDEX(配送情報書!$A:$BK,QUOTIENT($A20,4)+5,MATCH(\"メール②\",配送情報書!$4:$4,0)),\nMOD($A20,4)=1,INDEX(配送情報書!$A:$BK,QUOTIENT($A20,4)+5,MATCH(\"メール③\",配送情報書!$4:$4,0)),\nMOD($A20,4)=2,INDEX(配送情報書!$A:$BK,QUOTIENT($A20,4)+5,MATCH(\"メール④\",配送情報書!$4:$4,0)),\nMOD($A20,4)=3,INDEX(配送情報書!$A:$BK,QUOTIENT($A20,4)+5,MATCH(\"メール⑤\",配送情報書!$4:$4,0)))","v":0},null,"*"]
[13,{"$f":"IF(AND($F21=0,$H21=0),\"\",INDEX(配送情報書!$A:$BK,QUOTIENT($A21,4)+5,MATCH(\"案件ID\",配送情報書!$4:$4,0)))","v":""},{"$f":"IF(B21<>\"\",INDEX(配送情報書!$A:$BK,QUOTIENT($A21,4)+5,MATCH(\"受取者の企業名\",配送情報書!$4:$4,0)),\"\")","v":""},"",null,{"$f":"_xlfn.IFS(MOD($A21,4)=0,INDEX(配送情報書!$A:$BK,QUOTIENT($A21,4)+5,MATCH(\"名前②\",配送情報書!$4:$4,0)),\nMOD($A21,4)=1,INDEX(配送情報書!$A:$BK,QUOTIENT($A21,4)+5,MATCH(\"名前③\",配送情報書!$4:$4,0)),\nMOD($A21,4)=2,INDEX(配送情報書!$A:$BK,QUOTIENT($A21,4)+5,MATCH(\"名前④\",配送情報書!$4:$4,0)),\nMOD($A21,4)=3,INDEX(配送情報書!$A:$BK,QUOTIENT($A21,4)+5,MATCH(\"名前⑤\",配送情報書!$4:$4,0)))","v":0},{"$f":"IF(B21<>\"\",INDEX(配送情報書!$A:$BK,QUOTIENT($A21,4)+5,MATCH(\"電話番号（陽性者発生時の連絡用）\"&\"*\",配送情報書!$4:$4,0)),\"\")","v":""},{"$f":"_xlfn.IFS(MOD($A21,4)=0,INDEX(配送情報書!$A:$BK,QUOTIENT($A21,4)+5,MATCH(\"メール②\",配送情報書!$4:$4,0)),\nMOD($A21,4)=1,INDEX(配送情報書!$A:$BK,QUOTIENT($A21,4)+5,MATCH(\"メール③\",配送情報書!$4:$4,0)),\nMOD($A21,4)=2,INDEX(配送情報書!$A:$BK,QUOTIENT($A21,4)+5,MATCH(\"メール④\",配送情報書!$4:$4,0)),\nMOD($A21,4)=3,INDEX(配送情報書!$A:$BK,QUOTIENT($A21,4)+5,MATCH(\"メール⑤\",配送情報書!$4:$4,0)))","v":0},null,"*"]
[14,{"$f":"IF(AND($F22=0,$H22=0),\"\",INDEX(配送情報書!$A:$BK,QUOTIENT($A22,4)+5,MATCH(\"案件ID\",配送情報書!$4:$4,0)))","v":""},{"$f":"IF(B22<>\"\",INDEX(配送情報書!$A:$BK,QUOTIENT($A22,4)+5,MATCH(\"受取者の企業名\",配送情報書!$4:$4,0)),\"\")","v":""},"",null,{"$f":"_xlfn.IFS(MOD($A22,4)=0,INDEX(配送情報書!$A:$BK,QUOTIENT($A22,4)+5,MATCH(\"名前②\",配送情報書!$4:$4,0)),\nMOD($A22,4)=1,INDEX(配送情報書!$A:$BK,QUOTIENT($A22,4)+5,MATCH(\"名前③\",配送情報書!$4:$4,0)),\nMOD($A22,4)=2,INDEX(配送情報書!$A:$BK,QUOTIENT($A22,4)+5,MATCH(\"名前④\",配送情報書!$4:$4,0)),\nMOD($A22,4)=3,INDEX(配送情報書!$A:$BK,QUOTIENT($A22,4)+5,MATCH(\"名前⑤\",配送情報書!$4:$4,0)))","v":0},{"$f":"IF(B22<>\"\",INDEX(配送情報書!$A:$BK,QUOTIENT($A22,4)+5,MATCH(\"電話番号（陽性者発生時の連絡用）\"&\"*\",配送情報書!$4:$4,0)),\"\")","v":""},{"$f":"_xlfn.IFS(MOD($A22,4)=0,INDEX(配送情報書!$A:$BK,QUOTIENT($A22,4)+5,MATCH(\"メール②\",配送情報書!$4:$4,0)),\nMOD($A22,4)=1,INDEX(配送情報書!$A:$BK,QUOTIENT($A22,4)+5,MATCH(\"メール③\",配送情報書!$4:$4,0)),\nMOD($A22,4)=2,INDEX(配送情報書!$A:$BK,QUOTIENT($A22,4)+5,MATCH(\"メール④\",配送情報書!$4:$4,0)),\nMOD($A22,4)=3,INDEX(配送情報書!$A:$BK,QUOTIENT($A22,4)+5,MATCH(\"メール⑤\",配送情報書!$4:$4,0)))","v":0},null,"*"]
[15,{"$f":"IF(AND($F23=0,$H23=0),\"\",INDEX(配送情報書!$A:$BK,QUOTIENT($A23,4)+5,MATCH(\"案件ID\",配送情報書!$4:$4,0)))","v":""},{"$f":"IF(B23<>\"\",INDEX(配送情報書!$A:$BK,QUOTIENT($A23,4)+5,MATCH(\"受取者の企業名\",配送情報書!$4:$4,0)),\"\")","v":""},"",null,{"$f":"_xlfn.IFS(MOD($A23,4)=0,INDEX(配送情報書!$A:$BK,QUOTIENT($A23,4)+5,MATCH(\"名前②\",配送情報書!$4:$4,0)),\nMOD($A23,4)=1,INDEX(配送情報書!$A:$BK,QUOTIENT($A23,4)+5,MATCH(\"名前③\",配送情報書!$4:$4,0)),\nMOD($A23,4)=2,INDEX(配送情報書!$A:$BK,QUOTIENT($A23,4)+5,MATCH(\"名前④\",配送情報書!$4:$4,0)),\nMOD($A23,4)=3,INDEX(配送情報書!$A:$BK,QUOTIENT($A23,4)+5,MATCH(\"名前⑤\",配送情報書!$4:$4,0)))","v":0},{"$f":"IF(B23<>\"\",INDEX(配送情報書!$A:$BK,QUOTIENT($A23,4)+5,MATCH(\"電話番号（陽性者発生時の連絡用）\"&\"*\",配送情報書!$4:$4,0)),\"\")","v":""},{"$f":"_xlfn.IFS(MOD($A23,4)=0,INDEX(配送情報書!$A:$BK,QUOTIENT($A23,4)+5,MATCH(\"メール②\",配送情報書!$4:$4,0)),\nMOD($A23,4)=1,INDEX(配送情報書!$A:$BK,QUOTIENT($A23,4)+5,MATCH(\"メール③\",配送情報書!$4:$4,0)),\nMOD($A23,4)=2,INDEX(配送情報書!$A:$BK,QUOTIENT($A23,4)+5,MATCH(\"メール④\",配送情報書!$4:$4,0)),\nMOD($A23,4)=3,INDEX(配送情報書!$A:$BK,QUOTIENT($A23,4)+5,MATCH(\"メール⑤\",配送情報書!$4:$4,0)))","v":0},null,"*"]
[16,{"$f":"IF(AND($F24=0,$H24=0),\"\",INDEX(配送情報書!$A:$BK,QUOTIENT($A24,4)+5,MATCH(\"案件ID\",配送情報書!$4:$4,0)))","v":""},{"$f":"IF(B24<>\"\",INDEX(配送情報書!$A:$BK,QUOTIENT($A24,4)+5,MATCH(\"受取者の企業名\",配送情報書!$4:$4,0)),\"\")","v":""},"",null,{"$f":"_xlfn.IFS(MOD($A24,4)=0,INDEX(配送情報書!$A:$BK,QUOTIENT($A24,4)+5,MATCH(\"名前②\",配送情報書!$4:$4,0)),\nMOD($A24,4)=1,INDEX(配送情報書!$A:$BK,QUOTIENT($A24,4)+5,MATCH(\"名前③\",配送情報書!$4:$4,0)),\nMOD($A24,4)=2,INDEX(配送情報書!$A:$BK,QUOTIENT($A24,4)+5,MATCH(\"名前④\",配送情報書!$4:$4,0)),\nMOD($A24,4)=3,INDEX(配送情報書!$A:$BK,QUOTIENT($A24,4)+5,MATCH(\"名前⑤\",配送情報書!$4:$4,0)))","v":0},{"$f":"IF(B24<>\"\",INDEX(配送情報書!$A:$BK,QUOTIENT($A24,4)+5,MATCH(\"電話番号（陽性者発生時の連絡用）\"&\"*\",配送情報書!$4:$4,0)),\"\")","v":""},{"$f":"_xlfn.IFS(MOD($A24,4)=0,INDEX(配送情報書!$A:$BK,QUOTIENT($A24,4)+5,MATCH(\"メール②\",配送情報書!$4:$4,0)),\nMOD($A24,4)=1,INDEX(配送情報書!$A:$BK,QUOTIENT($A24,4)+5,MATCH(\"メール③\",配送情報書!$4:$4,0)),\nMOD($A24,4)=2,INDEX(配送情報書!$A:$BK,QUOTIENT($A24,4)+5,MATCH(\"メール④\",配送情報書!$4:$4,0)),\nMOD($A24,4)=3,INDEX(配送情報書!$A:$BK,QUOTIENT($A24,4)+5,MATCH(\"メール⑤\",配送情報書!$4:$4,0)))","v":0},null,"*"]
[17,{"$f":"IF(AND($F25=0,$H25=0),\"\",INDEX(配送情報書!$A:$BK,QUOTIENT($A25,4)+5,MATCH(\"案件ID\",配送情報書!$4:$4,0)))","v":""},{"$f":"IF(B25<>\"\",INDEX(配送情報書!$A:$BK,QUOTIENT($A25,4)+5,MATCH(\"受取者の企業名\",配送情報書!$4:$4,0)),\"\")","v":""},"",null,{"$f":"_xlfn.IFS(MOD($A25,4)=0,INDEX(配送情報書!$A:$BK,QUOTIENT($A25,4)+5,MATCH(\"名前②\",配送情報書!$4:$4,0)),\nMOD($A25,4)=1,INDEX(配送情報書!$A:$BK,QUOTIENT($A25,4)+5,MATCH(\"名前③\",配送情報書!$4:$4,0)),\nMOD($A25,4)=2,INDEX(配送情報書!$A:$BK,QUOTIENT($A25,4)+5,MATCH(\"名前④\",配送情報書!$4:$4,0)),\nMOD($A25,4)=3,INDEX(配送情報書!$A:$BK,QUOTIENT($A25,4)+5,MATCH(\"名前⑤\",配送情報書!$4:$4,0)))","v":0},{"$f":"IF(B25<>\"\",INDEX(配送情報書!$A:$BK,QUOTIENT($A25,4)+5,MATCH(\"電話番号（陽性者発生時の連絡用）\"&\"*\",配送情報書!$4:$4,0)),\"\")","v":""},{"$f":"_xlfn.IFS(MOD($A25,4)=0,INDEX(配送情報書!$A:$BK,QUOTIENT($A25,4)+5,MATCH(\"メール②\",配送情報書!$4:$4,0)),\nMOD($A25,4)=1,INDEX(配送情報書!$A:$BK,QUOTIENT($A25,4)+5,MATCH(\"メール③\",配送情報書!$4:$4,0)),\nMOD($A25,4)=2,INDEX(配送情報書!$A:$BK,QUOTIENT($A25,4)+5,MATCH(\"メール④\",配送情報書!$4:$4,0)),\nMOD($A25,4)=3,INDEX(配送情報書!$A:$BK,QUOTIENT($A25,4)+5,MATCH(\"メール⑤\",配送情報書!$4:$4,0)))","v":0},null,"*"]
[18,{"$f":"IF(AND($F26=0,$H26=0),\"\",INDEX(配送情報書!$A:$BK,QUOTIENT($A26,4)+5,MATCH(\"案件ID\",配送情報書!$4:$4,0)))","v":""},{"$f":"IF(B26<>\"\",INDEX(配送情報書!$A:$BK,QUOTIENT($A26,4)+5,MATCH(\"受取者の企業名\",配送情報書!$4:$4,0)),\"\")","v":""},"",null,{"$f":"_xlfn.IFS(MOD($A26,4)=0,INDEX(配送情報書!$A:$BK,QUOTIENT($A26,4)+5,MATCH(\"名前②\",配送情報書!$4:$4,0)),\nMOD($A26,4)=1,INDEX(配送情報書!$A:$BK,QUOTIENT($A26,4)+5,MATCH(\"名前③\",配送情報書!$4:$4,0)),\nMOD($A26,4)=2,INDEX(配送情報書!$A:$BK,QUOTIENT($A26,4)+5,MATCH(\"名前④\",配送情報書!$4:$4,0)),\nMOD($A26,4)=3,INDEX(配送情報書!$A:$BK,QUOTIENT($A26,4)+5,MATCH(\"名前⑤\",配送情報書!$4:$4,0)))","v":0},{"$f":"IF(B26<>\"\",INDEX(配送情報書!$A:$BK,QUOTIENT($A26,4)+5,MATCH(\"電話番号（陽性者発生時の連絡用）\"&\"*\",配送情報書!$4:$4,0)),\"\")","v":""},{"$f":"_xlfn.IFS(MOD($A26,4)=0,INDEX(配送情報書!$A:$BK,QUOTIENT($A26,4)+5,MATCH(\"メール②\",配送情報書!$4:$4,0)),\nMOD($A26,4)=1,INDEX(配送情報書!$A:$BK,QUOTIENT($A26,4)+5,MATCH(\"メール③\",配送情報書!$4:$4,0)),\nMOD($A26,4)=2,INDEX(配送情報書!$A:$BK,QUOTIENT($A26,4)+5,MATCH(\"メール④\",配送情報書!$4:$4,0)),\nMOD($A26,4)=3,INDEX(配送情報書!$A:$BK,QUOTIENT($A26,4)+5,MATCH(\"メール⑤\",配送情報書!$4:$4,0)))","v":0},null,"*"]
[19,{"$f":"IF(AND($F27=0,$H27=0),\"\",INDEX(配送情報書!$A:$BK,QUOTIENT($A27,4)+5,MATCH(\"案件ID\",配送情報書!$4:$4,0)))","v":""},{"$f":"IF(B27<>\"\",INDEX(配送情報書!$A:$BK,QUOTIENT($A27,4)+5,MATCH(\"受取者の企業名\",配送情報書!$4:$4,0)),\"\")","v":""},"",null,{"$f":"_xlfn.IFS(MOD($A27,4)=0,INDEX(配送情報書!$A:$BK,QUOTIENT($A27,4)+5,MATCH(\"名前②\",配送情報書!$4:$4,0)),\nMOD($A27,4)=1,INDEX(配送情報書!$A:$BK,QUOTIENT($A27,4)+5,MATCH(\"名前③\",配送情報書!$4:$4,0)),\nMOD($A27,4)=2,INDEX(配送情報書!$A:$BK,QUOTIENT($A27,4)+5,MATCH(\"名前④\",配送情報書!$4:$4,0)),\nMOD($A27,4)=3,INDEX(配送情報書!$A:$BK,QUOTIENT($A27,4)+5,MATCH(\"名前⑤\",配送情報書!$4:$4,0)))","v":0},{"$f":"IF(B27<>\"\",INDEX(配送情報書!$A:$BK,QUOTIENT($A27,4)+5,MATCH(\"電話番号（陽性者発生時の連絡用）\"&\"*\",配送情報書!$4:$4,0)),\"\")","v":""},{"$f":"_xlfn.IFS(MOD($A27,4)=0,INDEX(配送情報書!$A:$BK,QUOTIENT($A27,4)+5,MATCH(\"メール②\",配送情報書!$4:$4,0)),\nMOD($A27,4)=1,INDEX(配送情報書!$A:$BK,QUOTIENT($A27,4)+5,MATCH(\"メール③\",配送情報書!$4:$4,0)),\nMOD($A27,4)=2,INDEX(配送情報書!$A:$BK,QUOTIENT($A27,4)+5,MATCH(\"メール④\",配送情報書!$4:$4,0)),\nMOD($A27,4)=3,INDEX(配送情報書!$A:$BK,QUOTIENT($A27,4)+5,MATCH(\"メール⑤\",配送情報書!$4:$4,0)))","v":0},null,"*"]
[20,{"$f":"IF(AND($F28=0,$H28=0),\"\",INDEX(配送情報書!$A:$BK,QUOTIENT($A28,4)+5,MATCH(\"案件ID\",配送情報書!$4:$4,0)))","v":""},{"$f":"IF(B28<>\"\",INDEX(配送情報書!$A:$BK,QUOTIENT($A28,4)+5,MATCH(\"受取者の企業名\",配送情報書!$4:$4,0)),\"\")","v":""},"",null,{"$f":"_xlfn.IFS(MOD($A28,4)=0,INDEX(配送情報書!$A:$BK,QUOTIENT($A28,4)+5,MATCH(\"名前②\",配送情報書!$4:$4,0)),\nMOD($A28,4)=1,INDEX(配送情報書!$A:$BK,QUOTIENT($A28,4)+5,MATCH(\"名前③\",配送情報書!$4:$4,0)),\nMOD($A28,4)=2,INDEX(配送情報書!$A:$BK,QUOTIENT($A28,4)+5,MATCH(\"名前④\",配送情報書!$4:$4,0)),\nMOD($A28,4)=3,INDEX(配送情報書!$A:$BK,QUOTIENT($A28,4)+5,MATCH(\"名前⑤\",配送情報書!$4:$4,0)))","v":0},{"$f":"IF(B28<>\"\",INDEX(配送情報書!$A:$BK,QUOTIENT($A28,4)+5,MATCH(\"電話番号（陽性者発生時の連絡用）\"&\"*\",配送情報書!$4:$4,0)),\"\")","v":""},{"$f":"_xlfn.IFS(MOD($A28,4)=0,INDEX(配送情報書!$A:$BK,QUOTIENT($A28,4)+5,MATCH(\"メール②\",配送情報書!$4:$4,0)),\nMOD($A28,4)=1,INDEX(配送情報書!$A:$BK,QUOTIENT($A28,4)+5,MATCH(\"メール③\",配送情報書!$4:$4,0)),\nMOD($A28,4)=2,INDEX(配送情報書!$A:$BK,QUOTIENT($A28,4)+5,MATCH(\"メール④\",配送情報書!$4:$4,0)),\nMOD($A28,4)=3,INDEX(配送情報書!$A:$BK,QUOTIENT($A28,4)+5,MATCH(\"メール⑤\",配送情報書!$4:$4,0)))","v":0},null,"*"]
[21,{"$f":"IF(AND($F29=0,$H29=0),\"\",INDEX(配送情報書!$A:$BK,QUOTIENT($A29,4)+5,MATCH(\"案件ID\",配送情報書!$4:$4,0)))","v":""},{"$f":"IF(B29<>\"\",INDEX(配送情報書!$A:$BK,QUOTIENT($A29,4)+5,MATCH(\"受取者の企業名\",配送情報書!$4:$4,0)),\"\")","v":""},"",null,{"$f":"_xlfn.IFS(MOD($A29,4)=0,INDEX(配送情報書!$A:$BK,QUOTIENT($A29,4)+5,MATCH(\"名前②\",配送情報書!$4:$4,0)),\nMOD($A29,4)=1,INDEX(配送情報書!$A:$BK,QUOTIENT($A29,4)+5,MATCH(\"名前③\",配送情報書!$4:$4,0)),\nMOD($A29,4)=2,INDEX(配送情報書!$A:$BK,QUOTIENT($A29,4)+5,MATCH(\"名前④\",配送情報書!$4:$4,0)),\nMOD($A29,4)=3,INDEX(配送情報書!$A:$BK,QUOTIENT($A29,4)+5,MATCH(\"名前⑤\",配送情報書!$4:$4,0)))","v":0},{"$f":"IF(B29<>\"\",INDEX(配送情報書!$A:$BK,QUOTIENT($A29,4)+5,MATCH(\"電話番号（陽性者発生時の連絡用）\"&\"*\",配送情報書!$4:$4,0)),\"\")","v":""},{"$f":"_xlfn.IFS(MOD($A29,4)=0,INDEX(配送情報書!$A:$BK,QUOTIENT($A29,4)+5,MATCH(\"メール②\",配送情報書!$4:$4,0)),\nMOD($A29,4)=1,INDEX(配送情報書!$A:$BK,QUOTIENT($A29,4)+5,MATCH(\"メール③\",配送情報書!$4:$4,0)),\nMOD($A29,4)=2,INDEX(配送情報書!$A:$BK,QUOTIENT($A29,4)+5,MATCH(\"メール④\",配送情報書!$4:$4,0)),\nMOD($A29,4)=3,INDEX(配送情報書!$A:$BK,QUOTIENT($A29,4)+5,MATCH(\"メール⑤\",配送情報書!$4:$4,0)))","v":0},null,"*"]
[22,{"$f":"IF(AND($F30=0,$H30=0),\"\",INDEX(配送情報書!$A:$BK,QUOTIENT($A30,4)+5,MATCH(\"案件ID\",配送情報書!$4:$4,0)))","v":""},{"$f":"IF(B30<>\"\",INDEX(配送情報書!$A:$BK,QUOTIENT($A30,4)+5,MATCH(\"受取者の企業名\",配送情報書!$4:$4,0)),\"\")","v":""},"",null,{"$f":"_xlfn.IFS(MOD($A30,4)=0,INDEX(配送情報書!$A:$BK,QUOTIENT($A30,4)+5,MATCH(\"名前②\",配送情報書!$4:$4,0)),\nMOD($A30,4)=1,INDEX(配送情報書!$A:$BK,QUOTIENT($A30,4)+5,MATCH(\"名前③\",配送情報書!$4:$4,0)),\nMOD($A30,4)=2,INDEX(配送情報書!$A:$BK,QUOTIENT($A30,4)+5,MATCH(\"名前④\",配送情報書!$4:$4,0)),\nMOD($A30,4)=3,INDEX(配送情報書!$A:$BK,QUOTIENT($A30,4)+5,MATCH(\"名前⑤\",配送情報書!$4:$4,0)))","v":0},{"$f":"IF(B30<>\"\",INDEX(配送情報書!$A:$BK,QUOTIENT($A30,4)+5,MATCH(\"電話番号（陽性者発生時の連絡用）\"&\"*\",配送情報書!$4:$4,0)),\"\")","v":""},{"$f":"_xlfn.IFS(MOD($A30,4)=0,INDEX(配送情報書!$A:$BK,QUOTIENT($A30,4)+5,MATCH(\"メール②\",配送情報書!$4:$4,0)),\nMOD($A30,4)=1,INDEX(配送情報書!$A:$BK,QUOTIENT($A30,4)+5,MATCH(\"メール③\",配送情報書!$4:$4,0)),\nMOD($A30,4)=2,INDEX(配送情報書!$A:$BK,QUOTIENT($A30,4)+5,MATCH(\"メール④\",配送情報書!$4:$4,0)),\nMOD($A30,4)=3,INDEX(配送情報書!$A:$BK,QUOTIENT($A30,4)+5,MATCH(\"メール⑤\",配送情報書!$4:$4,0)))","v":0},null,"*"]
[23,{"$f":"IF(AND($F31=0,$H31=0),\"\",INDEX(配送情報書!$A:$BK,QUOTIENT($A31,4)+5,MATCH(\"案件ID\",配送情報書!$4:$4,0)))","v":""},{"$f":"IF(B31<>\"\",INDEX(配送情報書!$A:$BK,QUOTIENT($A31,4)+5,MATCH(\"受取者の企業名\",配送情報書!$4:$4,0)),\"\")","v":""},"",null,{"$f":"_xlfn.IFS(MOD($A31,4)=0,INDEX(配送情報書!$A:$BK,QUOTIENT($A31,4)+5,MATCH(\"名前②\",配送情報書!$4:$4,0)),\nMOD($A31,4)=1,INDEX(配送情報書!$A:$BK,QUOTIENT($A31,4)+5,MATCH(\"名前③\",配送情報書!$4:$4,0)),\nMOD($A31,4)=2,INDEX(配送情報書!$A:$BK,QUOTIENT($A31,4)+5,MATCH(\"名前④\",配送情報書!$4:$4,0)),\nMOD($A31,4)=3,INDEX(配送情報書!$A:$BK,QUOTIENT($A31,4)+5,MATCH(\"名前⑤\",配送情報書!$4:$4,0)))","v":0},{"$f":"IF(B31<>\"\",INDEX(配送情報書!$A:$BK,QUOTIENT($A31,4)+5,MATCH(\"電話番号（陽性者発生時の連絡用）\"&\"*\",配送情報書!$4:$4,0)),\"\")","v":""},{"$f":"_xlfn.IFS(MOD($A31,4)=0,INDEX(配送情報書!$A:$BK,QUOTIENT($A31,4)+5,MATCH(\"メール②\",配送情報書!$4:$4,0)),\nMOD($A31,4)=1,INDEX(配送情報書!$A:$BK,QUOTIENT($A31,4)+5,MATCH(\"メール③\",配送情報書!$4:$4,0)),\nMOD($A31,4)=2,INDEX(配送情報書!$A:$BK,QUOTIENT($A31,4)+5,MATCH(\"メール④\",配送情報書!$4:$4,0)),\nMOD($A31,4)=3,INDEX(配送情報書!$A:$BK,QUOTIENT($A31,4)+5,MATCH(\"メール⑤\",配送情報書!$4:$4,0)))","v":0},null,"*"]
[24,{"$f":"IF(AND($F32=0,$H32=0),\"\",INDEX(配送情報書!$A:$BK,QUOTIENT($A32,4)+5,MATCH(\"案件ID\",配送情報書!$4:$4,0)))","v":""},{"$f":"IF(B32<>\"\",INDEX(配送情報書!$A:$BK,QUOTIENT($A32,4)+5,MATCH(\"受取者の企業名\",配送情報書!$4:$4,0)),\"\")","v":""},"",null,{"$f":"_xlfn.IFS(MOD($A32,4)=0,INDEX(配送情報書!$A:$BK,QUOTIENT($A32,4)+5,MATCH(\"名前②\",配送情報書!$4:$4,0)),\nMOD($A32,4)=1,INDEX(配送情報書!$A:$BK,QUOTIENT($A32,4)+5,MATCH(\"名前③\",配送情報書!$4:$4,0)),\nMOD($A32,4)=2,INDEX(配送情報書!$A:$BK,QUOTIENT($A32,4)+5,MATCH(\"名前④\",配送情報書!$4:$4,0)),\nMOD($A32,4)=3,INDEX(配送情報書!$A:$BK,QUOTIENT($A32,4)+5,MATCH(\"名前⑤\",配送情報書!$4:$4,0)))","v":0},{"$f":"IF(B32<>\"\",INDEX(配送情報書!$A:$BK,QUOTIENT($A32,4)+5,MATCH(\"電話番号（陽性者発生時の連絡用）\"&\"*\",配送情報書!$4:$4,0)),\"\")","v":""},{"$f":"_xlfn.IFS(MOD($A32,4)=0,INDEX(配送情報書!$A:$BK,QUOTIENT($A32,4)+5,MATCH(\"メール②\",配送情報書!$4:$4,0)),\nMOD($A32,4)=1,INDEX(配送情報書!$A:$BK,QUOTIENT($A32,4)+5,MATCH(\"メール③\",配送情報書!$4:$4,0)),\nMOD($A32,4)=2,INDEX(配送情報書!$A:$BK,QUOTIENT($A32,4)+5,MATCH(\"メール④\",配送情報書!$4:$4,0)),\nMOD($A32,4)=3,INDEX(配送情報書!$A:$BK,QUOTIENT($A32,4)+5,MATCH(\"メール⑤\",配送情報書!$4:$4,0)))","v":0},null,"*"]
[25,{"$f":"IF(AND($F33=0,$H33=0),\"\",INDEX(配送情報書!$A:$BK,QUOTIENT($A33,4)+5,MATCH(\"案件ID\",配送情報書!$4:$4,0)))","v":""},{"$f":"IF(B33<>\"\",INDEX(配送情報書!$A:$BK,QUOTIENT($A33,4)+5,MATCH(\"受取者の企業名\",配送情報書!$4:$4,0)),\"\")","v":""},"",null,{"$f":"_xlfn.IFS(MOD($A33,4)=0,INDEX(配送情報書!$A:$BK,QUOTIENT($A33,4)+5,MATCH(\"名前②\",配送情報書!$4:$4,0)),\nMOD($A33,4)=1,INDEX(配送情報書!$A:$BK,QUOTIENT($A33,4)+5,MATCH(\"名前③\",配送情報書!$4:$4,0)),\nMOD($A33,4)=2,INDEX(配送情報書!$A:$BK,QUOTIENT($A33,4)+5,MATCH(\"名前④\",配送情報書!$4:$4,0)),\nMOD($A33,4)=3,INDEX(配送情報書!$A:$BK,QUOTIENT($A33,4)+5,MATCH(\"名前⑤\",配送情報書!$4:$4,0)))","v":0},{"$f":"IF(B33<>\"\",INDEX(配送情報書!$A:$BK,QUOTIENT($A33,4)+5,MATCH(\"電話番号（陽性者発生時の連絡用）\"&\"*\",配送情報書!$4:$4,0)),\"\")","v":""},{"$f":"_xlfn.IFS(MOD($A33,4)=0,INDEX(配送情報書!$A:$BK,QUOTIENT($A33,4)+5,MATCH(\"メール②\",配送情報書!$4:$4,0)),\nMOD($A33,4)=1,INDEX(配送情報書!$A:$BK,QUOTIENT($A33,4)+5,MATCH(\"メール③\",配送情報書!$4:$4,0)),\nMOD($A33,4)=2,INDEX(配送情報書!$A:$BK,QUOTIENT($A33,4)+5,MATCH(\"メール④\",配送情報書!$4:$4,0)),\nMOD($A33,4)=3,INDEX(配送情報書!$A:$BK,QUOTIENT($A33,4)+5,MATCH(\"メール⑤\",配送情報書!$4:$4,0)))","v":0},null,"*"]
[26,{"$f":"IF(AND($F34=0,$H34=0),\"\",INDEX(配送情報書!$A:$BK,QUOTIENT($A34,4)+5,MATCH(\"案件ID\",配送情報書!$4:$4,0)))","v":""},{"$f":"IF(B34<>\"\",INDEX(配送情報書!$A:$BK,QUOTIENT($A34,4)+5,MATCH(\"受取者の企業名\",配送情報書!$4:$4,0)),\"\")","v":""},"",null,{"$f":"_xlfn.IFS(MOD($A34,4)=0,INDEX(配送情報書!$A:$BK,QUOTIENT($A34,4)+5,MATCH(\"名前②\",配送情報書!$4:$4,0)),\nMOD($A34,4)=1,INDEX(配送情報書!$A:$BK,QUOTIENT($A34,4)+5,MATCH(\"名前③\",配送情報書!$4:$4,0)),\nMOD($A34,4)=2,INDEX(配送情報書!$A:$BK,QUOTIENT($A34,4)+5,MATCH(\"名前④\",配送情報書!$4:$4,0)),\nMOD($A34,4)=3,INDEX(配送情報書!$A:$BK,QUOTIENT($A34,4)+5,MATCH(\"名前⑤\",配送情報書!$4:$4,0)))","v":0},{"$f":"IF(B34<>\"\",INDEX(配送情報書!$A:$BK,QUOTIENT($A34,4)+5,MATCH(\"電話番号（陽性者発生時の連絡用）\"&\"*\",配送情報書!$4:$4,0)),\"\")","v":""},{"$f":"_xlfn.IFS(MOD($A34,4)=0,INDEX(配送情報書!$A:$BK,QUOTIENT($A34,4)+5,MATCH(\"メール②\",配送情報書!$4:$4,0)),\nMOD($A34,4)=1,INDEX(配送情報書!$A:$BK,QUOTIENT($A34,4)+5,MATCH(\"メール③\",配送情報書!$4:$4,0)),\nMOD($A34,4)=2,INDEX(配送情報書!$A:$BK,QUOTIENT($A34,4)+5,MATCH(\"メール④\",配送情報書!$4:$4,0)),\nMOD($A34,4)=3,INDEX(配送情報書!$A:$BK,QUOTIENT($A34,4)+5,MATCH(\"メール⑤\",配送情報書!$4:$4,0)))","v":0},null,"*"]
[27,{"$f":"IF(AND($F35=0,$H35=0),\"\",INDEX(配送情報書!$A:$BK,QUOTIENT($A35,4)+5,MATCH(\"案件ID\",配送情報書!$4:$4,0)))","v":""},{"$f":"IF(B35<>\"\",INDEX(配送情報書!$A:$BK,QUOTIENT($A35,4)+5,MATCH(\"受取者の企業名\",配送情報書!$4:$4,0)),\"\")","v":""},"",null,{"$f":"_xlfn.IFS(MOD($A35,4)=0,INDEX(配送情報書!$A:$BK,QUOTIENT($A35,4)+5,MATCH(\"名前②\",配送情報書!$4:$4,0)),\nMOD($A35,4)=1,INDEX(配送情報書!$A:$BK,QUOTIENT($A35,4)+5,MATCH(\"名前③\",配送情報書!$4:$4,0)),\nMOD($A35,4)=2,INDEX(配送情報書!$A:$BK,QUOTIENT($A35,4)+5,MATCH(\"名前④\",配送情報書!$4:$4,0)),\nMOD($A35,4)=3,INDEX(配送情報書!$A:$BK,QUOTIENT($A35,4)+5,MATCH(\"名前⑤\",配送情報書!$4:$4,0)))","v":0},{"$f":"IF(B35<>\"\",INDEX(配送情報書!$A:$BK,QUOTIENT($A35,4)+5,MATCH(\"電話番号（陽性者発生時の連絡用）\"&\"*\",配送情報書!$4:$4,0)),\"\")","v":""},{"$f":"_xlfn.IFS(MOD($A35,4)=0,INDEX(配送情報書!$A:$BK,QUOTIENT($A35,4)+5,MATCH(\"メール②\",配送情報書!$4:$4,0)),\nMOD($A35,4)=1,INDEX(配送情報書!$A:$BK,QUOTIENT($A35,4)+5,MATCH(\"メール③\",配送情報書!$4:$4,0)),\nMOD($A35,4)=2,INDEX(配送情報書!$A:$BK,QUOTIENT($A35,4)+5,MATCH(\"メール④\",配送情報書!$4:$4,0)),\nMOD($A35,4)=3,INDEX(配送情報書!$A:$BK,QUOTIENT($A35,4)+5,MATCH(\"メール⑤\",配送情報書!$4:$4,0)))","v":0},null,"*"]
[28,{"$f":"IF(AND($F36=0,$H36=0),\"\",INDEX(配送情報書!$A:$BK,QUOTIENT($A36,4)+5,MATCH(\"案件ID\",配送情報書!$4:$4,0)))","v":""},{"$f":"IF(B36<>\"\",INDEX(配送情報書!$A:$BK,QUOTIENT($A36,4)+5,MATCH(\"受取者の企業名\",配送情報書!$4:$4,0)),\"\")","v":""},"",null,{"$f":"_xlfn.IFS(MOD($A36,4)=0,INDEX(配送情報書!$A:$BK,QUOTIENT($A36,4)+5,MATCH(\"名前②\",配送情報書!$4:$4,0)),\nMOD($A36,4)=1,INDEX(配送情報書!$A:$BK,QUOTIENT($A36,4)+5,MATCH(\"名前③\",配送情報書!$4:$4,0)),\nMOD($A36,4)=2,INDEX(配送情報書!$A:$BK,QUOTIENT($A36,4)+5,MATCH(\"名前④\",配送情報書!$4:$4,0)),\nMOD($A36,4)=3,INDEX(配送情報書!$A:$BK,QUOTIENT($A36,4)+5,MATCH(\"名前⑤\",配送情報書!$4:$4,0)))","v":0},{"$f":"IF(B36<>\"\",INDEX(配送情報書!$A:$BK,QUOTIENT($A36,4)+5,MATCH(\"電話番号（陽性者発生時の連絡用）\"&\"*\",配送情報書!$4:$4,0)),\"\")","v":""},{"$f":"_xlfn.IFS(MOD($A36,4)=0,INDEX(配送情報書!$A:$BK,QUOTIENT($A36,4)+5,MATCH(\"メール②\",配送情報書!$4:$4,0)),\nMOD($A36,4)=1,INDEX(配送情報書!$A:$BK,QUOTIENT($A36,4)+5,MATCH(\"メール③\",配送情報書!$4:$4,0)),\nMOD($A36,4)=2,INDEX(配送情報書!$A:$BK,QUOTIENT($A36,4)+5,MATCH(\"メール④\",配送情報書!$4:$4,0)),\nMOD($A36,4)=3,INDEX(配送情報書!$A:$BK,QUOTIENT($A36,4)+5,MATCH(\"メール⑤\",配送情報書!$4:$4,0)))","v":0},null,"*"]
[29,{"$f":"IF(AND($F37=0,$H37=0),\"\",INDEX(配送情報書!$A:$BK,QUOTIENT($A37,4)+5,MATCH(\"案件ID\",配送情報書!$4:$4,0)))","v":""},{"$f":"IF(B37<>\"\",INDEX(配送情報書!$A:$BK,QUOTIENT($A37,4)+5,MATCH(\"受取者の企業名\",配送情報書!$4:$4,0)),\"\")","v":""},"",null,{"$f":"_xlfn.IFS(MOD($A37,4)=0,INDEX(配送情報書!$A:$BK,QUOTIENT($A37,4)+5,MATCH(\"名前②\",配送情報書!$4:$4,0)),\nMOD($A37,4)=1,INDEX(配送情報書!$A:$BK,QUOTIENT($A37,4)+5,MATCH(\"名前③\",配送情報書!$4:$4,0)),\nMOD($A37,4)=2,INDEX(配送情報書!$A:$BK,QUOTIENT($A37,4)+5,MATCH(\"名前④\",配送情報書!$4:$4,0)),\nMOD($A37,4)=3,INDEX(配送情報書!$A:$BK,QUOTIENT($A37,4)+5,MATCH(\"名前⑤\",配送情報書!$4:$4,0)))","v":0},{"$f":"IF(B37<>\"\",INDEX(配送情報書!$A:$BK,QUOTIENT($A37,4)+5,MATCH(\"電話番号（陽性者発生時の連絡用）\"&\"*\",配送情報書!$4:$4,0)),\"\")","v":""},{"$f":"_xlfn.IFS(MOD($A37,4)=0,INDEX(配送情報書!$A:$BK,QUOTIENT($A37,4)+5,MATCH(\"メール②\",配送情報書!$4:$4,0)),\nMOD($A37,4)=1,INDEX(配送情報書!$A:$BK,QUOTIENT($A37,4)+5,MATCH(\"メール③\",配送情報書!$4:$4,0)),\nMOD($A37,4)=2,INDEX(配送情報書!$A:$BK,QUOTIENT($A37,4)+5,MATCH(\"メール④\",配送情報書!$4:$4,0)),\nMOD($A37,4)=3,INDEX(配送情報書!$A:$BK,QUOTIENT($A37,4)+5,MATCH(\"メール⑤\",配送情報書!$4:$4,0)))","v":0},null,"*"]
[30,{"$f":"IF(AND($F38=0,$H38=0),\"\",INDEX(配送情報書!$A:$BK,QUOTIENT($A38,4)+5,MATCH(\"案件ID\",配送情報書!$4:$4,0)))","v":""},{"$f":"IF(B38<>\"\",INDEX(配送情報書!$A:$BK,QUOTIENT($A38,4)+5,MATCH(\"受取者の企業名\",配送情報書!$4:$4,0)),\"\")","v":""},"",null,{"$f":"_xlfn.IFS(MOD($A38,4)=0,INDEX(配送情報書!$A:$BK,QUOTIENT($A38,4)+5,MATCH(\"名前②\",配送情報書!$4:$4,0)),\nMOD($A38,4)=1,INDEX(配送情報書!$A:$BK,QUOTIENT($A38,4)+5,MATCH(\"名前③\",配送情報書!$4:$4,0)),\nMOD($A38,4)=2,INDEX(配送情報書!$A:$BK,QUOTIENT($A38,4)+5,MATCH(\"名前④\",配送情報書!$4:$4,0)),\nMOD($A38,4)=3,INDEX(配送情報書!$A:$BK,QUOTIENT($A38,4)+5,MATCH(\"名前⑤\",配送情報書!$4:$4,0)))","v":0},{"$f":"IF(B38<>\"\",INDEX(配送情報書!$A:$BK,QUOTIENT($A38,4)+5,MATCH(\"電話番号（陽性者発生時の連絡用）\"&\"*\",配送情報書!$4:$4,0)),\"\")","v":""},{"$f":"_xlfn.IFS(MOD($A38,4)=0,INDEX(配送情報書!$A:$BK,QUOTIENT($A38,4)+5,MATCH(\"メール②\",配送情報書!$4:$4,0)),\nMOD($A38,4)=1,INDEX(配送情報書!$A:$BK,QUOTIENT($A38,4)+5,MATCH(\"メール③\",配送情報書!$4:$4,0)),\nMOD($A38,4)=2,INDEX(配送情報書!$A:$BK,QUOTIENT($A38,4)+5,MATCH(\"メール④\",配送情報書!$4:$4,0)),\nMOD($A38,4)=3,INDEX(配送情報書!$A:$BK,QUOTIENT($A38,4)+5,MATCH(\"メール⑤\",配送情報書!$4:$4,0)))","v":0},null,"*"]
[31,{"$f":"IF(AND($F39=0,$H39=0),\"\",INDEX(配送情報書!$A:$BK,QUOTIENT($A39,4)+5,MATCH(\"案件ID\",配送情報書!$4:$4,0)))","v":""},{"$f":"IF(B39<>\"\",INDEX(配送情報書!$A:$BK,QUOTIENT($A39,4)+5,MATCH(\"受取者の企業名\",配送情報書!$4:$4,0)),\"\")","v":""},"",null,{"$f":"_xlfn.IFS(MOD($A39,4)=0,INDEX(配送情報書!$A:$BK,QUOTIENT($A39,4)+5,MATCH(\"名前②\",配送情報書!$4:$4,0)),\nMOD($A39,4)=1,INDEX(配送情報書!$A:$BK,QUOTIENT($A39,4)+5,MATCH(\"名前③\",配送情報書!$4:$4,0)),\nMOD($A39,4)=2,INDEX(配送情報書!$A:$BK,QUOTIENT($A39,4)+5,MATCH(\"名前④\",配送情報書!$4:$4,0)),\nMOD($A39,4)=3,INDEX(配送情報書!$A:$BK,QUOTIENT($A39,4)+5,MATCH(\"名前⑤\",配送情報書!$4:$4,0)))","v":0},{"$f":"IF(B39<>\"\",INDEX(配送情報書!$A:$BK,QUOTIENT($A39,4)+5,MATCH(\"電話番号（陽性者発生時の連絡用）\"&\"*\",配送情報書!$4:$4,0)),\"\")","v":""},{"$f":"_xlfn.IFS(MOD($A39,4)=0,INDEX(配送情報書!$A:$BK,QUOTIENT($A39,4)+5,MATCH(\"メール②\",配送情報書!$4:$4,0)),\nMOD($A39,4)=1,INDEX(配送情報書!$A:$BK,QUOTIENT($A39,4)+5,MATCH(\"メール③\",配送情報書!$4:$4,0)),\nMOD($A39,4)=2,INDEX(配送情報書!$A:$BK,QUOTIENT($A39,4)+5,MATCH(\"メール④\",配送情報書!$4:$4,0)),\nMOD($A39,4)=3,INDEX(配送情報書!$A:$BK,QUOTIENT($A39,4)+5,MATCH(\"メール⑤\",配送情報書!$4:$4,0)))","v":0},null,"*"]
[32,{"$f":"IF(AND($F40=0,$H40=0),\"\",INDEX(配送情報書!$A:$BK,QUOTIENT($A40,4)+5,MATCH(\"案件ID\",配送情報書!$4:$4,0)))","v":""},{"$f":"IF(B40<>\"\",INDEX(配送情報書!$A:$BK,QUOTIENT($A40,4)+5,MATCH(\"受取者の企業名\",配送情報書!$4:$4,0)),\"\")","v":""},"",null,{"$f":"_xlfn.IFS(MOD($A40,4)=0,INDEX(配送情報書!$A:$BK,QUOTIENT($A40,4)+5,MATCH(\"名前②\",配送情報書!$4:$4,0)),\nMOD($A40,4)=1,INDEX(配送情報書!$A:$BK,QUOTIENT($A40,4)+5,MATCH(\"名前③\",配送情報書!$4:$4,0)),\nMOD($A40,4)=2,INDEX(配送情報書!$A:$BK,QUOTIENT($A40,4)+5,MATCH(\"名前④\",配送情報書!$4:$4,0)),\nMOD($A40,4)=3,INDEX(配送情報書!$A:$BK,QUOTIENT($A40,4)+5,MATCH(\"名前⑤\",配送情報書!$4:$4,0)))","v":0},{"$f":"IF(B40<>\"\",INDEX(配送情報書!$A:$BK,QUOTIENT($A40,4)+5,MATCH(\"電話番号（陽性者発生時の連絡用）\"&\"*\",配送情報書!$4:$4,0)),\"\")","v":""},{"$f":"_xlfn.IFS(MOD($A40,4)=0,INDEX(配送情報書!$A:$BK,QUOTIENT($A40,4)+5,MATCH(\"メール②\",配送情報書!$4:$4,0)),\nMOD($A40,4)=1,INDEX(配送情報書!$A:$BK,QUOTIENT($A40,4)+5,MATCH(\"メール③\",配送情報書!$4:$4,0)),\nMOD($A40,4)=2,INDEX(配送情報書!$A:$BK,QUOTIENT($A40,4)+5,MATCH(\"メール④\",配送情報書!$4:$4,0)),\nMOD($A40,4)=3,INDEX(配送情報書!$A:$BK,QUOTIENT($A40,4)+5,MATCH(\"メール⑤\",配送情報書!$4:$4,0)))","v":0},null,"*"]
[33,{"$f":"IF(AND($F41=0,$H41=0),\"\",INDEX(配送情報書!$A:$BK,QUOTIENT($A41,4)+5,MATCH(\"案件ID\",配送情報書!$4:$4,0)))","v":""},{"$f":"IF(B41<>\"\",INDEX(配送情報書!$A:$BK,QUOTIENT($A41,4)+5,MATCH(\"受取者の企業名\",配送情報書!$4:$4,0)),\"\")","v":""},"",null,{"$f":"_xlfn.IFS(MOD($A41,4)=0,INDEX(配送情報書!$A:$BK,QUOTIENT($A41,4)+5,MATCH(\"名前②\",配送情報書!$4:$4,0)),\nMOD($A41,4)=1,INDEX(配送情報書!$A:$BK,QUOTIENT($A41,4)+5,MATCH(\"名前③\",配送情報書!$4:$4,0)),\nMOD($A41,4)=2,INDEX(配送情報書!$A:$BK,QUOTIENT($A41,4)+5,MATCH(\"名前④\",配送情報書!$4:$4,0)),\nMOD($A41,4)=3,INDEX(配送情報書!$A:$BK,QUOTIENT($A41,4)+5,MATCH(\"名前⑤\",配送情報書!$4:$4,0)))","v":0},{"$f":"IF(B41<>\"\",INDEX(配送情報書!$A:$BK,QUOTIENT($A41,4)+5,MATCH(\"電話番号（陽性者発生時の連絡用）\"&\"*\",配送情報書!$4:$4,0)),\"\")","v":""},{"$f":"_xlfn.IFS(MOD($A41,4)=0,INDEX(配送情報書!$A:$BK,QUOTIENT($A41,4)+5,MATCH(\"メール②\",配送情報書!$4:$4,0)),\nMOD($A41,4)=1,INDEX(配送情報書!$A:$BK,QUOTIENT($A41,4)+5,MATCH(\"メール③\",配送情報書!$4:$4,0)),\nMOD($A41,4)=2,INDEX(配送情報書!$A:$BK,QUOTIENT($A41,4)+5,MATCH(\"メール④\",配送情報書!$4:$4,0)),\nMOD($A41,4)=3,INDEX(配送情報書!$A:$BK,QUOTIENT($A41,4)+5,MATCH(\"メール⑤\",配送情報書!$4:$4,0)))","v":0},null,"*"]
[34,{"$f":"IF(AND($F42=0,$H42=0),\"\",INDEX(配送情報書!$A:$BK,QUOTIENT($A42,4)+5,MATCH(\"案件ID\",配送情報書!$4:$4,0)))","v":""},{"$f":"IF(B42<>\"\",INDEX(配送情報書!$A:$BK,QUOTIENT($A42,4)+5,MATCH(\"受取者の企業名\",配送情報書!$4:$4,0)),\"\")","v":""},"",null,{"$f":"_xlfn.IFS(MOD($A42,4)=0,INDEX(配送情報書!$A:$BK,QUOTIENT($A42,4)+5,MATCH(\"名前②\",配送情報書!$4:$4,0)),\nMOD($A42,4)=1,INDEX(配送情報書!$A:$BK,QUOTIENT($A42,4)+5,MATCH(\"名前③\",配送情報書!$4:$4,0)),\nMOD($A42,4)=2,INDEX(配送情報書!$A:$BK,QUOTIENT($A42,4)+5,MATCH(\"名前④\",配送情報書!$4:$4,0)),\nMOD($A42,4)=3,INDEX(配送情報書!$A:$BK,QUOTIENT($A42,4)+5,MATCH(\"名前⑤\",配送情報書!$4:$4,0)))","v":0},{"$f":"IF(B42<>\"\",INDEX(配送情報書!$A:$BK,QUOTIENT($A42,4)+5,MATCH(\"電話番号（陽性者発生時の連絡用）\"&\"*\",配送情報書!$4:$4,0)),\"\")","v":""},{"$f":"_xlfn.IFS(MOD($A42,4)=0,INDEX(配送情報書!$A:$BK,QUOTIENT($A42,4)+5,MATCH(\"メール②\",配送情報書!$4:$4,0)),\nMOD($A42,4)=1,INDEX(配送情報書!$A:$BK,QUOTIENT($A42,4)+5,MATCH(\"メール③\",配送情報書!$4:$4,0)),\nMOD($A42,4)=2,INDEX(配送情報書!$A:$BK,QUOTIENT($A42,4)+5,MATCH(\"メール④\",配送情報書!$4:$4,0)),\nMOD($A42,4)=3,INDEX(配送情報書!$A:$BK,QUOTIENT($A42,4)+5,MATCH(\"メール⑤\",配送情報書!$4:$4,0)))","v":0},null,"*"]
[35,{"$f":"IF(AND($F43=0,$H43=0),\"\",INDEX(配送情報書!$A:$BK,QUOTIENT($A43,4)+5,MATCH(\"案件ID\",配送情報書!$4:$4,0)))","v":""},{"$f":"IF(B43<>\"\",INDEX(配送情報書!$A:$BK,QUOTIENT($A43,4)+5,MATCH(\"受取者の企業名\",配送情報書!$4:$4,0)),\"\")","v":""},"",null,{"$f":"_xlfn.IFS(MOD($A43,4)=0,INDEX(配送情報書!$A:$BK,QUOTIENT($A43,4)+5,MATCH(\"名前②\",配送情報書!$4:$4,0)),\nMOD($A43,4)=1,INDEX(配送情報書!$A:$BK,QUOTIENT($A43,4)+5,MATCH(\"名前③\",配送情報書!$4:$4,0)),\nMOD($A43,4)=2,INDEX(配送情報書!$A:$BK,QUOTIENT($A43,4)+5,MATCH(\"名前④\",配送情報書!$4:$4,0)),\nMOD($A43,4)=3,INDEX(配送情報書!$A:$BK,QUOTIENT($A43,4)+5,MATCH(\"名前⑤\",配送情報書!$4:$4,0)))","v":0},{"$f":"IF(B43<>\"\",INDEX(配送情報書!$A:$BK,QUOTIENT($A43,4)+5,MATCH(\"電話番号（陽性者発生時の連絡用）\"&\"*\",配送情報書!$4:$4,0)),\"\")","v":""},{"$f":"_xlfn.IFS(MOD($A43,4)=0,INDEX(配送情報書!$A:$BK,QUOTIENT($A43,4)+5,MATCH(\"メール②\",配送情報書!$4:$4,0)),\nMOD($A43,4)=1,INDEX(配送情報書!$A:$BK,QUOTIENT($A43,4)+5,MATCH(\"メール③\",配送情報書!$4:$4,0)),\nMOD($A43,4)=2,INDEX(配送情報書!$A:$BK,QUOTIENT($A43,4)+5,MATCH(\"メール④\",配送情報書!$4:$4,0)),\nMOD($A43,4)=3,INDEX(配送情報書!$A:$BK,QUOTIENT($A43,4)+5,MATCH(\"メール⑤\",配送情報書!$4:$4,0)))","v":0},null,"*"]
[36,{"$f":"IF(AND($F44=0,$H44=0),\"\",INDEX(配送情報書!$A:$BK,QUOTIENT($A44,4)+5,MATCH(\"案件ID\",配送情報書!$4:$4,0)))","v":""},{"$f":"IF(B44<>\"\",INDEX(配送情報書!$A:$BK,QUOTIENT($A44,4)+5,MATCH(\"受取者の企業名\",配送情報書!$4:$4,0)),\"\")","v":""},"",null,{"$f":"_xlfn.IFS(MOD($A44,4)=0,INDEX(配送情報書!$A:$BK,QUOTIENT($A44,4)+5,MATCH(\"名前②\",配送情報書!$4:$4,0)),\nMOD($A44,4)=1,INDEX(配送情報書!$A:$BK,QUOTIENT($A44,4)+5,MATCH(\"名前③\",配送情報書!$4:$4,0)),\nMOD($A44,4)=2,INDEX(配送情報書!$A:$BK,QUOTIENT($A44,4)+5,MATCH(\"名前④\",配送情報書!$4:$4,0)),\nMOD($A44,4)=3,INDEX(配送情報書!$A:$BK,QUOTIENT($A44,4)+5,MATCH(\"名前⑤\",配送情報書!$4:$4,0)))","v":0},{"$f":"IF(B44<>\"\",INDEX(配送情報書!$A:$BK,QUOTIENT($A44,4)+5,MATCH(\"電話番号（陽性者発生時の連絡用）\"&\"*\",配送情報書!$4:$4,0)),\"\")","v":""},{"$f":"_xlfn.IFS(MOD($A44,4)=0,INDEX(配送情報書!$A:$BK,QUOTIENT($A44,4)+5,MATCH(\"メール②\",配送情報書!$4:$4,0)),\nMOD($A44,4)=1,INDEX(配送情報書!$A:$BK,QUOTIENT($A44,4)+5,MATCH(\"メール③\",配送情報書!$4:$4,0)),\nMOD($A44,4)=2,INDEX(配送情報書!$A:$BK,QUOTIENT($A44,4)+5,MATCH(\"メール④\",配送情報書!$4:$4,0)),\nMOD($A44,4)=3,INDEX(配送情報書!$A:$BK,QUOTIENT($A44,4)+5,MATCH(\"メール⑤\",配送情報書!$4:$4,0)))","v":0},null,"*"]
[37,{"$f":"IF(AND($F45=0,$H45=0),\"\",INDEX(配送情報書!$A:$BK,QUOTIENT($A45,4)+5,MATCH(\"案件ID\",配送情報書!$4:$4,0)))","v":""},{"$f":"IF(B45<>\"\",INDEX(配送情報書!$A:$BK,QUOTIENT($A45,4)+5,MATCH(\"受取者の企業名\",配送情報書!$4:$4,0)),\"\")","v":""},"",null,{"$f":"_xlfn.IFS(MOD($A45,4)=0,INDEX(配送情報書!$A:$BK,QUOTIENT($A45,4)+5,MATCH(\"名前②\",配送情報書!$4:$4,0)),\nMOD($A45,4)=1,INDEX(配送情報書!$A:$BK,QUOTIENT($A45,4)+5,MATCH(\"名前③\",配送情報書!$4:$4,0)),\nMOD($A45,4)=2,INDEX(配送情報書!$A:$BK,QUOTIENT($A45,4)+5,MATCH(\"名前④\",配送情報書!$4:$4,0)),\nMOD($A45,4)=3,INDEX(配送情報書!$A:$BK,QUOTIENT($A45,4)+5,MATCH(\"名前⑤\",配送情報書!$4:$4,0)))","v":0},{"$f":"IF(B45<>\"\",INDEX(配送情報書!$A:$BK,QUOTIENT($A45,4)+5,MATCH(\"電話番号（陽性者発生時の連絡用）\"&\"*\",配送情報書!$4:$4,0)),\"\")","v":""},{"$f":"_xlfn.IFS(MOD($A45,4)=0,INDEX(配送情報書!$A:$BK,QUOTIENT($A45,4)+5,MATCH(\"メール②\",配送情報書!$4:$4,0)),\nMOD($A45,4)=1,INDEX(配送情報書!$A:$BK,QUOTIENT($A45,4)+5,MATCH(\"メール③\",配送情報書!$4:$4,0)),\nMOD($A45,4)=2,INDEX(配送情報書!$A:$BK,QUOTIENT($A45,4)+5,MATCH(\"メール④\",配送情報書!$4:$4,0)),\nMOD($A45,4)=3,INDEX(配送情報書!$A:$BK,QUOTIENT($A45,4)+5,MATCH(\"メール⑤\",配送情報書!$4:$4,0)))","v":0},null,"*"]
[38,{"$f":"IF(AND($F46=0,$H46=0),\"\",INDEX(配送情報書!$A:$BK,QUOTIENT($A46,4)+5,MATCH(\"案件ID\",配送情報書!$4:$4,0)))","v":""},{"$f":"IF(B46<>\"\",INDEX(配送情報書!$A:$BK,QUOTIENT($A46,4)+5,MATCH(\"受取者の企業名\",配送情報書!$4:$4,0)),\"\")","v":""},"",null,{"$f":"_xlfn.IFS(MOD($A46,4)=0,INDEX(配送情報書!$A:$BK,QUOTIENT($A46,4)+5,MATCH(\"名前②\",配送情報書!$4:$4,0)),\nMOD($A46,4)=1,INDEX(配送情報書!$A:$BK,QUOTIENT($A46,4)+5,MATCH(\"名前③\",配送情報書!$4:$4,0)),\nMOD($A46,4)=2,INDEX(配送情報書!$A:$BK,QUOTIENT($A46,4)+5,MATCH(\"名前④\",配送情報書!$4:$4,0)),\nMOD($A46,4)=3,INDEX(配送情報書!$A:$BK,QUOTIENT($A46,4)+5,MATCH(\"名前⑤\",配送情報書!$4:$4,0)))","v":0},{"$f":"IF(B46<>\"\",INDEX(配送情報書!$A:$BK,QUOTIENT($A46,4)+5,MATCH(\"電話番号（陽性者発生時の連絡用）\"&\"*\",配送情報書!$4:$4,0)),\"\")","v":""},{"$f":"_xlfn.IFS(MOD($A46,4)=0,INDEX(配送情報書!$A:$BK,QUOTIENT($A46,4)+5,MATCH(\"メール②\",配送情報書!$4:$4,0)),\nMOD($A46,4)=1,INDEX(配送情報書!$A:$BK,QUOTIENT($A46,4)+5,MATCH(\"メール③\",配送情報書!$4:$4,0)),\nMOD($A46,4)=2,INDEX(配送情報書!$A:$BK,QUOTIENT($A46,4)+5,MATCH(\"メール④\",配送情報書!$4:$4,0)),\nMOD($A46,4)=3,INDEX(配送情報書!$A:$BK,QUOTIENT($A46,4)+5,MATCH(\"メール⑤\",配送情報書!$4:$4,0)))","v":0},null,"*"]
[39,{"$f":"IF(AND($F47=0,$H47=0),\"\",INDEX(配送情報書!$A:$BK,QUOTIENT($A47,4)+5,MATCH(\"案件ID\",配送情報書!$4:$4,0)))","v":""},{"$f":"IF(B47<>\"\",INDEX(配送情報書!$A:$BK,QUOTIENT($A47,4)+5,MATCH(\"受取者の企業名\",配送情報書!$4:$4,0)),\"\")","v":""},"",null,{"$f":"_xlfn.IFS(MOD($A47,4)=0,INDEX(配送情報書!$A:$BK,QUOTIENT($A47,4)+5,MATCH(\"名前②\",配送情報書!$4:$4,0)),\nMOD($A47,4)=1,INDEX(配送情報書!$A:$BK,QUOTIENT($A47,4)+5,MATCH(\"名前③\",配送情報書!$4:$4,0)),\nMOD($A47,4)=2,INDEX(配送情報書!$A:$BK,QUOTIENT($A47,4)+5,MATCH(\"名前④\",配送情報書!$4:$4,0)),\nMOD($A47,4)=3,INDEX(配送情報書!$A:$BK,QUOTIENT($A47,4)+5,MATCH(\"名前⑤\",配送情報書!$4:$4,0)))","v":0},{"$f":"IF(B47<>\"\",INDEX(配送情報書!$A:$BK,QUOTIENT($A47,4)+5,MATCH(\"電話番号（陽性者発生時の連絡用）\"&\"*\",配送情報書!$4:$4,0)),\"\")","v":""},{"$f":"_xlfn.IFS(MOD($A47,4)=0,INDEX(配送情報書!$A:$BK,QUOTIENT($A47,4)+5,MATCH(\"メール②\",配送情報書!$4:$4,0)),\nMOD($A47,4)=1,INDEX(配送情報書!$A:$BK,QUOTIENT($A47,4)+5,MATCH(\"メール③\",配送情報書!$4:$4,0)),\nMOD($A47,4)=2,INDEX(配送情報書!$A:$BK,QUOTIENT($A47,4)+5,MATCH(\"メール④\",配送情報書!$4:$4,0)),\nMOD($A47,4)=3,INDEX(配送情報書!$A:$BK,QUOTIENT($A47,4)+5,MATCH(\"メール⑤\",配送情報書!$4:$4,0)))","v":0},null,"*"]
[40,{"$f":"IF(AND($F48=0,$H48=0),\"\",INDEX(配送情報書!$A:$BK,QUOTIENT($A48,4)+5,MATCH(\"案件ID\",配送情報書!$4:$4,0)))","v":""},{"$f":"IF(B48<>\"\",INDEX(配送情報書!$A:$BK,QUOTIENT($A48,4)+5,MATCH(\"受取者の企業名\",配送情報書!$4:$4,0)),\"\")","v":""},"",null,{"$f":"_xlfn.IFS(MOD($A48,4)=0,INDEX(配送情報書!$A:$BK,QUOTIENT($A48,4)+5,MATCH(\"名前②\",配送情報書!$4:$4,0)),\nMOD($A48,4)=1,INDEX(配送情報書!$A:$BK,QUOTIENT($A48,4)+5,MATCH(\"名前③\",配送情報書!$4:$4,0)),\nMOD($A48,4)=2,INDEX(配送情報書!$A:$BK,QUOTIENT($A48,4)+5,MATCH(\"名前④\",配送情報書!$4:$4,0)),\nMOD($A48,4)=3,INDEX(配送情報書!$A:$BK,QUOTIENT($A48,4)+5,MATCH(\"名前⑤\",配送情報書!$4:$4,0)))","v":0},{"$f":"IF(B48<>\"\",INDEX(配送情報書!$A:$BK,QUOTIENT($A48,4)+5,MATCH(\"電話番号（陽性者発生時の連絡用）\"&\"*\",配送情報書!$4:$4,0)),\"\")","v":""},{"$f":"_xlfn.IFS(MOD($A48,4)=0,INDEX(配送情報書!$A:$BK,QUOTIENT($A48,4)+5,MATCH(\"メール②\",配送情報書!$4:$4,0)),\nMOD($A48,4)=1,INDEX(配送情報書!$A:$BK,QUOTIENT($A48,4)+5,MATCH(\"メール③\",配送情報書!$4:$4,0)),\nMOD($A48,4)=2,INDEX(配送情報書!$A:$BK,QUOTIENT($A48,4)+5,MATCH(\"メール④\",配送情報書!$4:$4,0)),\nMOD($A48,4)=3,INDEX(配送情報書!$A:$BK,QUOTIENT($A48,4)+5,MATCH(\"メール⑤\",配送情報書!$4:$4,0)))","v":0},null,"*"]
[41,{"$f":"IF(AND($F49=0,$H49=0),\"\",INDEX(配送情報書!$A:$BK,QUOTIENT($A49,4)+5,MATCH(\"案件ID\",配送情報書!$4:$4,0)))","v":""},{"$f":"IF(B49<>\"\",INDEX(配送情報書!$A:$BK,QUOTIENT($A49,4)+5,MATCH(\"受取者の企業名\",配送情報書!$4:$4,0)),\"\")","v":""},"",null,{"$f":"_xlfn.IFS(MOD($A49,4)=0,INDEX(配送情報書!$A:$BK,QUOTIENT($A49,4)+5,MATCH(\"名前②\",配送情報書!$4:$4,0)),\nMOD($A49,4)=1,INDEX(配送情報書!$A:$BK,QUOTIENT($A49,4)+5,MATCH(\"名前③\",配送情報書!$4:$4,0)),\nMOD($A49,4)=2,INDEX(配送情報書!$A:$BK,QUOTIENT($A49,4)+5,MATCH(\"名前④\",配送情報書!$4:$4,0)),\nMOD($A49,4)=3,INDEX(配送情報書!$A:$BK,QUOTIENT($A49,4)+5,MATCH(\"名前⑤\",配送情報書!$4:$4,0)))","v":0},{"$f":"IF(B49<>\"\",INDEX(配送情報書!$A:$BK,QUOTIENT($A49,4)+5,MATCH(\"電話番号（陽性者発生時の連絡用）\"&\"*\",配送情報書!$4:$4,0)),\"\")","v":""},{"$f":"_xlfn.IFS(MOD($A49,4)=0,INDEX(配送情報書!$A:$BK,QUOTIENT($A49,4)+5,MATCH(\"メール②\",配送情報書!$4:$4,0)),\nMOD($A49,4)=1,INDEX(配送情報書!$A:$BK,QUOTIENT($A49,4)+5,MATCH(\"メール③\",配送情報書!$4:$4,0)),\nMOD($A49,4)=2,INDEX(配送情報書!$A:$BK,QUOTIENT($A49,4)+5,MATCH(\"メール④\",配送情報書!$4:$4,0)),\nMOD($A49,4)=3,INDEX(配送情報書!$A:$BK,QUOTIENT($A49,4)+5,MATCH(\"メール⑤\",配送情報書!$4:$4,0)))","v":0},null,"*"]
[42,{"$f":"IF(AND($F50=0,$H50=0),\"\",INDEX(配送情報書!$A:$BK,QUOTIENT($A50,4)+5,MATCH(\"案件ID\",配送情報書!$4:$4,0)))","v":""},{"$f":"IF(B50<>\"\",INDEX(配送情報書!$A:$BK,QUOTIENT($A50,4)+5,MATCH(\"受取者の企業名\",配送情報書!$4:$4,0)),\"\")","v":""},"",null,{"$f":"_xlfn.IFS(MOD($A50,4)=0,INDEX(配送情報書!$A:$BK,QUOTIENT($A50,4)+5,MATCH(\"名前②\",配送情報書!$4:$4,0)),\nMOD($A50,4)=1,INDEX(配送情報書!$A:$BK,QUOTIENT($A50,4)+5,MATCH(\"名前③\",配送情報書!$4:$4,0)),\nMOD($A50,4)=2,INDEX(配送情報書!$A:$BK,QUOTIENT($A50,4)+5,MATCH(\"名前④\",配送情報書!$4:$4,0)),\nMOD($A50,4)=3,INDEX(配送情報書!$A:$BK,QUOTIENT($A50,4)+5,MATCH(\"名前⑤\",配送情報書!$4:$4,0)))","v":0},{"$f":"IF(B50<>\"\",INDEX(配送情報書!$A:$BK,QUOTIENT($A50,4)+5,MATCH(\"電話番号（陽性者発生時の連絡用）\"&\"*\",配送情報書!$4:$4,0)),\"\")","v":""},{"$f":"_xlfn.IFS(MOD($A50,4)=0,INDEX(配送情報書!$A:$BK,QUOTIENT($A50,4)+5,MATCH(\"メール②\",配送情報書!$4:$4,0)),\nMOD($A50,4)=1,INDEX(配送情報書!$A:$BK,QUOTIENT($A50,4)+5,MATCH(\"メール③\",配送情報書!$4:$4,0)),\nMOD($A50,4)=2,INDEX(配送情報書!$A:$BK,QUOTIENT($A50,4)+5,MATCH(\"メール④\",配送情報書!$4:$4,0)),\nMOD($A50,4)=3,INDEX(配送情報書!$A:$BK,QUOTIENT($A50,4)+5,MATCH(\"メール⑤\",配送情報書!$4:$4,0)))","v":0},null,"*"]
[43,{"$f":"IF(AND($F51=0,$H51=0),\"\",INDEX(配送情報書!$A:$BK,QUOTIENT($A51,4)+5,MATCH(\"案件ID\",配送情報書!$4:$4,0)))","v":""},{"$f":"IF(B51<>\"\",INDEX(配送情報書!$A:$BK,QUOTIENT($A51,4)+5,MATCH(\"受取者の企業名\",配送情報書!$4:$4,0)),\"\")","v":""},"",null,{"$f":"_xlfn.IFS(MOD($A51,4)=0,INDEX(配送情報書!$A:$BK,QUOTIENT($A51,4)+5,MATCH(\"名前②\",配送情報書!$4:$4,0)),\nMOD($A51,4)=1,INDEX(配送情報書!$A:$BK,QUOTIENT($A51,4)+5,MATCH(\"名前③\",配送情報書!$4:$4,0)),\nMOD($A51,4)=2,INDEX(配送情報書!$A:$BK,QUOTIENT($A51,4)+5,MATCH(\"名前④\",配送情報書!$4:$4,0)),\nMOD($A51,4)=3,INDEX(配送情報書!$A:$BK,QUOTIENT($A51,4)+5,MATCH(\"名前⑤\",配送情報書!$4:$4,0)))","v":0},{"$f":"IF(B51<>\"\",INDEX(配送情報書!$A:$BK,QUOTIENT($A51,4)+5,MATCH(\"電話番号（陽性者発生時の連絡用）\"&\"*\",配送情報書!$4:$4,0)),\"\")","v":""},{"$f":"_xlfn.IFS(MOD($A51,4)=0,INDEX(配送情報書!$A:$BK,QUOTIENT($A51,4)+5,MATCH(\"メール②\",配送情報書!$4:$4,0)),\nMOD($A51,4)=1,INDEX(配送情報書!$A:$BK,QUOTIENT($A51,4)+5,MATCH(\"メール③\",配送情報書!$4:$4,0)),\nMOD($A51,4)=2,INDEX(配送情報書!$A:$BK,QUOTIENT($A51,4)+5,MATCH(\"メール④\",配送情報書!$4:$4,0)),\nMOD($A51,4)=3,INDEX(配送情報書!$A:$BK,QUOTIENT($A51,4)+5,MATCH(\"メール⑤\",配送情報書!$4:$4,0)))","v":0},null,"*"]
[44,{"$f":"IF(AND($F52=0,$H52=0),\"\",INDEX(配送情報書!$A:$BK,QUOTIENT($A52,4)+5,MATCH(\"案件ID\",配送情報書!$4:$4,0)))","v":""},{"$f":"IF(B52<>\"\",INDEX(配送情報書!$A:$BK,QUOTIENT($A52,4)+5,MATCH(\"受取者の企業名\",配送情報書!$4:$4,0)),\"\")","v":""},"",null,{"$f":"_xlfn.IFS(MOD($A52,4)=0,INDEX(配送情報書!$A:$BK,QUOTIENT($A52,4)+5,MATCH(\"名前②\",配送情報書!$4:$4,0)),\nMOD($A52,4)=1,INDEX(配送情報書!$A:$BK,QUOTIENT($A52,4)+5,MATCH(\"名前③\",配送情報書!$4:$4,0)),\nMOD($A52,4)=2,INDEX(配送情報書!$A:$BK,QUOTIENT($A52,4)+5,MATCH(\"名前④\",配送情報書!$4:$4,0)),\nMOD($A52,4)=3,INDEX(配送情報書!$A:$BK,QUOTIENT($A52,4)+5,MATCH(\"名前⑤\",配送情報書!$4:$4,0)))","v":0},{"$f":"IF(B52<>\"\",INDEX(配送情報書!$A:$BK,QUOTIENT($A52,4)+5,MATCH(\"電話番号（陽性者発生時の連絡用）\"&\"*\",配送情報書!$4:$4,0)),\"\")","v":""},{"$f":"_xlfn.IFS(MOD($A52,4)=0,INDEX(配送情報書!$A:$BK,QUOTIENT($A52,4)+5,MATCH(\"メール②\",配送情報書!$4:$4,0)),\nMOD($A52,4)=1,INDEX(配送情報書!$A:$BK,QUOTIENT($A52,4)+5,MATCH(\"メール③\",配送情報書!$4:$4,0)),\nMOD($A52,4)=2,INDEX(配送情報書!$A:$BK,QUOTIENT($A52,4)+5,MATCH(\"メール④\",配送情報書!$4:$4,0)),\nMOD($A52,4)=3,INDEX(配送情報書!$A:$BK,QUOTIENT($A52,4)+5,MATCH(\"メール⑤\",配送情報書!$4:$4,0)))","v":0},null,"*"]
[45,{"$f":"IF(AND($F53=0,$H53=0),\"\",INDEX(配送情報書!$A:$BK,QUOTIENT($A53,4)+5,MATCH(\"案件ID\",配送情報書!$4:$4,0)))","v":""},{"$f":"IF(B53<>\"\",INDEX(配送情報書!$A:$BK,QUOTIENT($A53,4)+5,MATCH(\"受取者の企業名\",配送情報書!$4:$4,0)),\"\")","v":""},"",null,{"$f":"_xlfn.IFS(MOD($A53,4)=0,INDEX(配送情報書!$A:$BK,QUOTIENT($A53,4)+5,MATCH(\"名前②\",配送情報書!$4:$4,0)),\nMOD($A53,4)=1,INDEX(配送情報書!$A:$BK,QUOTIENT($A53,4)+5,MATCH(\"名前③\",配送情報書!$4:$4,0)),\nMOD($A53,4)=2,INDEX(配送情報書!$A:$BK,QUOTIENT($A53,4)+5,MATCH(\"名前④\",配送情報書!$4:$4,0)),\nMOD($A53,4)=3,INDEX(配送情報書!$A:$BK,QUOTIENT($A53,4)+5,MATCH(\"名前⑤\",配送情報書!$4:$4,0)))","v":0},{"$f":"IF(B53<>\"\",INDEX(配送情報書!$A:$BK,QUOTIENT($A53,4)+5,MATCH(\"電話番号（陽性者発生時の連絡用）\"&\"*\",配送情報書!$4:$4,0)),\"\")","v":""},{"$f":"_xlfn.IFS(MOD($A53,4)=0,INDEX(配送情報書!$A:$BK,QUOTIENT($A53,4)+5,MATCH(\"メール②\",配送情報書!$4:$4,0)),\nMOD($A53,4)=1,INDEX(配送情報書!$A:$BK,QUOTIENT($A53,4)+5,MATCH(\"メール③\",配送情報書!$4:$4,0)),\nMOD($A53,4)=2,INDEX(配送情報書!$A:$BK,QUOTIENT($A53,4)+5,MATCH(\"メール④\",配送情報書!$4:$4,0)),\nMOD($A53,4)=3,INDEX(配送情報書!$A:$BK,QUOTIENT($A53,4)+5,MATCH(\"メール⑤\",配送情報書!$4:$4,0)))","v":0},null,"*"]
[46,{"$f":"IF(AND($F54=0,$H54=0),\"\",INDEX(配送情報書!$A:$BK,QUOTIENT($A54,4)+5,MATCH(\"案件ID\",配送情報書!$4:$4,0)))","v":""},{"$f":"IF(B54<>\"\",INDEX(配送情報書!$A:$BK,QUOTIENT($A54,4)+5,MATCH(\"受取者の企業名\",配送情報書!$4:$4,0)),\"\")","v":""},"",null,{"$f":"_xlfn.IFS(MOD($A54,4)=0,INDEX(配送情報書!$A:$BK,QUOTIENT($A54,4)+5,MATCH(\"名前②\",配送情報書!$4:$4,0)),\nMOD($A54,4)=1,INDEX(配送情報書!$A:$BK,QUOTIENT($A54,4)+5,MATCH(\"名前③\",配送情報書!$4:$4,0)),\nMOD($A54,4)=2,INDEX(配送情報書!$A:$BK,QUOTIENT($A54,4)+5,MATCH(\"名前④\",配送情報書!$4:$4,0)),\nMOD($A54,4)=3,INDEX(配送情報書!$A:$BK,QUOTIENT($A54,4)+5,MATCH(\"名前⑤\",配送情報書!$4:$4,0)))","v":0},{"$f":"IF(B54<>\"\",INDEX(配送情報書!$A:$BK,QUOTIENT($A54,4)+5,MATCH(\"電話番号（陽性者発生時の連絡用）\"&\"*\",配送情報書!$4:$4,0)),\"\")","v":""},{"$f":"_xlfn.IFS(MOD($A54,4)=0,INDEX(配送情報書!$A:$BK,QUOTIENT($A54,4)+5,MATCH(\"メール②\",配送情報書!$4:$4,0)),\nMOD($A54,4)=1,INDEX(配送情報書!$A:$BK,QUOTIENT($A54,4)+5,MATCH(\"メール③\",配送情報書!$4:$4,0)),\nMOD($A54,4)=2,INDEX(配送情報書!$A:$BK,QUOTIENT($A54,4)+5,MATCH(\"メール④\",配送情報書!$4:$4,0)),\nMOD($A54,4)=3,INDEX(配送情報書!$A:$BK,QUOTIENT($A54,4)+5,MATCH(\"メール⑤\",配送情報書!$4:$4,0)))","v":0},null,"*"]
[47,{"$f":"IF(AND($F55=0,$H55=0),\"\",INDEX(配送情報書!$A:$BK,QUOTIENT($A55,4)+5,MATCH(\"案件ID\",配送情報書!$4:$4,0)))","v":""},{"$f":"IF(B55<>\"\",INDEX(配送情報書!$A:$BK,QUOTIENT($A55,4)+5,MATCH(\"受取者の企業名\",配送情報書!$4:$4,0)),\"\")","v":""},"",null,{"$f":"_xlfn.IFS(MOD($A55,4)=0,INDEX(配送情報書!$A:$BK,QUOTIENT($A55,4)+5,MATCH(\"名前②\",配送情報書!$4:$4,0)),\nMOD($A55,4)=1,INDEX(配送情報書!$A:$BK,QUOTIENT($A55,4)+5,MATCH(\"名前③\",配送情報書!$4:$4,0)),\nMOD($A55,4)=2,INDEX(配送情報書!$A:$BK,QUOTIENT($A55,4)+5,MATCH(\"名前④\",配送情報書!$4:$4,0)),\nMOD($A55,4)=3,INDEX(配送情報書!$A:$BK,QUOTIENT($A55,4)+5,MATCH(\"名前⑤\",配送情報書!$4:$4,0)))","v":0},{"$f":"IF(B55<>\"\",INDEX(配送情報書!$A:$BK,QUOTIENT($A55,4)+5,MATCH(\"電話番号（陽性者発生時の連絡用）\"&\"*\",配送情報書!$4:$4,0)),\"\")","v":""},{"$f":"_xlfn.IFS(MOD($A55,4)=0,INDEX(配送情報書!$A:$BK,QUOTIENT($A55,4)+5,MATCH(\"メール②\",配送情報書!$4:$4,0)),\nMOD($A55,4)=1,INDEX(配送情報書!$A:$BK,QUOTIENT($A55,4)+5,MATCH(\"メール③\",配送情報書!$4:$4,0)),\nMOD($A55,4)=2,INDEX(配送情報書!$A:$BK,QUOTIENT($A55,4)+5,MATCH(\"メール④\",配送情報書!$4:$4,0)),\nMOD($A55,4)=3,INDEX(配送情報書!$A:$BK,QUOTIENT($A55,4)+5,MATCH(\"メール⑤\",配送情報書!$4:$4,0)))","v":0},null,"*"]
[48,{"$f":"IF(AND($F56=0,$H56=0),\"\",INDEX(配送情報書!$A:$BK,QUOTIENT($A56,4)+5,MATCH(\"案件ID\",配送情報書!$4:$4,0)))","v":""},{"$f":"IF(B56<>\"\",INDEX(配送情報書!$A:$BK,QUOTIENT($A56,4)+5,MATCH(\"受取者の企業名\",配送情報書!$4:$4,0)),\"\")","v":""},"",null,{"$f":"_xlfn.IFS(MOD($A56,4)=0,INDEX(配送情報書!$A:$BK,QUOTIENT($A56,4)+5,MATCH(\"名前②\",配送情報書!$4:$4,0)),\nMOD($A56,4)=1,INDEX(配送情報書!$A:$BK,QUOTIENT($A56,4)+5,MATCH(\"名前③\",配送情報書!$4:$4,0)),\nMOD($A56,4)=2,INDEX(配送情報書!$A:$BK,QUOTIENT($A56,4)+5,MATCH(\"名前④\",配送情報書!$4:$4,0)),\nMOD($A56,4)=3,INDEX(配送情報書!$A:$BK,QUOTIENT($A56,4)+5,MATCH(\"名前⑤\",配送情報書!$4:$4,0)))","v":0},{"$f":"IF(B56<>\"\",INDEX(配送情報書!$A:$BK,QUOTIENT($A56,4)+5,MATCH(\"電話番号（陽性者発生時の連絡用）\"&\"*\",配送情報書!$4:$4,0)),\"\")","v":""},{"$f":"_xlfn.IFS(MOD($A56,4)=0,INDEX(配送情報書!$A:$BK,QUOTIENT($A56,4)+5,MATCH(\"メール②\",配送情報書!$4:$4,0)),\nMOD($A56,4)=1,INDEX(配送情報書!$A:$BK,QUOTIENT($A56,4)+5,MATCH(\"メール③\",配送情報書!$4:$4,0)),\nMOD($A56,4)=2,INDEX(配送情報書!$A:$BK,QUOTIENT($A56,4)+5,MATCH(\"メール④\",配送情報書!$4:$4,0)),\nMOD($A56,4)=3,INDEX(配送情報書!$A:$BK,QUOTIENT($A56,4)+5,MATCH(\"メール⑤\",配送情報書!$4:$4,0)))","v":0},null,"*"]
[49,{"$f":"IF(AND($F57=0,$H57=0),\"\",INDEX(配送情報書!$A:$BK,QUOTIENT($A57,4)+5,MATCH(\"案件ID\",配送情報書!$4:$4,0)))","v":""},{"$f":"IF(B57<>\"\",INDEX(配送情報書!$A:$BK,QUOTIENT($A57,4)+5,MATCH(\"受取者の企業名\",配送情報書!$4:$4,0)),\"\")","v":""},"",null,{"$f":"_xlfn.IFS(MOD($A57,4)=0,INDEX(配送情報書!$A:$BK,QUOTIENT($A57,4)+5,MATCH(\"名前②\",配送情報書!$4:$4,0)),\nMOD($A57,4)=1,INDEX(配送情報書!$A:$BK,QUOTIENT($A57,4)+5,MATCH(\"名前③\",配送情報書!$4:$4,0)),\nMOD($A57,4)=2,INDEX(配送情報書!$A:$BK,QUOTIENT($A57,4)+5,MATCH(\"名前④\",配送情報書!$4:$4,0)),\nMOD($A57,4)=3,INDEX(配送情報書!$A:$BK,QUOTIENT($A57,4)+5,MATCH(\"名前⑤\",配送情報書!$4:$4,0)))","v":0},{"$f":"IF(B57<>\"\",INDEX(配送情報書!$A:$BK,QUOTIENT($A57,4)+5,MATCH(\"電話番号（陽性者発生時の連絡用）\"&\"*\",配送情報書!$4:$4,0)),\"\")","v":""},{"$f":"_xlfn.IFS(MOD($A57,4)=0,INDEX(配送情報書!$A:$BK,QUOTIENT($A57,4)+5,MATCH(\"メール②\",配送情報書!$4:$4,0)),\nMOD($A57,4)=1,INDEX(配送情報書!$A:$BK,QUOTIENT($A57,4)+5,MATCH(\"メール③\",配送情報書!$4:$4,0)),\nMOD($A57,4)=2,INDEX(配送情報書!$A:$BK,QUOTIENT($A57,4)+5,MATCH(\"メール④\",配送情報書!$4:$4,0)),\nMOD($A57,4)=3,INDEX(配送情報書!$A:$BK,QUOTIENT($A57,4)+5,MATCH(\"メール⑤\",配送情報書!$4:$4,0)))","v":0},null,"*"]
[50,{"$f":"IF(AND($F58=0,$H58=0),\"\",INDEX(配送情報書!$A:$BK,QUOTIENT($A58,4)+5,MATCH(\"案件ID\",配送情報書!$4:$4,0)))","v":""},{"$f":"IF(B58<>\"\",INDEX(配送情報書!$A:$BK,QUOTIENT($A58,4)+5,MATCH(\"受取者の企業名\",配送情報書!$4:$4,0)),\"\")","v":""},"",null,{"$f":"_xlfn.IFS(MOD($A58,4)=0,INDEX(配送情報書!$A:$BK,QUOTIENT($A58,4)+5,MATCH(\"名前②\",配送情報書!$4:$4,0)),\nMOD($A58,4)=1,INDEX(配送情報書!$A:$BK,QUOTIENT($A58,4)+5,MATCH(\"名前③\",配送情報書!$4:$4,0)),\nMOD($A58,4)=2,INDEX(配送情報書!$A:$BK,QUOTIENT($A58,4)+5,MATCH(\"名前④\",配送情報書!$4:$4,0)),\nMOD($A58,4)=3,INDEX(配送情報書!$A:$BK,QUOTIENT($A58,4)+5,MATCH(\"名前⑤\",配送情報書!$4:$4,0)))","v":0},{"$f":"IF(B58<>\"\",INDEX(配送情報書!$A:$BK,QUOTIENT($A58,4)+5,MATCH(\"電話番号（陽性者発生時の連絡用）\"&\"*\",配送情報書!$4:$4,0)),\"\")","v":""},{"$f":"_xlfn.IFS(MOD($A58,4)=0,INDEX(配送情報書!$A:$BK,QUOTIENT($A58,4)+5,MATCH(\"メール②\",配送情報書!$4:$4,0)),\nMOD($A58,4)=1,INDEX(配送情報書!$A:$BK,QUOTIENT($A58,4)+5,MATCH(\"メール③\",配送情報書!$4:$4,0)),\nMOD($A58,4)=2,INDEX(配送情報書!$A:$BK,QUOTIENT($A58,4)+5,MATCH(\"メール④\",配送情報書!$4:$4,0)),\nMOD($A58,4)=3,INDEX(配送情報書!$A:$BK,QUOTIENT($A58,4)+5,MATCH(\"メール⑤\",配送情報書!$4:$4,0)))","v":0},null,"*"]
[51,{"$f":"IF(AND($F59=0,$H59=0),\"\",INDEX(配送情報書!$A:$BK,QUOTIENT($A59,4)+5,MATCH(\"案件ID\",配送情報書!$4:$4,0)))","v":""},{"$f":"IF(B59<>\"\",INDEX(配送情報書!$A:$BK,QUOTIENT($A59,4)+5,MATCH(\"受取者の企業名\",配送情報書!$4:$4,0)),\"\")","v":""},"",null,{"$f":"_xlfn.IFS(MOD($A59,4)=0,INDEX(配送情報書!$A:$BK,QUOTIENT($A59,4)+5,MATCH(\"名前②\",配送情報書!$4:$4,0)),\nMOD($A59,4)=1,INDEX(配送情報書!$A:$BK,QUOTIENT($A59,4)+5,MATCH(\"名前③\",配送情報書!$4:$4,0)),\nMOD($A59,4)=2,INDEX(配送情報書!$A:$BK,QUOTIENT($A59,4)+5,MATCH(\"名前④\",配送情報書!$4:$4,0)),\nMOD($A59,4)=3,INDEX(配送情報書!$A:$BK,QUOTIENT($A59,4)+5,MATCH(\"名前⑤\",配送情報書!$4:$4,0)))","v":0},{"$f":"IF(B59<>\"\",INDEX(配送情報書!$A:$BK,QUOTIENT($A59,4)+5,MATCH(\"電話番号（陽性者発生時の連絡用）\"&\"*\",配送情報書!$4:$4,0)),\"\")","v":""},{"$f":"_xlfn.IFS(MOD($A59,4)=0,INDEX(配送情報書!$A:$BK,QUOTIENT($A59,4)+5,MATCH(\"メール②\",配送情報書!$4:$4,0)),\nMOD($A59,4)=1,INDEX(配送情報書!$A:$BK,QUOTIENT($A59,4)+5,MATCH(\"メール③\",配送情報書!$4:$4,0)),\nMOD($A59,4)=2,INDEX(配送情報書!$A:$BK,QUOTIENT($A59,4)+5,MATCH(\"メール④\",配送情報書!$4:$4,0)),\nMOD($A59,4)=3,INDEX(配送情報書!$A:$BK,QUOTIENT($A59,4)+5,MATCH(\"メール⑤\",配送情報書!$4:$4,0)))","v":0},null,"*"]
[52,{"$f":"IF(AND($F60=0,$H60=0),\"\",INDEX(配送情報書!$A:$BK,QUOTIENT($A60,4)+5,MATCH(\"案件ID\",配送情報書!$4:$4,0)))","v":""},{"$f":"IF(B60<>\"\",INDEX(配送情報書!$A:$BK,QUOTIENT($A60,4)+5,MATCH(\"受取者の企業名\",配送情報書!$4:$4,0)),\"\")","v":""},"",null,{"$f":"_xlfn.IFS(MOD($A60,4)=0,INDEX(配送情報書!$A:$BK,QUOTIENT($A60,4)+5,MATCH(\"名前②\",配送情報書!$4:$4,0)),\nMOD($A60,4)=1,INDEX(配送情報書!$A:$BK,QUOTIENT($A60,4)+5,MATCH(\"名前③\",配送情報書!$4:$4,0)),\nMOD($A60,4)=2,INDEX(配送情報書!$A:$BK,QUOTIENT($A60,4)+5,MATCH(\"名前④\",配送情報書!$4:$4,0)),\nMOD($A60,4)=3,INDEX(配送情報書!$A:$BK,QUOTIENT($A60,4)+5,MATCH(\"名前⑤\",配送情報書!$4:$4,0)))","v":0},{"$f":"IF(B60<>\"\",INDEX(配送情報書!$A:$BK,QUOTIENT($A60,4)+5,MATCH(\"電話番号（陽性者発生時の連絡用）\"&\"*\",配送情報書!$4:$4,0)),\"\")","v":""},{"$f":"_xlfn.IFS(MOD($A60,4)=0,INDEX(配送情報書!$A:$BK,QUOTIENT($A60,4)+5,MATCH(\"メール②\",配送情報書!$4:$4,0)),\nMOD($A60,4)=1,INDEX(配送情報書!$A:$BK,QUOTIENT($A60,4)+5,MATCH(\"メール③\",配送情報書!$4:$4,0)),\nMOD($A60,4)=2,INDEX(配送情報書!$A:$BK,QUOTIENT($A60,4)+5,MATCH(\"メール④\",配送情報書!$4:$4,0)),\nMOD($A60,4)=3,INDEX(配送情報書!$A:$BK,QUOTIENT($A60,4)+5,MATCH(\"メール⑤\",配送情報書!$4:$4,0)))","v":0},null,"*"]
[53,{"$f":"IF(AND($F61=0,$H61=0),\"\",INDEX(配送情報書!$A:$BK,QUOTIENT($A61,4)+5,MATCH(\"案件ID\",配送情報書!$4:$4,0)))","v":""},{"$f":"IF(B61<>\"\",INDEX(配送情報書!$A:$BK,QUOTIENT($A61,4)+5,MATCH(\"受取者の企業名\",配送情報書!$4:$4,0)),\"\")","v":""},"",null,{"$f":"_xlfn.IFS(MOD($A61,4)=0,INDEX(配送情報書!$A:$BK,QUOTIENT($A61,4)+5,MATCH(\"名前②\",配送情報書!$4:$4,0)),\nMOD($A61,4)=1,INDEX(配送情報書!$A:$BK,QUOTIENT($A61,4)+5,MATCH(\"名前③\",配送情報書!$4:$4,0)),\nMOD($A61,4)=2,INDEX(配送情報書!$A:$BK,QUOTIENT($A61,4)+5,MATCH(\"名前④\",配送情報書!$4:$4,0)),\nMOD($A61,4)=3,INDEX(配送情報書!$A:$BK,QUOTIENT($A61,4)+5,MATCH(\"名前⑤\",配送情報書!$4:$4,0)))","v":0},{"$f":"IF(B61<>\"\",INDEX(配送情報書!$A:$BK,QUOTIENT($A61,4)+5,MATCH(\"電話番号（陽性者発生時の連絡用）\"&\"*\",配送情報書!$4:$4,0)),\"\")","v":""},{"$f":"_xlfn.IFS(MOD($A61,4)=0,INDEX(配送情報書!$A:$BK,QUOTIENT($A61,4)+5,MATCH(\"メール②\",配送情報書!$4:$4,0)),\nMOD($A61,4)=1,INDEX(配送情報書!$A:$BK,QUOTIENT($A61,4)+5,MATCH(\"メール③\",配送情報書!$4:$4,0)),\nMOD($A61,4)=2,INDEX(配送情報書!$A:$BK,QUOTIENT($A61,4)+5,MATCH(\"メール④\",配送情報書!$4:$4,0)),\nMOD($A61,4)=3,INDEX(配送情報書!$A:$BK,QUOTIENT($A61,4)+5,MATCH(\"メール⑤\",配送情報書!$4:$4,0)))","v":0},null,"*"]
[54,{"$f":"IF(AND($F62=0,$H62=0),\"\",INDEX(配送情報書!$A:$BK,QUOTIENT($A62,4)+5,MATCH(\"案件ID\",配送情報書!$4:$4,0)))","v":""},{"$f":"IF(B62<>\"\",INDEX(配送情報書!$A:$BK,QUOTIENT($A62,4)+5,MATCH(\"受取者の企業名\",配送情報書!$4:$4,0)),\"\")","v":""},"",null,{"$f":"_xlfn.IFS(MOD($A62,4)=0,INDEX(配送情報書!$A:$BK,QUOTIENT($A62,4)+5,MATCH(\"名前②\",配送情報書!$4:$4,0)),\nMOD($A62,4)=1,INDEX(配送情報書!$A:$BK,QUOTIENT($A62,4)+5,MATCH(\"名前③\",配送情報書!$4:$4,0)),\nMOD($A62,4)=2,INDEX(配送情報書!$A:$BK,QUOTIENT($A62,4)+5,MATCH(\"名前④\",配送情報書!$4:$4,0)),\nMOD($A62,4)=3,INDEX(配送情報書!$A:$BK,QUOTIENT($A62,4)+5,MATCH(\"名前⑤\",配送情報書!$4:$4,0)))","v":0},{"$f":"IF(B62<>\"\",INDEX(配送情報書!$A:$BK,QUOTIENT($A62,4)+5,MATCH(\"電話番号（陽性者発生時の連絡用）\"&\"*\",配送情報書!$4:$4,0)),\"\")","v":""},{"$f":"_xlfn.IFS(MOD($A62,4)=0,INDEX(配送情報書!$A:$BK,QUOTIENT($A62,4)+5,MATCH(\"メール②\",配送情報書!$4:$4,0)),\nMOD($A62,4)=1,INDEX(配送情報書!$A:$BK,QUOTIENT($A62,4)+5,MATCH(\"メール③\",配送情報書!$4:$4,0)),\nMOD($A62,4)=2,INDEX(配送情報書!$A:$BK,QUOTIENT($A62,4)+5,MATCH(\"メール④\",配送情報書!$4:$4,0)),\nMOD($A62,4)=3,INDEX(配送情報書!$A:$BK,QUOTIENT($A62,4)+5,MATCH(\"メール⑤\",配送情報書!$4:$4,0)))","v":0},null,"*"]
[55,{"$f":"IF(AND($F63=0,$H63=0),\"\",INDEX(配送情報書!$A:$BK,QUOTIENT($A63,4)+5,MATCH(\"案件ID\",配送情報書!$4:$4,0)))","v":""},{"$f":"IF(B63<>\"\",INDEX(配送情報書!$A:$BK,QUOTIENT($A63,4)+5,MATCH(\"受取者の企業名\",配送情報書!$4:$4,0)),\"\")","v":""},"",null,{"$f":"_xlfn.IFS(MOD($A63,4)=0,INDEX(配送情報書!$A:$BK,QUOTIENT($A63,4)+5,MATCH(\"名前②\",配送情報書!$4:$4,0)),\nMOD($A63,4)=1,INDEX(配送情報書!$A:$BK,QUOTIENT($A63,4)+5,MATCH(\"名前③\",配送情報書!$4:$4,0)),\nMOD($A63,4)=2,INDEX(配送情報書!$A:$BK,QUOTIENT($A63,4)+5,MATCH(\"名前④\",配送情報書!$4:$4,0)),\nMOD($A63,4)=3,INDEX(配送情報書!$A:$BK,QUOTIENT($A63,4)+5,MATCH(\"名前⑤\",配送情報書!$4:$4,0)))","v":0},{"$f":"IF(B63<>\"\",INDEX(配送情報書!$A:$BK,QUOTIENT($A63,4)+5,MATCH(\"電話番号（陽性者発生時の連絡用）\"&\"*\",配送情報書!$4:$4,0)),\"\")","v":""},{"$f":"_xlfn.IFS(MOD($A63,4)=0,INDEX(配送情報書!$A:$BK,QUOTIENT($A63,4)+5,MATCH(\"メール②\",配送情報書!$4:$4,0)),\nMOD($A63,4)=1,INDEX(配送情報書!$A:$BK,QUOTIENT($A63,4)+5,MATCH(\"メール③\",配送情報書!$4:$4,0)),\nMOD($A63,4)=2,INDEX(配送情報書!$A:$BK,QUOTIENT($A63,4)+5,MATCH(\"メール④\",配送情報書!$4:$4,0)),\nMOD($A63,4)=3,INDEX(配送情報書!$A:$BK,QUOTIENT($A63,4)+5,MATCH(\"メール⑤\",配送情報書!$4:$4,0)))","v":0},null,"*"]
[56,{"$f":"IF(AND($F64=0,$H64=0),\"\",INDEX(配送情報書!$A:$BK,QUOTIENT($A64,4)+5,MATCH(\"案件ID\",配送情報書!$4:$4,0)))","v":""},{"$f":"IF(B64<>\"\",INDEX(配送情報書!$A:$BK,QUOTIENT($A64,4)+5,MATCH(\"受取者の企業名\",配送情報書!$4:$4,0)),\"\")","v":""},"",null,{"$f":"_xlfn.IFS(MOD($A64,4)=0,INDEX(配送情報書!$A:$BK,QUOTIENT($A64,4)+5,MATCH(\"名前②\",配送情報書!$4:$4,0)),\nMOD($A64,4)=1,INDEX(配送情報書!$A:$BK,QUOTIENT($A64,4)+5,MATCH(\"名前③\",配送情報書!$4:$4,0)),\nMOD($A64,4)=2,INDEX(配送情報書!$A:$BK,QUOTIENT($A64,4)+5,MATCH(\"名前④\",配送情報書!$4:$4,0)),\nMOD($A64,4)=3,INDEX(配送情報書!$A:$BK,QUOTIENT($A64,4)+5,MATCH(\"名前⑤\",配送情報書!$4:$4,0)))","v":0},{"$f":"IF(B64<>\"\",INDEX(配送情報書!$A:$BK,QUOTIENT($A64,4)+5,MATCH(\"電話番号（陽性者発生時の連絡用）\"&\"*\",配送情報書!$4:$4,0)),\"\")","v":""},{"$f":"_xlfn.IFS(MOD($A64,4)=0,INDEX(配送情報書!$A:$BK,QUOTIENT($A64,4)+5,MATCH(\"メール②\",配送情報書!$4:$4,0)),\nMOD($A64,4)=1,INDEX(配送情報書!$A:$BK,QUOTIENT($A64,4)+5,MATCH(\"メール③\",配送情報書!$4:$4,0)),\nMOD($A64,4)=2,INDEX(配送情報書!$A:$BK,QUOTIENT($A64,4)+5,MATCH(\"メール④\",配送情報書!$4:$4,0)),\nMOD($A64,4)=3,INDEX(配送情報書!$A:$BK,QUOTIENT($A64,4)+5,MATCH(\"メール⑤\",配送情報書!$4:$4,0)))","v":0},null,"*"]
[57,{"$f":"IF(AND($F65=0,$H65=0),\"\",INDEX(配送情報書!$A:$BK,QUOTIENT($A65,4)+5,MATCH(\"案件ID\",配送情報書!$4:$4,0)))","v":""},{"$f":"IF(B65<>\"\",INDEX(配送情報書!$A:$BK,QUOTIENT($A65,4)+5,MATCH(\"受取者の企業名\",配送情報書!$4:$4,0)),\"\")","v":""},"",null,{"$f":"_xlfn.IFS(MOD($A65,4)=0,INDEX(配送情報書!$A:$BK,QUOTIENT($A65,4)+5,MATCH(\"名前②\",配送情報書!$4:$4,0)),\nMOD($A65,4)=1,INDEX(配送情報書!$A:$BK,QUOTIENT($A65,4)+5,MATCH(\"名前③\",配送情報書!$4:$4,0)),\nMOD($A65,4)=2,INDEX(配送情報書!$A:$BK,QUOTIENT($A65,4)+5,MATCH(\"名前④\",配送情報書!$4:$4,0)),\nMOD($A65,4)=3,INDEX(配送情報書!$A:$BK,QUOTIENT($A65,4)+5,MATCH(\"名前⑤\",配送情報書!$4:$4,0)))","v":0},{"$f":"IF(B65<>\"\",INDEX(配送情報書!$A:$BK,QUOTIENT($A65,4)+5,MATCH(\"電話番号（陽性者発生時の連絡用）\"&\"*\",配送情報書!$4:$4,0)),\"\")","v":""},{"$f":"_xlfn.IFS(MOD($A65,4)=0,INDEX(配送情報書!$A:$BK,QUOTIENT($A65,4)+5,MATCH(\"メール②\",配送情報書!$4:$4,0)),\nMOD($A65,4)=1,INDEX(配送情報書!$A:$BK,QUOTIENT($A65,4)+5,MATCH(\"メール③\",配送情報書!$4:$4,0)),\nMOD($A65,4)=2,INDEX(配送情報書!$A:$BK,QUOTIENT($A65,4)+5,MATCH(\"メール④\",配送情報書!$4:$4,0)),\nMOD($A65,4)=3,INDEX(配送情報書!$A:$BK,QUOTIENT($A65,4)+5,MATCH(\"メール⑤\",配送情報書!$4:$4,0)))","v":0},null,"*"]
[58,{"$f":"IF(AND($F66=0,$H66=0),\"\",INDEX(配送情報書!$A:$BK,QUOTIENT($A66,4)+5,MATCH(\"案件ID\",配送情報書!$4:$4,0)))","v":""},{"$f":"IF(B66<>\"\",INDEX(配送情報書!$A:$BK,QUOTIENT($A66,4)+5,MATCH(\"受取者の企業名\",配送情報書!$4:$4,0)),\"\")","v":""},"",null,{"$f":"_xlfn.IFS(MOD($A66,4)=0,INDEX(配送情報書!$A:$BK,QUOTIENT($A66,4)+5,MATCH(\"名前②\",配送情報書!$4:$4,0)),\nMOD($A66,4)=1,INDEX(配送情報書!$A:$BK,QUOTIENT($A66,4)+5,MATCH(\"名前③\",配送情報書!$4:$4,0)),\nMOD($A66,4)=2,INDEX(配送情報書!$A:$BK,QUOTIENT($A66,4)+5,MATCH(\"名前④\",配送情報書!$4:$4,0)),\nMOD($A66,4)=3,INDEX(配送情報書!$A:$BK,QUOTIENT($A66,4)+5,MATCH(\"名前⑤\",配送情報書!$4:$4,0)))","v":0},{"$f":"IF(B66<>\"\",INDEX(配送情報書!$A:$BK,QUOTIENT($A66,4)+5,MATCH(\"電話番号（陽性者発生時の連絡用）\"&\"*\",配送情報書!$4:$4,0)),\"\")","v":""},{"$f":"_xlfn.IFS(MOD($A66,4)=0,INDEX(配送情報書!$A:$BK,QUOTIENT($A66,4)+5,MATCH(\"メール②\",配送情報書!$4:$4,0)),\nMOD($A66,4)=1,INDEX(配送情報書!$A:$BK,QUOTIENT($A66,4)+5,MATCH(\"メール③\",配送情報書!$4:$4,0)),\nMOD($A66,4)=2,INDEX(配送情報書!$A:$BK,QUOTIENT($A66,4)+5,MATCH(\"メール④\",配送情報書!$4:$4,0)),\nMOD($A66,4)=3,INDEX(配送情報書!$A:$BK,QUOTIENT($A66,4)+5,MATCH(\"メール⑤\",配送情報書!$4:$4,0)))","v":0},null,"*"]
[59,{"$f":"IF(AND($F67=0,$H67=0),\"\",INDEX(配送情報書!$A:$BK,QUOTIENT($A67,4)+5,MATCH(\"案件ID\",配送情報書!$4:$4,0)))","v":""},{"$f":"IF(B67<>\"\",INDEX(配送情報書!$A:$BK,QUOTIENT($A67,4)+5,MATCH(\"受取者の企業名\",配送情報書!$4:$4,0)),\"\")","v":""},"",null,{"$f":"_xlfn.IFS(MOD($A67,4)=0,INDEX(配送情報書!$A:$BK,QUOTIENT($A67,4)+5,MATCH(\"名前②\",配送情報書!$4:$4,0)),\nMOD($A67,4)=1,INDEX(配送情報書!$A:$BK,QUOTIENT($A67,4)+5,MATCH(\"名前③\",配送情報書!$4:$4,0)),\nMOD($A67,4)=2,INDEX(配送情報書!$A:$BK,QUOTIENT($A67,4)+5,MATCH(\"名前④\",配送情報書!$4:$4,0)),\nMOD($A67,4)=3,INDEX(配送情報書!$A:$BK,QUOTIENT($A67,4)+5,MATCH(\"名前⑤\",配送情報書!$4:$4,0)))","v":0},{"$f":"IF(B67<>\"\",INDEX(配送情報書!$A:$BK,QUOTIENT($A67,4)+5,MATCH(\"電話番号（陽性者発生時の連絡用）\"&\"*\",配送情報書!$4:$4,0)),\"\")","v":""},{"$f":"_xlfn.IFS(MOD($A67,4)=0,INDEX(配送情報書!$A:$BK,QUOTIENT($A67,4)+5,MATCH(\"メール②\",配送情報書!$4:$4,0)),\nMOD($A67,4)=1,INDEX(配送情報書!$A:$BK,QUOTIENT($A67,4)+5,MATCH(\"メール③\",配送情報書!$4:$4,0)),\nMOD($A67,4)=2,INDEX(配送情報書!$A:$BK,QUOTIENT($A67,4)+5,MATCH(\"メール④\",配送情報書!$4:$4,0)),\nMOD($A67,4)=3,INDEX(配送情報書!$A:$BK,QUOTIENT($A67,4)+5,MATCH(\"メール⑤\",配送情報書!$4:$4,0)))","v":0},null,"*"]
[60,{"$f":"IF(AND($F68=0,$H68=0),\"\",INDEX(配送情報書!$A:$BK,QUOTIENT($A68,4)+5,MATCH(\"案件ID\",配送情報書!$4:$4,0)))","v":""},{"$f":"IF(B68<>\"\",INDEX(配送情報書!$A:$BK,QUOTIENT($A68,4)+5,MATCH(\"受取者の企業名\",配送情報書!$4:$4,0)),\"\")","v":""},"",null,{"$f":"_xlfn.IFS(MOD($A68,4)=0,INDEX(配送情報書!$A:$BK,QUOTIENT($A68,4)+5,MATCH(\"名前②\",配送情報書!$4:$4,0)),\nMOD($A68,4)=1,INDEX(配送情報書!$A:$BK,QUOTIENT($A68,4)+5,MATCH(\"名前③\",配送情報書!$4:$4,0)),\nMOD($A68,4)=2,INDEX(配送情報書!$A:$BK,QUOTIENT($A68,4)+5,MATCH(\"名前④\",配送情報書!$4:$4,0)),\nMOD($A68,4)=3,INDEX(配送情報書!$A:$BK,QUOTIENT($A68,4)+5,MATCH(\"名前⑤\",配送情報書!$4:$4,0)))","v":0},{"$f":"IF(B68<>\"\",INDEX(配送情報書!$A:$BK,QUOTIENT($A68,4)+5,MATCH(\"電話番号（陽性者発生時の連絡用）\"&\"*\",配送情報書!$4:$4,0)),\"\")","v":""},{"$f":"_xlfn.IFS(MOD($A68,4)=0,INDEX(配送情報書!$A:$BK,QUOTIENT($A68,4)+5,MATCH(\"メール②\",配送情報書!$4:$4,0)),\nMOD($A68,4)=1,INDEX(配送情報書!$A:$BK,QUOTIENT($A68,4)+5,MATCH(\"メール③\",配送情報書!$4:$4,0)),\nMOD($A68,4)=2,INDEX(配送情報書!$A:$BK,QUOTIENT($A68,4)+5,MATCH(\"メール④\",配送情報書!$4:$4,0)),\nMOD($A68,4)=3,INDEX(配送情報書!$A:$BK,QUOTIENT($A68,4)+5,MATCH(\"メール⑤\",配送情報書!$4:$4,0)))","v":0},null,"*"]
[61,{"$f":"IF(AND($F69=0,$H69=0),\"\",INDEX(配送情報書!$A:$BK,QUOTIENT($A69,4)+5,MATCH(\"案件ID\",配送情報書!$4:$4,0)))","v":""},{"$f":"IF(B69<>\"\",INDEX(配送情報書!$A:$BK,QUOTIENT($A69,4)+5,MATCH(\"受取者の企業名\",配送情報書!$4:$4,0)),\"\")","v":""},"",null,{"$f":"_xlfn.IFS(MOD($A69,4)=0,INDEX(配送情報書!$A:$BK,QUOTIENT($A69,4)+5,MATCH(\"名前②\",配送情報書!$4:$4,0)),\nMOD($A69,4)=1,INDEX(配送情報書!$A:$BK,QUOTIENT($A69,4)+5,MATCH(\"名前③\",配送情報書!$4:$4,0)),\nMOD($A69,4)=2,INDEX(配送情報書!$A:$BK,QUOTIENT($A69,4)+5,MATCH(\"名前④\",配送情報書!$4:$4,0)),\nMOD($A69,4)=3,INDEX(配送情報書!$A:$BK,QUOTIENT($A69,4)+5,MATCH(\"名前⑤\",配送情報書!$4:$4,0)))","v":0},{"$f":"IF(B69<>\"\",INDEX(配送情報書!$A:$BK,QUOTIENT($A69,4)+5,MATCH(\"電話番号（陽性者発生時の連絡用）\"&\"*\",配送情報書!$4:$4,0)),\"\")","v":""},{"$f":"_xlfn.IFS(MOD($A69,4)=0,INDEX(配送情報書!$A:$BK,QUOTIENT($A69,4)+5,MATCH(\"メール②\",配送情報書!$4:$4,0)),\nMOD($A69,4)=1,INDEX(配送情報書!$A:$BK,QUOTIENT($A69,4)+5,MATCH(\"メール③\",配送情報書!$4:$4,0)),\nMOD($A69,4)=2,INDEX(配送情報書!$A:$BK,QUOTIENT($A69,4)+5,MATCH(\"メール④\",配送情報書!$4:$4,0)),\nMOD($A69,4)=3,INDEX(配送情報書!$A:$BK,QUOTIENT($A69,4)+5,MATCH(\"メール⑤\",配送情報書!$4:$4,0)))","v":0},null,"*"]
[62,{"$f":"IF(AND($F70=0,$H70=0),\"\",INDEX(配送情報書!$A:$BK,QUOTIENT($A70,4)+5,MATCH(\"案件ID\",配送情報書!$4:$4,0)))","v":""},{"$f":"IF(B70<>\"\",INDEX(配送情報書!$A:$BK,QUOTIENT($A70,4)+5,MATCH(\"受取者の企業名\",配送情報書!$4:$4,0)),\"\")","v":""},"",null,{"$f":"_xlfn.IFS(MOD($A70,4)=0,INDEX(配送情報書!$A:$BK,QUOTIENT($A70,4)+5,MATCH(\"名前②\",配送情報書!$4:$4,0)),\nMOD($A70,4)=1,INDEX(配送情報書!$A:$BK,QUOTIENT($A70,4)+5,MATCH(\"名前③\",配送情報書!$4:$4,0)),\nMOD($A70,4)=2,INDEX(配送情報書!$A:$BK,QUOTIENT($A70,4)+5,MATCH(\"名前④\",配送情報書!$4:$4,0)),\nMOD($A70,4)=3,INDEX(配送情報書!$A:$BK,QUOTIENT($A70,4)+5,MATCH(\"名前⑤\",配送情報書!$4:$4,0)))","v":0},{"$f":"IF(B70<>\"\",INDEX(配送情報書!$A:$BK,QUOTIENT($A70,4)+5,MATCH(\"電話番号（陽性者発生時の連絡用）\"&\"*\",配送情報書!$4:$4,0)),\"\")","v":""},{"$f":"_xlfn.IFS(MOD($A70,4)=0,INDEX(配送情報書!$A:$BK,QUOTIENT($A70,4)+5,MATCH(\"メール②\",配送情報書!$4:$4,0)),\nMOD($A70,4)=1,INDEX(配送情報書!$A:$BK,QUOTIENT($A70,4)+5,MATCH(\"メール③\",配送情報書!$4:$4,0)),\nMOD($A70,4)=2,INDEX(配送情報書!$A:$BK,QUOTIENT($A70,4)+5,MATCH(\"メール④\",配送情報書!$4:$4,0)),\nMOD($A70,4)=3,INDEX(配送情報書!$A:$BK,QUOTIENT($A70,4)+5,MATCH(\"メール⑤\",配送情報書!$4:$4,0)))","v":0},null,"*"]
[63,{"$f":"IF(AND($F71=0,$H71=0),\"\",INDEX(配送情報書!$A:$BK,QUOTIENT($A71,4)+5,MATCH(\"案件ID\",配送情報書!$4:$4,0)))","v":""},{"$f":"IF(B71<>\"\",INDEX(配送情報書!$A:$BK,QUOTIENT($A71,4)+5,MATCH(\"受取者の企業名\",配送情報書!$4:$4,0)),\"\")","v":""},"",null,{"$f":"_xlfn.IFS(MOD($A71,4)=0,INDEX(配送情報書!$A:$BK,QUOTIENT($A71,4)+5,MATCH(\"名前②\",配送情報書!$4:$4,0)),\nMOD($A71,4)=1,INDEX(配送情報書!$A:$BK,QUOTIENT($A71,4)+5,MATCH(\"名前③\",配送情報書!$4:$4,0)),\nMOD($A71,4)=2,INDEX(配送情報書!$A:$BK,QUOTIENT($A71,4)+5,MATCH(\"名前④\",配送情報書!$4:$4,0)),\nMOD($A71,4)=3,INDEX(配送情報書!$A:$BK,QUOTIENT($A71,4)+5,MATCH(\"名前⑤\",配送情報書!$4:$4,0)))","v":0},{"$f":"IF(B71<>\"\",INDEX(配送情報書!$A:$BK,QUOTIENT($A71,4)+5,MATCH(\"電話番号（陽性者発生時の連絡用）\"&\"*\",配送情報書!$4:$4,0)),\"\")","v":""},{"$f":"_xlfn.IFS(MOD($A71,4)=0,INDEX(配送情報書!$A:$BK,QUOTIENT($A71,4)+5,MATCH(\"メール②\",配送情報書!$4:$4,0)),\nMOD($A71,4)=1,INDEX(配送情報書!$A:$BK,QUOTIENT($A71,4)+5,MATCH(\"メール③\",配送情報書!$4:$4,0)),\nMOD($A71,4)=2,INDEX(配送情報書!$A:$BK,QUOTIENT($A71,4)+5,MATCH(\"メール④\",配送情報書!$4:$4,0)),\nMOD($A71,4)=3,INDEX(配送情報書!$A:$BK,QUOTIENT($A71,4)+5,MATCH(\"メール⑤\",配送情報書!$4:$4,0)))","v":0},null,"*"]
[64,{"$f":"IF(AND($F72=0,$H72=0),\"\",INDEX(配送情報書!$A:$BK,QUOTIENT($A72,4)+5,MATCH(\"案件ID\",配送情報書!$4:$4,0)))","v":""},{"$f":"IF(B72<>\"\",INDEX(配送情報書!$A:$BK,QUOTIENT($A72,4)+5,MATCH(\"受取者の企業名\",配送情報書!$4:$4,0)),\"\")","v":""},"",null,{"$f":"_xlfn.IFS(MOD($A72,4)=0,INDEX(配送情報書!$A:$BK,QUOTIENT($A72,4)+5,MATCH(\"名前②\",配送情報書!$4:$4,0)),\nMOD($A72,4)=1,INDEX(配送情報書!$A:$BK,QUOTIENT($A72,4)+5,MATCH(\"名前③\",配送情報書!$4:$4,0)),\nMOD($A72,4)=2,INDEX(配送情報書!$A:$BK,QUOTIENT($A72,4)+5,MATCH(\"名前④\",配送情報書!$4:$4,0)),\nMOD($A72,4)=3,INDEX(配送情報書!$A:$BK,QUOTIENT($A72,4)+5,MATCH(\"名前⑤\",配送情報書!$4:$4,0)))","v":0},{"$f":"IF(B72<>\"\",INDEX(配送情報書!$A:$BK,QUOTIENT($A72,4)+5,MATCH(\"電話番号（陽性者発生時の連絡用）\"&\"*\",配送情報書!$4:$4,0)),\"\")","v":""},{"$f":"_xlfn.IFS(MOD($A72,4)=0,INDEX(配送情報書!$A:$BK,QUOTIENT($A72,4)+5,MATCH(\"メール②\",配送情報書!$4:$4,0)),\nMOD($A72,4)=1,INDEX(配送情報書!$A:$BK,QUOTIENT($A72,4)+5,MATCH(\"メール③\",配送情報書!$4:$4,0)),\nMOD($A72,4)=2,INDEX(配送情報書!$A:$BK,QUOTIENT($A72,4)+5,MATCH(\"メール④\",配送情報書!$4:$4,0)),\nMOD($A72,4)=3,INDEX(配送情報書!$A:$BK,QUOTIENT($A72,4)+5,MATCH(\"メール⑤\",配送情報書!$4:$4,0)))","v":0},null,"*"]
[{"$f":"ROW()-8","v":65},{"$f":"IF(AND($F73=0,$H73=0),\"\",INDEX(配送情報書!$A:$BK,QUOTIENT($A73,4)+5,MATCH(\"案件ID\",配送情報書!$4:$4,0)))","v":""},{"$f":"IF(B73<>\"\",INDEX(配送情報書!$A:$BK,QUOTIENT($A73,4)+5,MATCH(\"受取者の企業名\",配送情報書!$4:$4,0)),\"\")","v":""},{"$f":"IF(B73<>\"\",TODAY(),\"\")","v":""},null,{"$f":"_xlfn.IFS(MOD($A73,4)=0,INDEX(配送情報書!$A:$BK,QUOTIENT($A73,4)+5,MATCH(\"名前②\",配送情報書!$4:$4,0)),\nMOD($A73,4)=1,INDEX(配送情報書!$A:$BK,QUOTIENT($A73,4)+5,MATCH(\"名前③\",配送情報書!$4:$4,0)),\nMOD($A73,4)=2,INDEX(配送情報書!$A:$BK,QUOTIENT($A73,4)+5,MATCH(\"名前④\",配送情報書!$4:$4,0)),\nMOD($A73,4)=3,INDEX(配送情報書!$A:$BK,QUOTIENT($A73,4)+5,MATCH(\"名前⑤\",配送情報書!$4:$4,0)))","v":0},{"$f":"IF(B73<>\"\",INDEX(配送情報書!$A:$BK,QUOTIENT($A73,4)+5,MATCH(\"電話番号（陽性者発生時の連絡用）\"&\"*\",配送情報書!$4:$4,0)),\"\")","v":""},{"$f":"_xlfn.IFS(MOD($A73,4)=0,INDEX(配送情報書!$A:$BK,QUOTIENT($A73,4)+5,MATCH(\"メール②\",配送情報書!$4:$4,0)),\nMOD($A73,4)=1,INDEX(配送情報書!$A:$BK,QUOTIENT($A73,4)+5,MATCH(\"メール③\",配送情報書!$4:$4,0)),\nMOD($A73,4)=2,INDEX(配送情報書!$A:$BK,QUOTIENT($A73,4)+5,MATCH(\"メール④\",配送情報書!$4:$4,0)),\nMOD($A73,4)=3,INDEX(配送情報書!$A:$BK,QUOTIENT($A73,4)+5,MATCH(\"メール⑤\",配送情報書!$4:$4,0)))","v":0},null,"*"]
[66,{"$f":"IF(AND($F74=0,$H74=0),\"\",INDEX(配送情報書!$A:$BK,QUOTIENT($A74,4)+5,MATCH(\"案件ID\",配送情報書!$4:$4,0)))","v":""},{"$f":"IF(B74<>\"\",INDEX(配送情報書!$A:$BK,QUOTIENT($A74,4)+5,MATCH(\"受取者の企業名\",配送情報書!$4:$4,0)),\"\")","v":""},"",null,{"$f":"_xlfn.IFS(MOD($A74,4)=0,INDEX(配送情報書!$A:$BK,QUOTIENT($A74,4)+5,MATCH(\"名前②\",配送情報書!$4:$4,0)),\nMOD($A74,4)=1,INDEX(配送情報書!$A:$BK,QUOTIENT($A74,4)+5,MATCH(\"名前③\",配送情報書!$4:$4,0)),\nMOD($A74,4)=2,INDEX(配送情報書!$A:$BK,QUOTIENT($A74,4)+5,MATCH(\"名前④\",配送情報書!$4:$4,0)),\nMOD($A74,4)=3,INDEX(配送情報書!$A:$BK,QUOTIENT($A74,4)+5,MATCH(\"名前⑤\",配送情報書!$4:$4,0)))","v":0},{"$f":"IF(B74<>\"\",INDEX(配送情報書!$A:$BK,QUOTIENT($A74,4)+5,MATCH(\"電話番号（陽性者発生時の連絡用）\"&\"*\",配送情報書!$4:$4,0)),\"\")","v":""},{"$f":"_xlfn.IFS(MOD($A74,4)=0,INDEX(配送情報書!$A:$BK,QUOTIENT($A74,4)+5,MATCH(\"メール②\",配送情報書!$4:$4,0)),\nMOD($A74,4)=1,INDEX(配送情報書!$A:$BK,QUOTIENT($A74,4)+5,MATCH(\"メール③\",配送情報書!$4:$4,0)),\nMOD($A74,4)=2,INDEX(配送情報書!$A:$BK,QUOTIENT($A74,4)+5,MATCH(\"メール④\",配送情報書!$4:$4,0)),\nMOD($A74,4)=3,INDEX(配送情報書!$A:$BK,QUOTIENT($A74,4)+5,MATCH(\"メール⑤\",配送情報書!$4:$4,0)))","v":0},null,"*"]
[67,{"$f":"IF(AND($F75=0,$H75=0),\"\",INDEX(配送情報書!$A:$BK,QUOTIENT($A75,4)+5,MATCH(\"案件ID\",配送情報書!$4:$4,0)))","v":""},{"$f":"IF(B75<>\"\",INDEX(配送情報書!$A:$BK,QUOTIENT($A75,4)+5,MATCH(\"受取者の企業名\",配送情報書!$4:$4,0)),\"\")","v":""},"",null,{"$f":"_xlfn.IFS(MOD($A75,4)=0,INDEX(配送情報書!$A:$BK,QUOTIENT($A75,4)+5,MATCH(\"名前②\",配送情報書!$4:$4,0)),\nMOD($A75,4)=1,INDEX(配送情報書!$A:$BK,QUOTIENT($A75,4)+5,MATCH(\"名前③\",配送情報書!$4:$4,0)),\nMOD($A75,4)=2,INDEX(配送情報書!$A:$BK,QUOTIENT($A75,4)+5,MATCH(\"名前④\",配送情報書!$4:$4,0)),\nMOD($A75,4)=3,INDEX(配送情報書!$A:$BK,QUOTIENT($A75,4)+5,MATCH(\"名前⑤\",配送情報書!$4:$4,0)))","v":0},{"$f":"IF(B75<>\"\",INDEX(配送情報書!$A:$BK,QUOTIENT($A75,4)+5,MATCH(\"電話番号（陽性者発生時の連絡用）\"&\"*\",配送情報書!$4:$4,0)),\"\")","v":""},{"$f":"_xlfn.IFS(MOD($A75,4)=0,INDEX(配送情報書!$A:$BK,QUOTIENT($A75,4)+5,MATCH(\"メール②\",配送情報書!$4:$4,0)),\nMOD($A75,4)=1,INDEX(配送情報書!$A:$BK,QUOTIENT($A75,4)+5,MATCH(\"メール③\",配送情報書!$4:$4,0)),\nMOD($A75,4)=2,INDEX(配送情報書!$A:$BK,QUOTIENT($A75,4)+5,MATCH(\"メール④\",配送情報書!$4:$4,0)),\nMOD($A75,4)=3,INDEX(配送情報書!$A:$BK,QUOTIENT($A75,4)+5,MATCH(\"メール⑤\",配送情報書!$4:$4,0)))","v":0},null,"*"]
[68,{"$f":"IF(AND($F76=0,$H76=0),\"\",INDEX(配送情報書!$A:$BK,QUOTIENT($A76,4)+5,MATCH(\"案件ID\",配送情報書!$4:$4,0)))","v":""},{"$f":"IF(B76<>\"\",INDEX(配送情報書!$A:$BK,QUOTIENT($A76,4)+5,MATCH(\"受取者の企業名\",配送情報書!$4:$4,0)),\"\")","v":""},"",null,{"$f":"_xlfn.IFS(MOD($A76,4)=0,INDEX(配送情報書!$A:$BK,QUOTIENT($A76,4)+5,MATCH(\"名前②\",配送情報書!$4:$4,0)),\nMOD($A76,4)=1,INDEX(配送情報書!$A:$BK,QUOTIENT($A76,4)+5,MATCH(\"名前③\",配送情報書!$4:$4,0)),\nMOD($A76,4)=2,INDEX(配送情報書!$A:$BK,QUOTIENT($A76,4)+5,MATCH(\"名前④\",配送情報書!$4:$4,0)),\nMOD($A76,4)=3,INDEX(配送情報書!$A:$BK,QUOTIENT($A76,4)+5,MATCH(\"名前⑤\",配送情報書!$4:$4,0)))","v":0},{"$f":"IF(B76<>\"\",INDEX(配送情報書!$A:$BK,QUOTIENT($A76,4)+5,MATCH(\"電話番号（陽性者発生時の連絡用）\"&\"*\",配送情報書!$4:$4,0)),\"\")","v":""},{"$f":"_xlfn.IFS(MOD($A76,4)=0,INDEX(配送情報書!$A:$BK,QUOTIENT($A76,4)+5,MATCH(\"メール②\",配送情報書!$4:$4,0)),\nMOD($A76,4)=1,INDEX(配送情報書!$A:$BK,QUOTIENT($A76,4)+5,MATCH(\"メール③\",配送情報書!$4:$4,0)),\nMOD($A76,4)=2,INDEX(配送情報書!$A:$BK,QUOTIENT($A76,4)+5,MATCH(\"メール④\",配送情報書!$4:$4,0)),\nMOD($A76,4)=3,INDEX(配送情報書!$A:$BK,QUOTIENT($A76,4)+5,MATCH(\"メール⑤\",配送情報書!$4:$4,0)))","v":0},null,"*"]
[69,{"$f":"IF(AND($F77=0,$H77=0),\"\",INDEX(配送情報書!$A:$BK,QUOTIENT($A77,4)+5,MATCH(\"案件ID\",配送情報書!$4:$4,0)))","v":""},{"$f":"IF(B77<>\"\",INDEX(配送情報書!$A:$BK,QUOTIENT($A77,4)+5,MATCH(\"受取者の企業名\",配送情報書!$4:$4,0)),\"\")","v":""},"",null,{"$f":"_xlfn.IFS(MOD($A77,4)=0,INDEX(配送情報書!$A:$BK,QUOTIENT($A77,4)+5,MATCH(\"名前②\",配送情報書!$4:$4,0)),\nMOD($A77,4)=1,INDEX(配送情報書!$A:$BK,QUOTIENT($A77,4)+5,MATCH(\"名前③\",配送情報書!$4:$4,0)),\nMOD($A77,4)=2,INDEX(配送情報書!$A:$BK,QUOTIENT($A77,4)+5,MATCH(\"名前④\",配送情報書!$4:$4,0)),\nMOD($A77,4)=3,INDEX(配送情報書!$A:$BK,QUOTIENT($A77,4)+5,MATCH(\"名前⑤\",配送情報書!$4:$4,0)))","v":0},{"$f":"IF(B77<>\"\",INDEX(配送情報書!$A:$BK,QUOTIENT($A77,4)+5,MATCH(\"電話番号（陽性者発生時の連絡用）\"&\"*\",配送情報書!$4:$4,0)),\"\")","v":""},{"$f":"_xlfn.IFS(MOD($A77,4)=0,INDEX(配送情報書!$A:$BK,QUOTIENT($A77,4)+5,MATCH(\"メール②\",配送情報書!$4:$4,0)),\nMOD($A77,4)=1,INDEX(配送情報書!$A:$BK,QUOTIENT($A77,4)+5,MATCH(\"メール③\",配送情報書!$4:$4,0)),\nMOD($A77,4)=2,INDEX(配送情報書!$A:$BK,QUOTIENT($A77,4)+5,MATCH(\"メール④\",配送情報書!$4:$4,0)),\nMOD($A77,4)=3,INDEX(配送情報書!$A:$BK,QUOTIENT($A77,4)+5,MATCH(\"メール⑤\",配送情報書!$4:$4,0)))","v":0},null,"*"]
[70,{"$f":"IF(AND($F78=0,$H78=0),\"\",INDEX(配送情報書!$A:$BK,QUOTIENT($A78,4)+5,MATCH(\"案件ID\",配送情報書!$4:$4,0)))","v":""},{"$f":"IF(B78<>\"\",INDEX(配送情報書!$A:$BK,QUOTIENT($A78,4)+5,MATCH(\"受取者の企業名\",配送情報書!$4:$4,0)),\"\")","v":""},"",null,{"$f":"_xlfn.IFS(MOD($A78,4)=0,INDEX(配送情報書!$A:$BK,QUOTIENT($A78,4)+5,MATCH(\"名前②\",配送情報書!$4:$4,0)),\nMOD($A78,4)=1,INDEX(配送情報書!$A:$BK,QUOTIENT($A78,4)+5,MATCH(\"名前③\",配送情報書!$4:$4,0)),\nMOD($A78,4)=2,INDEX(配送情報書!$A:$BK,QUOTIENT($A78,4)+5,MATCH(\"名前④\",配送情報書!$4:$4,0)),\nMOD($A78,4)=3,INDEX(配送情報書!$A:$BK,QUOTIENT($A78,4)+5,MATCH(\"名前⑤\",配送情報書!$4:$4,0)))","v":0},{"$f":"IF(B78<>\"\",INDEX(配送情報書!$A:$BK,QUOTIENT($A78,4)+5,MATCH(\"電話番号（陽性者発生時の連絡用）\"&\"*\",配送情報書!$4:$4,0)),\"\")","v":""},{"$f":"_xlfn.IFS(MOD($A78,4)=0,INDEX(配送情報書!$A:$BK,QUOTIENT($A78,4)+5,MATCH(\"メール②\",配送情報書!$4:$4,0)),\nMOD($A78,4)=1,INDEX(配送情報書!$A:$BK,QUOTIENT($A78,4)+5,MATCH(\"メール③\",配送情報書!$4:$4,0)),\nMOD($A78,4)=2,INDEX(配送情報書!$A:$BK,QUOTIENT($A78,4)+5,MATCH(\"メール④\",配送情報書!$4:$4,0)),\nMOD($A78,4)=3,INDEX(配送情報書!$A:$BK,QUOTIENT($A78,4)+5,MATCH(\"メール⑤\",配送情報書!$4:$4,0)))","v":0},null,"*"]
[71,{"$f":"IF(AND($F79=0,$H79=0),\"\",INDEX(配送情報書!$A:$BK,QUOTIENT($A79,4)+5,MATCH(\"案件ID\",配送情報書!$4:$4,0)))","v":""},{"$f":"IF(B79<>\"\",INDEX(配送情報書!$A:$BK,QUOTIENT($A79,4)+5,MATCH(\"受取者の企業名\",配送情報書!$4:$4,0)),\"\")","v":""},"",null,{"$f":"_xlfn.IFS(MOD($A79,4)=0,INDEX(配送情報書!$A:$BK,QUOTIENT($A79,4)+5,MATCH(\"名前②\",配送情報書!$4:$4,0)),\nMOD($A79,4)=1,INDEX(配送情報書!$A:$BK,QUOTIENT($A79,4)+5,MATCH(\"名前③\",配送情報書!$4:$4,0)),\nMOD($A79,4)=2,INDEX(配送情報書!$A:$BK,QUOTIENT($A79,4)+5,MATCH(\"名前④\",配送情報書!$4:$4,0)),\nMOD($A79,4)=3,INDEX(配送情報書!$A:$BK,QUOTIENT($A79,4)+5,MATCH(\"名前⑤\",配送情報書!$4:$4,0)))","v":0},{"$f":"IF(B79<>\"\",INDEX(配送情報書!$A:$BK,QUOTIENT($A79,4)+5,MATCH(\"電話番号（陽性者発生時の連絡用）\"&\"*\",配送情報書!$4:$4,0)),\"\")","v":""},{"$f":"_xlfn.IFS(MOD($A79,4)=0,INDEX(配送情報書!$A:$BK,QUOTIENT($A79,4)+5,MATCH(\"メール②\",配送情報書!$4:$4,0)),\nMOD($A79,4)=1,INDEX(配送情報書!$A:$BK,QUOTIENT($A79,4)+5,MATCH(\"メール③\",配送情報書!$4:$4,0)),\nMOD($A79,4)=2,INDEX(配送情報書!$A:$BK,QUOTIENT($A79,4)+5,MATCH(\"メール④\",配送情報書!$4:$4,0)),\nMOD($A79,4)=3,INDEX(配送情報書!$A:$BK,QUOTIENT($A79,4)+5,MATCH(\"メール⑤\",配送情報書!$4:$4,0)))","v":0},null,"*"]
[72,{"$f":"IF(AND($F80=0,$H80=0),\"\",INDEX(配送情報書!$A:$BK,QUOTIENT($A80,4)+5,MATCH(\"案件ID\",配送情報書!$4:$4,0)))","v":""},{"$f":"IF(B80<>\"\",INDEX(配送情報書!$A:$BK,QUOTIENT($A80,4)+5,MATCH(\"受取者の企業名\",配送情報書!$4:$4,0)),\"\")","v":""},"",null,{"$f":"_xlfn.IFS(MOD($A80,4)=0,INDEX(配送情報書!$A:$BK,QUOTIENT($A80,4)+5,MATCH(\"名前②\",配送情報書!$4:$4,0)),\nMOD($A80,4)=1,INDEX(配送情報書!$A:$BK,QUOTIENT($A80,4)+5,MATCH(\"名前③\",配送情報書!$4:$4,0)),\nMOD($A80,4)=2,INDEX(配送情報書!$A:$BK,QUOTIENT($A80,4)+5,MATCH(\"名前④\",配送情報書!$4:$4,0)),\nMOD($A80,4)=3,INDEX(配送情報書!$A:$BK,QUOTIENT($A80,4)+5,MATCH(\"名前⑤\",配送情報書!$4:$4,0)))","v":0},{"$f":"IF(B80<>\"\",INDEX(配送情報書!$A:$BK,QUOTIENT($A80,4)+5,MATCH(\"電話番号（陽性者発生時の連絡用）\"&\"*\",配送情報書!$4:$4,0)),\"\")","v":""},{"$f":"_xlfn.IFS(MOD($A80,4)=0,INDEX(配送情報書!$A:$BK,QUOTIENT($A80,4)+5,MATCH(\"メール②\",配送情報書!$4:$4,0)),\nMOD($A80,4)=1,INDEX(配送情報書!$A:$BK,QUOTIENT($A80,4)+5,MATCH(\"メール③\",配送情報書!$4:$4,0)),\nMOD($A80,4)=2,INDEX(配送情報書!$A:$BK,QUOTIENT($A80,4)+5,MATCH(\"メール④\",配送情報書!$4:$4,0)),\nMOD($A80,4)=3,INDEX(配送情報書!$A:$BK,QUOTIENT($A80,4)+5,MATCH(\"メール⑤\",配送情報書!$4:$4,0)))","v":0},null,"*"]
[73,{"$f":"IF(AND($F81=0,$H81=0),\"\",INDEX(配送情報書!$A:$BK,QUOTIENT($A81,4)+5,MATCH(\"案件ID\",配送情報書!$4:$4,0)))","v":""},{"$f":"IF(B81<>\"\",INDEX(配送情報書!$A:$BK,QUOTIENT($A81,4)+5,MATCH(\"受取者の企業名\",配送情報書!$4:$4,0)),\"\")","v":""},"",null,{"$f":"_xlfn.IFS(MOD($A81,4)=0,INDEX(配送情報書!$A:$BK,QUOTIENT($A81,4)+5,MATCH(\"名前②\",配送情報書!$4:$4,0)),\nMOD($A81,4)=1,INDEX(配送情報書!$A:$BK,QUOTIENT($A81,4)+5,MATCH(\"名前③\",配送情報書!$4:$4,0)),\nMOD($A81,4)=2,INDEX(配送情報書!$A:$BK,QUOTIENT($A81,4)+5,MATCH(\"名前④\",配送情報書!$4:$4,0)),\nMOD($A81,4)=3,INDEX(配送情報書!$A:$BK,QUOTIENT($A81,4)+5,MATCH(\"名前⑤\",配送情報書!$4:$4,0)))","v":0},{"$f":"IF(B81<>\"\",INDEX(配送情報書!$A:$BK,QUOTIENT($A81,4)+5,MATCH(\"電話番号（陽性者発生時の連絡用）\"&\"*\",配送情報書!$4:$4,0)),\"\")","v":""},{"$f":"_xlfn.IFS(MOD($A81,4)=0,INDEX(配送情報書!$A:$BK,QUOTIENT($A81,4)+5,MATCH(\"メール②\",配送情報書!$4:$4,0)),\nMOD($A81,4)=1,INDEX(配送情報書!$A:$BK,QUOTIENT($A81,4)+5,MATCH(\"メール③\",配送情報書!$4:$4,0)),\nMOD($A81,4)=2,INDEX(配送情報書!$A:$BK,QUOTIENT($A81,4)+5,MATCH(\"メール④\",配送情報書!$4:$4,0)),\nMOD($A81,4)=3,INDEX(配送情報書!$A:$BK,QUOTIENT($A81,4)+5,MATCH(\"メール⑤\",配送情報書!$4:$4,0)))","v":0},null,"*"]
[74,{"$f":"IF(AND($F82=0,$H82=0),\"\",INDEX(配送情報書!$A:$BK,QUOTIENT($A82,4)+5,MATCH(\"案件ID\",配送情報書!$4:$4,0)))","v":""},{"$f":"IF(B82<>\"\",INDEX(配送情報書!$A:$BK,QUOTIENT($A82,4)+5,MATCH(\"受取者の企業名\",配送情報書!$4:$4,0)),\"\")","v":""},"",null,{"$f":"_xlfn.IFS(MOD($A82,4)=0,INDEX(配送情報書!$A:$BK,QUOTIENT($A82,4)+5,MATCH(\"名前②\",配送情報書!$4:$4,0)),\nMOD($A82,4)=1,INDEX(配送情報書!$A:$BK,QUOTIENT($A82,4)+5,MATCH(\"名前③\",配送情報書!$4:$4,0)),\nMOD($A82,4)=2,INDEX(配送情報書!$A:$BK,QUOTIENT($A82,4)+5,MATCH(\"名前④\",配送情報書!$4:$4,0)),\nMOD($A82,4)=3,INDEX(配送情報書!$A:$BK,QUOTIENT($A82,4)+5,MATCH(\"名前⑤\",配送情報書!$4:$4,0)))","v":0},{"$f":"IF(B82<>\"\",INDEX(配送情報書!$A:$BK,QUOTIENT($A82,4)+5,MATCH(\"電話番号（陽性者発生時の連絡用）\"&\"*\",配送情報書!$4:$4,0)),\"\")","v":""},{"$f":"_xlfn.IFS(MOD($A82,4)=0,INDEX(配送情報書!$A:$BK,QUOTIENT($A82,4)+5,MATCH(\"メール②\",配送情報書!$4:$4,0)),\nMOD($A82,4)=1,INDEX(配送情報書!$A:$BK,QUOTIENT($A82,4)+5,MATCH(\"メール③\",配送情報書!$4:$4,0)),\nMOD($A82,4)=2,INDEX(配送情報書!$A:$BK,QUOTIENT($A82,4)+5,MATCH(\"メール④\",配送情報書!$4:$4,0)),\nMOD($A82,4)=3,INDEX(配送情報書!$A:$BK,QUOTIENT($A82,4)+5,MATCH(\"メール⑤\",配送情報書!$4:$4,0)))","v":0},null,"*"]
[75,{"$f":"IF(AND($F83=0,$H83=0),\"\",INDEX(配送情報書!$A:$BK,QUOTIENT($A83,4)+5,MATCH(\"案件ID\",配送情報書!$4:$4,0)))","v":""},{"$f":"IF(B83<>\"\",INDEX(配送情報書!$A:$BK,QUOTIENT($A83,4)+5,MATCH(\"受取者の企業名\",配送情報書!$4:$4,0)),\"\")","v":""},"",null,{"$f":"_xlfn.IFS(MOD($A83,4)=0,INDEX(配送情報書!$A:$BK,QUOTIENT($A83,4)+5,MATCH(\"名前②\",配送情報書!$4:$4,0)),\nMOD($A83,4)=1,INDEX(配送情報書!$A:$BK,QUOTIENT($A83,4)+5,MATCH(\"名前③\",配送情報書!$4:$4,0)),\nMOD($A83,4)=2,INDEX(配送情報書!$A:$BK,QUOTIENT($A83,4)+5,MATCH(\"名前④\",配送情報書!$4:$4,0)),\nMOD($A83,4)=3,INDEX(配送情報書!$A:$BK,QUOTIENT($A83,4)+5,MATCH(\"名前⑤\",配送情報書!$4:$4,0)))","v":0},{"$f":"IF(B83<>\"\",INDEX(配送情報書!$A:$BK,QUOTIENT($A83,4)+5,MATCH(\"電話番号（陽性者発生時の連絡用）\"&\"*\",配送情報書!$4:$4,0)),\"\")","v":""},{"$f":"_xlfn.IFS(MOD($A83,4)=0,INDEX(配送情報書!$A:$BK,QUOTIENT($A83,4)+5,MATCH(\"メール②\",配送情報書!$4:$4,0)),\nMOD($A83,4)=1,INDEX(配送情報書!$A:$BK,QUOTIENT($A83,4)+5,MATCH(\"メール③\",配送情報書!$4:$4,0)),\nMOD($A83,4)=2,INDEX(配送情報書!$A:$BK,QUOTIENT($A83,4)+5,MATCH(\"メール④\",配送情報書!$4:$4,0)),\nMOD($A83,4)=3,INDEX(配送情報書!$A:$BK,QUOTIENT($A83,4)+5,MATCH(\"メール⑤\",配送情報書!$4:$4,0)))","v":0},null,"*"]
[76,{"$f":"IF(AND($F84=0,$H84=0),\"\",INDEX(配送情報書!$A:$BK,QUOTIENT($A84,4)+5,MATCH(\"案件ID\",配送情報書!$4:$4,0)))","v":""},{"$f":"IF(B84<>\"\",INDEX(配送情報書!$A:$BK,QUOTIENT($A84,4)+5,MATCH(\"受取者の企業名\",配送情報書!$4:$4,0)),\"\")","v":""},"",null,{"$f":"_xlfn.IFS(MOD($A84,4)=0,INDEX(配送情報書!$A:$BK,QUOTIENT($A84,4)+5,MATCH(\"名前②\",配送情報書!$4:$4,0)),\nMOD($A84,4)=1,INDEX(配送情報書!$A:$BK,QUOTIENT($A84,4)+5,MATCH(\"名前③\",配送情報書!$4:$4,0)),\nMOD($A84,4)=2,INDEX(配送情報書!$A:$BK,QUOTIENT($A84,4)+5,MATCH(\"名前④\",配送情報書!$4:$4,0)),\nMOD($A84,4)=3,INDEX(配送情報書!$A:$BK,QUOTIENT($A84,4)+5,MATCH(\"名前⑤\",配送情報書!$4:$4,0)))","v":0},{"$f":"IF(B84<>\"\",INDEX(配送情報書!$A:$BK,QUOTIENT($A84,4)+5,MATCH(\"電話番号（陽性者発生時の連絡用）\"&\"*\",配送情報書!$4:$4,0)),\"\")","v":""},{"$f":"_xlfn.IFS(MOD($A84,4)=0,INDEX(配送情報書!$A:$BK,QUOTIENT($A84,4)+5,MATCH(\"メール②\",配送情報書!$4:$4,0)),\nMOD($A84,4)=1,INDEX(配送情報書!$A:$BK,QUOTIENT($A84,4)+5,MATCH(\"メール③\",配送情報書!$4:$4,0)),\nMOD($A84,4)=2,INDEX(配送情報書!$A:$BK,QUOTIENT($A84,4)+5,MATCH(\"メール④\",配送情報書!$4:$4,0)),\nMOD($A84,4)=3,INDEX(配送情報書!$A:$BK,QUOTIENT($A84,4)+5,MATCH(\"メール⑤\",配送情報書!$4:$4,0)))","v":0},null,"*"]
[77,{"$f":"IF(AND($F85=0,$H85=0),\"\",INDEX(配送情報書!$A:$BK,QUOTIENT($A85,4)+5,MATCH(\"案件ID\",配送情報書!$4:$4,0)))","v":""},{"$f":"IF(B85<>\"\",INDEX(配送情報書!$A:$BK,QUOTIENT($A85,4)+5,MATCH(\"受取者の企業名\",配送情報書!$4:$4,0)),\"\")","v":""},"",null,{"$f":"_xlfn.IFS(MOD($A85,4)=0,INDEX(配送情報書!$A:$BK,QUOTIENT($A85,4)+5,MATCH(\"名前②\",配送情報書!$4:$4,0)),\nMOD($A85,4)=1,INDEX(配送情報書!$A:$BK,QUOTIENT($A85,4)+5,MATCH(\"名前③\",配送情報書!$4:$4,0)),\nMOD($A85,4)=2,INDEX(配送情報書!$A:$BK,QUOTIENT($A85,4)+5,MATCH(\"名前④\",配送情報書!$4:$4,0)),\nMOD($A85,4)=3,INDEX(配送情報書!$A:$BK,QUOTIENT($A85,4)+5,MATCH(\"名前⑤\",配送情報書!$4:$4,0)))","v":0},{"$f":"IF(B85<>\"\",INDEX(配送情報書!$A:$BK,QUOTIENT($A85,4)+5,MATCH(\"電話番号（陽性者発生時の連絡用）\"&\"*\",配送情報書!$4:$4,0)),\"\")","v":""},{"$f":"_xlfn.IFS(MOD($A85,4)=0,INDEX(配送情報書!$A:$BK,QUOTIENT($A85,4)+5,MATCH(\"メール②\",配送情報書!$4:$4,0)),\nMOD($A85,4)=1,INDEX(配送情報書!$A:$BK,QUOTIENT($A85,4)+5,MATCH(\"メール③\",配送情報書!$4:$4,0)),\nMOD($A85,4)=2,INDEX(配送情報書!$A:$BK,QUOTIENT($A85,4)+5,MATCH(\"メール④\",配送情報書!$4:$4,0)),\nMOD($A85,4)=3,INDEX(配送情報書!$A:$BK,QUOTIENT($A85,4)+5,MATCH(\"メール⑤\",配送情報書!$4:$4,0)))","v":0},null,"*"]
[78,{"$f":"IF(AND($F86=0,$H86=0),\"\",INDEX(配送情報書!$A:$BK,QUOTIENT($A86,4)+5,MATCH(\"案件ID\",配送情報書!$4:$4,0)))","v":""},{"$f":"IF(B86<>\"\",INDEX(配送情報書!$A:$BK,QUOTIENT($A86,4)+5,MATCH(\"受取者の企業名\",配送情報書!$4:$4,0)),\"\")","v":""},"",null,{"$f":"_xlfn.IFS(MOD($A86,4)=0,INDEX(配送情報書!$A:$BK,QUOTIENT($A86,4)+5,MATCH(\"名前②\",配送情報書!$4:$4,0)),\nMOD($A86,4)=1,INDEX(配送情報書!$A:$BK,QUOTIENT($A86,4)+5,MATCH(\"名前③\",配送情報書!$4:$4,0)),\nMOD($A86,4)=2,INDEX(配送情報書!$A:$BK,QUOTIENT($A86,4)+5,MATCH(\"名前④\",配送情報書!$4:$4,0)),\nMOD($A86,4)=3,INDEX(配送情報書!$A:$BK,QUOTIENT($A86,4)+5,MATCH(\"名前⑤\",配送情報書!$4:$4,0)))","v":0},{"$f":"IF(B86<>\"\",INDEX(配送情報書!$A:$BK,QUOTIENT($A86,4)+5,MATCH(\"電話番号（陽性者発生時の連絡用）\"&\"*\",配送情報書!$4:$4,0)),\"\")","v":""},{"$f":"_xlfn.IFS(MOD($A86,4)=0,INDEX(配送情報書!$A:$BK,QUOTIENT($A86,4)+5,MATCH(\"メール②\",配送情報書!$4:$4,0)),\nMOD($A86,4)=1,INDEX(配送情報書!$A:$BK,QUOTIENT($A86,4)+5,MATCH(\"メール③\",配送情報書!$4:$4,0)),\nMOD($A86,4)=2,INDEX(配送情報書!$A:$BK,QUOTIENT($A86,4)+5,MATCH(\"メール④\",配送情報書!$4:$4,0)),\nMOD($A86,4)=3,INDEX(配送情報書!$A:$BK,QUOTIENT($A86,4)+5,MATCH(\"メール⑤\",配送情報書!$4:$4,0)))","v":0},null,"*"]
[79,{"$f":"IF(AND($F87=0,$H87=0),\"\",INDEX(配送情報書!$A:$BK,QUOTIENT($A87,4)+5,MATCH(\"案件ID\",配送情報書!$4:$4,0)))","v":""},{"$f":"IF(B87<>\"\",INDEX(配送情報書!$A:$BK,QUOTIENT($A87,4)+5,MATCH(\"受取者の企業名\",配送情報書!$4:$4,0)),\"\")","v":""},"",null,{"$f":"_xlfn.IFS(MOD($A87,4)=0,INDEX(配送情報書!$A:$BK,QUOTIENT($A87,4)+5,MATCH(\"名前②\",配送情報書!$4:$4,0)),\nMOD($A87,4)=1,INDEX(配送情報書!$A:$BK,QUOTIENT($A87,4)+5,MATCH(\"名前③\",配送情報書!$4:$4,0)),\nMOD($A87,4)=2,INDEX(配送情報書!$A:$BK,QUOTIENT($A87,4)+5,MATCH(\"名前④\",配送情報書!$4:$4,0)),\nMOD($A87,4)=3,INDEX(配送情報書!$A:$BK,QUOTIENT($A87,4)+5,MATCH(\"名前⑤\",配送情報書!$4:$4,0)))","v":0},{"$f":"IF(B87<>\"\",INDEX(配送情報書!$A:$BK,QUOTIENT($A87,4)+5,MATCH(\"電話番号（陽性者発生時の連絡用）\"&\"*\",配送情報書!$4:$4,0)),\"\")","v":""},{"$f":"_xlfn.IFS(MOD($A87,4)=0,INDEX(配送情報書!$A:$BK,QUOTIENT($A87,4)+5,MATCH(\"メール②\",配送情報書!$4:$4,0)),\nMOD($A87,4)=1,INDEX(配送情報書!$A:$BK,QUOTIENT($A87,4)+5,MATCH(\"メール③\",配送情報書!$4:$4,0)),\nMOD($A87,4)=2,INDEX(配送情報書!$A:$BK,QUOTIENT($A87,4)+5,MATCH(\"メール④\",配送情報書!$4:$4,0)),\nMOD($A87,4)=3,INDEX(配送情報書!$A:$BK,QUOTIENT($A87,4)+5,MATCH(\"メール⑤\",配送情報書!$4:$4,0)))","v":0},null,"*"]
[80,{"$f":"IF(AND($F88=0,$H88=0),\"\",INDEX(配送情報書!$A:$BK,QUOTIENT($A88,4)+5,MATCH(\"案件ID\",配送情報書!$4:$4,0)))","v":""},{"$f":"IF(B88<>\"\",INDEX(配送情報書!$A:$BK,QUOTIENT($A88,4)+5,MATCH(\"受取者の企業名\",配送情報書!$4:$4,0)),\"\")","v":""},"",null,{"$f":"_xlfn.IFS(MOD($A88,4)=0,INDEX(配送情報書!$A:$BK,QUOTIENT($A88,4)+5,MATCH(\"名前②\",配送情報書!$4:$4,0)),\nMOD($A88,4)=1,INDEX(配送情報書!$A:$BK,QUOTIENT($A88,4)+5,MATCH(\"名前③\",配送情報書!$4:$4,0)),\nMOD($A88,4)=2,INDEX(配送情報書!$A:$BK,QUOTIENT($A88,4)+5,MATCH(\"名前④\",配送情報書!$4:$4,0)),\nMOD($A88,4)=3,INDEX(配送情報書!$A:$BK,QUOTIENT($A88,4)+5,MATCH(\"名前⑤\",配送情報書!$4:$4,0)))","v":0},{"$f":"IF(B88<>\"\",INDEX(配送情報書!$A:$BK,QUOTIENT($A88,4)+5,MATCH(\"電話番号（陽性者発生時の連絡用）\"&\"*\",配送情報書!$4:$4,0)),\"\")","v":""},{"$f":"_xlfn.IFS(MOD($A88,4)=0,INDEX(配送情報書!$A:$BK,QUOTIENT($A88,4)+5,MATCH(\"メール②\",配送情報書!$4:$4,0)),\nMOD($A88,4)=1,INDEX(配送情報書!$A:$BK,QUOTIENT($A88,4)+5,MATCH(\"メール③\",配送情報書!$4:$4,0)),\nMOD($A88,4)=2,INDEX(配送情報書!$A:$BK,QUOTIENT($A88,4)+5,MATCH(\"メール④\",配送情報書!$4:$4,0)),\nMOD($A88,4)=3,INDEX(配送情報書!$A:$BK,QUOTIENT($A88,4)+5,MATCH(\"メール⑤\",配送情報書!$4:$4,0)))","v":0},null,"*"]
[81,{"$f":"IF(AND($F89=0,$H89=0),\"\",INDEX(配送情報書!$A:$BK,QUOTIENT($A89,4)+5,MATCH(\"案件ID\",配送情報書!$4:$4,0)))","v":""},{"$f":"IF(B89<>\"\",INDEX(配送情報書!$A:$BK,QUOTIENT($A89,4)+5,MATCH(\"受取者の企業名\",配送情報書!$4:$4,0)),\"\")","v":""},"",null,{"$f":"_xlfn.IFS(MOD($A89,4)=0,INDEX(配送情報書!$A:$BK,QUOTIENT($A89,4)+5,MATCH(\"名前②\",配送情報書!$4:$4,0)),\nMOD($A89,4)=1,INDEX(配送情報書!$A:$BK,QUOTIENT($A89,4)+5,MATCH(\"名前③\",配送情報書!$4:$4,0)),\nMOD($A89,4)=2,INDEX(配送情報書!$A:$BK,QUOTIENT($A89,4)+5,MATCH(\"名前④\",配送情報書!$4:$4,0)),\nMOD($A89,4)=3,INDEX(配送情報書!$A:$BK,QUOTIENT($A89,4)+5,MATCH(\"名前⑤\",配送情報書!$4:$4,0)))","v":0},{"$f":"IF(B89<>\"\",INDEX(配送情報書!$A:$BK,QUOTIENT($A89,4)+5,MATCH(\"電話番号（陽性者発生時の連絡用）\"&\"*\",配送情報書!$4:$4,0)),\"\")","v":""},{"$f":"_xlfn.IFS(MOD($A89,4)=0,INDEX(配送情報書!$A:$BK,QUOTIENT($A89,4)+5,MATCH(\"メール②\",配送情報書!$4:$4,0)),\nMOD($A89,4)=1,INDEX(配送情報書!$A:$BK,QUOTIENT($A89,4)+5,MATCH(\"メール③\",配送情報書!$4:$4,0)),\nMOD($A89,4)=2,INDEX(配送情報書!$A:$BK,QUOTIENT($A89,4)+5,MATCH(\"メール④\",配送情報書!$4:$4,0)),\nMOD($A89,4)=3,INDEX(配送情報書!$A:$BK,QUOTIENT($A89,4)+5,MATCH(\"メール⑤\",配送情報書!$4:$4,0)))","v":0},null,"*"]
[82,{"$f":"IF(AND($F90=0,$H90=0),\"\",INDEX(配送情報書!$A:$BK,QUOTIENT($A90,4)+5,MATCH(\"案件ID\",配送情報書!$4:$4,0)))","v":""},{"$f":"IF(B90<>\"\",INDEX(配送情報書!$A:$BK,QUOTIENT($A90,4)+5,MATCH(\"受取者の企業名\",配送情報書!$4:$4,0)),\"\")","v":""},"",null,{"$f":"_xlfn.IFS(MOD($A90,4)=0,INDEX(配送情報書!$A:$BK,QUOTIENT($A90,4)+5,MATCH(\"名前②\",配送情報書!$4:$4,0)),\nMOD($A90,4)=1,INDEX(配送情報書!$A:$BK,QUOTIENT($A90,4)+5,MATCH(\"名前③\",配送情報書!$4:$4,0)),\nMOD($A90,4)=2,INDEX(配送情報書!$A:$BK,QUOTIENT($A90,4)+5,MATCH(\"名前④\",配送情報書!$4:$4,0)),\nMOD($A90,4)=3,INDEX(配送情報書!$A:$BK,QUOTIENT($A90,4)+5,MATCH(\"名前⑤\",配送情報書!$4:$4,0)))","v":0},{"$f":"IF(B90<>\"\",INDEX(配送情報書!$A:$BK,QUOTIENT($A90,4)+5,MATCH(\"電話番号（陽性者発生時の連絡用）\"&\"*\",配送情報書!$4:$4,0)),\"\")","v":""},{"$f":"_xlfn.IFS(MOD($A90,4)=0,INDEX(配送情報書!$A:$BK,QUOTIENT($A90,4)+5,MATCH(\"メール②\",配送情報書!$4:$4,0)),\nMOD($A90,4)=1,INDEX(配送情報書!$A:$BK,QUOTIENT($A90,4)+5,MATCH(\"メール③\",配送情報書!$4:$4,0)),\nMOD($A90,4)=2,INDEX(配送情報書!$A:$BK,QUOTIENT($A90,4)+5,MATCH(\"メール④\",配送情報書!$4:$4,0)),\nMOD($A90,4)=3,INDEX(配送情報書!$A:$BK,QUOTIENT($A90,4)+5,MATCH(\"メール⑤\",配送情報書!$4:$4,0)))","v":0},null,"*"]
[83,{"$f":"IF(AND($F91=0,$H91=0),\"\",INDEX(配送情報書!$A:$BK,QUOTIENT($A91,4)+5,MATCH(\"案件ID\",配送情報書!$4:$4,0)))","v":""},{"$f":"IF(B91<>\"\",INDEX(配送情報書!$A:$BK,QUOTIENT($A91,4)+5,MATCH(\"受取者の企業名\",配送情報書!$4:$4,0)),\"\")","v":""},"",null,{"$f":"_xlfn.IFS(MOD($A91,4)=0,INDEX(配送情報書!$A:$BK,QUOTIENT($A91,4)+5,MATCH(\"名前②\",配送情報書!$4:$4,0)),\nMOD($A91,4)=1,INDEX(配送情報書!$A:$BK,QUOTIENT($A91,4)+5,MATCH(\"名前③\",配送情報書!$4:$4,0)),\nMOD($A91,4)=2,INDEX(配送情報書!$A:$BK,QUOTIENT($A91,4)+5,MATCH(\"名前④\",配送情報書!$4:$4,0)),\nMOD($A91,4)=3,INDEX(配送情報書!$A:$BK,QUOTIENT($A91,4)+5,MATCH(\"名前⑤\",配送情報書!$4:$4,0)))","v":0},{"$f":"IF(B91<>\"\",INDEX(配送情報書!$A:$BK,QUOTIENT($A91,4)+5,MATCH(\"電話番号（陽性者発生時の連絡用）\"&\"*\",配送情報書!$4:$4,0)),\"\")","v":""},{"$f":"_xlfn.IFS(MOD($A91,4)=0,INDEX(配送情報書!$A:$BK,QUOTIENT($A91,4)+5,MATCH(\"メール②\",配送情報書!$4:$4,0)),\nMOD($A91,4)=1,INDEX(配送情報書!$A:$BK,QUOTIENT($A91,4)+5,MATCH(\"メール③\",配送情報書!$4:$4,0)),\nMOD($A91,4)=2,INDEX(配送情報書!$A:$BK,QUOTIENT($A91,4)+5,MATCH(\"メール④\",配送情報書!$4:$4,0)),\nMOD($A91,4)=3,INDEX(配送情報書!$A:$BK,QUOTIENT($A91,4)+5,MATCH(\"メール⑤\",配送情報書!$4:$4,0)))","v":0},null,"*"]
[84,{"$f":"IF(AND($F92=0,$H92=0),\"\",INDEX(配送情報書!$A:$BK,QUOTIENT($A92,4)+5,MATCH(\"案件ID\",配送情報書!$4:$4,0)))","v":""},{"$f":"IF(B92<>\"\",INDEX(配送情報書!$A:$BK,QUOTIENT($A92,4)+5,MATCH(\"受取者の企業名\",配送情報書!$4:$4,0)),\"\")","v":""},"",null,{"$f":"_xlfn.IFS(MOD($A92,4)=0,INDEX(配送情報書!$A:$BK,QUOTIENT($A92,4)+5,MATCH(\"名前②\",配送情報書!$4:$4,0)),\nMOD($A92,4)=1,INDEX(配送情報書!$A:$BK,QUOTIENT($A92,4)+5,MATCH(\"名前③\",配送情報書!$4:$4,0)),\nMOD($A92,4)=2,INDEX(配送情報書!$A:$BK,QUOTIENT($A92,4)+5,MATCH(\"名前④\",配送情報書!$4:$4,0)),\nMOD($A92,4)=3,INDEX(配送情報書!$A:$BK,QUOTIENT($A92,4)+5,MATCH(\"名前⑤\",配送情報書!$4:$4,0)))","v":0},{"$f":"IF(B92<>\"\",INDEX(配送情報書!$A:$BK,QUOTIENT($A92,4)+5,MATCH(\"電話番号（陽性者発生時の連絡用）\"&\"*\",配送情報書!$4:$4,0)),\"\")","v":""},{"$f":"_xlfn.IFS(MOD($A92,4)=0,INDEX(配送情報書!$A:$BK,QUOTIENT($A92,4)+5,MATCH(\"メール②\",配送情報書!$4:$4,0)),\nMOD($A92,4)=1,INDEX(配送情報書!$A:$BK,QUOTIENT($A92,4)+5,MATCH(\"メール③\",配送情報書!$4:$4,0)),\nMOD($A92,4)=2,INDEX(配送情報書!$A:$BK,QUOTIENT($A92,4)+5,MATCH(\"メール④\",配送情報書!$4:$4,0)),\nMOD($A92,4)=3,INDEX(配送情報書!$A:$BK,QUOTIENT($A92,4)+5,MATCH(\"メール⑤\",配送情報書!$4:$4,0)))","v":0},null,"*"]
[85,{"$f":"IF(AND($F93=0,$H93=0),\"\",INDEX(配送情報書!$A:$BK,QUOTIENT($A93,4)+5,MATCH(\"案件ID\",配送情報書!$4:$4,0)))","v":""},{"$f":"IF(B93<>\"\",INDEX(配送情報書!$A:$BK,QUOTIENT($A93,4)+5,MATCH(\"受取者の企業名\",配送情報書!$4:$4,0)),\"\")","v":""},"",null,{"$f":"_xlfn.IFS(MOD($A93,4)=0,INDEX(配送情報書!$A:$BK,QUOTIENT($A93,4)+5,MATCH(\"名前②\",配送情報書!$4:$4,0)),\nMOD($A93,4)=1,INDEX(配送情報書!$A:$BK,QUOTIENT($A93,4)+5,MATCH(\"名前③\",配送情報書!$4:$4,0)),\nMOD($A93,4)=2,INDEX(配送情報書!$A:$BK,QUOTIENT($A93,4)+5,MATCH(\"名前④\",配送情報書!$4:$4,0)),\nMOD($A93,4)=3,INDEX(配送情報書!$A:$BK,QUOTIENT($A93,4)+5,MATCH(\"名前⑤\",配送情報書!$4:$4,0)))","v":0},{"$f":"IF(B93<>\"\",INDEX(配送情報書!$A:$BK,QUOTIENT($A93,4)+5,MATCH(\"電話番号（陽性者発生時の連絡用）\"&\"*\",配送情報書!$4:$4,0)),\"\")","v":""},{"$f":"_xlfn.IFS(MOD($A93,4)=0,INDEX(配送情報書!$A:$BK,QUOTIENT($A93,4)+5,MATCH(\"メール②\",配送情報書!$4:$4,0)),\nMOD($A93,4)=1,INDEX(配送情報書!$A:$BK,QUOTIENT($A93,4)+5,MATCH(\"メール③\",配送情報書!$4:$4,0)),\nMOD($A93,4)=2,INDEX(配送情報書!$A:$BK,QUOTIENT($A93,4)+5,MATCH(\"メール④\",配送情報書!$4:$4,0)),\nMOD($A93,4)=3,INDEX(配送情報書!$A:$BK,QUOTIENT($A93,4)+5,MATCH(\"メール⑤\",配送情報書!$4:$4,0)))","v":0},null,"*"]
[86,{"$f":"IF(AND($F94=0,$H94=0),\"\",INDEX(配送情報書!$A:$BK,QUOTIENT($A94,4)+5,MATCH(\"案件ID\",配送情報書!$4:$4,0)))","v":""},{"$f":"IF(B94<>\"\",INDEX(配送情報書!$A:$BK,QUOTIENT($A94,4)+5,MATCH(\"受取者の企業名\",配送情報書!$4:$4,0)),\"\")","v":""},"",null,{"$f":"_xlfn.IFS(MOD($A94,4)=0,INDEX(配送情報書!$A:$BK,QUOTIENT($A94,4)+5,MATCH(\"名前②\",配送情報書!$4:$4,0)),\nMOD($A94,4)=1,INDEX(配送情報書!$A:$BK,QUOTIENT($A94,4)+5,MATCH(\"名前③\",配送情報書!$4:$4,0)),\nMOD($A94,4)=2,INDEX(配送情報書!$A:$BK,QUOTIENT($A94,4)+5,MATCH(\"名前④\",配送情報書!$4:$4,0)),\nMOD($A94,4)=3,INDEX(配送情報書!$A:$BK,QUOTIENT($A94,4)+5,MATCH(\"名前⑤\",配送情報書!$4:$4,0)))","v":0},{"$f":"IF(B94<>\"\",INDEX(配送情報書!$A:$BK,QUOTIENT($A94,4)+5,MATCH(\"電話番号（陽性者発生時の連絡用）\"&\"*\",配送情報書!$4:$4,0)),\"\")","v":""},{"$f":"_xlfn.IFS(MOD($A94,4)=0,INDEX(配送情報書!$A:$BK,QUOTIENT($A94,4)+5,MATCH(\"メール②\",配送情報書!$4:$4,0)),\nMOD($A94,4)=1,INDEX(配送情報書!$A:$BK,QUOTIENT($A94,4)+5,MATCH(\"メール③\",配送情報書!$4:$4,0)),\nMOD($A94,4)=2,INDEX(配送情報書!$A:$BK,QUOTIENT($A94,4)+5,MATCH(\"メール④\",配送情報書!$4:$4,0)),\nMOD($A94,4)=3,INDEX(配送情報書!$A:$BK,QUOTIENT($A94,4)+5,MATCH(\"メール⑤\",配送情報書!$4:$4,0)))","v":0},null,"*"]
[87,{"$f":"IF(AND($F95=0,$H95=0),\"\",INDEX(配送情報書!$A:$BK,QUOTIENT($A95,4)+5,MATCH(\"案件ID\",配送情報書!$4:$4,0)))","v":""},{"$f":"IF(B95<>\"\",INDEX(配送情報書!$A:$BK,QUOTIENT($A95,4)+5,MATCH(\"受取者の企業名\",配送情報書!$4:$4,0)),\"\")","v":""},"",null,{"$f":"_xlfn.IFS(MOD($A95,4)=0,INDEX(配送情報書!$A:$BK,QUOTIENT($A95,4)+5,MATCH(\"名前②\",配送情報書!$4:$4,0)),\nMOD($A95,4)=1,INDEX(配送情報書!$A:$BK,QUOTIENT($A95,4)+5,MATCH(\"名前③\",配送情報書!$4:$4,0)),\nMOD($A95,4)=2,INDEX(配送情報書!$A:$BK,QUOTIENT($A95,4)+5,MATCH(\"名前④\",配送情報書!$4:$4,0)),\nMOD($A95,4)=3,INDEX(配送情報書!$A:$BK,QUOTIENT($A95,4)+5,MATCH(\"名前⑤\",配送情報書!$4:$4,0)))","v":0},{"$f":"IF(B95<>\"\",INDEX(配送情報書!$A:$BK,QUOTIENT($A95,4)+5,MATCH(\"電話番号（陽性者発生時の連絡用）\"&\"*\",配送情報書!$4:$4,0)),\"\")","v":""},{"$f":"_xlfn.IFS(MOD($A95,4)=0,INDEX(配送情報書!$A:$BK,QUOTIENT($A95,4)+5,MATCH(\"メール②\",配送情報書!$4:$4,0)),\nMOD($A95,4)=1,INDEX(配送情報書!$A:$BK,QUOTIENT($A95,4)+5,MATCH(\"メール③\",配送情報書!$4:$4,0)),\nMOD($A95,4)=2,INDEX(配送情報書!$A:$BK,QUOTIENT($A95,4)+5,MATCH(\"メール④\",配送情報書!$4:$4,0)),\nMOD($A95,4)=3,INDEX(配送情報書!$A:$BK,QUOTIENT($A95,4)+5,MATCH(\"メール⑤\",配送情報書!$4:$4,0)))","v":0},null,"*"]
[88,{"$f":"IF(AND($F96=0,$H96=0),\"\",INDEX(配送情報書!$A:$BK,QUOTIENT($A96,4)+5,MATCH(\"案件ID\",配送情報書!$4:$4,0)))","v":""},{"$f":"IF(B96<>\"\",INDEX(配送情報書!$A:$BK,QUOTIENT($A96,4)+5,MATCH(\"受取者の企業名\",配送情報書!$4:$4,0)),\"\")","v":""},"",null,{"$f":"_xlfn.IFS(MOD($A96,4)=0,INDEX(配送情報書!$A:$BK,QUOTIENT($A96,4)+5,MATCH(\"名前②\",配送情報書!$4:$4,0)),\nMOD($A96,4)=1,INDEX(配送情報書!$A:$BK,QUOTIENT($A96,4)+5,MATCH(\"名前③\",配送情報書!$4:$4,0)),\nMOD($A96,4)=2,INDEX(配送情報書!$A:$BK,QUOTIENT($A96,4)+5,MATCH(\"名前④\",配送情報書!$4:$4,0)),\nMOD($A96,4)=3,INDEX(配送情報書!$A:$BK,QUOTIENT($A96,4)+5,MATCH(\"名前⑤\",配送情報書!$4:$4,0)))","v":0},{"$f":"IF(B96<>\"\",INDEX(配送情報書!$A:$BK,QUOTIENT($A96,4)+5,MATCH(\"電話番号（陽性者発生時の連絡用）\"&\"*\",配送情報書!$4:$4,0)),\"\")","v":""},{"$f":"_xlfn.IFS(MOD($A96,4)=0,INDEX(配送情報書!$A:$BK,QUOTIENT($A96,4)+5,MATCH(\"メール②\",配送情報書!$4:$4,0)),\nMOD($A96,4)=1,INDEX(配送情報書!$A:$BK,QUOTIENT($A96,4)+5,MATCH(\"メール③\",配送情報書!$4:$4,0)),\nMOD($A96,4)=2,INDEX(配送情報書!$A:$BK,QUOTIENT($A96,4)+5,MATCH(\"メール④\",配送情報書!$4:$4,0)),\nMOD($A96,4)=3,INDEX(配送情報書!$A:$BK,QUOTIENT($A96,4)+5,MATCH(\"メール⑤\",配送情報書!$4:$4,0)))","v":0},null,"*"]
[89,{"$f":"IF(AND($F97=0,$H97=0),\"\",INDEX(配送情報書!$A:$BK,QUOTIENT($A97,4)+5,MATCH(\"案件ID\",配送情報書!$4:$4,0)))","v":""},{"$f":"IF(B97<>\"\",INDEX(配送情報書!$A:$BK,QUOTIENT($A97,4)+5,MATCH(\"受取者の企業名\",配送情報書!$4:$4,0)),\"\")","v":""},"",null,{"$f":"_xlfn.IFS(MOD($A97,4)=0,INDEX(配送情報書!$A:$BK,QUOTIENT($A97,4)+5,MATCH(\"名前②\",配送情報書!$4:$4,0)),\nMOD($A97,4)=1,INDEX(配送情報書!$A:$BK,QUOTIENT($A97,4)+5,MATCH(\"名前③\",配送情報書!$4:$4,0)),\nMOD($A97,4)=2,INDEX(配送情報書!$A:$BK,QUOTIENT($A97,4)+5,MATCH(\"名前④\",配送情報書!$4:$4,0)),\nMOD($A97,4)=3,INDEX(配送情報書!$A:$BK,QUOTIENT($A97,4)+5,MATCH(\"名前⑤\",配送情報書!$4:$4,0)))","v":0},{"$f":"IF(B97<>\"\",INDEX(配送情報書!$A:$BK,QUOTIENT($A97,4)+5,MATCH(\"電話番号（陽性者発生時の連絡用）\"&\"*\",配送情報書!$4:$4,0)),\"\")","v":""},{"$f":"_xlfn.IFS(MOD($A97,4)=0,INDEX(配送情報書!$A:$BK,QUOTIENT($A97,4)+5,MATCH(\"メール②\",配送情報書!$4:$4,0)),\nMOD($A97,4)=1,INDEX(配送情報書!$A:$BK,QUOTIENT($A97,4)+5,MATCH(\"メール③\",配送情報書!$4:$4,0)),\nMOD($A97,4)=2,INDEX(配送情報書!$A:$BK,QUOTIENT($A97,4)+5,MATCH(\"メール④\",配送情報書!$4:$4,0)),\nMOD($A97,4)=3,INDEX(配送情報書!$A:$BK,QUOTIENT($A97,4)+5,MATCH(\"メール⑤\",配送情報書!$4:$4,0)))","v":0},null,"*"]
[90,{"$f":"IF(AND($F98=0,$H98=0),\"\",INDEX(配送情報書!$A:$BK,QUOTIENT($A98,4)+5,MATCH(\"案件ID\",配送情報書!$4:$4,0)))","v":""},{"$f":"IF(B98<>\"\",INDEX(配送情報書!$A:$BK,QUOTIENT($A98,4)+5,MATCH(\"受取者の企業名\",配送情報書!$4:$4,0)),\"\")","v":""},"",null,{"$f":"_xlfn.IFS(MOD($A98,4)=0,INDEX(配送情報書!$A:$BK,QUOTIENT($A98,4)+5,MATCH(\"名前②\",配送情報書!$4:$4,0)),\nMOD($A98,4)=1,INDEX(配送情報書!$A:$BK,QUOTIENT($A98,4)+5,MATCH(\"名前③\",配送情報書!$4:$4,0)),\nMOD($A98,4)=2,INDEX(配送情報書!$A:$BK,QUOTIENT($A98,4)+5,MATCH(\"名前④\",配送情報書!$4:$4,0)),\nMOD($A98,4)=3,INDEX(配送情報書!$A:$BK,QUOTIENT($A98,4)+5,MATCH(\"名前⑤\",配送情報書!$4:$4,0)))","v":0},{"$f":"IF(B98<>\"\",INDEX(配送情報書!$A:$BK,QUOTIENT($A98,4)+5,MATCH(\"電話番号（陽性者発生時の連絡用）\"&\"*\",配送情報書!$4:$4,0)),\"\")","v":""},{"$f":"_xlfn.IFS(MOD($A98,4)=0,INDEX(配送情報書!$A:$BK,QUOTIENT($A98,4)+5,MATCH(\"メール②\",配送情報書!$4:$4,0)),\nMOD($A98,4)=1,INDEX(配送情報書!$A:$BK,QUOTIENT($A98,4)+5,MATCH(\"メール③\",配送情報書!$4:$4,0)),\nMOD($A98,4)=2,INDEX(配送情報書!$A:$BK,QUOTIENT($A98,4)+5,MATCH(\"メール④\",配送情報書!$4:$4,0)),\nMOD($A98,4)=3,INDEX(配送情報書!$A:$BK,QUOTIENT($A98,4)+5,MATCH(\"メール⑤\",配送情報書!$4:$4,0)))","v":0},null,"*"]
[91,{"$f":"IF(AND($F99=0,$H99=0),\"\",INDEX(配送情報書!$A:$BK,QUOTIENT($A99,4)+5,MATCH(\"案件ID\",配送情報書!$4:$4,0)))","v":""},{"$f":"IF(B99<>\"\",INDEX(配送情報書!$A:$BK,QUOTIENT($A99,4)+5,MATCH(\"受取者の企業名\",配送情報書!$4:$4,0)),\"\")","v":""},"",null,{"$f":"_xlfn.IFS(MOD($A99,4)=0,INDEX(配送情報書!$A:$BK,QUOTIENT($A99,4)+5,MATCH(\"名前②\",配送情報書!$4:$4,0)),\nMOD($A99,4)=1,INDEX(配送情報書!$A:$BK,QUOTIENT($A99,4)+5,MATCH(\"名前③\",配送情報書!$4:$4,0)),\nMOD($A99,4)=2,INDEX(配送情報書!$A:$BK,QUOTIENT($A99,4)+5,MATCH(\"名前④\",配送情報書!$4:$4,0)),\nMOD($A99,4)=3,INDEX(配送情報書!$A:$BK,QUOTIENT($A99,4)+5,MATCH(\"名前⑤\",配送情報書!$4:$4,0)))","v":0},{"$f":"IF(B99<>\"\",INDEX(配送情報書!$A:$BK,QUOTIENT($A99,4)+5,MATCH(\"電話番号（陽性者発生時の連絡用）\"&\"*\",配送情報書!$4:$4,0)),\"\")","v":""},{"$f":"_xlfn.IFS(MOD($A99,4)=0,INDEX(配送情報書!$A:$BK,QUOTIENT($A99,4)+5,MATCH(\"メール②\",配送情報書!$4:$4,0)),\nMOD($A99,4)=1,INDEX(配送情報書!$A:$BK,QUOTIENT($A99,4)+5,MATCH(\"メール③\",配送情報書!$4:$4,0)),\nMOD($A99,4)=2,INDEX(配送情報書!$A:$BK,QUOTIENT($A99,4)+5,MATCH(\"メール④\",配送情報書!$4:$4,0)),\nMOD($A99,4)=3,INDEX(配送情報書!$A:$BK,QUOTIENT($A99,4)+5,MATCH(\"メール⑤\",配送情報書!$4:$4,0)))","v":0},null,"*"]
[92,{"$f":"IF(AND($F100=0,$H100=0),\"\",INDEX(配送情報書!$A:$BK,QUOTIENT($A100,4)+5,MATCH(\"案件ID\",配送情報書!$4:$4,0)))","v":""},{"$f":"IF(B100<>\"\",INDEX(配送情報書!$A:$BK,QUOTIENT($A100,4)+5,MATCH(\"受取者の企業名\",配送情報書!$4:$4,0)),\"\")","v":""},"",null,{"$f":"_xlfn.IFS(MOD($A100,4)=0,INDEX(配送情報書!$A:$BK,QUOTIENT($A100,4)+5,MATCH(\"名前②\",配送情報書!$4:$4,0)),\nMOD($A100,4)=1,INDEX(配送情報書!$A:$BK,QUOTIENT($A100,4)+5,MATCH(\"名前③\",配送情報書!$4:$4,0)),\nMOD($A100,4)=2,INDEX(配送情報書!$A:$BK,QUOTIENT($A100,4)+5,MATCH(\"名前④\",配送情報書!$4:$4,0)),\nMOD($A100,4)=3,INDEX(配送情報書!$A:$BK,QUOTIENT($A100,4)+5,MATCH(\"名前⑤\",配送情報書!$4:$4,0)))","v":0},{"$f":"IF(B100<>\"\",INDEX(配送情報書!$A:$BK,QUOTIENT($A100,4)+5,MATCH(\"電話番号（陽性者発生時の連絡用）\"&\"*\",配送情報書!$4:$4,0)),\"\")","v":""},{"$f":"_xlfn.IFS(MOD($A100,4)=0,INDEX(配送情報書!$A:$BK,QUOTIENT($A100,4)+5,MATCH(\"メール②\",配送情報書!$4:$4,0)),\nMOD($A100,4)=1,INDEX(配送情報書!$A:$BK,QUOTIENT($A100,4)+5,MATCH(\"メール③\",配送情報書!$4:$4,0)),\nMOD($A100,4)=2,INDEX(配送情報書!$A:$BK,QUOTIENT($A100,4)+5,MATCH(\"メール④\",配送情報書!$4:$4,0)),\nMOD($A100,4)=3,INDEX(配送情報書!$A:$BK,QUOTIENT($A100,4)+5,MATCH(\"メール⑤\",配送情報書!$4:$4,0)))","v":0},null,"*"]
[93,{"$f":"IF(AND($F101=0,$H101=0),\"\",INDEX(配送情報書!$A:$BK,QUOTIENT($A101,4)+5,MATCH(\"案件ID\",配送情報書!$4:$4,0)))","v":""},{"$f":"IF(B101<>\"\",INDEX(配送情報書!$A:$BK,QUOTIENT($A101,4)+5,MATCH(\"受取者の企業名\",配送情報書!$4:$4,0)),\"\")","v":""},"",null,{"$f":"_xlfn.IFS(MOD($A101,4)=0,INDEX(配送情報書!$A:$BK,QUOTIENT($A101,4)+5,MATCH(\"名前②\",配送情報書!$4:$4,0)),\nMOD($A101,4)=1,INDEX(配送情報書!$A:$BK,QUOTIENT($A101,4)+5,MATCH(\"名前③\",配送情報書!$4:$4,0)),\nMOD($A101,4)=2,INDEX(配送情報書!$A:$BK,QUOTIENT($A101,4)+5,MATCH(\"名前④\",配送情報書!$4:$4,0)),\nMOD($A101,4)=3,INDEX(配送情報書!$A:$BK,QUOTIENT($A101,4)+5,MATCH(\"名前⑤\",配送情報書!$4:$4,0)))","v":0},{"$f":"IF(B101<>\"\",INDEX(配送情報書!$A:$BK,QUOTIENT($A101,4)+5,MATCH(\"電話番号（陽性者発生時の連絡用）\"&\"*\",配送情報書!$4:$4,0)),\"\")","v":""},{"$f":"_xlfn.IFS(MOD($A101,4)=0,INDEX(配送情報書!$A:$BK,QUOTIENT($A101,4)+5,MATCH(\"メール②\",配送情報書!$4:$4,0)),\nMOD($A101,4)=1,INDEX(配送情報書!$A:$BK,QUOTIENT($A101,4)+5,MATCH(\"メール③\",配送情報書!$4:$4,0)),\nMOD($A101,4)=2,INDEX(配送情報書!$A:$BK,QUOTIENT($A101,4)+5,MATCH(\"メール④\",配送情報書!$4:$4,0)),\nMOD($A101,4)=3,INDEX(配送情報書!$A:$BK,QUOTIENT($A101,4)+5,MATCH(\"メール⑤\",配送情報書!$4:$4,0)))","v":0},null,"*"]
[94,{"$f":"IF(AND($F102=0,$H102=0),\"\",INDEX(配送情報書!$A:$BK,QUOTIENT($A102,4)+5,MATCH(\"案件ID\",配送情報書!$4:$4,0)))","v":""},{"$f":"IF(B102<>\"\",INDEX(配送情報書!$A:$BK,QUOTIENT($A102,4)+5,MATCH(\"受取者の企業名\",配送情報書!$4:$4,0)),\"\")","v":""},"",null,{"$f":"_xlfn.IFS(MOD($A102,4)=0,INDEX(配送情報書!$A:$BK,QUOTIENT($A102,4)+5,MATCH(\"名前②\",配送情報書!$4:$4,0)),\nMOD($A102,4)=1,INDEX(配送情報書!$A:$BK,QUOTIENT($A102,4)+5,MATCH(\"名前③\",配送情報書!$4:$4,0)),\nMOD($A102,4)=2,INDEX(配送情報書!$A:$BK,QUOTIENT($A102,4)+5,MATCH(\"名前④\",配送情報書!$4:$4,0)),\nMOD($A102,4)=3,INDEX(配送情報書!$A:$BK,QUOTIENT($A102,4)+5,MATCH(\"名前⑤\",配送情報書!$4:$4,0)))","v":0},{"$f":"IF(B102<>\"\",INDEX(配送情報書!$A:$BK,QUOTIENT($A102,4)+5,MATCH(\"電話番号（陽性者発生時の連絡用）\"&\"*\",配送情報書!$4:$4,0)),\"\")","v":""},{"$f":"_xlfn.IFS(MOD($A102,4)=0,INDEX(配送情報書!$A:$BK,QUOTIENT($A102,4)+5,MATCH(\"メール②\",配送情報書!$4:$4,0)),\nMOD($A102,4)=1,INDEX(配送情報書!$A:$BK,QUOTIENT($A102,4)+5,MATCH(\"メール③\",配送情報書!$4:$4,0)),\nMOD($A102,4)=2,INDEX(配送情報書!$A:$BK,QUOTIENT($A102,4)+5,MATCH(\"メール④\",配送情報書!$4:$4,0)),\nMOD($A102,4)=3,INDEX(配送情報書!$A:$BK,QUOTIENT($A102,4)+5,MATCH(\"メール⑤\",配送情報書!$4:$4,0)))","v":0},null,"*"]
[95,{"$f":"IF(AND($F103=0,$H103=0),\"\",INDEX(配送情報書!$A:$BK,QUOTIENT($A103,4)+5,MATCH(\"案件ID\",配送情報書!$4:$4,0)))","v":""},{"$f":"IF(B103<>\"\",INDEX(配送情報書!$A:$BK,QUOTIENT($A103,4)+5,MATCH(\"受取者の企業名\",配送情報書!$4:$4,0)),\"\")","v":""},"",null,{"$f":"_xlfn.IFS(MOD($A103,4)=0,INDEX(配送情報書!$A:$BK,QUOTIENT($A103,4)+5,MATCH(\"名前②\",配送情報書!$4:$4,0)),\nMOD($A103,4)=1,INDEX(配送情報書!$A:$BK,QUOTIENT($A103,4)+5,MATCH(\"名前③\",配送情報書!$4:$4,0)),\nMOD($A103,4)=2,INDEX(配送情報書!$A:$BK,QUOTIENT($A103,4)+5,MATCH(\"名前④\",配送情報書!$4:$4,0)),\nMOD($A103,4)=3,INDEX(配送情報書!$A:$BK,QUOTIENT($A103,4)+5,MATCH(\"名前⑤\",配送情報書!$4:$4,0)))","v":0},{"$f":"IF(B103<>\"\",INDEX(配送情報書!$A:$BK,QUOTIENT($A103,4)+5,MATCH(\"電話番号（陽性者発生時の連絡用）\"&\"*\",配送情報書!$4:$4,0)),\"\")","v":""},{"$f":"_xlfn.IFS(MOD($A103,4)=0,INDEX(配送情報書!$A:$BK,QUOTIENT($A103,4)+5,MATCH(\"メール②\",配送情報書!$4:$4,0)),\nMOD($A103,4)=1,INDEX(配送情報書!$A:$BK,QUOTIENT($A103,4)+5,MATCH(\"メール③\",配送情報書!$4:$4,0)),\nMOD($A103,4)=2,INDEX(配送情報書!$A:$BK,QUOTIENT($A103,4)+5,MATCH(\"メール④\",配送情報書!$4:$4,0)),\nMOD($A103,4)=3,INDEX(配送情報書!$A:$BK,QUOTIENT($A103,4)+5,MATCH(\"メール⑤\",配送情報書!$4:$4,0)))","v":0},null,"*"]
[96,{"$f":"IF(AND($F104=0,$H104=0),\"\",INDEX(配送情報書!$A:$BK,QUOTIENT($A104,4)+5,MATCH(\"案件ID\",配送情報書!$4:$4,0)))","v":""},{"$f":"IF(B104<>\"\",INDEX(配送情報書!$A:$BK,QUOTIENT($A104,4)+5,MATCH(\"受取者の企業名\",配送情報書!$4:$4,0)),\"\")","v":""},"",null,{"$f":"_xlfn.IFS(MOD($A104,4)=0,INDEX(配送情報書!$A:$BK,QUOTIENT($A104,4)+5,MATCH(\"名前②\",配送情報書!$4:$4,0)),\nMOD($A104,4)=1,INDEX(配送情報書!$A:$BK,QUOTIENT($A104,4)+5,MATCH(\"名前③\",配送情報書!$4:$4,0)),\nMOD($A104,4)=2,INDEX(配送情報書!$A:$BK,QUOTIENT($A104,4)+5,MATCH(\"名前④\",配送情報書!$4:$4,0)),\nMOD($A104,4)=3,INDEX(配送情報書!$A:$BK,QUOTIENT($A104,4)+5,MATCH(\"名前⑤\",配送情報書!$4:$4,0)))","v":0},{"$f":"IF(B104<>\"\",INDEX(配送情報書!$A:$BK,QUOTIENT($A104,4)+5,MATCH(\"電話番号（陽性者発生時の連絡用）\"&\"*\",配送情報書!$4:$4,0)),\"\")","v":""},{"$f":"_xlfn.IFS(MOD($A104,4)=0,INDEX(配送情報書!$A:$BK,QUOTIENT($A104,4)+5,MATCH(\"メール②\",配送情報書!$4:$4,0)),\nMOD($A104,4)=1,INDEX(配送情報書!$A:$BK,QUOTIENT($A104,4)+5,MATCH(\"メール③\",配送情報書!$4:$4,0)),\nMOD($A104,4)=2,INDEX(配送情報書!$A:$BK,QUOTIENT($A104,4)+5,MATCH(\"メール④\",配送情報書!$4:$4,0)),\nMOD($A104,4)=3,INDEX(配送情報書!$A:$BK,QUOTIENT($A104,4)+5,MATCH(\"メール⑤\",配送情報書!$4:$4,0)))","v":0},null,"*"]
[97,{"$f":"IF(AND($F105=0,$H105=0),\"\",INDEX(配送情報書!$A:$BK,QUOTIENT($A105,4)+5,MATCH(\"案件ID\",配送情報書!$4:$4,0)))","v":""},{"$f":"IF(B105<>\"\",INDEX(配送情報書!$A:$BK,QUOTIENT($A105,4)+5,MATCH(\"受取者の企業名\",配送情報書!$4:$4,0)),\"\")","v":""},"",null,{"$f":"_xlfn.IFS(MOD($A105,4)=0,INDEX(配送情報書!$A:$BK,QUOTIENT($A105,4)+5,MATCH(\"名前②\",配送情報書!$4:$4,0)),\nMOD($A105,4)=1,INDEX(配送情報書!$A:$BK,QUOTIENT($A105,4)+5,MATCH(\"名前③\",配送情報書!$4:$4,0)),\nMOD($A105,4)=2,INDEX(配送情報書!$A:$BK,QUOTIENT($A105,4)+5,MATCH(\"名前④\",配送情報書!$4:$4,0)),\nMOD($A105,4)=3,INDEX(配送情報書!$A:$BK,QUOTIENT($A105,4)+5,MATCH(\"名前⑤\",配送情報書!$4:$4,0)))","v":0},{"$f":"IF(B105<>\"\",INDEX(配送情報書!$A:$BK,QUOTIENT($A105,4)+5,MATCH(\"電話番号（陽性者発生時の連絡用）\"&\"*\",配送情報書!$4:$4,0)),\"\")","v":""},{"$f":"_xlfn.IFS(MOD($A105,4)=0,INDEX(配送情報書!$A:$BK,QUOTIENT($A105,4)+5,MATCH(\"メール②\",配送情報書!$4:$4,0)),\nMOD($A105,4)=1,INDEX(配送情報書!$A:$BK,QUOTIENT($A105,4)+5,MATCH(\"メール③\",配送情報書!$4:$4,0)),\nMOD($A105,4)=2,INDEX(配送情報書!$A:$BK,QUOTIENT($A105,4)+5,MATCH(\"メール④\",配送情報書!$4:$4,0)),\nMOD($A105,4)=3,INDEX(配送情報書!$A:$BK,QUOTIENT($A105,4)+5,MATCH(\"メール⑤\",配送情報書!$4:$4,0)))","v":0},null,"*"]
[98,{"$f":"IF(AND($F106=0,$H106=0),\"\",INDEX(配送情報書!$A:$BK,QUOTIENT($A106,4)+5,MATCH(\"案件ID\",配送情報書!$4:$4,0)))","v":""},{"$f":"IF(B106<>\"\",INDEX(配送情報書!$A:$BK,QUOTIENT($A106,4)+5,MATCH(\"受取者の企業名\",配送情報書!$4:$4,0)),\"\")","v":""},"",null,{"$f":"_xlfn.IFS(MOD($A106,4)=0,INDEX(配送情報書!$A:$BK,QUOTIENT($A106,4)+5,MATCH(\"名前②\",配送情報書!$4:$4,0)),\nMOD($A106,4)=1,INDEX(配送情報書!$A:$BK,QUOTIENT($A106,4)+5,MATCH(\"名前③\",配送情報書!$4:$4,0)),\nMOD($A106,4)=2,INDEX(配送情報書!$A:$BK,QUOTIENT($A106,4)+5,MATCH(\"名前④\",配送情報書!$4:$4,0)),\nMOD($A106,4)=3,INDEX(配送情報書!$A:$BK,QUOTIENT($A106,4)+5,MATCH(\"名前⑤\",配送情報書!$4:$4,0)))","v":0},{"$f":"IF(B106<>\"\",INDEX(配送情報書!$A:$BK,QUOTIENT($A106,4)+5,MATCH(\"電話番号（陽性者発生時の連絡用）\"&\"*\",配送情報書!$4:$4,0)),\"\")","v":""},{"$f":"_xlfn.IFS(MOD($A106,4)=0,INDEX(配送情報書!$A:$BK,QUOTIENT($A106,4)+5,MATCH(\"メール②\",配送情報書!$4:$4,0)),\nMOD($A106,4)=1,INDEX(配送情報書!$A:$BK,QUOTIENT($A106,4)+5,MATCH(\"メール③\",配送情報書!$4:$4,0)),\nMOD($A106,4)=2,INDEX(配送情報書!$A:$BK,QUOTIENT($A106,4)+5,MATCH(\"メール④\",配送情報書!$4:$4,0)),\nMOD($A106,4)=3,INDEX(配送情報書!$A:$BK,QUOTIENT($A106,4)+5,MATCH(\"メール⑤\",配送情報書!$4:$4,0)))","v":0},null,"*"]
[99,{"$f":"IF(AND($F107=0,$H107=0),\"\",INDEX(配送情報書!$A:$BK,QUOTIENT($A107,4)+5,MATCH(\"案件ID\",配送情報書!$4:$4,0)))","v":""},{"$f":"IF(B107<>\"\",INDEX(配送情報書!$A:$BK,QUOTIENT($A107,4)+5,MATCH(\"受取者の企業名\",配送情報書!$4:$4,0)),\"\")","v":""},"",null,{"$f":"_xlfn.IFS(MOD($A107,4)=0,INDEX(配送情報書!$A:$BK,QUOTIENT($A107,4)+5,MATCH(\"名前②\",配送情報書!$4:$4,0)),\nMOD($A107,4)=1,INDEX(配送情報書!$A:$BK,QUOTIENT($A107,4)+5,MATCH(\"名前③\",配送情報書!$4:$4,0)),\nMOD($A107,4)=2,INDEX(配送情報書!$A:$BK,QUOTIENT($A107,4)+5,MATCH(\"名前④\",配送情報書!$4:$4,0)),\nMOD($A107,4)=3,INDEX(配送情報書!$A:$BK,QUOTIENT($A107,4)+5,MATCH(\"名前⑤\",配送情報書!$4:$4,0)))","v":0},{"$f":"IF(B107<>\"\",INDEX(配送情報書!$A:$BK,QUOTIENT($A107,4)+5,MATCH(\"電話番号（陽性者発生時の連絡用）\"&\"*\",配送情報書!$4:$4,0)),\"\")","v":""},{"$f":"_xlfn.IFS(MOD($A107,4)=0,INDEX(配送情報書!$A:$BK,QUOTIENT($A107,4)+5,MATCH(\"メール②\",配送情報書!$4:$4,0)),\nMOD($A107,4)=1,INDEX(配送情報書!$A:$BK,QUOTIENT($A107,4)+5,MATCH(\"メール③\",配送情報書!$4:$4,0)),\nMOD($A107,4)=2,INDEX(配送情報書!$A:$BK,QUOTIENT($A107,4)+5,MATCH(\"メール④\",配送情報書!$4:$4,0)),\nMOD($A107,4)=3,INDEX(配送情報書!$A:$BK,QUOTIENT($A107,4)+5,MATCH(\"メール⑤\",配送情報書!$4:$4,0)))","v":0},null,"*"]
["*","*","*","*","*","*","*","*","*","*"]

{"sheet":">マスタ>","index":9,"n_rows":0,"n_cols":0,"rows_kept":0,"cut":false,"hidden":true,"merged":[]}

{"sheet":"医療機関マスタ","index":10,"n_rows":101,"n_cols":3,"rows_kept":101,"cut":false,"hidden":true,"merged":[]}
["提携医療機関ID","団体名","医療機関名（フォーム）"]
["AH0000001","医療法人社団斗南堂　八王子クリニック","医療法人社団斗南堂 八王子クリニック"]
["AH0000002","医療法人　内科・小児科前広医院","医療法人 内科・小児科前広医院"]
["AH0000003","医療法人與治兵衛　男鹿加藤診療所 ","医療法人 與治兵衛"]
["AH0000004","医療法人社団厚生会　埼玉厚生病院","医療法人社団厚生会　埼玉厚生病院"]
["AH0000005","医療法人鳥伝白川会　ドクターゴン診療所","医療法人 鳥伝白川会"]
["AH0000006","医療法人社団 松本外科医院","松本外科内科医院"]
["AH0000007","田島医院"]
["AH0000008","医療法人わかば会 きしもと内科医院"]
["AH0000009","堺市"]
["AH0000010","医療法人社団雄元会　東洋眼科胃腸内科外科                       "]
["AH0000011"]
["AH0000012","三上内科クリニック"]
["AH0000013"]
["AH0000014"]
["AH0000015"]
["AH0000016"]
["AH0000017"]
["AH0000018"]
["AH0000019"]
["AH0000020"]
["AH0000021"]
["AH0000022"]
["AH0000023"]
["AH0000024"]
["AH0000025"]
["AH0000026"]
["AH0000027"]
["AH0000028"]
["AH0000029"]
["AH0000030"]
["AH0000031"]
["AH0000032"]
["AH0000033"]
["AH0000034"]
["AH0000035"]
["AH0000036"]
["AH0000037"]
["AH0000038"]
["AH0000039"]
["AH0000040"]
["AH0000041"]
["AH0000042"]
["AH0000043"]
["AH0000044"]
["AH0000045"]
["AH0000046"]
["AH0000047"]
["AH0000048"]
["AH0000049"]
["AH0000050"]
["AH0000051"]
["AH0000052"]
["AH0000053"]
["AH0000054"]
["AH0000055"]
["AH0000056"]
["AH0000057"]
["AH0000058"]
["AH0000059"]
["AH0000060"]
["AH0000061"]
["AH0000062"]
["AH0000063"]
["AH0000064"]
["AH0000065"]
["AH0000066"]
["AH0000067"]
["AH0000068"]
["AH0000069"]
["AH0000070"]
["AH0000071"]
["AH0000072"]
["AH0000073"]
["AH0000074"]
["AH0000075"]
["AH0000076"]
["AH0000077"]
["AH0000078"]
["AH0000079"]
["AH0000080"]
["AH0000081"]
["AH0000082"]
["AH0000083"]
["AH0000084"]
["AH0000085"]
["AH0000086"]
["AH0000087"]
["AH0000088"]
["AH0000089"]
["AH0000090"]
["AH0000091"]
["AH0000092"]
["AH0000093"]
["AH0000094"]
["AH0000095"]
["AH0000096"]
["AH0000097"]
["AH0000098"]
["AH0000099"]
["AH0000100"]